{"text_format":"1","workbook":"xlsx","n_sheets":16,"sheets":["Velkomst","Tabel 1 B","Tabel 2 B","Tabel 3 B","Tabel 4F B","Tabel 4 B","Tabel 4(Br) B","Tabel 4P B","Tabel 4(Br)P B","Tabel 5F B","Tabel 5 B","Tabel 5Br B","Tabel 5P B","Tabel 5(Br) P B","Tabel 6 B","Tabel 7 B"],"not_rendered":{"charts":0,"images":0,"macros":1,"external_links":0,"defined_names":7,"comments":0,"pivot_tables":0},"unopened":[],"bounds":{"document_bytes":16777216,"sheet_cells":100000,"rows_first":2000,"rows_last":500,"rows_between":2000,"halvings":0,"cell_chars":16384,"cell_head_chars":4096},"cells_cut":0,"cells_raw":0,"read":"whole","date_system":"1900"}

{"sheet":"Velkomst","index":0,"n_rows":0,"n_cols":0,"rows_kept":0,"cut":false,"hidden":false,"merged":[[0,0,1048575,16383]]}

{"sheet":"Tabel 1 B","index":1,"n_rows":158,"n_cols":7,"rows_kept":158,"cut":false,"hidden":false,"merged":[]}
["Tabel 1. Forsikrede medlemmer"]
[]
["Bornholm"]
[]
[null,null,"Mænd",null,"Kvinder",null,"I alt"]
[]
["Civ. ing.",null,29,null,5,null,34]
["Diplom ing.",null,55,null,8,null,63]
["Cand. Scient. Tek.",null,15,null,14,null,29]
["MA. Hum.",null,41,null,83,null,124]
["MA. Nat.",null,25,null,21,null,46]
["MA. Ph.d.",null,4,null,3,null,7]
["MA. Samf.",null,4,null,12,null,16]
["Øvrige Mag.",null,7,null,10,null,17]
["Agronom",null,3,null,7,null,10]
["Landsk. Arkt.",null,1,null,2,null,3]
["Hortonom",null,1,null,1,null,2]
["Forstkand.",null,1,null,0,null,1]
["Jordbrugsakad.",null,6,null,10,null,16]
["Mejeriing.",null,0,null,0,null,0]
["Levn.m.kand.",null,0,null,1,null,1]
["Dyrlæge",null,4,null,10,null,14]
["Farmaceut",null,1,null,5,null,6]
["Læge",null,11,null,22,null,33]
["Tandlæge",null,1,null,9,null,10]
["Arkitekt",null,9,null,5,null,14]
["Landinspek.",null,1,null,0,null,1]
["Bibliotekar",null,6,null,9,null,15]
["Musikudd.",null,0,null,2,null,2]
["Teolog",null,10,null,3,null,13]
["Psykolog",null,6,null,24,null,30]
["Jurist",null,11,null,21,null,32]
["Økonom",null,6,null,3,null,9]
["Samf. Adm.",null,25,null,27,null,52]
["Cand. Merc.",null,13,null,16,null,29]
["HA",null,6,null,6,null,12]
["HD",null,8,null,1,null,9]
["Komm. og Sprog",null,4,null,11,null,15]
["Bygningskonst.",null,28,null,0,null,28]
["Cand. IT.",null,2,null,0,null,2]
["Bac. Samf.",null,4,null,1,null,5]
["Bac. Hum.",null,8,null,5,null,13]
["Bac. Nat.",null,3,null,7,null,10]
["Andre",null,64,null,43,null,107]
[]
["Total",null,417,null,397,null,814]
[]
["Ingeniører i alt",null,84,null,13,null,97]
["Magistre i alt",null,81,null,129,null,210]
["DJØF'ere i alt",null,61,null,73,null,134]
[]
[]
[]
[]
[]
[]
["Bornholm"]
[]
[null,null,"Mænd",null,"Kvinder",null,"I alt"]
[]
["Civ. ing.",null,29,null,5,null,34]
["Diplom ing.",null,55,null,8,null,63]
["Cand. Scient. Tek.",null,15,null,14,null,29]
["MA. Hum.",null,41,null,83,null,124]
["MA. Nat.",null,25,null,21,null,46]
["MA. Ph.d.",null,4,null,3,null,7]
["MA. Samf.",null,4,null,12,null,16]
["Øvrige Mag.",null,7,null,10,null,17]
["Agronom",null,3,null,7,null,10]
["Landsk. Arkt.",null,1,null,2,null,3]
["Hortonom",null,1,null,1,null,2]
["Forstkand.",null,1,null,0,null,1]
["Jordbrugsakad.",null,6,null,10,null,16]
["Mejeriing.",null,0,null,0,null,0]
["Levn.m.kand.",null,0,null,1,null,1]
["Dyrlæge",null,4,null,10,null,14]
["Farmaceut",null,1,null,5,null,6]
["Læge",null,10,null,22,null,32]
["Tandlæge",null,1,null,9,null,10]
["Arkitekt",null,9,null,5,null,14]
["Landinspek.",null,1,null,0,null,1]
["Bibliotekar",null,6,null,9,null,15]
["Musikudd.",null,0,null,2,null,2]
["Teolog",null,10,null,3,null,13]
["Psykolog",null,6,null,24,null,30]
["Jurist",null,11,null,21,null,32]
["Økonom",null,6,null,3,null,9]
["Samf. Adm.",null,25,null,27,null,52]
["Cand. Merc.",null,13,null,16,null,29]
["HA",null,6,null,6,null,12]
["HD",null,8,null,1,null,9]
["Komm. og Sprog",null,4,null,11,null,15]
["Bygningskonst.",null,28,null,0,null,28]
["Cand. IT.",null,2,null,0,null,2]
["Bac. Samf.",null,4,null,1,null,5]
["Bac. Hum.",null,8,null,5,null,13]
["Bac. Nat.",null,3,null,7,null,10]
["Andre",null,64,null,43,null,107]
[]
["Total",null,416,null,397,null,813]
[]
["Ingeniører i alt",null,84,null,13,null,97]
["Magistre i alt",null,81,null,129,null,210]
["DJØF'ere i alt",null,61,null,73,null,134]
[]
[]
[]
[]
[]
[]
["Christiansø"]
[]
[null,null,"Mænd",null,"Kvinder",null,"I alt"]
[]
["Civ. ing.",null,0,null,0,null,0]
["Diplom ing.",null,0,null,0,null,0]
["Cand. Scient. Tek.",null,0,null,0,null,0]
["MA. Hum.",null,0,null,0,null,0]
["MA. Nat.",null,0,null,0,null,0]
["MA. Ph.d.",null,0,null,0,null,0]
["MA. Samf.",null,0,null,0,null,0]
["Øvrige Mag.",null,0,null,0,null,0]
["Agronom",null,0,null,0,null,0]
["Landsk. Arkt.",null,0,null,0,null,0]
["Hortonom",null,0,null,0,null,0]
["Forstkand.",null,0,null,0,null,0]
["Jordbrugsakad.",null,0,null,0,null,0]
["Mejeriing.",null,0,null,0,null,0]
["Levn.m.kand.",null,0,null,0,null,0]
["Dyrlæge",null,0,null,0,null,0]
["Farmaceut",null,0,null,0,null,0]
["Læge",null,1,null,0,null,1]
["Tandlæge",null,0,null,0,null,0]
["Arkitekt",null,0,null,0,null,0]
["Landinspek.",null,0,null,0,null,0]
["Bibliotekar",null,0,null,0,null,0]
["Musikudd.",null,0,null,0,null,0]
["Teolog",null,0,null,0,null,0]
["Psykolog",null,0,null,0,null,0]
["Jurist",null,0,null,0,null,0]
["Økonom",null,0,null,0,null,0]
["Samf. Adm.",null,0,null,0,null,0]
["Cand. Merc.",null,0,null,0,null,0]
["HA",null,0,null,0,null,0]
["HD",null,0,null,0,null,0]
["Komm. og Sprog",null,0,null,0,null,0]
["Bygnigskonst",null,0,null,0,null,0]
["Cand. IT.",null,0,null,0,null,0]
["Bac. Samf.",null,0,null,0,null,0]
["Bac. Hum.",null,0,null,0,null,0]
["Bac. Nat.",null,0,null,0,null,0]
["Andre",null,0,null,0,null,0]
[]
["Total",null,1,null,0,null,1]
[]
["Ingeniører i alt",null,0,null,0,null,0]
["Magistre i alt",null,0,null,0,null,0]
["DJØF'ere i alt",null,0,null,0,null,0]

{"sheet":"Tabel 2 B","index":2,"n_rows":160,"n_cols":10,"rows_kept":160,"cut":false,"hidden":false,"merged":[[112,2,112,3],[112,5,112,6],[112,8,112,9],[113,2,114,2],[113,3,114,3],[113,5,114,5],[113,6,114,6],[113,8,114,8],[113,9,114,9],[58,2,58,3],[58,5,58,6],[58,8,58,9],[59,2,60,2],[59,3,60,3],[59,5,60,5],[59,6,60,6],[59,8,60,8],[59,9,60,9],[4,2,4,3],[4,5,4,6],[4,8,4,9],[5,2,6,2],[5,3,6,3],[5,5,6,5],[5,6,6,6],[5,8,6,8],[5,9,6,9]]}
["Tabel 2. Antal bruttoledighedsberørte og gennemsnitlig antal ledige brutto"]
[]
["Bornholm"]
[]
[null,null,"Mænd",null,null,"Kvinder",null,null,"I alt"]
[null,null,"Ledigheds-\nberørte","Gns.\nbrutto-\nledighed",null,"Ledigheds-\nberørte","Gns.\nbrutto-\nledighed",null,"Ledigheds-\nberørte","Gns.\nbrutto-\nledighed"]
[]
[]
["Civ. ing.",null,2,1.9996257718455581,null,1,0.99981288592277906,null,3,2.9994386577683372]
["Diplom ing.",null,2,1.7127175201147651,null,1,0.99981288592278617,null,3,2.7125304060375512]
["Cand. Scient. Tek.",null,3,2.5840454063493894,null,3,2.053888854238096,null,6,4.6379342605874854]
["MA. Hum.",null,7,5.8535520488991324,null,15,11.929769849685044,null,22,17.783321898584177]
["MA. Nat.",null,3,2.999438657768323,null,0,0,null,3,2.999438657768323]
["MA. Ph.d.",null,0,0,null,1,0.99981288592278261,null,1,0.99981288592278261]
["MA. Samf.",null,2,1.9996257718455581,null,0,0,null,2,1.9996257718455581]
["Øvrige Mag.",null,2,1.9073161604191355,null,3,2.9994386577683372,null,5,4.9067548181874727]
["Agronom",null,0,0,null,0,0,null,0,0]
["Landsk. Arkt.",null,0,0,null,0,0,null,0,0]
["Hortonom",null,0,0,null,0,0,null,0,0]
["Forstkand.",null,0,0,null,0,0,null,0,0]
["Jordbrugsakad.",null,0,0,null,0,0,null,0,0]
["Mejeriing.",null,0,0,null,0,0,null,0,0]
["Levn.m.kand.",null,0,0,null,0,0,null,0,0]
["Dyrlæge",null,1,0.5382648287906191,null,0,0,null,1,0.5382648287906191]
["Farmaceut",null,0,0,null,0,0,null,0,0]
["Læge",null,0,0,null,1,0.30749080022454223,null,1,0.30749080022454223]
["Tandlæge",null,0,0,null,0,0,null,0,0]
["Arkitekt",null,0,0,null,1,0.99981288592277906,null,1,0.99981288592277906]
["Landinspek.",null,0,0,null,0,0,null,0,0]
["Bibliotekar",null,0,0,null,1,0.99981288592278617,null,1,0.99981288592278617]
["Musikudd.",null,0,0,null,1,0.99981288592278439,null,1,0.99981288592278439]
["Teolog",null,0,0,null,0,0,null,0,0]
["Psykolog",null,0,0,null,2,1.5842325204266103,null,2,1.5842325204266103]
["Jurist",null,0,0,null,0,0,null,0,0]
["Økonom",null,0,0,null,0,0,null,0,0]
["Samf. Adm.",null,2,1.9996257718455581,null,1,0.99981288592272222,null,3,2.9994386577682803]
["Cand. Merc.",null,2,1.9996257718455581,null,1,0.60063618786256256,null,3,2.6002619597081207]
["HA",null,0,0,null,0,0,null,0,0]
["HD",null,0,0,null,0,0,null,0,0]
["Komm. og Sprog",null,0,0,null,4,3.9992515436911447,null,4,3.9992515436911447]
["Bygningskonst.",null,0,0,null,0,0,null,0,0]
["Cand. IT.",null,0,0,null,0,0,null,0,0]
["Bac. Samf.",null,0,0,null,0,0,null,0,0]
["Bac. Hum.",null,2,1.9996257718455581,null,0,0,null,2,1.9996257718455581]
["Bac. Nat.",null,1,0.99981288592278617,null,1,0.99357575001559439,null,2,1.9933886359383806]
["Andre",null,5,4.7620532651405938,null,6,5.4269319528472124,null,11,10.188985217987806]
[]
["Total",null,34,31.355329632632536,null,43,36.893906318218562,null,77,68.249235950851102]
[]
["Ingeniører i alt",null,4,3.7123432919603232,null,2,1.9996257718455652,null,6,5.7119690638058884]
["Magistre i alt",null,14,12.759932638932149,null,19,15.929021393376164,null,33,28.688954032308313]
["DJØF'ere i alt",null,4,3.9992515436911162,null,2,1.6004490737852848,null,6,5.599700617476401]
[]
[]
[]
[]
["Bornholm"]
[]
[null,null,"Mænd",null,null,"Kvinder",null,null,"I alt"]
[null,null,"Ledigheds-\nberørte","Gns.\nbrutto-\nledighed",null,"Ledigheds-\nberørte","Gns.\nbrutto-\nledighed",null,"Ledigheds-\nberørte","Gns.\nbrutto-\nledighed"]
[]
[]
["Civ. ing.",null,2,1.9996257718455686,null,1,0.99981288592278428,null,3,2.9994386577683527]
["Diplom ing.",null,2,1.7127175201147633,null,1,0.99981288592278428,null,3,2.7125304060375477]
["Cand. Scient. Tek.",null,3,2.5840454063494045,null,3,2.0538888542381337,null,6,4.6379342605875387]
["MA. Hum.",null,7,5.8535520488991457,null,15,11.929769849685023,null,22,17.78332189858417]
["MA. Nat.",null,3,2.9994386577683527,null,0,0,null,3,2.9994386577683527]
["MA. Ph.d.",null,0,0,null,1,0.99981288592278428,null,1,0.99981288592278428]
["MA. Samf.",null,2,1.9996257718455686,null,0,0,null,2,1.9996257718455686]
["Øvrige Mag.",null,2,1.9073161604191355,null,3,2.9994386577683527,null,5,4.9067548181874887]
["Agronom",null,0,0,null,0,0,null,0,0]
["Landsk. Arkt.",null,0,0,null,0,0,null,0,0]
["Hortonom",null,0,0,null,0,0,null,0,0]
["Forstkand.",null,0,0,null,0,0,null,0,0]
["Jordbrugsakad.",null,0,0,null,0,0,null,0,0]
["Mejeriing.",null,0,0,null,0,0,null,0,0]
["Levn.m.kand.",null,0,0,null,0,0,null,0,0]
["Dyrlæge",null,1,0.53826482879061932,null,0,0,null,1,0.53826482879061932]
["Farmaceut",null,0,0,null,0,0,null,0,0]
["Læge",null,0,0,null,1,0.30749080022453684,null,1,0.30749080022453684]
["Tandlæge",null,0,0,null,0,0,null,0,0]
["Arkitekt",null,0,0,null,1,0.99981288592278428,null,1,0.99981288592278428]
["Landinspek.",null,0,0,null,0,0,null,0,0]
["Bibliotekar",null,0,0,null,1,0.99981288592278428,null,1,0.99981288592278428]
["Musikudd.",null,0,0,null,1,0.99981288592278428,null,1,0.99981288592278428]
["Teolog",null,0,0,null,0,0,null,0,0]
["Psykolog",null,0,0,null,2,1.5842325204266201,null,2,1.5842325204266201]
["Jurist",null,0,0,null,0,0,null,0,0]
["Økonom",null,0,0,null,0,0,null,0,0]
["Samf. Adm.",null,2,1.9996257718455686,null,1,0.99981288592278428,null,3,2.9994386577683527]
["Cand. Merc.",null,2,1.9996257718455686,null,1,0.60063618786253348,null,3,2.600261959708102]
["HA",null,0,0,null,0,0,null,0,0]
["HD",null,0,0,null,0,0,null,0,0]
["Komm. og Sprog",null,0,0,null,4,3.9992515436911371,null,4,3.9992515436911371]
["Bygningskonst.",null,0,0,null,0,0,null,0,0]
["Cand. IT.",null,0,0,null,0,0,null,0,0]
["Bac. Samf.",null,0,0,null,0,0,null,0,0]
["Bac. Hum.",null,2,1.9996257718455686,null,0,0,null,2,1.9996257718455686]
["Bac. Nat.",null,1,0.99981288592278428,null,1,0.99357575001559284,null,2,1.993388635938377]
["Andre",null,5,4.7620532651406471,null,6,5.4269319528472524,null,11,10.188985217987899]
[]
["Total",null,34,31.355329632632696,null,43,36.893906318218669,null,77,68.249235950851357]
[]
["Ingeniører i alt",null,4,3.7123432919603321,null,2,1.9996257718455686,null,6,5.7119690638059009]
["Magistre i alt",null,14,12.759932638932202,null,19,15.929021393376161,null,33,28.688954032308359]
["DJØF'ere i alt",null,4,3.9992515436911371,null,2,1.6004490737853176,null,6,5.5997006174764543]
[]
[]
[]
[]
["Christiansø"]
[]
[null,null,"Mænd",null,null,"Kvinder",null,null,"I alt"]
[null,null,"Ledigheds-\nberørte","Gns.\nbrutto-\nledighed",null,"Ledigheds-\nberørte","Gns.\nbrutto-\nledighed",null,"Ledigheds-\nberørte","Gns.\nbrutto-\nledighed"]
[]
[]
["Civ. ing.",null,0,0,null,0,0,null,0,0]
["Diplom ing.",null,0,0,null,0,0,null,0,0]
["Cand. Scient. Tek.",null,0,0,null,0,0,null,0,0]
["MA. Hum.",null,0,0,null,0,0,null,0,0]
["MA. Nat.",null,0,0,null,0,0,null,0,0]
["MA. Ph.d.",null,0,0,null,0,0,null,0,0]
["MA. Samf.",null,0,0,null,0,0,null,0,0]
["Øvrige Mag.",null,0,0,null,0,0,null,0,0]
["Agronom",null,0,0,null,0,0,null,0,0]
["Landsk. Arkt.",null,0,0,null,0,0,null,0,0]
["Hortonom",null,0,0,null,0,0,null,0,0]
["Forstkand.",null,0,0,null,0,0,null,0,0]
["Jordbrugsakad.",null,0,0,null,0,0,null,0,0]
["Mejeriing.",null,0,0,null,0,0,null,0,0]
["Levn.m.kand.",null,0,0,null,0,0,null,0,0]
["Dyrlæge",null,0,0,null,0,0,null,0,0]
["Farmaceut",null,0,0,null,0,0,null,0,0]
["Læge",null,0,0,null,0,0,null,0,0]
["Tandlæge",null,0,0,null,0,0,null,0,0]
["Arkitekt",null,0,0,null,0,0,null,0,0]
["Landinspek.",null,0,0,null,0,0,null,0,0]
["Bibliotekar",null,0,0,null,0,0,null,0,0]
["Musikudd.",null,0,0,null,0,0,null,0,0]
["Teolog",null,0,0,null,0,0,null,0,0]
["Psykolog",null,0,0,null,0,0,null,0,0]
["Jurist",null,0,0,null,0,0,null,0,0]
["Økonom",null,0,0,null,0,0,null,0,0]
["Samf. Adm.",null,0,0,null,0,0,null,0,0]
["Cand. Merc.",null,0,0,null,0,0,null,0,0]
["HA",null,0,0,null,0,0,null,0,0]
["HD",null,0,0,null,0,0,null,0,0]
["Komm. og Sprog",null,0,0,null,0,0,null,0,0]
["Bygningskonst",null,0,0,null,0,0,null,0,0]
["Cand. IT.",null,0,0,null,0,0,null,0,0]
["Bac. Samf.",null,0,0,null,0,0,null,0,0]
["Bac. Hum.",null,0,0,null,0,0,null,0,0]
["Bac. Nat.",null,0,0,null,0,0,null,0,0]
["Andre",null,0,0,null,0,0,null,0,0]
[]
["Total",null,0,0,null,0,0,null,0,0]
[]
["Ingeniører i alt",null,0,0,null,0,0,null,0,0]
["Magistre i alt",null,0,0,null,0,0,null,0,0]
["DJØF'ere i alt",null,0,0,null,0,0,null,0,0]

{"sheet":"Tabel 3 B","index":3,"n_rows":160,"n_cols":10,"rows_kept":160,"cut":false,"hidden":false,"merged":[[112,2,112,3],[112,5,112,6],[112,8,112,9],[113,2,114,2],[113,3,114,3],[113,5,114,5],[113,6,114,6],[113,8,114,8],[113,9,114,9],[58,2,58,3],[58,5,58,6],[58,8,58,9],[59,2,60,2],[59,3,60,3],[59,5,60,5],[59,6,60,6],[59,8,60,8],[59,9,60,9],[4,2,4,3],[4,5,4,6],[4,8,4,9],[5,2,6,2],[5,3,6,3],[5,5,6,5],[5,6,6,6],[5,8,6,8],[5,9,6,9]]}
["Tabel 3. Ledige i procent af forsikrede"]
[]
["Bornholm"]
[]
[null,null,"Mænd",null,null,"Kvinder",null,null,"I alt"]
[null,null,"Ledigheds-\nberørte","Gns.\nbrutto-\nledighed",null,"Ledigheds-\nberørte","Gns.\nbrutto-\nledighed",null,"Ledigheds-\nberørte","Gns.\nbrutto-\nledighed"]
[]
[]
["Civ. ing.",null,{"$f":"IF(OR('Tabel 1 B'!C7<5, 'Tabel 2 B'!C9<0.5),\"-\",IFERROR('Tabel 2 B'!C9/'Tabel 1 B'!C7*100,\"-\"))","v":6.8965517241379306},{"$f":"IF(OR('Tabel 1 B'!C7<5,'Tabel 2 B'!D9<0.5),\"-\",IFERROR('Tabel 2 B'!D9/'Tabel 1 B'!C7*100,\"-\"))","v":6.8952612822260635},null,{"$f":"IF(OR('Tabel 1 B'!E7<5, 'Tabel 2 B'!F9<0.5),\"-\",IFERROR('Tabel 2 B'!F9/'Tabel 1 B'!E7*100,\"-\"))","v":20},{"$f":"IF(OR('Tabel 1 B'!E7<5,'Tabel 2 B'!G9<0.5),\"-\",IFERROR('Tabel 2 B'!G9/'Tabel 1 B'!E7*100,\"-\"))","v":19.996257718455581},null,{"$f":"IF(OR('Tabel 1 B'!G7<5,'Tabel 2 B'!I9<0.5),\"-\",IFERROR('Tabel 2 B'!I9/'Tabel 1 B'!G7*100,\"-\"))","v":8.8235294117647065},{"$f":"IF(OR('Tabel 1 B'!G7<5,'Tabel 2 B'!J9<0.5),\"-\",IFERROR('Tabel 2 B'!J9/'Tabel 1 B'!G7*100,\"-\"))","v":8.8218784052009926}]
["Diplom ing.",null,{"$f":"IF(OR('Tabel 1 B'!C8<5, 'Tabel 2 B'!C10<0.5),\"-\",IFERROR('Tabel 2 B'!C10/'Tabel 1 B'!C8*100,\"-\"))","v":3.6363636363636362},{"$f":"IF(OR('Tabel 1 B'!C8<5,'Tabel 2 B'!D10<0.5),\"-\",IFERROR('Tabel 2 B'!D10/'Tabel 1 B'!C8*100,\"-\"))","v":3.1140318547541184},null,{"$f":"IF(OR('Tabel 1 B'!E8<5, 'Tabel 2 B'!F10<0.5),\"-\",IFERROR('Tabel 2 B'!F10/'Tabel 1 B'!E8*100,\"-\"))","v":12.5},{"$f":"IF(OR('Tabel 1 B'!E8<5,'Tabel 2 B'!G10<0.5),\"-\",IFERROR('Tabel 2 B'!G10/'Tabel 1 B'!E8*100,\"-\"))","v":12.497661074034827},null,{"$f":"IF(OR('Tabel 1 B'!G8<5,'Tabel 2 B'!I10<0.5),\"-\",IFERROR('Tabel 2 B'!I10/'Tabel 1 B'!G8*100,\"-\"))","v":4.7619047619047619},{"$f":"IF(OR('Tabel 1 B'!G8<5,'Tabel 2 B'!J10<0.5),\"-\",IFERROR('Tabel 2 B'!J10/'Tabel 1 B'!G8*100,\"-\"))","v":4.3056038191072243}]
["Cand. Scient. Tek.",null,{"$f":"IF(OR('Tabel 1 B'!C9<5, 'Tabel 2 B'!C11<0.5),\"-\",IFERROR('Tabel 2 B'!C11/'Tabel 1 B'!C9*100,\"-\"))","v":20},{"$f":"IF(OR('Tabel 1 B'!C9<5,'Tabel 2 B'!D11<0.5),\"-\",IFERROR('Tabel 2 B'!D11/'Tabel 1 B'!C9*100,\"-\"))","v":17.226969375662595},null,{"$f":"IF(OR('Tabel 1 B'!E9<5, 'Tabel 2 B'!F11<0.5),\"-\",IFERROR('Tabel 2 B'!F11/'Tabel 1 B'!E9*100,\"-\"))","v":21.428571428571427},{"$f":"IF(OR('Tabel 1 B'!E9<5,'Tabel 2 B'!G11<0.5),\"-\",IFERROR('Tabel 2 B'!G11/'Tabel 1 B'!E9*100,\"-\"))","v":14.670634673129257},null,{"$f":"IF(OR('Tabel 1 B'!G9<5,'Tabel 2 B'!I11<0.5),\"-\",IFERROR('Tabel 2 B'!I11/'Tabel 1 B'!G9*100,\"-\"))","v":20.689655172413794},{"$f":"IF(OR('Tabel 1 B'!G9<5,'Tabel 2 B'!J11<0.5),\"-\",IFERROR('Tabel 2 B'!J11/'Tabel 1 B'!G9*100,\"-\"))","v":15.992876760646501}]
["MA. Hum.",null,{"$f":"IF(OR('Tabel 1 B'!C10<5, 'Tabel 2 B'!C12<0.5),\"-\",IFERROR('Tabel 2 B'!C12/'Tabel 1 B'!C10*100,\"-\"))","v":17.073170731707318},{"$f":"IF(OR('Tabel 1 B'!C10<5,'Tabel 2 B'!D12<0.5),\"-\",IFERROR('Tabel 2 B'!D12/'Tabel 1 B'!C10*100,\"-\"))","v":14.276956216827152},null,{"$f":"IF(OR('Tabel 1 B'!E10<5, 'Tabel 2 B'!F12<0.5),\"-\",IFERROR('Tabel 2 B'!F12/'Tabel 1 B'!E10*100,\"-\"))","v":18.072289156626507},{"$f":"IF(OR('Tabel 1 B'!E10<5,'Tabel 2 B'!G12<0.5),\"-\",IFERROR('Tabel 2 B'!G12/'Tabel 1 B'!E10*100,\"-\"))","v":14.373216686367524},null,{"$f":"IF(OR('Tabel 1 B'!G10<5,'Tabel 2 B'!I12<0.5),\"-\",IFERROR('Tabel 2 B'!I12/'Tabel 1 B'!G10*100,\"-\"))","v":17.741935483870968},{"$f":"IF(OR('Tabel 1 B'!G10<5,'Tabel 2 B'!J12<0.5),\"-\",IFERROR('Tabel 2 B'!J12/'Tabel 1 B'!G10*100,\"-\"))","v":14.341388627890463}]
["MA. Nat.",null,{"$f":"IF(OR('Tabel 1 B'!C11<5, 'Tabel 2 B'!C13<0.5),\"-\",IFERROR('Tabel 2 B'!C13/'Tabel 1 B'!C11*100,\"-\"))","v":12},{"$f":"IF(OR('Tabel 1 B'!C11<5,'Tabel 2 B'!D13<0.5),\"-\",IFERROR('Tabel 2 B'!D13/'Tabel 1 B'!C11*100,\"-\"))","v":11.997754631073292},null,{"$f":"IF(OR('Tabel 1 B'!E11<5, 'Tabel 2 B'!F13<0.5),\"-\",IFERROR('Tabel 2 B'!F13/'Tabel 1 B'!E11*100,\"-\"))","v":"-"},{"$f":"IF(OR('Tabel 1 B'!E11<5,'Tabel 2 B'!G13<0.5),\"-\",IFERROR('Tabel 2 B'!G13/'Tabel 1 B'!E11*100,\"-\"))","v":"-"},null,{"$f":"IF(OR('Tabel 1 B'!G11<5,'Tabel 2 B'!I13<0.5),\"-\",IFERROR('Tabel 2 B'!I13/'Tabel 1 B'!G11*100,\"-\"))","v":6.5217391304347823},{"$f":"IF(OR('Tabel 1 B'!G11<5,'Tabel 2 B'!J13<0.5),\"-\",IFERROR('Tabel 2 B'!J13/'Tabel 1 B'!G11*100,\"-\"))","v":6.520518821235485}]
["MA. Ph.d.",null,{"$f":"IF(OR('Tabel 1 B'!C12<5, 'Tabel 2 B'!C14<0.5),\"-\",IFERROR('Tabel 2 B'!C14/'Tabel 1 B'!C12*100,\"-\"))","v":"-"},{"$f":"IF(OR('Tabel 1 B'!C12<5,'Tabel 2 B'!D14<0.5),\"-\",IFERROR('Tabel 2 B'!D14/'Tabel 1 B'!C12*100,\"-\"))","v":"-"},null,{"$f":"IF(OR('Tabel 1 B'!E12<5, 'Tabel 2 B'!F14<0.5),\"-\",IFERROR('Tabel 2 B'!F14/'Tabel 1 B'!E12*100,\"-\"))","v":"-"},{"$f":"IF(OR('Tabel 1 B'!E12<5,'Tabel 2 B'!G14<0.5),\"-\",IFERROR('Tabel 2 B'!G14/'Tabel 1 B'!E12*100,\"-\"))","v":"-"},null,{"$f":"IF(OR('Tabel 1 B'!G12<5,'Tabel 2 B'!I14<0.5),\"-\",IFERROR('Tabel 2 B'!I14/'Tabel 1 B'!G12*100,\"-\"))","v":14.285714285714285},{"$f":"IF(OR('Tabel 1 B'!G12<5,'Tabel 2 B'!J14<0.5),\"-\",IFERROR('Tabel 2 B'!J14/'Tabel 1 B'!G12*100,\"-\"))","v":14.283041227468324}]
["MA. Samf.",null,{"$f":"IF(OR('Tabel 1 B'!C13<5, 'Tabel 2 B'!C15<0.5),\"-\",IFERROR('Tabel 2 B'!C15/'Tabel 1 B'!C13*100,\"-\"))","v":"-"},{"$f":"IF(OR('Tabel 1 B'!C13<5,'Tabel 2 B'!D15<0.5),\"-\",IFERROR('Tabel 2 B'!D15/'Tabel 1 B'!C13*100,\"-\"))","v":"-"},null,{"$f":"IF(OR('Tabel 1 B'!E13<5, 'Tabel 2 B'!F15<0.5),\"-\",IFERROR('Tabel 2 B'!F15/'Tabel 1 B'!E13*100,\"-\"))","v":"-"},{"$f":"IF(OR('Tabel 1 B'!E13<5,'Tabel 2 B'!G15<0.5),\"-\",IFERROR('Tabel 2 B'!G15/'Tabel 1 B'!E13*100,\"-\"))","v":"-"},null,{"$f":"IF(OR('Tabel 1 B'!G13<5,'Tabel 2 B'!I15<0.5),\"-\",IFERROR('Tabel 2 B'!I15/'Tabel 1 B'!G13*100,\"-\"))","v":12.5},{"$f":"IF(OR('Tabel 1 B'!G13<5,'Tabel 2 B'!J15<0.5),\"-\",IFERROR('Tabel 2 B'!J15/'Tabel 1 B'!G13*100,\"-\"))","v":12.497661074034738}]
["Øvrige Mag.",null,{"$f":"IF(OR('Tabel 1 B'!C14<5, 'Tabel 2 B'!C16<0.5),\"-\",IFERROR('Tabel 2 B'!C16/'Tabel 1 B'!C14*100,\"-\"))","v":28.571428571428569},{"$f":"IF(OR('Tabel 1 B'!C14<5,'Tabel 2 B'!D16<0.5),\"-\",IFERROR('Tabel 2 B'!D16/'Tabel 1 B'!C14*100,\"-\"))","v":27.247373720273366},null,{"$f":"IF(OR('Tabel 1 B'!E14<5, 'Tabel 2 B'!F16<0.5),\"-\",IFERROR('Tabel 2 B'!F16/'Tabel 1 B'!E14*100,\"-\"))","v":30},{"$f":"IF(OR('Tabel 1 B'!E14<5,'Tabel 2 B'!G16<0.5),\"-\",IFERROR('Tabel 2 B'!G16/'Tabel 1 B'!E14*100,\"-\"))","v":29.994386577683375},null,{"$f":"IF(OR('Tabel 1 B'!G14<5,'Tabel 2 B'!I16<0.5),\"-\",IFERROR('Tabel 2 B'!I16/'Tabel 1 B'!G14*100,\"-\"))","v":29.411764705882355},{"$f":"IF(OR('Tabel 1 B'!G14<5,'Tabel 2 B'!J16<0.5),\"-\",IFERROR('Tabel 2 B'!J16/'Tabel 1 B'!G14*100,\"-\"))","v":28.863263636396898}]
["Agronom",null,{"$f":"IF(OR('Tabel 1 B'!C15<5, 'Tabel 2 B'!C17<0.5),\"-\",IFERROR('Tabel 2 B'!C17/'Tabel 1 B'!C15*100,\"-\"))","v":"-"},{"$f":"IF(OR('Tabel 1 B'!C15<5,'Tabel 2 B'!D17<0.5),\"-\",IFERROR('Tabel 2 B'!D17/'Tabel 1 B'!C15*100,\"-\"))","v":"-"},null,{"$f":"IF(OR('Tabel 1 B'!E15<5, 'Tabel 2 B'!F17<0.5),\"-\",IFERROR('Tabel 2 B'!F17/'Tabel 1 B'!E15*100,\"-\"))","v":"-"},{"$f":"IF(OR('Tabel 1 B'!E15<5,'Tabel 2 B'!G17<0.5),\"-\",IFERROR('Tabel 2 B'!G17/'Tabel 1 B'!E15*100,\"-\"))","v":"-"},null,{"$f":"IF(OR('Tabel 1 B'!G15<5,'Tabel 2 B'!I17<0.5),\"-\",IFERROR('Tabel 2 B'!I17/'Tabel 1 B'!G15*100,\"-\"))","v":"-"},{"$f":"IF(OR('Tabel 1 B'!G15<5,'Tabel 2 B'!J17<0.5),\"-\",IFERROR('Tabel 2 B'!J17/'Tabel 1 B'!G15*100,\"-\"))","v":"-"}]
["Landsk. Arkt.",null,{"$f":"IF(OR('Tabel 1 B'!C16<5, 'Tabel 2 B'!C18<0.5),\"-\",IFERROR('Tabel 2 B'!C18/'Tabel 1 B'!C16*100,\"-\"))","v":"-"},{"$f":"IF(OR('Tabel 1 B'!C16<5,'Tabel 2 B'!D18<0.5),\"-\",IFERROR('Tabel 2 B'!D18/'Tabel 1 B'!C16*100,\"-\"))","v":"-"},null,{"$f":"IF(OR('Tabel 1 B'!E16<5, 'Tabel 2 B'!F18<0.5),\"-\",IFERROR('Tabel 2 B'!F18/'Tabel 1 B'!E16*100,\"-\"))","v":"-"},{"$f":"IF(OR('Tabel 1 B'!E16<5,'Tabel 2 B'!G18<0.5),\"-\",IFERROR('Tabel 2 B'!G18/'Tabel 1 B'!E16*100,\"-\"))","v":"-"},null,{"$f":"IF(OR('Tabel 1 B'!G16<5,'Tabel 2 B'!I18<0.5),\"-\",IFERROR('Tabel 2 B'!I18/'Tabel 1 B'!G16*100,\"-\"))","v":"-"},{"$f":"IF(OR('Tabel 1 B'!G16<5,'Tabel 2 B'!J18<0.5),\"-\",IFERROR('Tabel 2 B'!J18/'Tabel 1 B'!G16*100,\"-\"))","v":"-"}]
["Hortonom",null,{"$f":"IF(OR('Tabel 1 B'!C17<5, 'Tabel 2 B'!C19<0.5),\"-\",IFERROR('Tabel 2 B'!C19/'Tabel 1 B'!C17*100,\"-\"))","v":"-"},{"$f":"IF(OR('Tabel 1 B'!C17<5,'Tabel 2 B'!D19<0.5),\"-\",IFERROR('Tabel 2 B'!D19/'Tabel 1 B'!C17*100,\"-\"))","v":"-"},null,{"$f":"IF(OR('Tabel 1 B'!E17<5, 'Tabel 2 B'!F19<0.5),\"-\",IFERROR('Tabel 2 B'!F19/'Tabel 1 B'!E17*100,\"-\"))","v":"-"},{"$f":"IF(OR('Tabel 1 B'!E17<5,'Tabel 2 B'!G19<0.5),\"-\",IFERROR('Tabel 2 B'!G19/'Tabel 1 B'!E17*100,\"-\"))","v":"-"},null,{"$f":"IF(OR('Tabel 1 B'!G17<5,'Tabel 2 B'!I19<0.5),\"-\",IFERROR('Tabel 2 B'!I19/'Tabel 1 B'!G17*100,\"-\"))","v":"-"},{"$f":"IF(OR('Tabel 1 B'!G17<5,'Tabel 2 B'!J19<0.5),\"-\",IFERROR('Tabel 2 B'!J19/'Tabel 1 B'!G17*100,\"-\"))","v":"-"}]
["Forstkand.",null,{"$f":"IF(OR('Tabel 1 B'!C18<5, 'Tabel 2 B'!C20<0.5),\"-\",IFERROR('Tabel 2 B'!C20/'Tabel 1 B'!C18*100,\"-\"))","v":"-"},{"$f":"IF(OR('Tabel 1 B'!C18<5,'Tabel 2 B'!D20<0.5),\"-\",IFERROR('Tabel 2 B'!D20/'Tabel 1 B'!C18*100,\"-\"))","v":"-"},null,{"$f":"IF(OR('Tabel 1 B'!E18<5, 'Tabel 2 B'!F20<0.5),\"-\",IFERROR('Tabel 2 B'!F20/'Tabel 1 B'!E18*100,\"-\"))","v":"-"},{"$f":"IF(OR('Tabel 1 B'!E18<5,'Tabel 2 B'!G20<0.5),\"-\",IFERROR('Tabel 2 B'!G20/'Tabel 1 B'!E18*100,\"-\"))","v":"-"},null,{"$f":"IF(OR('Tabel 1 B'!G18<5,'Tabel 2 B'!I20<0.5),\"-\",IFERROR('Tabel 2 B'!I20/'Tabel 1 B'!G18*100,\"-\"))","v":"-"},{"$f":"IF(OR('Tabel 1 B'!G18<5,'Tabel 2 B'!J20<0.5),\"-\",IFERROR('Tabel 2 B'!J20/'Tabel 1 B'!G18*100,\"-\"))","v":"-"}]
["Jordbrugsakad.",null,{"$f":"IF(OR('Tabel 1 B'!C19<5, 'Tabel 2 B'!C21<0.5),\"-\",IFERROR('Tabel 2 B'!C21/'Tabel 1 B'!C19*100,\"-\"))","v":"-"},{"$f":"IF(OR('Tabel 1 B'!C19<5,'Tabel 2 B'!D21<0.5),\"-\",IFERROR('Tabel 2 B'!D21/'Tabel 1 B'!C19*100,\"-\"))","v":"-"},null,{"$f":"IF(OR('Tabel 1 B'!E19<5, 'Tabel 2 B'!F21<0.5),\"-\",IFERROR('Tabel 2 B'!F21/'Tabel 1 B'!E19*100,\"-\"))","v":"-"},{"$f":"IF(OR('Tabel 1 B'!E19<5,'Tabel 2 B'!G21<0.5),\"-\",IFERROR('Tabel 2 B'!G21/'Tabel 1 B'!E19*100,\"-\"))","v":"-"},null,{"$f":"IF(OR('Tabel 1 B'!G19<5,'Tabel 2 B'!I21<0.5),\"-\",IFERROR('Tabel 2 B'!I21/'Tabel 1 B'!G19*100,\"-\"))","v":"-"},{"$f":"IF(OR('Tabel 1 B'!G19<5,'Tabel 2 B'!J21<0.5),\"-\",IFERROR('Tabel 2 B'!J21/'Tabel 1 B'!G19*100,\"-\"))","v":"-"}]
["Mejeriing.",null,{"$f":"IF(OR('Tabel 1 B'!C20<5, 'Tabel 2 B'!C22<0.5),\"-\",IFERROR('Tabel 2 B'!C22/'Tabel 1 B'!C20*100,\"-\"))","v":"-"},{"$f":"IF(OR('Tabel 1 B'!C20<5,'Tabel 2 B'!D22<0.5),\"-\",IFERROR('Tabel 2 B'!D22/'Tabel 1 B'!C20*100,\"-\"))","v":"-"},null,{"$f":"IF(OR('Tabel 1 B'!E20<5, 'Tabel 2 B'!F22<0.5),\"-\",IFERROR('Tabel 2 B'!F22/'Tabel 1 B'!E20*100,\"-\"))","v":"-"},{"$f":"IF(OR('Tabel 1 B'!E20<5,'Tabel 2 B'!G22<0.5),\"-\",IFERROR('Tabel 2 B'!G22/'Tabel 1 B'!E20*100,\"-\"))","v":"-"},null,{"$f":"IF(OR('Tabel 1 B'!G20<5,'Tabel 2 B'!I22<0.5),\"-\",IFERROR('Tabel 2 B'!I22/'Tabel 1 B'!G20*100,\"-\"))","v":"-"},{"$f":"IF(OR('Tabel 1 B'!G20<5,'Tabel 2 B'!J22<0.5),\"-\",IFERROR('Tabel 2 B'!J22/'Tabel 1 B'!G20*100,\"-\"))","v":"-"}]
["Levn.m.kand.",null,{"$f":"IF(OR('Tabel 1 B'!C21<5, 'Tabel 2 B'!C23<0.5),\"-\",IFERROR('Tabel 2 B'!C23/'Tabel 1 B'!C21*100,\"-\"))","v":"-"},{"$f":"IF(OR('Tabel 1 B'!C21<5,'Tabel 2 B'!D23<0.5),\"-\",IFERROR('Tabel 2 B'!D23/'Tabel 1 B'!C21*100,\"-\"))","v":"-"},null,{"$f":"IF(OR('Tabel 1 B'!E21<5, 'Tabel 2 B'!F23<0.5),\"-\",IFERROR('Tabel 2 B'!F23/'Tabel 1 B'!E21*100,\"-\"))","v":"-"},{"$f":"IF(OR('Tabel 1 B'!E21<5,'Tabel 2 B'!G23<0.5),\"-\",IFERROR('Tabel 2 B'!G23/'Tabel 1 B'!E21*100,\"-\"))","v":"-"},null,{"$f":"IF(OR('Tabel 1 B'!G21<5,'Tabel 2 B'!I23<0.5),\"-\",IFERROR('Tabel 2 B'!I23/'Tabel 1 B'!G21*100,\"-\"))","v":"-"},{"$f":"IF(OR('Tabel 1 B'!G21<5,'Tabel 2 B'!J23<0.5),\"-\",IFERROR('Tabel 2 B'!J23/'Tabel 1 B'!G21*100,\"-\"))","v":"-"}]
["Dyrlæge",null,{"$f":"IF(OR('Tabel 1 B'!C22<5, 'Tabel 2 B'!C24<0.5),\"-\",IFERROR('Tabel 2 B'!C24/'Tabel 1 B'!C22*100,\"-\"))","v":"-"},{"$f":"IF(OR('Tabel 1 B'!C22<5,'Tabel 2 B'!D24<0.5),\"-\",IFERROR('Tabel 2 B'!D24/'Tabel 1 B'!C22*100,\"-\"))","v":"-"},null,{"$f":"IF(OR('Tabel 1 B'!E22<5, 'Tabel 2 B'!F24<0.5),\"-\",IFERROR('Tabel 2 B'!F24/'Tabel 1 B'!E22*100,\"-\"))","v":"-"},{"$f":"IF(OR('Tabel 1 B'!E22<5,'Tabel 2 B'!G24<0.5),\"-\",IFERROR('Tabel 2 B'!G24/'Tabel 1 B'!E22*100,\"-\"))","v":"-"},null,{"$f":"IF(OR('Tabel 1 B'!G22<5,'Tabel 2 B'!I24<0.5),\"-\",IFERROR('Tabel 2 B'!I24/'Tabel 1 B'!G22*100,\"-\"))","v":7.1428571428571423},{"$f":"IF(OR('Tabel 1 B'!G22<5,'Tabel 2 B'!J24<0.5),\"-\",IFERROR('Tabel 2 B'!J24/'Tabel 1 B'!G22*100,\"-\"))","v":3.8447487770758508}]
["Farmaceut",null,{"$f":"IF(OR('Tabel 1 B'!C23<5, 'Tabel 2 B'!C25<0.5),\"-\",IFERROR('Tabel 2 B'!C25/'Tabel 1 B'!C23*100,\"-\"))","v":"-"},{"$f":"IF(OR('Tabel 1 B'!C23<5,'Tabel 2 B'!D25<0.5),\"-\",IFERROR('Tabel 2 B'!D25/'Tabel 1 B'!C23*100,\"-\"))","v":"-"},null,{"$f":"IF(OR('Tabel 1 B'!E23<5, 'Tabel 2 B'!F25<0.5),\"-\",IFERROR('Tabel 2 B'!F25/'Tabel 1 B'!E23*100,\"-\"))","v":"-"},{"$f":"IF(OR('Tabel 1 B'!E23<5,'Tabel 2 B'!G25<0.5),\"-\",IFERROR('Tabel 2 B'!G25/'Tabel 1 B'!E23*100,\"-\"))","v":"-"},null,{"$f":"IF(OR('Tabel 1 B'!G23<5,'Tabel 2 B'!I25<0.5),\"-\",IFERROR('Tabel 2 B'!I25/'Tabel 1 B'!G23*100,\"-\"))","v":"-"},{"$f":"IF(OR('Tabel 1 B'!G23<5,'Tabel 2 B'!J25<0.5),\"-\",IFERROR('Tabel 2 B'!J25/'Tabel 1 B'!G23*100,\"-\"))","v":"-"}]
["Læge",null,{"$f":"IF(OR('Tabel 1 B'!C24<5, 'Tabel 2 B'!C26<0.5),\"-\",IFERROR('Tabel 2 B'!C26/'Tabel 1 B'!C24*100,\"-\"))","v":"-"},{"$f":"IF(OR('Tabel 1 B'!C24<5,'Tabel 2 B'!D26<0.5),\"-\",IFERROR('Tabel 2 B'!D26/'Tabel 1 B'!C24*100,\"-\"))","v":"-"},null,{"$f":"IF(OR('Tabel 1 B'!E24<5, 'Tabel 2 B'!F26<0.5),\"-\",IFERROR('Tabel 2 B'!F26/'Tabel 1 B'!E24*100,\"-\"))","v":4.5454545454545459},{"$f":"IF(OR('Tabel 1 B'!E24<5,'Tabel 2 B'!G26<0.5),\"-\",IFERROR('Tabel 2 B'!G26/'Tabel 1 B'!E24*100,\"-\"))","v":"-"},null,{"$f":"IF(OR('Tabel 1 B'!G24<5,'Tabel 2 B'!I26<0.5),\"-\",IFERROR('Tabel 2 B'!I26/'Tabel 1 B'!G24*100,\"-\"))","v":3.0303030303030303},{"$f":"IF(OR('Tabel 1 B'!G24<5,'Tabel 2 B'!J26<0.5),\"-\",IFERROR('Tabel 2 B'!J26/'Tabel 1 B'!G24*100,\"-\"))","v":"-"}]
["Tandlæge",null,{"$f":"IF(OR('Tabel 1 B'!C25<5, 'Tabel 2 B'!C27<0.5),\"-\",IFERROR('Tabel 2 B'!C27/'Tabel 1 B'!C25*100,\"-\"))","v":"-"},{"$f":"IF(OR('Tabel 1 B'!C25<5,'Tabel 2 B'!D27<0.5),\"-\",IFERROR('Tabel 2 B'!D27/'Tabel 1 B'!C25*100,\"-\"))","v":"-"},null,{"$f":"IF(OR('Tabel 1 B'!E25<5, 'Tabel 2 B'!F27<0.5),\"-\",IFERROR('Tabel 2 B'!F27/'Tabel 1 B'!E25*100,\"-\"))","v":"-"},{"$f":"IF(OR('Tabel 1 B'!E25<5,'Tabel 2 B'!G27<0.5),\"-\",IFERROR('Tabel 2 B'!G27/'Tabel 1 B'!E25*100,\"-\"))","v":"-"},null,{"$f":"IF(OR('Tabel 1 B'!G25<5,'Tabel 2 B'!I27<0.5),\"-\",IFERROR('Tabel 2 B'!I27/'Tabel 1 B'!G25*100,\"-\"))","v":"-"},{"$f":"IF(OR('Tabel 1 B'!G25<5,'Tabel 2 B'!J27<0.5),\"-\",IFERROR('Tabel 2 B'!J27/'Tabel 1 B'!G25*100,\"-\"))","v":"-"}]
["Arkitekt",null,{"$f":"IF(OR('Tabel 1 B'!C26<5, 'Tabel 2 B'!C28<0.5),\"-\",IFERROR('Tabel 2 B'!C28/'Tabel 1 B'!C26*100,\"-\"))","v":"-"},{"$f":"IF(OR('Tabel 1 B'!C26<5,'Tabel 2 B'!D28<0.5),\"-\",IFERROR('Tabel 2 B'!D28/'Tabel 1 B'!C26*100,\"-\"))","v":"-"},null,{"$f":"IF(OR('Tabel 1 B'!E26<5, 'Tabel 2 B'!F28<0.5),\"-\",IFERROR('Tabel 2 B'!F28/'Tabel 1 B'!E26*100,\"-\"))","v":20},{"$f":"IF(OR('Tabel 1 B'!E26<5,'Tabel 2 B'!G28<0.5),\"-\",IFERROR('Tabel 2 B'!G28/'Tabel 1 B'!E26*100,\"-\"))","v":19.996257718455581},null,{"$f":"IF(OR('Tabel 1 B'!G26<5,'Tabel 2 B'!I28<0.5),\"-\",IFERROR('Tabel 2 B'!I28/'Tabel 1 B'!G26*100,\"-\"))","v":7.1428571428571423},{"$f":"IF(OR('Tabel 1 B'!G26<5,'Tabel 2 B'!J28<0.5),\"-\",IFERROR('Tabel 2 B'!J28/'Tabel 1 B'!G26*100,\"-\"))","v":7.1415206137341354}]
["Landinspek.",null,{"$f":"IF(OR('Tabel 1 B'!C27<5, 'Tabel 2 B'!C29<0.5),\"-\",IFERROR('Tabel 2 B'!C29/'Tabel 1 B'!C27*100,\"-\"))","v":"-"},{"$f":"IF(OR('Tabel 1 B'!C27<5,'Tabel 2 B'!D29<0.5),\"-\",IFERROR('Tabel 2 B'!D29/'Tabel 1 B'!C27*100,\"-\"))","v":"-"},null,{"$f":"IF(OR('Tabel 1 B'!E27<5, 'Tabel 2 B'!F29<0.5),\"-\",IFERROR('Tabel 2 B'!F29/'Tabel 1 B'!E27*100,\"-\"))","v":"-"},{"$f":"IF(OR('Tabel 1 B'!E27<5,'Tabel 2 B'!G29<0.5),\"-\",IFERROR('Tabel 2 B'!G29/'Tabel 1 B'!E27*100,\"-\"))","v":"-"},null,{"$f":"IF(OR('Tabel 1 B'!G27<5,'Tabel 2 B'!I29<0.5),\"-\",IFERROR('Tabel 2 B'!I29/'Tabel 1 B'!G27*100,\"-\"))","v":"-"},{"$f":"IF(OR('Tabel 1 B'!G27<5,'Tabel 2 B'!J29<0.5),\"-\",IFERROR('Tabel 2 B'!J29/'Tabel 1 B'!G27*100,\"-\"))","v":"-"}]
["Bibliotekar",null,{"$f":"IF(OR('Tabel 1 B'!C28<5, 'Tabel 2 B'!C30<0.5),\"-\",IFERROR('Tabel 2 B'!C30/'Tabel 1 B'!C28*100,\"-\"))","v":"-"},{"$f":"IF(OR('Tabel 1 B'!C28<5,'Tabel 2 B'!D30<0.5),\"-\",IFERROR('Tabel 2 B'!D30/'Tabel 1 B'!C28*100,\"-\"))","v":"-"},null,{"$f":"IF(OR('Tabel 1 B'!E28<5, 'Tabel 2 B'!F30<0.5),\"-\",IFERROR('Tabel 2 B'!F30/'Tabel 1 B'!E28*100,\"-\"))","v":11.111111111111111},{"$f":"IF(OR('Tabel 1 B'!E28<5,'Tabel 2 B'!G30<0.5),\"-\",IFERROR('Tabel 2 B'!G30/'Tabel 1 B'!E28*100,\"-\"))","v":11.109032065808735},null,{"$f":"IF(OR('Tabel 1 B'!G28<5,'Tabel 2 B'!I30<0.5),\"-\",IFERROR('Tabel 2 B'!I30/'Tabel 1 B'!G28*100,\"-\"))","v":6.666666666666667},{"$f":"IF(OR('Tabel 1 B'!G28<5,'Tabel 2 B'!J30<0.5),\"-\",IFERROR('Tabel 2 B'!J30/'Tabel 1 B'!G28*100,\"-\"))","v":6.6654192394852414}]
["Musikudd.",null,{"$f":"IF(OR('Tabel 1 B'!C29<5, 'Tabel 2 B'!C31<0.5),\"-\",IFERROR('Tabel 2 B'!C31/'Tabel 1 B'!C29*100,\"-\"))","v":"-"},{"$f":"IF(OR('Tabel 1 B'!C29<5,'Tabel 2 B'!D31<0.5),\"-\",IFERROR('Tabel 2 B'!D31/'Tabel 1 B'!C29*100,\"-\"))","v":"-"},null,{"$f":"IF(OR('Tabel 1 B'!E29<5, 'Tabel 2 B'!F31<0.5),\"-\",IFERROR('Tabel 2 B'!F31/'Tabel 1 B'!E29*100,\"-\"))","v":"-"},{"$f":"IF(OR('Tabel 1 B'!E29<5,'Tabel 2 B'!G31<0.5),\"-\",IFERROR('Tabel 2 B'!G31/'Tabel 1 B'!E29*100,\"-\"))","v":"-"},null,{"$f":"IF(OR('Tabel 1 B'!G29<5,'Tabel 2 B'!I31<0.5),\"-\",IFERROR('Tabel 2 B'!I31/'Tabel 1 B'!G29*100,\"-\"))","v":"-"},{"$f":"IF(OR('Tabel 1 B'!G29<5,'Tabel 2 B'!J31<0.5),\"-\",IFERROR('Tabel 2 B'!J31/'Tabel 1 B'!G29*100,\"-\"))","v":"-"}]
["Teolog",null,{"$f":"IF(OR('Tabel 1 B'!C30<5, 'Tabel 2 B'!C32<0.5),\"-\",IFERROR('Tabel 2 B'!C32/'Tabel 1 B'!C30*100,\"-\"))","v":"-"},{"$f":"IF(OR('Tabel 1 B'!C30<5,'Tabel 2 B'!D32<0.5),\"-\",IFERROR('Tabel 2 B'!D32/'Tabel 1 B'!C30*100,\"-\"))","v":"-"},null,{"$f":"IF(OR('Tabel 1 B'!E30<5, 'Tabel 2 B'!F32<0.5),\"-\",IFERROR('Tabel 2 B'!F32/'Tabel 1 B'!E30*100,\"-\"))","v":"-"},{"$f":"IF(OR('Tabel 1 B'!E30<5,'Tabel 2 B'!G32<0.5),\"-\",IFERROR('Tabel 2 B'!G32/'Tabel 1 B'!E30*100,\"-\"))","v":"-"},null,{"$f":"IF(OR('Tabel 1 B'!G30<5,'Tabel 2 B'!I32<0.5),\"-\",IFERROR('Tabel 2 B'!I32/'Tabel 1 B'!G30*100,\"-\"))","v":"-"},{"$f":"IF(OR('Tabel 1 B'!G30<5,'Tabel 2 B'!J32<0.5),\"-\",IFERROR('Tabel 2 B'!J32/'Tabel 1 B'!G30*100,\"-\"))","v":"-"}]
["Psykolog",null,{"$f":"IF(OR('Tabel 1 B'!C31<5, 'Tabel 2 B'!C33<0.5),\"-\",IFERROR('Tabel 2 B'!C33/'Tabel 1 B'!C31*100,\"-\"))","v":"-"},{"$f":"IF(OR('Tabel 1 B'!C31<5,'Tabel 2 B'!D33<0.5),\"-\",IFERROR('Tabel 2 B'!D33/'Tabel 1 B'!C31*100,\"-\"))","v":"-"},null,{"$f":"IF(OR('Tabel 1 B'!E31<5, 'Tabel 2 B'!F33<0.5),\"-\",IFERROR('Tabel 2 B'!F33/'Tabel 1 B'!E31*100,\"-\"))","v":8.3333333333333321},{"$f":"IF(OR('Tabel 1 B'!E31<5,'Tabel 2 B'!G33<0.5),\"-\",IFERROR('Tabel 2 B'!G33/'Tabel 1 B'!E31*100,\"-\"))","v":6.6009688351108764},null,{"$f":"IF(OR('Tabel 1 B'!G31<5,'Tabel 2 B'!I33<0.5),\"-\",IFERROR('Tabel 2 B'!I33/'Tabel 1 B'!G31*100,\"-\"))","v":6.666666666666667},{"$f":"IF(OR('Tabel 1 B'!G31<5,'Tabel 2 B'!J33<0.5),\"-\",IFERROR('Tabel 2 B'!J33/'Tabel 1 B'!G31*100,\"-\"))","v":5.2807750680887011}]
["Jurist",null,{"$f":"IF(OR('Tabel 1 B'!C32<5, 'Tabel 2 B'!C34<0.5),\"-\",IFERROR('Tabel 2 B'!C34/'Tabel 1 B'!C32*100,\"-\"))","v":"-"},{"$f":"IF(OR('Tabel 1 B'!C32<5,'Tabel 2 B'!D34<0.5),\"-\",IFERROR('Tabel 2 B'!D34/'Tabel 1 B'!C32*100,\"-\"))","v":"-"},null,{"$f":"IF(OR('Tabel 1 B'!E32<5, 'Tabel 2 B'!F34<0.5),\"-\",IFERROR('Tabel 2 B'!F34/'Tabel 1 B'!E32*100,\"-\"))","v":"-"},{"$f":"IF(OR('Tabel 1 B'!E32<5,'Tabel 2 B'!G34<0.5),\"-\",IFERROR('Tabel 2 B'!G34/'Tabel 1 B'!E32*100,\"-\"))","v":"-"},null,{"$f":"IF(OR('Tabel 1 B'!G32<5,'Tabel 2 B'!I34<0.5),\"-\",IFERROR('Tabel 2 B'!I34/'Tabel 1 B'!G32*100,\"-\"))","v":"-"},{"$f":"IF(OR('Tabel 1 B'!G32<5,'Tabel 2 B'!J34<0.5),\"-\",IFERROR('Tabel 2 B'!J34/'Tabel 1 B'!G32*100,\"-\"))","v":"-"}]
["Økonom",null,{"$f":"IF(OR('Tabel 1 B'!C33<5, 'Tabel 2 B'!C35<0.5),\"-\",IFERROR('Tabel 2 B'!C35/'Tabel 1 B'!C33*100,\"-\"))","v":"-"},{"$f":"IF(OR('Tabel 1 B'!C33<5,'Tabel 2 B'!D35<0.5),\"-\",IFERROR('Tabel 2 B'!D35/'Tabel 1 B'!C33*100,\"-\"))","v":"-"},null,{"$f":"IF(OR('Tabel 1 B'!E33<5, 'Tabel 2 B'!F35<0.5),\"-\",IFERROR('Tabel 2 B'!F35/'Tabel 1 B'!E33*100,\"-\"))","v":"-"},{"$f":"IF(OR('Tabel 1 B'!E33<5,'Tabel 2 B'!G35<0.5),\"-\",IFERROR('Tabel 2 B'!G35/'Tabel 1 B'!E33*100,\"-\"))","v":"-"},null,{"$f":"IF(OR('Tabel 1 B'!G33<5,'Tabel 2 B'!I35<0.5),\"-\",IFERROR('Tabel 2 B'!I35/'Tabel 1 B'!G33*100,\"-\"))","v":"-"},{"$f":"IF(OR('Tabel 1 B'!G33<5,'Tabel 2 B'!J35<0.5),\"-\",IFERROR('Tabel 2 B'!J35/'Tabel 1 B'!G33*100,\"-\"))","v":"-"}]
["Samf. Adm.",null,{"$f":"IF(OR('Tabel 1 B'!C34<5, 'Tabel 2 B'!C36<0.5),\"-\",IFERROR('Tabel 2 B'!C36/'Tabel 1 B'!C34*100,\"-\"))","v":8},{"$f":"IF(OR('Tabel 1 B'!C34<5,'Tabel 2 B'!D36<0.5),\"-\",IFERROR('Tabel 2 B'!D36/'Tabel 1 B'!C34*100,\"-\"))","v":7.9985030873822316},null,{"$f":"IF(OR('Tabel 1 B'!E34<5, 'Tabel 2 B'!F36<0.5),\"-\",IFERROR('Tabel 2 B'!F36/'Tabel 1 B'!E34*100,\"-\"))","v":3.7037037037037033},{"$f":"IF(OR('Tabel 1 B'!E34<5,'Tabel 2 B'!G36<0.5),\"-\",IFERROR('Tabel 2 B'!G36/'Tabel 1 B'!E34*100,\"-\"))","v":3.7030106886026752},null,{"$f":"IF(OR('Tabel 1 B'!G34<5,'Tabel 2 B'!I36<0.5),\"-\",IFERROR('Tabel 2 B'!I36/'Tabel 1 B'!G34*100,\"-\"))","v":5.7692307692307692},{"$f":"IF(OR('Tabel 1 B'!G34<5,'Tabel 2 B'!J36<0.5),\"-\",IFERROR('Tabel 2 B'!J36/'Tabel 1 B'!G34*100,\"-\"))","v":5.7681512649390001}]
["Cand. Merc.",null,{"$f":"IF(OR('Tabel 1 B'!C35<5, 'Tabel 2 B'!C37<0.5),\"-\",IFERROR('Tabel 2 B'!C37/'Tabel 1 B'!C35*100,\"-\"))","v":15.384615384615385},{"$f":"IF(OR('Tabel 1 B'!C35<5,'Tabel 2 B'!D37<0.5),\"-\",IFERROR('Tabel 2 B'!D37/'Tabel 1 B'!C35*100,\"-\"))","v":15.381736706504293},null,{"$f":"IF(OR('Tabel 1 B'!E35<5, 'Tabel 2 B'!F37<0.5),\"-\",IFERROR('Tabel 2 B'!F37/'Tabel 1 B'!E35*100,\"-\"))","v":6.25},{"$f":"IF(OR('Tabel 1 B'!E35<5,'Tabel 2 B'!G37<0.5),\"-\",IFERROR('Tabel 2 B'!G37/'Tabel 1 B'!E35*100,\"-\"))","v":3.753976174141016},null,{"$f":"IF(OR('Tabel 1 B'!G35<5,'Tabel 2 B'!I37<0.5),\"-\",IFERROR('Tabel 2 B'!I37/'Tabel 1 B'!G35*100,\"-\"))","v":10.344827586206897},{"$f":"IF(OR('Tabel 1 B'!G35<5,'Tabel 2 B'!J37<0.5),\"-\",IFERROR('Tabel 2 B'!J37/'Tabel 1 B'!G35*100,\"-\"))","v":8.9664205507176575}]
["HA",null,{"$f":"IF(OR('Tabel 1 B'!C36<5, 'Tabel 2 B'!C38<0.5),\"-\",IFERROR('Tabel 2 B'!C38/'Tabel 1 B'!C36*100,\"-\"))","v":"-"},{"$f":"IF(OR('Tabel 1 B'!C36<5,'Tabel 2 B'!D38<0.5),\"-\",IFERROR('Tabel 2 B'!D38/'Tabel 1 B'!C36*100,\"-\"))","v":"-"},null,{"$f":"IF(OR('Tabel 1 B'!E36<5, 'Tabel 2 B'!F38<0.5),\"-\",IFERROR('Tabel 2 B'!F38/'Tabel 1 B'!E36*100,\"-\"))","v":"-"},{"$f":"IF(OR('Tabel 1 B'!E36<5,'Tabel 2 B'!G38<0.5),\"-\",IFERROR('Tabel 2 B'!G38/'Tabel 1 B'!E36*100,\"-\"))","v":"-"},null,{"$f":"IF(OR('Tabel 1 B'!G36<5,'Tabel 2 B'!I38<0.5),\"-\",IFERROR('Tabel 2 B'!I38/'Tabel 1 B'!G36*100,\"-\"))","v":"-"},{"$f":"IF(OR('Tabel 1 B'!G36<5,'Tabel 2 B'!J38<0.5),\"-\",IFERROR('Tabel 2 B'!J38/'Tabel 1 B'!G36*100,\"-\"))","v":"-"}]
["HD",null,{"$f":"IF(OR('Tabel 1 B'!C37<5, 'Tabel 2 B'!C39<0.5),\"-\",IFERROR('Tabel 2 B'!C39/'Tabel 1 B'!C37*100,\"-\"))","v":"-"},{"$f":"IF(OR('Tabel 1 B'!C37<5,'Tabel 2 B'!D39<0.5),\"-\",IFERROR('Tabel 2 B'!D39/'Tabel 1 B'!C37*100,\"-\"))","v":"-"},null,{"$f":"IF(OR('Tabel 1 B'!E37<5, 'Tabel 2 B'!F39<0.5),\"-\",IFERROR('Tabel 2 B'!F39/'Tabel 1 B'!E37*100,\"-\"))","v":"-"},{"$f":"IF(OR('Tabel 1 B'!E37<5,'Tabel 2 B'!G39<0.5),\"-\",IFERROR('Tabel 2 B'!G39/'Tabel 1 B'!E37*100,\"-\"))","v":"-"},null,{"$f":"IF(OR('Tabel 1 B'!G37<5,'Tabel 2 B'!I39<0.5),\"-\",IFERROR('Tabel 2 B'!I39/'Tabel 1 B'!G37*100,\"-\"))","v":"-"},{"$f":"IF(OR('Tabel 1 B'!G37<5,'Tabel 2 B'!J39<0.5),\"-\",IFERROR('Tabel 2 B'!J39/'Tabel 1 B'!G37*100,\"-\"))","v":"-"}]
["Komm. og Sprog",null,{"$f":"IF(OR('Tabel 1 B'!C38<5, 'Tabel 2 B'!C40<0.5),\"-\",IFERROR('Tabel 2 B'!C40/'Tabel 1 B'!C38*100,\"-\"))","v":"-"},{"$f":"IF(OR('Tabel 1 B'!C38<5,'Tabel 2 B'!D40<0.5),\"-\",IFERROR('Tabel 2 B'!D40/'Tabel 1 B'!C38*100,\"-\"))","v":"-"},null,{"$f":"IF(OR('Tabel 1 B'!E38<5, 'Tabel 2 B'!F40<0.5),\"-\",IFERROR('Tabel 2 B'!F40/'Tabel 1 B'!E38*100,\"-\"))","v":36.363636363636367},{"$f":"IF(OR('Tabel 1 B'!E38<5,'Tabel 2 B'!G40<0.5),\"-\",IFERROR('Tabel 2 B'!G40/'Tabel 1 B'!E38*100,\"-\"))","v":36.356832215374041},null,{"$f":"IF(OR('Tabel 1 B'!G38<5,'Tabel 2 B'!I40<0.5),\"-\",IFERROR('Tabel 2 B'!I40/'Tabel 1 B'!G38*100,\"-\"))","v":26.666666666666668},{"$f":"IF(OR('Tabel 1 B'!G38<5,'Tabel 2 B'!J40<0.5),\"-\",IFERROR('Tabel 2 B'!J40/'Tabel 1 B'!G38*100,\"-\"))","v":26.661676957940966}]
["Bygningskonst.",null,{"$f":"IF(OR('Tabel 1 B'!C39<5, 'Tabel 2 B'!C41<0.5),\"-\",IFERROR('Tabel 2 B'!C41/'Tabel 1 B'!C39*100,\"-\"))","v":"-"},{"$f":"IF(OR('Tabel 1 B'!C39<5,'Tabel 2 B'!D41<0.5),\"-\",IFERROR('Tabel 2 B'!D41/'Tabel 1 B'!C39*100,\"-\"))","v":"-"},null,{"$f":"IF(OR('Tabel 1 B'!E39<5, 'Tabel 2 B'!F41<0.5),\"-\",IFERROR('Tabel 2 B'!F41/'Tabel 1 B'!E39*100,\"-\"))","v":"-"},{"$f":"IF(OR('Tabel 1 B'!E39<5,'Tabel 2 B'!G41<0.5),\"-\",IFERROR('Tabel 2 B'!G41/'Tabel 1 B'!E39*100,\"-\"))","v":"-"},null,{"$f":"IF(OR('Tabel 1 B'!G39<5,'Tabel 2 B'!I41<0.5),\"-\",IFERROR('Tabel 2 B'!I41/'Tabel 1 B'!G39*100,\"-\"))","v":"-"},{"$f":"IF(OR('Tabel 1 B'!G39<5,'Tabel 2 B'!J41<0.5),\"-\",IFERROR('Tabel 2 B'!J41/'Tabel 1 B'!G39*100,\"-\"))","v":"-"}]
["Cand. IT.",null,{"$f":"IF(OR('Tabel 1 B'!C40<5, 'Tabel 2 B'!C42<0.5),\"-\",IFERROR('Tabel 2 B'!C42/'Tabel 1 B'!C40*100,\"-\"))","v":"-"},{"$f":"IF(OR('Tabel 1 B'!C40<5,'Tabel 2 B'!D42<0.5),\"-\",IFERROR('Tabel 2 B'!D42/'Tabel 1 B'!C40*100,\"-\"))","v":"-"},null,{"$f":"IF(OR('Tabel 1 B'!E40<5, 'Tabel 2 B'!F42<0.5),\"-\",IFERROR('Tabel 2 B'!F42/'Tabel 1 B'!E40*100,\"-\"))","v":"-"},{"$f":"IF(OR('Tabel 1 B'!E40<5,'Tabel 2 B'!G42<0.5),\"-\",IFERROR('Tabel 2 B'!G42/'Tabel 1 B'!E40*100,\"-\"))","v":"-"},null,{"$f":"IF(OR('Tabel 1 B'!G40<5,'Tabel 2 B'!I42<0.5),\"-\",IFERROR('Tabel 2 B'!I42/'Tabel 1 B'!G40*100,\"-\"))","v":"-"},{"$f":"IF(OR('Tabel 1 B'!G40<5,'Tabel 2 B'!J42<0.5),\"-\",IFERROR('Tabel 2 B'!J42/'Tabel 1 B'!G40*100,\"-\"))","v":"-"}]
["Bac. Samf.",null,{"$f":"IF(OR('Tabel 1 B'!C41<5, 'Tabel 2 B'!C43<0.5),\"-\",IFERROR('Tabel 2 B'!C43/'Tabel 1 B'!C41*100,\"-\"))","v":"-"},{"$f":"IF(OR('Tabel 1 B'!C41<5,'Tabel 2 B'!D43<0.5),\"-\",IFERROR('Tabel 2 B'!D43/'Tabel 1 B'!C41*100,\"-\"))","v":"-"},null,{"$f":"IF(OR('Tabel 1 B'!E41<5, 'Tabel 2 B'!F43<0.5),\"-\",IFERROR('Tabel 2 B'!F43/'Tabel 1 B'!E41*100,\"-\"))","v":"-"},{"$f":"IF(OR('Tabel 1 B'!E41<5,'Tabel 2 B'!G43<0.5),\"-\",IFERROR('Tabel 2 B'!G43/'Tabel 1 B'!E41*100,\"-\"))","v":"-"},null,{"$f":"IF(OR('Tabel 1 B'!G41<5,'Tabel 2 B'!I43<0.5),\"-\",IFERROR('Tabel 2 B'!I43/'Tabel 1 B'!G41*100,\"-\"))","v":"-"},{"$f":"IF(OR('Tabel 1 B'!G41<5,'Tabel 2 B'!J43<0.5),\"-\",IFERROR('Tabel 2 B'!J43/'Tabel 1 B'!G41*100,\"-\"))","v":"-"}]
["Bac. Hum.",null,{"$f":"IF(OR('Tabel 1 B'!C42<5, 'Tabel 2 B'!C44<0.5),\"-\",IFERROR('Tabel 2 B'!C44/'Tabel 1 B'!C42*100,\"-\"))","v":25},{"$f":"IF(OR('Tabel 1 B'!C42<5,'Tabel 2 B'!D44<0.5),\"-\",IFERROR('Tabel 2 B'!D44/'Tabel 1 B'!C42*100,\"-\"))","v":24.995322148069476},null,{"$f":"IF(OR('Tabel 1 B'!E42<5, 'Tabel 2 B'!F44<0.5),\"-\",IFERROR('Tabel 2 B'!F44/'Tabel 1 B'!E42*100,\"-\"))","v":"-"},{"$f":"IF(OR('Tabel 1 B'!E42<5,'Tabel 2 B'!G44<0.5),\"-\",IFERROR('Tabel 2 B'!G44/'Tabel 1 B'!E42*100,\"-\"))","v":"-"},null,{"$f":"IF(OR('Tabel 1 B'!G42<5,'Tabel 2 B'!I44<0.5),\"-\",IFERROR('Tabel 2 B'!I44/'Tabel 1 B'!G42*100,\"-\"))","v":15.384615384615385},{"$f":"IF(OR('Tabel 1 B'!G42<5,'Tabel 2 B'!J44<0.5),\"-\",IFERROR('Tabel 2 B'!J44/'Tabel 1 B'!G42*100,\"-\"))","v":15.381736706504293}]
["Bac. Nat.",null,{"$f":"IF(OR('Tabel 1 B'!C43<5, 'Tabel 2 B'!C45<0.5),\"-\",IFERROR('Tabel 2 B'!C45/'Tabel 1 B'!C43*100,\"-\"))","v":"-"},{"$f":"IF(OR('Tabel 1 B'!C43<5,'Tabel 2 B'!D45<0.5),\"-\",IFERROR('Tabel 2 B'!D45/'Tabel 1 B'!C43*100,\"-\"))","v":"-"},null,{"$f":"IF(OR('Tabel 1 B'!E43<5, 'Tabel 2 B'!F45<0.5),\"-\",IFERROR('Tabel 2 B'!F45/'Tabel 1 B'!E43*100,\"-\"))","v":14.285714285714285},{"$f":"IF(OR('Tabel 1 B'!E43<5,'Tabel 2 B'!G45<0.5),\"-\",IFERROR('Tabel 2 B'!G45/'Tabel 1 B'!E43*100,\"-\"))","v":14.193939285937063},null,{"$f":"IF(OR('Tabel 1 B'!G43<5,'Tabel 2 B'!I45<0.5),\"-\",IFERROR('Tabel 2 B'!I45/'Tabel 1 B'!G43*100,\"-\"))","v":20},{"$f":"IF(OR('Tabel 1 B'!G43<5,'Tabel 2 B'!J45<0.5),\"-\",IFERROR('Tabel 2 B'!J45/'Tabel 1 B'!G43*100,\"-\"))","v":19.933886359383806}]
["Andre",null,{"$f":"IF(OR('Tabel 1 B'!C44<5, 'Tabel 2 B'!C46<0.5),\"-\",IFERROR('Tabel 2 B'!C46/'Tabel 1 B'!C44*100,\"-\"))","v":7.8125},{"$f":"IF(OR('Tabel 1 B'!C44<5,'Tabel 2 B'!D46<0.5),\"-\",IFERROR('Tabel 2 B'!D46/'Tabel 1 B'!C44*100,\"-\"))","v":7.4407082267821778},null,{"$f":"IF(OR('Tabel 1 B'!E44<5, 'Tabel 2 B'!F46<0.5),\"-\",IFERROR('Tabel 2 B'!F46/'Tabel 1 B'!E44*100,\"-\"))","v":13.953488372093023},{"$f":"IF(OR('Tabel 1 B'!E44<5,'Tabel 2 B'!G46<0.5),\"-\",IFERROR('Tabel 2 B'!G46/'Tabel 1 B'!E44*100,\"-\"))","v":12.620771983365611},null,{"$f":"IF(OR('Tabel 1 B'!G44<5,'Tabel 2 B'!I46<0.5),\"-\",IFERROR('Tabel 2 B'!I46/'Tabel 1 B'!G44*100,\"-\"))","v":10.2803738317757},{"$f":"IF(OR('Tabel 1 B'!G44<5,'Tabel 2 B'!J46<0.5),\"-\",IFERROR('Tabel 2 B'!J46/'Tabel 1 B'!G44*100,\"-\"))","v":9.522416091577389}]
[]
["Total",null,{"$f":"IF(OR('Tabel 1 B'!C46<5, 'Tabel 2 B'!C48<0.5),\"-\",IFERROR('Tabel 2 B'!C48/'Tabel 1 B'!C46*100,\"-\"))","v":8.1534772182254205},{"$f":"IF(OR('Tabel 1 B'!C46<5,'Tabel 2 B'!D48<0.5),\"-\",IFERROR('Tabel 2 B'!D48/'Tabel 1 B'!C46*100,\"-\"))","v":7.5192637008711118},null,{"$f":"IF(OR('Tabel 1 B'!E46<5, 'Tabel 2 B'!F48<0.5),\"-\",IFERROR('Tabel 2 B'!F48/'Tabel 1 B'!E46*100,\"-\"))","v":10.831234256926953},{"$f":"IF(OR('Tabel 1 B'!E46<5,'Tabel 2 B'!G48<0.5),\"-\",IFERROR('Tabel 2 B'!G48/'Tabel 1 B'!E46*100,\"-\"))","v":9.2931753950172702},null,{"$f":"IF(OR('Tabel 1 B'!G46<5,'Tabel 2 B'!I48<0.5),\"-\",IFERROR('Tabel 2 B'!I48/'Tabel 1 B'!G46*100,\"-\"))","v":9.4594594594594597},{"$f":"IF(OR('Tabel 1 B'!G46<5,'Tabel 2 B'!J48<0.5),\"-\",IFERROR('Tabel 2 B'!J48/'Tabel 1 B'!G46*100,\"-\"))","v":8.3844270209890777}]
[]
["Ingeniører i alt",null,{"$f":"IF(OR('Tabel 1 B'!C48<5, 'Tabel 2 B'!C50<0.5),\"-\",IFERROR('Tabel 2 B'!C50/'Tabel 1 B'!C48*100,\"-\"))","v":4.7619047619047619},{"$f":"IF(OR('Tabel 1 B'!C48<5,'Tabel 2 B'!D50<0.5),\"-\",IFERROR('Tabel 2 B'!D50/'Tabel 1 B'!C48*100,\"-\"))","v":4.4194562999527651},null,{"$f":"IF(OR('Tabel 1 B'!E48<5, 'Tabel 2 B'!F50<0.5),\"-\",IFERROR('Tabel 2 B'!F50/'Tabel 1 B'!E48*100,\"-\"))","v":15.384615384615385},{"$f":"IF(OR('Tabel 1 B'!E48<5,'Tabel 2 B'!G50<0.5),\"-\",IFERROR('Tabel 2 B'!G50/'Tabel 1 B'!E48*100,\"-\"))","v":15.381736706504348},null,{"$f":"IF(OR('Tabel 1 B'!G48<5,'Tabel 2 B'!I50<0.5),\"-\",IFERROR('Tabel 2 B'!I50/'Tabel 1 B'!G48*100,\"-\"))","v":6.1855670103092786},{"$f":"IF(OR('Tabel 1 B'!G48<5,'Tabel 2 B'!J50<0.5),\"-\",IFERROR('Tabel 2 B'!J50/'Tabel 1 B'!G48*100,\"-\"))","v":5.8886279008308122}]
["Magistre i alt",null,{"$f":"IF(OR('Tabel 1 B'!C49<5, 'Tabel 2 B'!C51<0.5),\"-\",IFERROR('Tabel 2 B'!C51/'Tabel 1 B'!C49*100,\"-\"))","v":17.283950617283949},{"$f":"IF(OR('Tabel 1 B'!C49<5,'Tabel 2 B'!D51<0.5),\"-\",IFERROR('Tabel 2 B'!D51/'Tabel 1 B'!C49*100,\"-\"))","v":15.753003257940925},null,{"$f":"IF(OR('Tabel 1 B'!E49<5, 'Tabel 2 B'!F51<0.5),\"-\",IFERROR('Tabel 2 B'!F51/'Tabel 1 B'!E49*100,\"-\"))","v":14.728682170542637},{"$f":"IF(OR('Tabel 1 B'!E49<5,'Tabel 2 B'!G51<0.5),\"-\",IFERROR('Tabel 2 B'!G51/'Tabel 1 B'!E49*100,\"-\"))","v":12.348078599516406},null,{"$f":"IF(OR('Tabel 1 B'!G49<5,'Tabel 2 B'!I51<0.5),\"-\",IFERROR('Tabel 2 B'!I51/'Tabel 1 B'!G49*100,\"-\"))","v":15.714285714285714},{"$f":"IF(OR('Tabel 1 B'!G49<5,'Tabel 2 B'!J51<0.5),\"-\",IFERROR('Tabel 2 B'!J51/'Tabel 1 B'!G49*100,\"-\"))","v":13.661406682051577}]
["DJØF'ere i alt",null,{"$f":"IF(OR('Tabel 1 B'!C50<5, 'Tabel 2 B'!C52<0.5),\"-\",IFERROR('Tabel 2 B'!C52/'Tabel 1 B'!C50*100,\"-\"))","v":6.557377049180328},{"$f":"IF(OR('Tabel 1 B'!C50<5,'Tabel 2 B'!D52<0.5),\"-\",IFERROR('Tabel 2 B'!D52/'Tabel 1 B'!C50*100,\"-\"))","v":6.5561500716247805},null,{"$f":"IF(OR('Tabel 1 B'!E50<5, 'Tabel 2 B'!F52<0.5),\"-\",IFERROR('Tabel 2 B'!F52/'Tabel 1 B'!E50*100,\"-\"))","v":2.7397260273972601},{"$f":"IF(OR('Tabel 1 B'!E50<5,'Tabel 2 B'!G52<0.5),\"-\",IFERROR('Tabel 2 B'!G52/'Tabel 1 B'!E50*100,\"-\"))","v":2.1923959914866913},null,{"$f":"IF(OR('Tabel 1 B'!G50<5,'Tabel 2 B'!I52<0.5),\"-\",IFERROR('Tabel 2 B'!I52/'Tabel 1 B'!G50*100,\"-\"))","v":4.4776119402985071},{"$f":"IF(OR('Tabel 1 B'!G50<5,'Tabel 2 B'!J52<0.5),\"-\",IFERROR('Tabel 2 B'!J52/'Tabel 1 B'!G50*100,\"-\"))","v":4.1788810578182094}]
[]
[]
[]
[]
["Bornholm"]
[]
[null,null,"Mænd",null,null,"Kvinder",null,null,"I alt"]
[null,null,"Ledigheds-\nberørte","Gns.\nbrutto-\nledighed",null,"Ledigheds-\nberørte","Gns.\nbrutto-\nledighed",null,"Ledigheds-\nberørte","Gns.\nbrutto-\nledighed"]
[]
[]
["Civ. ing.",null,{"$f":"IF(OR('Tabel 1 B'!C61<5, 'Tabel 2 B'!C63<0.5),\"-\",IFERROR('Tabel 2 B'!C63/'Tabel 1 B'!C61*100,\"-\"))","v":6.8965517241379306},{"$f":"IF(OR('Tabel 1 B'!C61<5,'Tabel 2 B'!D63<0.5),\"-\",IFERROR('Tabel 2 B'!D63/'Tabel 1 B'!C61*100,\"-\"))","v":6.8952612822260981},null,{"$f":"IF(OR('Tabel 1 B'!E61<5, 'Tabel 2 B'!F63<0.5),\"-\",IFERROR('Tabel 2 B'!F63/'Tabel 1 B'!E61*100,\"-\"))","v":20},{"$f":"IF(OR('Tabel 1 B'!E61<5,'Tabel 2 B'!G63<0.5),\"-\",IFERROR('Tabel 2 B'!G63/'Tabel 1 B'!E61*100,\"-\"))","v":19.996257718455684},null,{"$f":"IF(OR('Tabel 1 B'!G61<5,'Tabel 2 B'!I63<0.5),\"-\",IFERROR('Tabel 2 B'!I63/'Tabel 1 B'!G61*100,\"-\"))","v":8.8235294117647065},{"$f":"IF(OR('Tabel 1 B'!G61<5,'Tabel 2 B'!J63<0.5),\"-\",IFERROR('Tabel 2 B'!J63/'Tabel 1 B'!G61*100,\"-\"))","v":8.8218784052010371}]
["Diplom ing.",null,{"$f":"IF(OR('Tabel 1 B'!C62<5, 'Tabel 2 B'!C64<0.5),\"-\",IFERROR('Tabel 2 B'!C64/'Tabel 1 B'!C62*100,\"-\"))","v":3.6363636363636362},{"$f":"IF(OR('Tabel 1 B'!C62<5,'Tabel 2 B'!D64<0.5),\"-\",IFERROR('Tabel 2 B'!D64/'Tabel 1 B'!C62*100,\"-\"))","v":3.1140318547541153},null,{"$f":"IF(OR('Tabel 1 B'!E62<5, 'Tabel 2 B'!F64<0.5),\"-\",IFERROR('Tabel 2 B'!F64/'Tabel 1 B'!E62*100,\"-\"))","v":12.5},{"$f":"IF(OR('Tabel 1 B'!E62<5,'Tabel 2 B'!G64<0.5),\"-\",IFERROR('Tabel 2 B'!G64/'Tabel 1 B'!E62*100,\"-\"))","v":12.497661074034804},null,{"$f":"IF(OR('Tabel 1 B'!G62<5,'Tabel 2 B'!I64<0.5),\"-\",IFERROR('Tabel 2 B'!I64/'Tabel 1 B'!G62*100,\"-\"))","v":4.7619047619047619},{"$f":"IF(OR('Tabel 1 B'!G62<5,'Tabel 2 B'!J64<0.5),\"-\",IFERROR('Tabel 2 B'!J64/'Tabel 1 B'!G62*100,\"-\"))","v":4.3056038191072181}]
["Cand. Scient. Tek.",null,{"$f":"IF(OR('Tabel 1 B'!C63<5, 'Tabel 2 B'!C65<0.5),\"-\",IFERROR('Tabel 2 B'!C65/'Tabel 1 B'!C63*100,\"-\"))","v":20},{"$f":"IF(OR('Tabel 1 B'!C63<5,'Tabel 2 B'!D65<0.5),\"-\",IFERROR('Tabel 2 B'!D65/'Tabel 1 B'!C63*100,\"-\"))","v":17.226969375662694},null,{"$f":"IF(OR('Tabel 1 B'!E63<5, 'Tabel 2 B'!F65<0.5),\"-\",IFERROR('Tabel 2 B'!F65/'Tabel 1 B'!E63*100,\"-\"))","v":21.428571428571427},{"$f":"IF(OR('Tabel 1 B'!E63<5,'Tabel 2 B'!G65<0.5),\"-\",IFERROR('Tabel 2 B'!G65/'Tabel 1 B'!E63*100,\"-\"))","v":14.670634673129527},null,{"$f":"IF(OR('Tabel 1 B'!G63<5,'Tabel 2 B'!I65<0.5),\"-\",IFERROR('Tabel 2 B'!I65/'Tabel 1 B'!G63*100,\"-\"))","v":20.689655172413794},{"$f":"IF(OR('Tabel 1 B'!G63<5,'Tabel 2 B'!J65<0.5),\"-\",IFERROR('Tabel 2 B'!J65/'Tabel 1 B'!G63*100,\"-\"))","v":15.992876760646684}]
["MA. Hum.",null,{"$f":"IF(OR('Tabel 1 B'!C64<5, 'Tabel 2 B'!C66<0.5),\"-\",IFERROR('Tabel 2 B'!C66/'Tabel 1 B'!C64*100,\"-\"))","v":17.073170731707318},{"$f":"IF(OR('Tabel 1 B'!C64<5,'Tabel 2 B'!D66<0.5),\"-\",IFERROR('Tabel 2 B'!D66/'Tabel 1 B'!C64*100,\"-\"))","v":14.276956216827186},null,{"$f":"IF(OR('Tabel 1 B'!E64<5, 'Tabel 2 B'!F66<0.5),\"-\",IFERROR('Tabel 2 B'!F66/'Tabel 1 B'!E64*100,\"-\"))","v":18.072289156626507},{"$f":"IF(OR('Tabel 1 B'!E64<5,'Tabel 2 B'!G66<0.5),\"-\",IFERROR('Tabel 2 B'!G66/'Tabel 1 B'!E64*100,\"-\"))","v":14.373216686367499},null,{"$f":"IF(OR('Tabel 1 B'!G64<5,'Tabel 2 B'!I66<0.5),\"-\",IFERROR('Tabel 2 B'!I66/'Tabel 1 B'!G64*100,\"-\"))","v":17.741935483870968},{"$f":"IF(OR('Tabel 1 B'!G64<5,'Tabel 2 B'!J66<0.5),\"-\",IFERROR('Tabel 2 B'!J66/'Tabel 1 B'!G64*100,\"-\"))","v":14.341388627890458}]
["MA. Nat.",null,{"$f":"IF(OR('Tabel 1 B'!C65<5, 'Tabel 2 B'!C67<0.5),\"-\",IFERROR('Tabel 2 B'!C67/'Tabel 1 B'!C65*100,\"-\"))","v":12},{"$f":"IF(OR('Tabel 1 B'!C65<5,'Tabel 2 B'!D67<0.5),\"-\",IFERROR('Tabel 2 B'!D67/'Tabel 1 B'!C65*100,\"-\"))","v":11.997754631073411},null,{"$f":"IF(OR('Tabel 1 B'!E65<5, 'Tabel 2 B'!F67<0.5),\"-\",IFERROR('Tabel 2 B'!F67/'Tabel 1 B'!E65*100,\"-\"))","v":"-"},{"$f":"IF(OR('Tabel 1 B'!E65<5,'Tabel 2 B'!G67<0.5),\"-\",IFERROR('Tabel 2 B'!G67/'Tabel 1 B'!E65*100,\"-\"))","v":"-"},null,{"$f":"IF(OR('Tabel 1 B'!G65<5,'Tabel 2 B'!I67<0.5),\"-\",IFERROR('Tabel 2 B'!I67/'Tabel 1 B'!G65*100,\"-\"))","v":6.5217391304347823},{"$f":"IF(OR('Tabel 1 B'!G65<5,'Tabel 2 B'!J67<0.5),\"-\",IFERROR('Tabel 2 B'!J67/'Tabel 1 B'!G65*100,\"-\"))","v":6.5205188212355489}]
["MA. Ph.d.",null,{"$f":"IF(OR('Tabel 1 B'!C66<5, 'Tabel 2 B'!C68<0.5),\"-\",IFERROR('Tabel 2 B'!C68/'Tabel 1 B'!C66*100,\"-\"))","v":"-"},{"$f":"IF(OR('Tabel 1 B'!C66<5,'Tabel 2 B'!D68<0.5),\"-\",IFERROR('Tabel 2 B'!D68/'Tabel 1 B'!C66*100,\"-\"))","v":"-"},null,{"$f":"IF(OR('Tabel 1 B'!E66<5, 'Tabel 2 B'!F68<0.5),\"-\",IFERROR('Tabel 2 B'!F68/'Tabel 1 B'!E66*100,\"-\"))","v":"-"},{"$f":"IF(OR('Tabel 1 B'!E66<5,'Tabel 2 B'!G68<0.5),\"-\",IFERROR('Tabel 2 B'!G68/'Tabel 1 B'!E66*100,\"-\"))","v":"-"},null,{"$f":"IF(OR('Tabel 1 B'!G66<5,'Tabel 2 B'!I68<0.5),\"-\",IFERROR('Tabel 2 B'!I68/'Tabel 1 B'!G66*100,\"-\"))","v":14.285714285714285},{"$f":"IF(OR('Tabel 1 B'!G66<5,'Tabel 2 B'!J68<0.5),\"-\",IFERROR('Tabel 2 B'!J68/'Tabel 1 B'!G66*100,\"-\"))","v":14.283041227468345}]
["MA. Samf.",null,{"$f":"IF(OR('Tabel 1 B'!C67<5, 'Tabel 2 B'!C69<0.5),\"-\",IFERROR('Tabel 2 B'!C69/'Tabel 1 B'!C67*100,\"-\"))","v":"-"},{"$f":"IF(OR('Tabel 1 B'!C67<5,'Tabel 2 B'!D69<0.5),\"-\",IFERROR('Tabel 2 B'!D69/'Tabel 1 B'!C67*100,\"-\"))","v":"-"},null,{"$f":"IF(OR('Tabel 1 B'!E67<5, 'Tabel 2 B'!F69<0.5),\"-\",IFERROR('Tabel 2 B'!F69/'Tabel 1 B'!E67*100,\"-\"))","v":"-"},{"$f":"IF(OR('Tabel 1 B'!E67<5,'Tabel 2 B'!G69<0.5),\"-\",IFERROR('Tabel 2 B'!G69/'Tabel 1 B'!E67*100,\"-\"))","v":"-"},null,{"$f":"IF(OR('Tabel 1 B'!G67<5,'Tabel 2 B'!I69<0.5),\"-\",IFERROR('Tabel 2 B'!I69/'Tabel 1 B'!G67*100,\"-\"))","v":12.5},{"$f":"IF(OR('Tabel 1 B'!G67<5,'Tabel 2 B'!J69<0.5),\"-\",IFERROR('Tabel 2 B'!J69/'Tabel 1 B'!G67*100,\"-\"))","v":12.497661074034804}]
["Øvrige Mag.",null,{"$f":"IF(OR('Tabel 1 B'!C68<5, 'Tabel 2 B'!C70<0.5),\"-\",IFERROR('Tabel 2 B'!C70/'Tabel 1 B'!C68*100,\"-\"))","v":28.571428571428569},{"$f":"IF(OR('Tabel 1 B'!C68<5,'Tabel 2 B'!D70<0.5),\"-\",IFERROR('Tabel 2 B'!D70/'Tabel 1 B'!C68*100,\"-\"))","v":27.247373720273366},null,{"$f":"IF(OR('Tabel 1 B'!E68<5, 'Tabel 2 B'!F70<0.5),\"-\",IFERROR('Tabel 2 B'!F70/'Tabel 1 B'!E68*100,\"-\"))","v":30},{"$f":"IF(OR('Tabel 1 B'!E68<5,'Tabel 2 B'!G70<0.5),\"-\",IFERROR('Tabel 2 B'!G70/'Tabel 1 B'!E68*100,\"-\"))","v":29.994386577683528},null,{"$f":"IF(OR('Tabel 1 B'!G68<5,'Tabel 2 B'!I70<0.5),\"-\",IFERROR('Tabel 2 B'!I70/'Tabel 1 B'!G68*100,\"-\"))","v":29.411764705882355},{"$f":"IF(OR('Tabel 1 B'!G68<5,'Tabel 2 B'!J70<0.5),\"-\",IFERROR('Tabel 2 B'!J70/'Tabel 1 B'!G68*100,\"-\"))","v":28.86326363639699}]
["Agronom",null,{"$f":"IF(OR('Tabel 1 B'!C69<5, 'Tabel 2 B'!C71<0.5),\"-\",IFERROR('Tabel 2 B'!C71/'Tabel 1 B'!C69*100,\"-\"))","v":"-"},{"$f":"IF(OR('Tabel 1 B'!C69<5,'Tabel 2 B'!D71<0.5),\"-\",IFERROR('Tabel 2 B'!D71/'Tabel 1 B'!C69*100,\"-\"))","v":"-"},null,{"$f":"IF(OR('Tabel 1 B'!E69<5, 'Tabel 2 B'!F71<0.5),\"-\",IFERROR('Tabel 2 B'!F71/'Tabel 1 B'!E69*100,\"-\"))","v":"-"},{"$f":"IF(OR('Tabel 1 B'!E69<5,'Tabel 2 B'!G71<0.5),\"-\",IFERROR('Tabel 2 B'!G71/'Tabel 1 B'!E69*100,\"-\"))","v":"-"},null,{"$f":"IF(OR('Tabel 1 B'!G69<5,'Tabel 2 B'!I71<0.5),\"-\",IFERROR('Tabel 2 B'!I71/'Tabel 1 B'!G69*100,\"-\"))","v":"-"},{"$f":"IF(OR('Tabel 1 B'!G69<5,'Tabel 2 B'!J71<0.5),\"-\",IFERROR('Tabel 2 B'!J71/'Tabel 1 B'!G69*100,\"-\"))","v":"-"}]
["Landsk. Arkt.",null,{"$f":"IF(OR('Tabel 1 B'!C70<5, 'Tabel 2 B'!C72<0.5),\"-\",IFERROR('Tabel 2 B'!C72/'Tabel 1 B'!C70*100,\"-\"))","v":"-"},{"$f":"IF(OR('Tabel 1 B'!C70<5,'Tabel 2 B'!D72<0.5),\"-\",IFERROR('Tabel 2 B'!D72/'Tabel 1 B'!C70*100,\"-\"))","v":"-"},null,{"$f":"IF(OR('Tabel 1 B'!E70<5, 'Tabel 2 B'!F72<0.5),\"-\",IFERROR('Tabel 2 B'!F72/'Tabel 1 B'!E70*100,\"-\"))","v":"-"},{"$f":"IF(OR('Tabel 1 B'!E70<5,'Tabel 2 B'!G72<0.5),\"-\",IFERROR('Tabel 2 B'!G72/'Tabel 1 B'!E70*100,\"-\"))","v":"-"},null,{"$f":"IF(OR('Tabel 1 B'!G70<5,'Tabel 2 B'!I72<0.5),\"-\",IFERROR('Tabel 2 B'!I72/'Tabel 1 B'!G70*100,\"-\"))","v":"-"},{"$f":"IF(OR('Tabel 1 B'!G70<5,'Tabel 2 B'!J72<0.5),\"-\",IFERROR('Tabel 2 B'!J72/'Tabel 1 B'!G70*100,\"-\"))","v":"-"}]
["Hortonom",null,{"$f":"IF(OR('Tabel 1 B'!C71<5, 'Tabel 2 B'!C73<0.5),\"-\",IFERROR('Tabel 2 B'!C73/'Tabel 1 B'!C71*100,\"-\"))","v":"-"},{"$f":"IF(OR('Tabel 1 B'!C71<5,'Tabel 2 B'!D73<0.5),\"-\",IFERROR('Tabel 2 B'!D73/'Tabel 1 B'!C71*100,\"-\"))","v":"-"},null,{"$f":"IF(OR('Tabel 1 B'!E71<5, 'Tabel 2 B'!F73<0.5),\"-\",IFERROR('Tabel 2 B'!F73/'Tabel 1 B'!E71*100,\"-\"))","v":"-"},{"$f":"IF(OR('Tabel 1 B'!E71<5,'Tabel 2 B'!G73<0.5),\"-\",IFERROR('Tabel 2 B'!G73/'Tabel 1 B'!E71*100,\"-\"))","v":"-"},null,{"$f":"IF(OR('Tabel 1 B'!G71<5,'Tabel 2 B'!I73<0.5),\"-\",IFERROR('Tabel 2 B'!I73/'Tabel 1 B'!G71*100,\"-\"))","v":"-"},{"$f":"IF(OR('Tabel 1 B'!G71<5,'Tabel 2 B'!J73<0.5),\"-\",IFERROR('Tabel 2 B'!J73/'Tabel 1 B'!G71*100,\"-\"))","v":"-"}]
["Forstkand.",null,{"$f":"IF(OR('Tabel 1 B'!C72<5, 'Tabel 2 B'!C74<0.5),\"-\",IFERROR('Tabel 2 B'!C74/'Tabel 1 B'!C72*100,\"-\"))","v":"-"},{"$f":"IF(OR('Tabel 1 B'!C72<5,'Tabel 2 B'!D74<0.5),\"-\",IFERROR('Tabel 2 B'!D74/'Tabel 1 B'!C72*100,\"-\"))","v":"-"},null,{"$f":"IF(OR('Tabel 1 B'!E72<5, 'Tabel 2 B'!F74<0.5),\"-\",IFERROR('Tabel 2 B'!F74/'Tabel 1 B'!E72*100,\"-\"))","v":"-"},{"$f":"IF(OR('Tabel 1 B'!E72<5,'Tabel 2 B'!G74<0.5),\"-\",IFERROR('Tabel 2 B'!G74/'Tabel 1 B'!E72*100,\"-\"))","v":"-"},null,{"$f":"IF(OR('Tabel 1 B'!G72<5,'Tabel 2 B'!I74<0.5),\"-\",IFERROR('Tabel 2 B'!I74/'Tabel 1 B'!G72*100,\"-\"))","v":"-"},{"$f":"IF(OR('Tabel 1 B'!G72<5,'Tabel 2 B'!J74<0.5),\"-\",IFERROR('Tabel 2 B'!J74/'Tabel 1 B'!G72*100,\"-\"))","v":"-"}]
["Jordbrugsakad.",null,{"$f":"IF(OR('Tabel 1 B'!C73<5, 'Tabel 2 B'!C75<0.5),\"-\",IFERROR('Tabel 2 B'!C75/'Tabel 1 B'!C73*100,\"-\"))","v":"-"},{"$f":"IF(OR('Tabel 1 B'!C73<5,'Tabel 2 B'!D75<0.5),\"-\",IFERROR('Tabel 2 B'!D75/'Tabel 1 B'!C73*100,\"-\"))","v":"-"},null,{"$f":"IF(OR('Tabel 1 B'!E73<5, 'Tabel 2 B'!F75<0.5),\"-\",IFERROR('Tabel 2 B'!F75/'Tabel 1 B'!E73*100,\"-\"))","v":"-"},{"$f":"IF(OR('Tabel 1 B'!E73<5,'Tabel 2 B'!G75<0.5),\"-\",IFERROR('Tabel 2 B'!G75/'Tabel 1 B'!E73*100,\"-\"))","v":"-"},null,{"$f":"IF(OR('Tabel 1 B'!G73<5,'Tabel 2 B'!I75<0.5),\"-\",IFERROR('Tabel 2 B'!I75/'Tabel 1 B'!G73*100,\"-\"))","v":"-"},{"$f":"IF(OR('Tabel 1 B'!G73<5,'Tabel 2 B'!J75<0.5),\"-\",IFERROR('Tabel 2 B'!J75/'Tabel 1 B'!G73*100,\"-\"))","v":"-"}]
["Mejeriing.",null,{"$f":"IF(OR('Tabel 1 B'!C74<5, 'Tabel 2 B'!C76<0.5),\"-\",IFERROR('Tabel 2 B'!C76/'Tabel 1 B'!C74*100,\"-\"))","v":"-"},{"$f":"IF(OR('Tabel 1 B'!C74<5,'Tabel 2 B'!D76<0.5),\"-\",IFERROR('Tabel 2 B'!D76/'Tabel 1 B'!C74*100,\"-\"))","v":"-"},null,{"$f":"IF(OR('Tabel 1 B'!E74<5, 'Tabel 2 B'!F76<0.5),\"-\",IFERROR('Tabel 2 B'!F76/'Tabel 1 B'!E74*100,\"-\"))","v":"-"},{"$f":"IF(OR('Tabel 1 B'!E74<5,'Tabel 2 B'!G76<0.5),\"-\",IFERROR('Tabel 2 B'!G76/'Tabel 1 B'!E74*100,\"-\"))","v":"-"},null,{"$f":"IF(OR('Tabel 1 B'!G74<5,'Tabel 2 B'!I76<0.5),\"-\",IFERROR('Tabel 2 B'!I76/'Tabel 1 B'!G74*100,\"-\"))","v":"-"},{"$f":"IF(OR('Tabel 1 B'!G74<5,'Tabel 2 B'!J76<0.5),\"-\",IFERROR('Tabel 2 B'!J76/'Tabel 1 B'!G74*100,\"-\"))","v":"-"}]
["Levn.m.kand.",null,{"$f":"IF(OR('Tabel 1 B'!C75<5, 'Tabel 2 B'!C77<0.5),\"-\",IFERROR('Tabel 2 B'!C77/'Tabel 1 B'!C75*100,\"-\"))","v":"-"},{"$f":"IF(OR('Tabel 1 B'!C75<5,'Tabel 2 B'!D77<0.5),\"-\",IFERROR('Tabel 2 B'!D77/'Tabel 1 B'!C75*100,\"-\"))","v":"-"},null,{"$f":"IF(OR('Tabel 1 B'!E75<5, 'Tabel 2 B'!F77<0.5),\"-\",IFERROR('Tabel 2 B'!F77/'Tabel 1 B'!E75*100,\"-\"))","v":"-"},{"$f":"IF(OR('Tabel 1 B'!E75<5,'Tabel 2 B'!G77<0.5),\"-\",IFERROR('Tabel 2 B'!G77/'Tabel 1 B'!E75*100,\"-\"))","v":"-"},null,{"$f":"IF(OR('Tabel 1 B'!G75<5,'Tabel 2 B'!I77<0.5),\"-\",IFERROR('Tabel 2 B'!I77/'Tabel 1 B'!G75*100,\"-\"))","v":"-"},{"$f":"IF(OR('Tabel 1 B'!G75<5,'Tabel 2 B'!J77<0.5),\"-\",IFERROR('Tabel 2 B'!J77/'Tabel 1 B'!G75*100,\"-\"))","v":"-"}]
["Dyrlæge",null,{"$f":"IF(OR('Tabel 1 B'!C76<5, 'Tabel 2 B'!C78<0.5),\"-\",IFERROR('Tabel 2 B'!C78/'Tabel 1 B'!C76*100,\"-\"))","v":"-"},{"$f":"IF(OR('Tabel 1 B'!C76<5,'Tabel 2 B'!D78<0.5),\"-\",IFERROR('Tabel 2 B'!D78/'Tabel 1 B'!C76*100,\"-\"))","v":"-"},null,{"$f":"IF(OR('Tabel 1 B'!E76<5, 'Tabel 2 B'!F78<0.5),\"-\",IFERROR('Tabel 2 B'!F78/'Tabel 1 B'!E76*100,\"-\"))","v":"-"},{"$f":"IF(OR('Tabel 1 B'!E76<5,'Tabel 2 B'!G78<0.5),\"-\",IFERROR('Tabel 2 B'!G78/'Tabel 1 B'!E76*100,\"-\"))","v":"-"},null,{"$f":"IF(OR('Tabel 1 B'!G76<5,'Tabel 2 B'!I78<0.5),\"-\",IFERROR('Tabel 2 B'!I78/'Tabel 1 B'!G76*100,\"-\"))","v":7.1428571428571423},{"$f":"IF(OR('Tabel 1 B'!G76<5,'Tabel 2 B'!J78<0.5),\"-\",IFERROR('Tabel 2 B'!J78/'Tabel 1 B'!G76*100,\"-\"))","v":3.8447487770758522}]
["Farmaceut",null,{"$f":"IF(OR('Tabel 1 B'!C77<5, 'Tabel 2 B'!C79<0.5),\"-\",IFERROR('Tabel 2 B'!C79/'Tabel 1 B'!C77*100,\"-\"))","v":"-"},{"$f":"IF(OR('Tabel 1 B'!C77<5,'Tabel 2 B'!D79<0.5),\"-\",IFERROR('Tabel 2 B'!D79/'Tabel 1 B'!C77*100,\"-\"))","v":"-"},null,{"$f":"IF(OR('Tabel 1 B'!E77<5, 'Tabel 2 B'!F79<0.5),\"-\",IFERROR('Tabel 2 B'!F79/'Tabel 1 B'!E77*100,\"-\"))","v":"-"},{"$f":"IF(OR('Tabel 1 B'!E77<5,'Tabel 2 B'!G79<0.5),\"-\",IFERROR('Tabel 2 B'!G79/'Tabel 1 B'!E77*100,\"-\"))","v":"-"},null,{"$f":"IF(OR('Tabel 1 B'!G77<5,'Tabel 2 B'!I79<0.5),\"-\",IFERROR('Tabel 2 B'!I79/'Tabel 1 B'!G77*100,\"-\"))","v":"-"},{"$f":"IF(OR('Tabel 1 B'!G77<5,'Tabel 2 B'!J79<0.5),\"-\",IFERROR('Tabel 2 B'!J79/'Tabel 1 B'!G77*100,\"-\"))","v":"-"}]
["Læge",null,{"$f":"IF(OR('Tabel 1 B'!C78<5, 'Tabel 2 B'!C80<0.5),\"-\",IFERROR('Tabel 2 B'!C80/'Tabel 1 B'!C78*100,\"-\"))","v":"-"},{"$f":"IF(OR('Tabel 1 B'!C78<5,'Tabel 2 B'!D80<0.5),\"-\",IFERROR('Tabel 2 B'!D80/'Tabel 1 B'!C78*100,\"-\"))","v":"-"},null,{"$f":"IF(OR('Tabel 1 B'!E78<5, 'Tabel 2 B'!F80<0.5),\"-\",IFERROR('Tabel 2 B'!F80/'Tabel 1 B'!E78*100,\"-\"))","v":4.5454545454545459},{"$f":"IF(OR('Tabel 1 B'!E78<5,'Tabel 2 B'!G80<0.5),\"-\",IFERROR('Tabel 2 B'!G80/'Tabel 1 B'!E78*100,\"-\"))","v":"-"},null,{"$f":"IF(OR('Tabel 1 B'!G78<5,'Tabel 2 B'!I80<0.5),\"-\",IFERROR('Tabel 2 B'!I80/'Tabel 1 B'!G78*100,\"-\"))","v":3.125},{"$f":"IF(OR('Tabel 1 B'!G78<5,'Tabel 2 B'!J80<0.5),\"-\",IFERROR('Tabel 2 B'!J80/'Tabel 1 B'!G78*100,\"-\"))","v":"-"}]
["Tandlæge",null,{"$f":"IF(OR('Tabel 1 B'!C79<5, 'Tabel 2 B'!C81<0.5),\"-\",IFERROR('Tabel 2 B'!C81/'Tabel 1 B'!C79*100,\"-\"))","v":"-"},{"$f":"IF(OR('Tabel 1 B'!C79<5,'Tabel 2 B'!D81<0.5),\"-\",IFERROR('Tabel 2 B'!D81/'Tabel 1 B'!C79*100,\"-\"))","v":"-"},null,{"$f":"IF(OR('Tabel 1 B'!E79<5, 'Tabel 2 B'!F81<0.5),\"-\",IFERROR('Tabel 2 B'!F81/'Tabel 1 B'!E79*100,\"-\"))","v":"-"},{"$f":"IF(OR('Tabel 1 B'!E79<5,'Tabel 2 B'!G81<0.5),\"-\",IFERROR('Tabel 2 B'!G81/'Tabel 1 B'!E79*100,\"-\"))","v":"-"},null,{"$f":"IF(OR('Tabel 1 B'!G79<5,'Tabel 2 B'!I81<0.5),\"-\",IFERROR('Tabel 2 B'!I81/'Tabel 1 B'!G79*100,\"-\"))","v":"-"},{"$f":"IF(OR('Tabel 1 B'!G79<5,'Tabel 2 B'!J81<0.5),\"-\",IFERROR('Tabel 2 B'!J81/'Tabel 1 B'!G79*100,\"-\"))","v":"-"}]
["Arkitekt",null,{"$f":"IF(OR('Tabel 1 B'!C80<5, 'Tabel 2 B'!C82<0.5),\"-\",IFERROR('Tabel 2 B'!C82/'Tabel 1 B'!C80*100,\"-\"))","v":"-"},{"$f":"IF(OR('Tabel 1 B'!C80<5,'Tabel 2 B'!D82<0.5),\"-\",IFERROR('Tabel 2 B'!D82/'Tabel 1 B'!C80*100,\"-\"))","v":"-"},null,{"$f":"IF(OR('Tabel 1 B'!E80<5, 'Tabel 2 B'!F82<0.5),\"-\",IFERROR('Tabel 2 B'!F82/'Tabel 1 B'!E80*100,\"-\"))","v":20},{"$f":"IF(OR('Tabel 1 B'!E80<5,'Tabel 2 B'!G82<0.5),\"-\",IFERROR('Tabel 2 B'!G82/'Tabel 1 B'!E80*100,\"-\"))","v":19.996257718455684},null,{"$f":"IF(OR('Tabel 1 B'!G80<5,'Tabel 2 B'!I82<0.5),\"-\",IFERROR('Tabel 2 B'!I82/'Tabel 1 B'!G80*100,\"-\"))","v":7.1428571428571423},{"$f":"IF(OR('Tabel 1 B'!G80<5,'Tabel 2 B'!J82<0.5),\"-\",IFERROR('Tabel 2 B'!J82/'Tabel 1 B'!G80*100,\"-\"))","v":7.1415206137341727}]
["Landinspek.",null,{"$f":"IF(OR('Tabel 1 B'!C81<5, 'Tabel 2 B'!C83<0.5),\"-\",IFERROR('Tabel 2 B'!C83/'Tabel 1 B'!C81*100,\"-\"))","v":"-"},{"$f":"IF(OR('Tabel 1 B'!C81<5,'Tabel 2 B'!D83<0.5),\"-\",IFERROR('Tabel 2 B'!D83/'Tabel 1 B'!C81*100,\"-\"))","v":"-"},null,{"$f":"IF(OR('Tabel 1 B'!E81<5, 'Tabel 2 B'!F83<0.5),\"-\",IFERROR('Tabel 2 B'!F83/'Tabel 1 B'!E81*100,\"-\"))","v":"-"},{"$f":"IF(OR('Tabel 1 B'!E81<5,'Tabel 2 B'!G83<0.5),\"-\",IFERROR('Tabel 2 B'!G83/'Tabel 1 B'!E81*100,\"-\"))","v":"-"},null,{"$f":"IF(OR('Tabel 1 B'!G81<5,'Tabel 2 B'!I83<0.5),\"-\",IFERROR('Tabel 2 B'!I83/'Tabel 1 B'!G81*100,\"-\"))","v":"-"},{"$f":"IF(OR('Tabel 1 B'!G81<5,'Tabel 2 B'!J83<0.5),\"-\",IFERROR('Tabel 2 B'!J83/'Tabel 1 B'!G81*100,\"-\"))","v":"-"}]
["Bibliotekar",null,{"$f":"IF(OR('Tabel 1 B'!C82<5, 'Tabel 2 B'!C84<0.5),\"-\",IFERROR('Tabel 2 B'!C84/'Tabel 1 B'!C82*100,\"-\"))","v":"-"},{"$f":"IF(OR('Tabel 1 B'!C82<5,'Tabel 2 B'!D84<0.5),\"-\",IFERROR('Tabel 2 B'!D84/'Tabel 1 B'!C82*100,\"-\"))","v":"-"},null,{"$f":"IF(OR('Tabel 1 B'!E82<5, 'Tabel 2 B'!F84<0.5),\"-\",IFERROR('Tabel 2 B'!F84/'Tabel 1 B'!E82*100,\"-\"))","v":11.111111111111111},{"$f":"IF(OR('Tabel 1 B'!E82<5,'Tabel 2 B'!G84<0.5),\"-\",IFERROR('Tabel 2 B'!G84/'Tabel 1 B'!E82*100,\"-\"))","v":11.109032065808714},null,{"$f":"IF(OR('Tabel 1 B'!G82<5,'Tabel 2 B'!I84<0.5),\"-\",IFERROR('Tabel 2 B'!I84/'Tabel 1 B'!G82*100,\"-\"))","v":6.666666666666667},{"$f":"IF(OR('Tabel 1 B'!G82<5,'Tabel 2 B'!J84<0.5),\"-\",IFERROR('Tabel 2 B'!J84/'Tabel 1 B'!G82*100,\"-\"))","v":6.665419239485229}]
["Musikudd.",null,{"$f":"IF(OR('Tabel 1 B'!C83<5, 'Tabel 2 B'!C85<0.5),\"-\",IFERROR('Tabel 2 B'!C85/'Tabel 1 B'!C83*100,\"-\"))","v":"-"},{"$f":"IF(OR('Tabel 1 B'!C83<5,'Tabel 2 B'!D85<0.5),\"-\",IFERROR('Tabel 2 B'!D85/'Tabel 1 B'!C83*100,\"-\"))","v":"-"},null,{"$f":"IF(OR('Tabel 1 B'!E83<5, 'Tabel 2 B'!F85<0.5),\"-\",IFERROR('Tabel 2 B'!F85/'Tabel 1 B'!E83*100,\"-\"))","v":"-"},{"$f":"IF(OR('Tabel 1 B'!E83<5,'Tabel 2 B'!G85<0.5),\"-\",IFERROR('Tabel 2 B'!G85/'Tabel 1 B'!E83*100,\"-\"))","v":"-"},null,{"$f":"IF(OR('Tabel 1 B'!G83<5,'Tabel 2 B'!I85<0.5),\"-\",IFERROR('Tabel 2 B'!I85/'Tabel 1 B'!G83*100,\"-\"))","v":"-"},{"$f":"IF(OR('Tabel 1 B'!G83<5,'Tabel 2 B'!J85<0.5),\"-\",IFERROR('Tabel 2 B'!J85/'Tabel 1 B'!G83*100,\"-\"))","v":"-"}]
["Teolog",null,{"$f":"IF(OR('Tabel 1 B'!C84<5, 'Tabel 2 B'!C86<0.5),\"-\",IFERROR('Tabel 2 B'!C86/'Tabel 1 B'!C84*100,\"-\"))","v":"-"},{"$f":"IF(OR('Tabel 1 B'!C84<5,'Tabel 2 B'!D86<0.5),\"-\",IFERROR('Tabel 2 B'!D86/'Tabel 1 B'!C84*100,\"-\"))","v":"-"},null,{"$f":"IF(OR('Tabel 1 B'!E84<5, 'Tabel 2 B'!F86<0.5),\"-\",IFERROR('Tabel 2 B'!F86/'Tabel 1 B'!E84*100,\"-\"))","v":"-"},{"$f":"IF(OR('Tabel 1 B'!E84<5,'Tabel 2 B'!G86<0.5),\"-\",IFERROR('Tabel 2 B'!G86/'Tabel 1 B'!E84*100,\"-\"))","v":"-"},null,{"$f":"IF(OR('Tabel 1 B'!G84<5,'Tabel 2 B'!I86<0.5),\"-\",IFERROR('Tabel 2 B'!I86/'Tabel 1 B'!G84*100,\"-\"))","v":"-"},{"$f":"IF(OR('Tabel 1 B'!G84<5,'Tabel 2 B'!J86<0.5),\"-\",IFERROR('Tabel 2 B'!J86/'Tabel 1 B'!G84*100,\"-\"))","v":"-"}]
["Psykolog",null,{"$f":"IF(OR('Tabel 1 B'!C85<5, 'Tabel 2 B'!C87<0.5),\"-\",IFERROR('Tabel 2 B'!C87/'Tabel 1 B'!C85*100,\"-\"))","v":"-"},{"$f":"IF(OR('Tabel 1 B'!C85<5,'Tabel 2 B'!D87<0.5),\"-\",IFERROR('Tabel 2 B'!D87/'Tabel 1 B'!C85*100,\"-\"))","v":"-"},null,{"$f":"IF(OR('Tabel 1 B'!E85<5, 'Tabel 2 B'!F87<0.5),\"-\",IFERROR('Tabel 2 B'!F87/'Tabel 1 B'!E85*100,\"-\"))","v":8.3333333333333321},{"$f":"IF(OR('Tabel 1 B'!E85<5,'Tabel 2 B'!G87<0.5),\"-\",IFERROR('Tabel 2 B'!G87/'Tabel 1 B'!E85*100,\"-\"))","v":6.6009688351109164},null,{"$f":"IF(OR('Tabel 1 B'!G85<5,'Tabel 2 B'!I87<0.5),\"-\",IFERROR('Tabel 2 B'!I87/'Tabel 1 B'!G85*100,\"-\"))","v":6.666666666666667},{"$f":"IF(OR('Tabel 1 B'!G85<5,'Tabel 2 B'!J87<0.5),\"-\",IFERROR('Tabel 2 B'!J87/'Tabel 1 B'!G85*100,\"-\"))","v":5.280775068088734}]
["Jurist",null,{"$f":"IF(OR('Tabel 1 B'!C86<5, 'Tabel 2 B'!C88<0.5),\"-\",IFERROR('Tabel 2 B'!C88/'Tabel 1 B'!C86*100,\"-\"))","v":"-"},{"$f":"IF(OR('Tabel 1 B'!C86<5,'Tabel 2 B'!D88<0.5),\"-\",IFERROR('Tabel 2 B'!D88/'Tabel 1 B'!C86*100,\"-\"))","v":"-"},null,{"$f":"IF(OR('Tabel 1 B'!E86<5, 'Tabel 2 B'!F88<0.5),\"-\",IFERROR('Tabel 2 B'!F88/'Tabel 1 B'!E86*100,\"-\"))","v":"-"},{"$f":"IF(OR('Tabel 1 B'!E86<5,'Tabel 2 B'!G88<0.5),\"-\",IFERROR('Tabel 2 B'!G88/'Tabel 1 B'!E86*100,\"-\"))","v":"-"},null,{"$f":"IF(OR('Tabel 1 B'!G86<5,'Tabel 2 B'!I88<0.5),\"-\",IFERROR('Tabel 2 B'!I88/'Tabel 1 B'!G86*100,\"-\"))","v":"-"},{"$f":"IF(OR('Tabel 1 B'!G86<5,'Tabel 2 B'!J88<0.5),\"-\",IFERROR('Tabel 2 B'!J88/'Tabel 1 B'!G86*100,\"-\"))","v":"-"}]
["Økonom",null,{"$f":"IF(OR('Tabel 1 B'!C87<5, 'Tabel 2 B'!C89<0.5),\"-\",IFERROR('Tabel 2 B'!C89/'Tabel 1 B'!C87*100,\"-\"))","v":"-"},{"$f":"IF(OR('Tabel 1 B'!C87<5,'Tabel 2 B'!D89<0.5),\"-\",IFERROR('Tabel 2 B'!D89/'Tabel 1 B'!C87*100,\"-\"))","v":"-"},null,{"$f":"IF(OR('Tabel 1 B'!E87<5, 'Tabel 2 B'!F89<0.5),\"-\",IFERROR('Tabel 2 B'!F89/'Tabel 1 B'!E87*100,\"-\"))","v":"-"},{"$f":"IF(OR('Tabel 1 B'!E87<5,'Tabel 2 B'!G89<0.5),\"-\",IFERROR('Tabel 2 B'!G89/'Tabel 1 B'!E87*100,\"-\"))","v":"-"},null,{"$f":"IF(OR('Tabel 1 B'!G87<5,'Tabel 2 B'!I89<0.5),\"-\",IFERROR('Tabel 2 B'!I89/'Tabel 1 B'!G87*100,\"-\"))","v":"-"},{"$f":"IF(OR('Tabel 1 B'!G87<5,'Tabel 2 B'!J89<0.5),\"-\",IFERROR('Tabel 2 B'!J89/'Tabel 1 B'!G87*100,\"-\"))","v":"-"}]
["Samf. Adm.",null,{"$f":"IF(OR('Tabel 1 B'!C88<5, 'Tabel 2 B'!C90<0.5),\"-\",IFERROR('Tabel 2 B'!C90/'Tabel 1 B'!C88*100,\"-\"))","v":8},{"$f":"IF(OR('Tabel 1 B'!C88<5,'Tabel 2 B'!D90<0.5),\"-\",IFERROR('Tabel 2 B'!D90/'Tabel 1 B'!C88*100,\"-\"))","v":7.9985030873822751},null,{"$f":"IF(OR('Tabel 1 B'!E88<5, 'Tabel 2 B'!F90<0.5),\"-\",IFERROR('Tabel 2 B'!F90/'Tabel 1 B'!E88*100,\"-\"))","v":3.7037037037037033},{"$f":"IF(OR('Tabel 1 B'!E88<5,'Tabel 2 B'!G90<0.5),\"-\",IFERROR('Tabel 2 B'!G90/'Tabel 1 B'!E88*100,\"-\"))","v":3.7030106886029048},null,{"$f":"IF(OR('Tabel 1 B'!G88<5,'Tabel 2 B'!I90<0.5),\"-\",IFERROR('Tabel 2 B'!I90/'Tabel 1 B'!G88*100,\"-\"))","v":5.7692307692307692},{"$f":"IF(OR('Tabel 1 B'!G88<5,'Tabel 2 B'!J90<0.5),\"-\",IFERROR('Tabel 2 B'!J90/'Tabel 1 B'!G88*100,\"-\"))","v":5.7681512649391395}]
["Cand. Merc.",null,{"$f":"IF(OR('Tabel 1 B'!C89<5, 'Tabel 2 B'!C91<0.5),\"-\",IFERROR('Tabel 2 B'!C91/'Tabel 1 B'!C89*100,\"-\"))","v":15.384615384615385},{"$f":"IF(OR('Tabel 1 B'!C89<5,'Tabel 2 B'!D91<0.5),\"-\",IFERROR('Tabel 2 B'!D91/'Tabel 1 B'!C89*100,\"-\"))","v":15.381736706504373},null,{"$f":"IF(OR('Tabel 1 B'!E89<5, 'Tabel 2 B'!F91<0.5),\"-\",IFERROR('Tabel 2 B'!F91/'Tabel 1 B'!E89*100,\"-\"))","v":6.25},{"$f":"IF(OR('Tabel 1 B'!E89<5,'Tabel 2 B'!G91<0.5),\"-\",IFERROR('Tabel 2 B'!G91/'Tabel 1 B'!E89*100,\"-\"))","v":3.7539761741408344},null,{"$f":"IF(OR('Tabel 1 B'!G89<5,'Tabel 2 B'!I91<0.5),\"-\",IFERROR('Tabel 2 B'!I91/'Tabel 1 B'!G89*100,\"-\"))","v":10.344827586206897},{"$f":"IF(OR('Tabel 1 B'!G89<5,'Tabel 2 B'!J91<0.5),\"-\",IFERROR('Tabel 2 B'!J91/'Tabel 1 B'!G89*100,\"-\"))","v":8.9664205507175936}]
["HA",null,{"$f":"IF(OR('Tabel 1 B'!C90<5, 'Tabel 2 B'!C92<0.5),\"-\",IFERROR('Tabel 2 B'!C92/'Tabel 1 B'!C90*100,\"-\"))","v":"-"},{"$f":"IF(OR('Tabel 1 B'!C90<5,'Tabel 2 B'!D92<0.5),\"-\",IFERROR('Tabel 2 B'!D92/'Tabel 1 B'!C90*100,\"-\"))","v":"-"},null,{"$f":"IF(OR('Tabel 1 B'!E90<5, 'Tabel 2 B'!F92<0.5),\"-\",IFERROR('Tabel 2 B'!F92/'Tabel 1 B'!E90*100,\"-\"))","v":"-"},{"$f":"IF(OR('Tabel 1 B'!E90<5,'Tabel 2 B'!G92<0.5),\"-\",IFERROR('Tabel 2 B'!G92/'Tabel 1 B'!E90*100,\"-\"))","v":"-"},null,{"$f":"IF(OR('Tabel 1 B'!G90<5,'Tabel 2 B'!I92<0.5),\"-\",IFERROR('Tabel 2 B'!I92/'Tabel 1 B'!G90*100,\"-\"))","v":"-"},{"$f":"IF(OR('Tabel 1 B'!G90<5,'Tabel 2 B'!J92<0.5),\"-\",IFERROR('Tabel 2 B'!J92/'Tabel 1 B'!G90*100,\"-\"))","v":"-"}]
["HD",null,{"$f":"IF(OR('Tabel 1 B'!C91<5, 'Tabel 2 B'!C93<0.5),\"-\",IFERROR('Tabel 2 B'!C93/'Tabel 1 B'!C91*100,\"-\"))","v":"-"},{"$f":"IF(OR('Tabel 1 B'!C91<5,'Tabel 2 B'!D93<0.5),\"-\",IFERROR('Tabel 2 B'!D93/'Tabel 1 B'!C91*100,\"-\"))","v":"-"},null,{"$f":"IF(OR('Tabel 1 B'!E91<5, 'Tabel 2 B'!F93<0.5),\"-\",IFERROR('Tabel 2 B'!F93/'Tabel 1 B'!E91*100,\"-\"))","v":"-"},{"$f":"IF(OR('Tabel 1 B'!E91<5,'Tabel 2 B'!G93<0.5),\"-\",IFERROR('Tabel 2 B'!G93/'Tabel 1 B'!E91*100,\"-\"))","v":"-"},null,{"$f":"IF(OR('Tabel 1 B'!G91<5,'Tabel 2 B'!I93<0.5),\"-\",IFERROR('Tabel 2 B'!I93/'Tabel 1 B'!G91*100,\"-\"))","v":"-"},{"$f":"IF(OR('Tabel 1 B'!G91<5,'Tabel 2 B'!J93<0.5),\"-\",IFERROR('Tabel 2 B'!J93/'Tabel 1 B'!G91*100,\"-\"))","v":"-"}]
["Komm. og Sprog",null,{"$f":"IF(OR('Tabel 1 B'!C92<5, 'Tabel 2 B'!C94<0.5),\"-\",IFERROR('Tabel 2 B'!C94/'Tabel 1 B'!C92*100,\"-\"))","v":"-"},{"$f":"IF(OR('Tabel 1 B'!C92<5,'Tabel 2 B'!D94<0.5),\"-\",IFERROR('Tabel 2 B'!D94/'Tabel 1 B'!C92*100,\"-\"))","v":"-"},null,{"$f":"IF(OR('Tabel 1 B'!E92<5, 'Tabel 2 B'!F94<0.5),\"-\",IFERROR('Tabel 2 B'!F94/'Tabel 1 B'!E92*100,\"-\"))","v":36.363636363636367},{"$f":"IF(OR('Tabel 1 B'!E92<5,'Tabel 2 B'!G94<0.5),\"-\",IFERROR('Tabel 2 B'!G94/'Tabel 1 B'!E92*100,\"-\"))","v":36.356832215373977},null,{"$f":"IF(OR('Tabel 1 B'!G92<5,'Tabel 2 B'!I94<0.5),\"-\",IFERROR('Tabel 2 B'!I94/'Tabel 1 B'!G92*100,\"-\"))","v":26.666666666666668},{"$f":"IF(OR('Tabel 1 B'!G92<5,'Tabel 2 B'!J94<0.5),\"-\",IFERROR('Tabel 2 B'!J94/'Tabel 1 B'!G92*100,\"-\"))","v":26.661676957940916}]
["Bygningskonst.",null,{"$f":"IF(OR('Tabel 1 B'!C93<5, 'Tabel 2 B'!C95<0.5),\"-\",IFERROR('Tabel 2 B'!C95/'Tabel 1 B'!C93*100,\"-\"))","v":"-"},{"$f":"IF(OR('Tabel 1 B'!C93<5,'Tabel 2 B'!D95<0.5),\"-\",IFERROR('Tabel 2 B'!D95/'Tabel 1 B'!C93*100,\"-\"))","v":"-"},null,{"$f":"IF(OR('Tabel 1 B'!E93<5, 'Tabel 2 B'!F95<0.5),\"-\",IFERROR('Tabel 2 B'!F95/'Tabel 1 B'!E93*100,\"-\"))","v":"-"},{"$f":"IF(OR('Tabel 1 B'!E93<5,'Tabel 2 B'!G95<0.5),\"-\",IFERROR('Tabel 2 B'!G95/'Tabel 1 B'!E93*100,\"-\"))","v":"-"},null,{"$f":"IF(OR('Tabel 1 B'!G93<5,'Tabel 2 B'!I95<0.5),\"-\",IFERROR('Tabel 2 B'!I95/'Tabel 1 B'!G93*100,\"-\"))","v":"-"},{"$f":"IF(OR('Tabel 1 B'!G93<5,'Tabel 2 B'!J95<0.5),\"-\",IFERROR('Tabel 2 B'!J95/'Tabel 1 B'!G93*100,\"-\"))","v":"-"}]
["Cand. IT.",null,{"$f":"IF(OR('Tabel 1 B'!C94<5, 'Tabel 2 B'!C96<0.5),\"-\",IFERROR('Tabel 2 B'!C96/'Tabel 1 B'!C94*100,\"-\"))","v":"-"},{"$f":"IF(OR('Tabel 1 B'!C94<5,'Tabel 2 B'!D96<0.5),\"-\",IFERROR('Tabel 2 B'!D96/'Tabel 1 B'!C94*100,\"-\"))","v":"-"},null,{"$f":"IF(OR('Tabel 1 B'!E94<5, 'Tabel 2 B'!F96<0.5),\"-\",IFERROR('Tabel 2 B'!F96/'Tabel 1 B'!E94*100,\"-\"))","v":"-"},{"$f":"IF(OR('Tabel 1 B'!E94<5,'Tabel 2 B'!G96<0.5),\"-\",IFERROR('Tabel 2 B'!G96/'Tabel 1 B'!E94*100,\"-\"))","v":"-"},null,{"$f":"IF(OR('Tabel 1 B'!G94<5,'Tabel 2 B'!I96<0.5),\"-\",IFERROR('Tabel 2 B'!I96/'Tabel 1 B'!G94*100,\"-\"))","v":"-"},{"$f":"IF(OR('Tabel 1 B'!G94<5,'Tabel 2 B'!J96<0.5),\"-\",IFERROR('Tabel 2 B'!J96/'Tabel 1 B'!G94*100,\"-\"))","v":"-"}]
["Bac. Samf.",null,{"$f":"IF(OR('Tabel 1 B'!C95<5, 'Tabel 2 B'!C97<0.5),\"-\",IFERROR('Tabel 2 B'!C97/'Tabel 1 B'!C95*100,\"-\"))","v":"-"},{"$f":"IF(OR('Tabel 1 B'!C95<5,'Tabel 2 B'!D97<0.5),\"-\",IFERROR('Tabel 2 B'!D97/'Tabel 1 B'!C95*100,\"-\"))","v":"-"},null,{"$f":"IF(OR('Tabel 1 B'!E95<5, 'Tabel 2 B'!F97<0.5),\"-\",IFERROR('Tabel 2 B'!F97/'Tabel 1 B'!E95*100,\"-\"))","v":"-"},{"$f":"IF(OR('Tabel 1 B'!E95<5,'Tabel 2 B'!G97<0.5),\"-\",IFERROR('Tabel 2 B'!G97/'Tabel 1 B'!E95*100,\"-\"))","v":"-"},null,{"$f":"IF(OR('Tabel 1 B'!G95<5,'Tabel 2 B'!I97<0.5),\"-\",IFERROR('Tabel 2 B'!I97/'Tabel 1 B'!G95*100,\"-\"))","v":"-"},{"$f":"IF(OR('Tabel 1 B'!G95<5,'Tabel 2 B'!J97<0.5),\"-\",IFERROR('Tabel 2 B'!J97/'Tabel 1 B'!G95*100,\"-\"))","v":"-"}]
["Bac. Hum.",null,{"$f":"IF(OR('Tabel 1 B'!C96<5, 'Tabel 2 B'!C98<0.5),\"-\",IFERROR('Tabel 2 B'!C98/'Tabel 1 B'!C96*100,\"-\"))","v":25},{"$f":"IF(OR('Tabel 1 B'!C96<5,'Tabel 2 B'!D98<0.5),\"-\",IFERROR('Tabel 2 B'!D98/'Tabel 1 B'!C96*100,\"-\"))","v":24.995322148069608},null,{"$f":"IF(OR('Tabel 1 B'!E96<5, 'Tabel 2 B'!F98<0.5),\"-\",IFERROR('Tabel 2 B'!F98/'Tabel 1 B'!E96*100,\"-\"))","v":"-"},{"$f":"IF(OR('Tabel 1 B'!E96<5,'Tabel 2 B'!G98<0.5),\"-\",IFERROR('Tabel 2 B'!G98/'Tabel 1 B'!E96*100,\"-\"))","v":"-"},null,{"$f":"IF(OR('Tabel 1 B'!G96<5,'Tabel 2 B'!I98<0.5),\"-\",IFERROR('Tabel 2 B'!I98/'Tabel 1 B'!G96*100,\"-\"))","v":15.384615384615385},{"$f":"IF(OR('Tabel 1 B'!G96<5,'Tabel 2 B'!J98<0.5),\"-\",IFERROR('Tabel 2 B'!J98/'Tabel 1 B'!G96*100,\"-\"))","v":15.381736706504373}]
["Bac. Nat.",null,{"$f":"IF(OR('Tabel 1 B'!C97<5, 'Tabel 2 B'!C99<0.5),\"-\",IFERROR('Tabel 2 B'!C99/'Tabel 1 B'!C97*100,\"-\"))","v":"-"},{"$f":"IF(OR('Tabel 1 B'!C97<5,'Tabel 2 B'!D99<0.5),\"-\",IFERROR('Tabel 2 B'!D99/'Tabel 1 B'!C97*100,\"-\"))","v":"-"},null,{"$f":"IF(OR('Tabel 1 B'!E97<5, 'Tabel 2 B'!F99<0.5),\"-\",IFERROR('Tabel 2 B'!F99/'Tabel 1 B'!E97*100,\"-\"))","v":14.285714285714285},{"$f":"IF(OR('Tabel 1 B'!E97<5,'Tabel 2 B'!G99<0.5),\"-\",IFERROR('Tabel 2 B'!G99/'Tabel 1 B'!E97*100,\"-\"))","v":14.193939285937041},null,{"$f":"IF(OR('Tabel 1 B'!G97<5,'Tabel 2 B'!I99<0.5),\"-\",IFERROR('Tabel 2 B'!I99/'Tabel 1 B'!G97*100,\"-\"))","v":20},{"$f":"IF(OR('Tabel 1 B'!G97<5,'Tabel 2 B'!J99<0.5),\"-\",IFERROR('Tabel 2 B'!J99/'Tabel 1 B'!G97*100,\"-\"))","v":19.93388635938377}]
["Andre",null,{"$f":"IF(OR('Tabel 1 B'!C98<5, 'Tabel 2 B'!C100<0.5),\"-\",IFERROR('Tabel 2 B'!C100/'Tabel 1 B'!C98*100,\"-\"))","v":7.8125},{"$f":"IF(OR('Tabel 1 B'!C98<5,'Tabel 2 B'!D100<0.5),\"-\",IFERROR('Tabel 2 B'!D100/'Tabel 1 B'!C98*100,\"-\"))","v":7.4407082267822613},null,{"$f":"IF(OR('Tabel 1 B'!E98<5, 'Tabel 2 B'!F100<0.5),\"-\",IFERROR('Tabel 2 B'!F100/'Tabel 1 B'!E98*100,\"-\"))","v":13.953488372093023},{"$f":"IF(OR('Tabel 1 B'!E98<5,'Tabel 2 B'!G100<0.5),\"-\",IFERROR('Tabel 2 B'!G100/'Tabel 1 B'!E98*100,\"-\"))","v":12.620771983365703},null,{"$f":"IF(OR('Tabel 1 B'!G98<5,'Tabel 2 B'!I100<0.5),\"-\",IFERROR('Tabel 2 B'!I100/'Tabel 1 B'!G98*100,\"-\"))","v":10.2803738317757},{"$f":"IF(OR('Tabel 1 B'!G98<5,'Tabel 2 B'!J100<0.5),\"-\",IFERROR('Tabel 2 B'!J100/'Tabel 1 B'!G98*100,\"-\"))","v":9.5224160915774743}]
[]
["Total",null,{"$f":"IF(OR('Tabel 1 B'!C100<5, 'Tabel 2 B'!C102<0.5),\"-\",IFERROR('Tabel 2 B'!C102/'Tabel 1 B'!C100*100,\"-\"))","v":8.1730769230769234},{"$f":"IF(OR('Tabel 1 B'!C100<5,'Tabel 2 B'!D102<0.5),\"-\",IFERROR('Tabel 2 B'!D102/'Tabel 1 B'!C100*100,\"-\"))","v":7.5373388539982447},null,{"$f":"IF(OR('Tabel 1 B'!E100<5, 'Tabel 2 B'!F102<0.5),\"-\",IFERROR('Tabel 2 B'!F102/'Tabel 1 B'!E100*100,\"-\"))","v":10.831234256926953},{"$f":"IF(OR('Tabel 1 B'!E100<5,'Tabel 2 B'!G102<0.5),\"-\",IFERROR('Tabel 2 B'!G102/'Tabel 1 B'!E100*100,\"-\"))","v":9.2931753950172968},null,{"$f":"IF(OR('Tabel 1 B'!G100<5,'Tabel 2 B'!I102<0.5),\"-\",IFERROR('Tabel 2 B'!I102/'Tabel 1 B'!G100*100,\"-\"))","v":9.4710947109471082},{"$f":"IF(OR('Tabel 1 B'!G100<5,'Tabel 2 B'!J102<0.5),\"-\",IFERROR('Tabel 2 B'!J102/'Tabel 1 B'!G100*100,\"-\"))","v":8.3947399693544096}]
[]
["Ingeniører i alt",null,{"$f":"IF(OR('Tabel 1 B'!C102<5, 'Tabel 2 B'!C104<0.5),\"-\",IFERROR('Tabel 2 B'!C104/'Tabel 1 B'!C102*100,\"-\"))","v":4.7619047619047619},{"$f":"IF(OR('Tabel 1 B'!C102<5,'Tabel 2 B'!D104<0.5),\"-\",IFERROR('Tabel 2 B'!D104/'Tabel 1 B'!C102*100,\"-\"))","v":4.4194562999527767},null,{"$f":"IF(OR('Tabel 1 B'!E102<5, 'Tabel 2 B'!F104<0.5),\"-\",IFERROR('Tabel 2 B'!F104/'Tabel 1 B'!E102*100,\"-\"))","v":15.384615384615385},{"$f":"IF(OR('Tabel 1 B'!E102<5,'Tabel 2 B'!G104<0.5),\"-\",IFERROR('Tabel 2 B'!G104/'Tabel 1 B'!E102*100,\"-\"))","v":15.381736706504373},null,{"$f":"IF(OR('Tabel 1 B'!G102<5,'Tabel 2 B'!I104<0.5),\"-\",IFERROR('Tabel 2 B'!I104/'Tabel 1 B'!G102*100,\"-\"))","v":6.1855670103092786},{"$f":"IF(OR('Tabel 1 B'!G102<5,'Tabel 2 B'!J104<0.5),\"-\",IFERROR('Tabel 2 B'!J104/'Tabel 1 B'!G102*100,\"-\"))","v":5.8886279008308255}]
["Magistre i alt",null,{"$f":"IF(OR('Tabel 1 B'!C103<5, 'Tabel 2 B'!C105<0.5),\"-\",IFERROR('Tabel 2 B'!C105/'Tabel 1 B'!C103*100,\"-\"))","v":17.283950617283949},{"$f":"IF(OR('Tabel 1 B'!C103<5,'Tabel 2 B'!D105<0.5),\"-\",IFERROR('Tabel 2 B'!D105/'Tabel 1 B'!C103*100,\"-\"))","v":15.753003257940989},null,{"$f":"IF(OR('Tabel 1 B'!E103<5, 'Tabel 2 B'!F105<0.5),\"-\",IFERROR('Tabel 2 B'!F105/'Tabel 1 B'!E103*100,\"-\"))","v":14.728682170542637},{"$f":"IF(OR('Tabel 1 B'!E103<5,'Tabel 2 B'!G105<0.5),\"-\",IFERROR('Tabel 2 B'!G105/'Tabel 1 B'!E103*100,\"-\"))","v":12.348078599516404},null,{"$f":"IF(OR('Tabel 1 B'!G103<5,'Tabel 2 B'!I105<0.5),\"-\",IFERROR('Tabel 2 B'!I105/'Tabel 1 B'!G103*100,\"-\"))","v":15.714285714285714},{"$f":"IF(OR('Tabel 1 B'!G103<5,'Tabel 2 B'!J105<0.5),\"-\",IFERROR('Tabel 2 B'!J105/'Tabel 1 B'!G103*100,\"-\"))","v":13.661406682051599}]
["DJØF'ere i alt",null,{"$f":"IF(OR('Tabel 1 B'!C104<5, 'Tabel 2 B'!C106<0.5),\"-\",IFERROR('Tabel 2 B'!C106/'Tabel 1 B'!C104*100,\"-\"))","v":6.557377049180328},{"$f":"IF(OR('Tabel 1 B'!C104<5,'Tabel 2 B'!D106<0.5),\"-\",IFERROR('Tabel 2 B'!D106/'Tabel 1 B'!C104*100,\"-\"))","v":6.5561500716248151},null,{"$f":"IF(OR('Tabel 1 B'!E104<5, 'Tabel 2 B'!F106<0.5),\"-\",IFERROR('Tabel 2 B'!F106/'Tabel 1 B'!E104*100,\"-\"))","v":2.7397260273972601},{"$f":"IF(OR('Tabel 1 B'!E104<5,'Tabel 2 B'!G106<0.5),\"-\",IFERROR('Tabel 2 B'!G106/'Tabel 1 B'!E104*100,\"-\"))","v":2.1923959914867366},null,{"$f":"IF(OR('Tabel 1 B'!G104<5,'Tabel 2 B'!I106<0.5),\"-\",IFERROR('Tabel 2 B'!I106/'Tabel 1 B'!G104*100,\"-\"))","v":4.4776119402985071},{"$f":"IF(OR('Tabel 1 B'!G104<5,'Tabel 2 B'!J106<0.5),\"-\",IFERROR('Tabel 2 B'!J106/'Tabel 1 B'!G104*100,\"-\"))","v":4.1788810578182494}]
[]
[]
[]
[]
["Christiansø"]
[]
[null,null,"Mænd",null,null,"Kvinder",null,null,"I alt"]
[null,null,"Ledigheds-\nberørte","Gns.\nbrutto-\nledighed",null,"Ledigheds-\nberørte","Gns.\nbrutto-\nledighed",null,"Ledigheds-\nberørte","Gns.\nbrutto-\nledighed"]
[]
[]
["Civ. ing.",null,{"$f":"IF(OR('Tabel 1 B'!C115<5, 'Tabel 2 B'!C117<0.5),\"-\",IFERROR('Tabel 2 B'!C117/'Tabel 1 B'!C115*100,\"-\"))","v":"-"},{"$f":"IF(OR('Tabel 1 B'!C115<5,'Tabel 2 B'!D117<0.5),\"-\",IFERROR('Tabel 2 B'!D117/'Tabel 1 B'!C115*100,\"-\"))","v":"-"},null,{"$f":"IF(OR('Tabel 1 B'!E115<5, 'Tabel 2 B'!F117<0.5),\"-\",IFERROR('Tabel 2 B'!F117/'Tabel 1 B'!E115*100,\"-\"))","v":"-"},{"$f":"IF(OR('Tabel 1 B'!E115<5,'Tabel 2 B'!G117<0.5),\"-\",IFERROR('Tabel 2 B'!G117/'Tabel 1 B'!E115*100,\"-\"))","v":"-"},null,{"$f":"IF(OR('Tabel 1 B'!G115<5,'Tabel 2 B'!I117<0.5),\"-\",IFERROR('Tabel 2 B'!I117/'Tabel 1 B'!G115*100,\"-\"))","v":"-"},{"$f":"IF(OR('Tabel 1 B'!G115<5,'Tabel 2 B'!J117<0.5),\"-\",IFERROR('Tabel 2 B'!J117/'Tabel 1 B'!G115*100,\"-\"))","v":"-"}]
["Diplom ing.",null,{"$f":"IF(OR('Tabel 1 B'!C116<5, 'Tabel 2 B'!C118<0.5),\"-\",IFERROR('Tabel 2 B'!C118/'Tabel 1 B'!C116*100,\"-\"))","v":"-"},{"$f":"IF(OR('Tabel 1 B'!C116<5,'Tabel 2 B'!D118<0.5),\"-\",IFERROR('Tabel 2 B'!D118/'Tabel 1 B'!C116*100,\"-\"))","v":"-"},null,{"$f":"IF(OR('Tabel 1 B'!E116<5, 'Tabel 2 B'!F118<0.5),\"-\",IFERROR('Tabel 2 B'!F118/'Tabel 1 B'!E116*100,\"-\"))","v":"-"},{"$f":"IF(OR('Tabel 1 B'!E116<5,'Tabel 2 B'!G118<0.5),\"-\",IFERROR('Tabel 2 B'!G118/'Tabel 1 B'!E116*100,\"-\"))","v":"-"},null,{"$f":"IF(OR('Tabel 1 B'!G116<5,'Tabel 2 B'!I118<0.5),\"-\",IFERROR('Tabel 2 B'!I118/'Tabel 1 B'!G116*100,\"-\"))","v":"-"},{"$f":"IF(OR('Tabel 1 B'!G116<5,'Tabel 2 B'!J118<0.5),\"-\",IFERROR('Tabel 2 B'!J118/'Tabel 1 B'!G116*100,\"-\"))","v":"-"}]
["Cand. Scient. Tek.",null,{"$f":"IF(OR('Tabel 1 B'!C117<5, 'Tabel 2 B'!C119<0.5),\"-\",IFERROR('Tabel 2 B'!C119/'Tabel 1 B'!C117*100,\"-\"))","v":"-"},{"$f":"IF(OR('Tabel 1 B'!C117<5,'Tabel 2 B'!D119<0.5),\"-\",IFERROR('Tabel 2 B'!D119/'Tabel 1 B'!C117*100,\"-\"))","v":"-"},null,{"$f":"IF(OR('Tabel 1 B'!E117<5, 'Tabel 2 B'!F119<0.5),\"-\",IFERROR('Tabel 2 B'!F119/'Tabel 1 B'!E117*100,\"-\"))","v":"-"},{"$f":"IF(OR('Tabel 1 B'!E117<5,'Tabel 2 B'!G119<0.5),\"-\",IFERROR('Tabel 2 B'!G119/'Tabel 1 B'!E117*100,\"-\"))","v":"-"},null,{"$f":"IF(OR('Tabel 1 B'!G117<5,'Tabel 2 B'!I119<0.5),\"-\",IFERROR('Tabel 2 B'!I119/'Tabel 1 B'!G117*100,\"-\"))","v":"-"},{"$f":"IF(OR('Tabel 1 B'!G117<5,'Tabel 2 B'!J119<0.5),\"-\",IFERROR('Tabel 2 B'!J119/'Tabel 1 B'!G117*100,\"-\"))","v":"-"}]
["MA. Hum.",null,{"$f":"IF(OR('Tabel 1 B'!C118<5, 'Tabel 2 B'!C120<0.5),\"-\",IFERROR('Tabel 2 B'!C120/'Tabel 1 B'!C118*100,\"-\"))","v":"-"},{"$f":"IF(OR('Tabel 1 B'!C118<5,'Tabel 2 B'!D120<0.5),\"-\",IFERROR('Tabel 2 B'!D120/'Tabel 1 B'!C118*100,\"-\"))","v":"-"},null,{"$f":"IF(OR('Tabel 1 B'!E118<5, 'Tabel 2 B'!F120<0.5),\"-\",IFERROR('Tabel 2 B'!F120/'Tabel 1 B'!E118*100,\"-\"))","v":"-"},{"$f":"IF(OR('Tabel 1 B'!E118<5,'Tabel 2 B'!G120<0.5),\"-\",IFERROR('Tabel 2 B'!G120/'Tabel 1 B'!E118*100,\"-\"))","v":"-"},null,{"$f":"IF(OR('Tabel 1 B'!G118<5,'Tabel 2 B'!I120<0.5),\"-\",IFERROR('Tabel 2 B'!I120/'Tabel 1 B'!G118*100,\"-\"))","v":"-"},{"$f":"IF(OR('Tabel 1 B'!G118<5,'Tabel 2 B'!J120<0.5),\"-\",IFERROR('Tabel 2 B'!J120/'Tabel 1 B'!G118*100,\"-\"))","v":"-"}]
["MA. Nat.",null,{"$f":"IF(OR('Tabel 1 B'!C119<5, 'Tabel 2 B'!C121<0.5),\"-\",IFERROR('Tabel 2 B'!C121/'Tabel 1 B'!C119*100,\"-\"))","v":"-"},{"$f":"IF(OR('Tabel 1 B'!C119<5,'Tabel 2 B'!D121<0.5),\"-\",IFERROR('Tabel 2 B'!D121/'Tabel 1 B'!C119*100,\"-\"))","v":"-"},null,{"$f":"IF(OR('Tabel 1 B'!E119<5, 'Tabel 2 B'!F121<0.5),\"-\",IFERROR('Tabel 2 B'!F121/'Tabel 1 B'!E119*100,\"-\"))","v":"-"},{"$f":"IF(OR('Tabel 1 B'!E119<5,'Tabel 2 B'!G121<0.5),\"-\",IFERROR('Tabel 2 B'!G121/'Tabel 1 B'!E119*100,\"-\"))","v":"-"},null,{"$f":"IF(OR('Tabel 1 B'!G119<5,'Tabel 2 B'!I121<0.5),\"-\",IFERROR('Tabel 2 B'!I121/'Tabel 1 B'!G119*100,\"-\"))","v":"-"},{"$f":"IF(OR('Tabel 1 B'!G119<5,'Tabel 2 B'!J121<0.5),\"-\",IFERROR('Tabel 2 B'!J121/'Tabel 1 B'!G119*100,\"-\"))","v":"-"}]
["MA. Ph.d.",null,{"$f":"IF(OR('Tabel 1 B'!C120<5, 'Tabel 2 B'!C122<0.5),\"-\",IFERROR('Tabel 2 B'!C122/'Tabel 1 B'!C120*100,\"-\"))","v":"-"},{"$f":"IF(OR('Tabel 1 B'!C120<5,'Tabel 2 B'!D122<0.5),\"-\",IFERROR('Tabel 2 B'!D122/'Tabel 1 B'!C120*100,\"-\"))","v":"-"},null,{"$f":"IF(OR('Tabel 1 B'!E120<5, 'Tabel 2 B'!F122<0.5),\"-\",IFERROR('Tabel 2 B'!F122/'Tabel 1 B'!E120*100,\"-\"))","v":"-"},{"$f":"IF(OR('Tabel 1 B'!E120<5,'Tabel 2 B'!G122<0.5),\"-\",IFERROR('Tabel 2 B'!G122/'Tabel 1 B'!E120*100,\"-\"))","v":"-"},null,{"$f":"IF(OR('Tabel 1 B'!G120<5,'Tabel 2 B'!I122<0.5),\"-\",IFERROR('Tabel 2 B'!I122/'Tabel 1 B'!G120*100,\"-\"))","v":"-"},{"$f":"IF(OR('Tabel 1 B'!G120<5,'Tabel 2 B'!J122<0.5),\"-\",IFERROR('Tabel 2 B'!J122/'Tabel 1 B'!G120*100,\"-\"))","v":"-"}]
["MA. Samf.",null,{"$f":"IF(OR('Tabel 1 B'!C121<5, 'Tabel 2 B'!C123<0.5),\"-\",IFERROR('Tabel 2 B'!C123/'Tabel 1 B'!C121*100,\"-\"))","v":"-"},{"$f":"IF(OR('Tabel 1 B'!C121<5,'Tabel 2 B'!D123<0.5),\"-\",IFERROR('Tabel 2 B'!D123/'Tabel 1 B'!C121*100,\"-\"))","v":"-"},null,{"$f":"IF(OR('Tabel 1 B'!E121<5, 'Tabel 2 B'!F123<0.5),\"-\",IFERROR('Tabel 2 B'!F123/'Tabel 1 B'!E121*100,\"-\"))","v":"-"},{"$f":"IF(OR('Tabel 1 B'!E121<5,'Tabel 2 B'!G123<0.5),\"-\",IFERROR('Tabel 2 B'!G123/'Tabel 1 B'!E121*100,\"-\"))","v":"-"},null,{"$f":"IF(OR('Tabel 1 B'!G121<5,'Tabel 2 B'!I123<0.5),\"-\",IFERROR('Tabel 2 B'!I123/'Tabel 1 B'!G121*100,\"-\"))","v":"-"},{"$f":"IF(OR('Tabel 1 B'!G121<5,'Tabel 2 B'!J123<0.5),\"-\",IFERROR('Tabel 2 B'!J123/'Tabel 1 B'!G121*100,\"-\"))","v":"-"}]
["Øvrige Mag.",null,{"$f":"IF(OR('Tabel 1 B'!C122<5, 'Tabel 2 B'!C124<0.5),\"-\",IFERROR('Tabel 2 B'!C124/'Tabel 1 B'!C122*100,\"-\"))","v":"-"},{"$f":"IF(OR('Tabel 1 B'!C122<5,'Tabel 2 B'!D124<0.5),\"-\",IFERROR('Tabel 2 B'!D124/'Tabel 1 B'!C122*100,\"-\"))","v":"-"},null,{"$f":"IF(OR('Tabel 1 B'!E122<5, 'Tabel 2 B'!F124<0.5),\"-\",IFERROR('Tabel 2 B'!F124/'Tabel 1 B'!E122*100,\"-\"))","v":"-"},{"$f":"IF(OR('Tabel 1 B'!E122<5,'Tabel 2 B'!G124<0.5),\"-\",IFERROR('Tabel 2 B'!G124/'Tabel 1 B'!E122*100,\"-\"))","v":"-"},null,{"$f":"IF(OR('Tabel 1 B'!G122<5,'Tabel 2 B'!I124<0.5),\"-\",IFERROR('Tabel 2 B'!I124/'Tabel 1 B'!G122*100,\"-\"))","v":"-"},{"$f":"IF(OR('Tabel 1 B'!G122<5,'Tabel 2 B'!J124<0.5),\"-\",IFERROR('Tabel 2 B'!J124/'Tabel 1 B'!G122*100,\"-\"))","v":"-"}]
["Agronom",null,{"$f":"IF(OR('Tabel 1 B'!C123<5, 'Tabel 2 B'!C125<0.5),\"-\",IFERROR('Tabel 2 B'!C125/'Tabel 1 B'!C123*100,\"-\"))","v":"-"},{"$f":"IF(OR('Tabel 1 B'!C123<5,'Tabel 2 B'!D125<0.5),\"-\",IFERROR('Tabel 2 B'!D125/'Tabel 1 B'!C123*100,\"-\"))","v":"-"},null,{"$f":"IF(OR('Tabel 1 B'!E123<5, 'Tabel 2 B'!F125<0.5),\"-\",IFERROR('Tabel 2 B'!F125/'Tabel 1 B'!E123*100,\"-\"))","v":"-"},{"$f":"IF(OR('Tabel 1 B'!E123<5,'Tabel 2 B'!G125<0.5),\"-\",IFERROR('Tabel 2 B'!G125/'Tabel 1 B'!E123*100,\"-\"))","v":"-"},null,{"$f":"IF(OR('Tabel 1 B'!G123<5,'Tabel 2 B'!I125<0.5),\"-\",IFERROR('Tabel 2 B'!I125/'Tabel 1 B'!G123*100,\"-\"))","v":"-"},{"$f":"IF(OR('Tabel 1 B'!G123<5,'Tabel 2 B'!J125<0.5),\"-\",IFERROR('Tabel 2 B'!J125/'Tabel 1 B'!G123*100,\"-\"))","v":"-"}]
["Landsk. Arkt.",null,{"$f":"IF(OR('Tabel 1 B'!C124<5, 'Tabel 2 B'!C126<0.5),\"-\",IFERROR('Tabel 2 B'!C126/'Tabel 1 B'!C124*100,\"-\"))","v":"-"},{"$f":"IF(OR('Tabel 1 B'!C124<5,'Tabel 2 B'!D126<0.5),\"-\",IFERROR('Tabel 2 B'!D126/'Tabel 1 B'!C124*100,\"-\"))","v":"-"},null,{"$f":"IF(OR('Tabel 1 B'!E124<5, 'Tabel 2 B'!F126<0.5),\"-\",IFERROR('Tabel 2 B'!F126/'Tabel 1 B'!E124*100,\"-\"))","v":"-"},{"$f":"IF(OR('Tabel 1 B'!E124<5,'Tabel 2 B'!G126<0.5),\"-\",IFERROR('Tabel 2 B'!G126/'Tabel 1 B'!E124*100,\"-\"))","v":"-"},null,{"$f":"IF(OR('Tabel 1 B'!G124<5,'Tabel 2 B'!I126<0.5),\"-\",IFERROR('Tabel 2 B'!I126/'Tabel 1 B'!G124*100,\"-\"))","v":"-"},{"$f":"IF(OR('Tabel 1 B'!G124<5,'Tabel 2 B'!J126<0.5),\"-\",IFERROR('Tabel 2 B'!J126/'Tabel 1 B'!G124*100,\"-\"))","v":"-"}]
["Hortonom",null,{"$f":"IF(OR('Tabel 1 B'!C125<5, 'Tabel 2 B'!C127<0.5),\"-\",IFERROR('Tabel 2 B'!C127/'Tabel 1 B'!C125*100,\"-\"))","v":"-"},{"$f":"IF(OR('Tabel 1 B'!C125<5,'Tabel 2 B'!D127<0.5),\"-\",IFERROR('Tabel 2 B'!D127/'Tabel 1 B'!C125*100,\"-\"))","v":"-"},null,{"$f":"IF(OR('Tabel 1 B'!E125<5, 'Tabel 2 B'!F127<0.5),\"-\",IFERROR('Tabel 2 B'!F127/'Tabel 1 B'!E125*100,\"-\"))","v":"-"},{"$f":"IF(OR('Tabel 1 B'!E125<5,'Tabel 2 B'!G127<0.5),\"-\",IFERROR('Tabel 2 B'!G127/'Tabel 1 B'!E125*100,\"-\"))","v":"-"},null,{"$f":"IF(OR('Tabel 1 B'!G125<5,'Tabel 2 B'!I127<0.5),\"-\",IFERROR('Tabel 2 B'!I127/'Tabel 1 B'!G125*100,\"-\"))","v":"-"},{"$f":"IF(OR('Tabel 1 B'!G125<5,'Tabel 2 B'!J127<0.5),\"-\",IFERROR('Tabel 2 B'!J127/'Tabel 1 B'!G125*100,\"-\"))","v":"-"}]
["Forstkand.",null,{"$f":"IF(OR('Tabel 1 B'!C126<5, 'Tabel 2 B'!C128<0.5),\"-\",IFERROR('Tabel 2 B'!C128/'Tabel 1 B'!C126*100,\"-\"))","v":"-"},{"$f":"IF(OR('Tabel 1 B'!C126<5,'Tabel 2 B'!D128<0.5),\"-\",IFERROR('Tabel 2 B'!D128/'Tabel 1 B'!C126*100,\"-\"))","v":"-"},null,{"$f":"IF(OR('Tabel 1 B'!E126<5, 'Tabel 2 B'!F128<0.5),\"-\",IFERROR('Tabel 2 B'!F128/'Tabel 1 B'!E126*100,\"-\"))","v":"-"},{"$f":"IF(OR('Tabel 1 B'!E126<5,'Tabel 2 B'!G128<0.5),\"-\",IFERROR('Tabel 2 B'!G128/'Tabel 1 B'!E126*100,\"-\"))","v":"-"},null,{"$f":"IF(OR('Tabel 1 B'!G126<5,'Tabel 2 B'!I128<0.5),\"-\",IFERROR('Tabel 2 B'!I128/'Tabel 1 B'!G126*100,\"-\"))","v":"-"},{"$f":"IF(OR('Tabel 1 B'!G126<5,'Tabel 2 B'!J128<0.5),\"-\",IFERROR('Tabel 2 B'!J128/'Tabel 1 B'!G126*100,\"-\"))","v":"-"}]
["Jordbrugsakad.",null,{"$f":"IF(OR('Tabel 1 B'!C127<5, 'Tabel 2 B'!C129<0.5),\"-\",IFERROR('Tabel 2 B'!C129/'Tabel 1 B'!C127*100,\"-\"))","v":"-"},{"$f":"IF(OR('Tabel 1 B'!C127<5,'Tabel 2 B'!D129<0.5),\"-\",IFERROR('Tabel 2 B'!D129/'Tabel 1 B'!C127*100,\"-\"))","v":"-"},null,{"$f":"IF(OR('Tabel 1 B'!E127<5, 'Tabel 2 B'!F129<0.5),\"-\",IFERROR('Tabel 2 B'!F129/'Tabel 1 B'!E127*100,\"-\"))","v":"-"},{"$f":"IF(OR('Tabel 1 B'!E127<5,'Tabel 2 B'!G129<0.5),\"-\",IFERROR('Tabel 2 B'!G129/'Tabel 1 B'!E127*100,\"-\"))","v":"-"},null,{"$f":"IF(OR('Tabel 1 B'!G127<5,'Tabel 2 B'!I129<0.5),\"-\",IFERROR('Tabel 2 B'!I129/'Tabel 1 B'!G127*100,\"-\"))","v":"-"},{"$f":"IF(OR('Tabel 1 B'!G127<5,'Tabel 2 B'!J129<0.5),\"-\",IFERROR('Tabel 2 B'!J129/'Tabel 1 B'!G127*100,\"-\"))","v":"-"}]
["Mejeriing.",null,{"$f":"IF(OR('Tabel 1 B'!C128<5, 'Tabel 2 B'!C130<0.5),\"-\",IFERROR('Tabel 2 B'!C130/'Tabel 1 B'!C128*100,\"-\"))","v":"-"},{"$f":"IF(OR('Tabel 1 B'!C128<5,'Tabel 2 B'!D130<0.5),\"-\",IFERROR('Tabel 2 B'!D130/'Tabel 1 B'!C128*100,\"-\"))","v":"-"},null,{"$f":"IF(OR('Tabel 1 B'!E128<5, 'Tabel 2 B'!F130<0.5),\"-\",IFERROR('Tabel 2 B'!F130/'Tabel 1 B'!E128*100,\"-\"))","v":"-"},{"$f":"IF(OR('Tabel 1 B'!E128<5,'Tabel 2 B'!G130<0.5),\"-\",IFERROR('Tabel 2 B'!G130/'Tabel 1 B'!E128*100,\"-\"))","v":"-"},null,{"$f":"IF(OR('Tabel 1 B'!G128<5,'Tabel 2 B'!I130<0.5),\"-\",IFERROR('Tabel 2 B'!I130/'Tabel 1 B'!G128*100,\"-\"))","v":"-"},{"$f":"IF(OR('Tabel 1 B'!G128<5,'Tabel 2 B'!J130<0.5),\"-\",IFERROR('Tabel 2 B'!J130/'Tabel 1 B'!G128*100,\"-\"))","v":"-"}]
["Levn.m.kand.",null,{"$f":"IF(OR('Tabel 1 B'!C129<5, 'Tabel 2 B'!C131<0.5),\"-\",IFERROR('Tabel 2 B'!C131/'Tabel 1 B'!C129*100,\"-\"))","v":"-"},{"$f":"IF(OR('Tabel 1 B'!C129<5,'Tabel 2 B'!D131<0.5),\"-\",IFERROR('Tabel 2 B'!D131/'Tabel 1 B'!C129*100,\"-\"))","v":"-"},null,{"$f":"IF(OR('Tabel 1 B'!E129<5, 'Tabel 2 B'!F131<0.5),\"-\",IFERROR('Tabel 2 B'!F131/'Tabel 1 B'!E129*100,\"-\"))","v":"-"},{"$f":"IF(OR('Tabel 1 B'!E129<5,'Tabel 2 B'!G131<0.5),\"-\",IFERROR('Tabel 2 B'!G131/'Tabel 1 B'!E129*100,\"-\"))","v":"-"},null,{"$f":"IF(OR('Tabel 1 B'!G129<5,'Tabel 2 B'!I131<0.5),\"-\",IFERROR('Tabel 2 B'!I131/'Tabel 1 B'!G129*100,\"-\"))","v":"-"},{"$f":"IF(OR('Tabel 1 B'!G129<5,'Tabel 2 B'!J131<0.5),\"-\",IFERROR('Tabel 2 B'!J131/'Tabel 1 B'!G129*100,\"-\"))","v":"-"}]
["Dyrlæge",null,{"$f":"IF(OR('Tabel 1 B'!C130<5, 'Tabel 2 B'!C132<0.5),\"-\",IFERROR('Tabel 2 B'!C132/'Tabel 1 B'!C130*100,\"-\"))","v":"-"},{"$f":"IF(OR('Tabel 1 B'!C130<5,'Tabel 2 B'!D132<0.5),\"-\",IFERROR('Tabel 2 B'!D132/'Tabel 1 B'!C130*100,\"-\"))","v":"-"},null,{"$f":"IF(OR('Tabel 1 B'!E130<5, 'Tabel 2 B'!F132<0.5),\"-\",IFERROR('Tabel 2 B'!F132/'Tabel 1 B'!E130*100,\"-\"))","v":"-"},{"$f":"IF(OR('Tabel 1 B'!E130<5,'Tabel 2 B'!G132<0.5),\"-\",IFERROR('Tabel 2 B'!G132/'Tabel 1 B'!E130*100,\"-\"))","v":"-"},null,{"$f":"IF(OR('Tabel 1 B'!G130<5,'Tabel 2 B'!I132<0.5),\"-\",IFERROR('Tabel 2 B'!I132/'Tabel 1 B'!G130*100,\"-\"))","v":"-"},{"$f":"IF(OR('Tabel 1 B'!G130<5,'Tabel 2 B'!J132<0.5),\"-\",IFERROR('Tabel 2 B'!J132/'Tabel 1 B'!G130*100,\"-\"))","v":"-"}]
["Farmaceut",null,{"$f":"IF(OR('Tabel 1 B'!C131<5, 'Tabel 2 B'!C133<0.5),\"-\",IFERROR('Tabel 2 B'!C133/'Tabel 1 B'!C131*100,\"-\"))","v":"-"},{"$f":"IF(OR('Tabel 1 B'!C131<5,'Tabel 2 B'!D133<0.5),\"-\",IFERROR('Tabel 2 B'!D133/'Tabel 1 B'!C131*100,\"-\"))","v":"-"},null,{"$f":"IF(OR('Tabel 1 B'!E131<5, 'Tabel 2 B'!F133<0.5),\"-\",IFERROR('Tabel 2 B'!F133/'Tabel 1 B'!E131*100,\"-\"))","v":"-"},{"$f":"IF(OR('Tabel 1 B'!E131<5,'Tabel 2 B'!G133<0.5),\"-\",IFERROR('Tabel 2 B'!G133/'Tabel 1 B'!E131*100,\"-\"))","v":"-"},null,{"$f":"IF(OR('Tabel 1 B'!G131<5,'Tabel 2 B'!I133<0.5),\"-\",IFERROR('Tabel 2 B'!I133/'Tabel 1 B'!G131*100,\"-\"))","v":"-"},{"$f":"IF(OR('Tabel 1 B'!G131<5,'Tabel 2 B'!J133<0.5),\"-\",IFERROR('Tabel 2 B'!J133/'Tabel 1 B'!G131*100,\"-\"))","v":"-"}]
["Læge",null,{"$f":"IF(OR('Tabel 1 B'!C132<5, 'Tabel 2 B'!C134<0.5),\"-\",IFERROR('Tabel 2 B'!C134/'Tabel 1 B'!C132*100,\"-\"))","v":"-"},{"$f":"IF(OR('Tabel 1 B'!C132<5,'Tabel 2 B'!D134<0.5),\"-\",IFERROR('Tabel 2 B'!D134/'Tabel 1 B'!C132*100,\"-\"))","v":"-"},null,{"$f":"IF(OR('Tabel 1 B'!E132<5, 'Tabel 2 B'!F134<0.5),\"-\",IFERROR('Tabel 2 B'!F134/'Tabel 1 B'!E132*100,\"-\"))","v":"-"},{"$f":"IF(OR('Tabel 1 B'!E132<5,'Tabel 2 B'!G134<0.5),\"-\",IFERROR('Tabel 2 B'!G134/'Tabel 1 B'!E132*100,\"-\"))","v":"-"},null,{"$f":"IF(OR('Tabel 1 B'!G132<5,'Tabel 2 B'!I134<0.5),\"-\",IFERROR('Tabel 2 B'!I134/'Tabel 1 B'!G132*100,\"-\"))","v":"-"},{"$f":"IF(OR('Tabel 1 B'!G132<5,'Tabel 2 B'!J134<0.5),\"-\",IFERROR('Tabel 2 B'!J134/'Tabel 1 B'!G132*100,\"-\"))","v":"-"}]
["Tandlæge",null,{"$f":"IF(OR('Tabel 1 B'!C133<5, 'Tabel 2 B'!C135<0.5),\"-\",IFERROR('Tabel 2 B'!C135/'Tabel 1 B'!C133*100,\"-\"))","v":"-"},{"$f":"IF(OR('Tabel 1 B'!C133<5,'Tabel 2 B'!D135<0.5),\"-\",IFERROR('Tabel 2 B'!D135/'Tabel 1 B'!C133*100,\"-\"))","v":"-"},null,{"$f":"IF(OR('Tabel 1 B'!E133<5, 'Tabel 2 B'!F135<0.5),\"-\",IFERROR('Tabel 2 B'!F135/'Tabel 1 B'!E133*100,\"-\"))","v":"-"},{"$f":"IF(OR('Tabel 1 B'!E133<5,'Tabel 2 B'!G135<0.5),\"-\",IFERROR('Tabel 2 B'!G135/'Tabel 1 B'!E133*100,\"-\"))","v":"-"},null,{"$f":"IF(OR('Tabel 1 B'!G133<5,'Tabel 2 B'!I135<0.5),\"-\",IFERROR('Tabel 2 B'!I135/'Tabel 1 B'!G133*100,\"-\"))","v":"-"},{"$f":"IF(OR('Tabel 1 B'!G133<5,'Tabel 2 B'!J135<0.5),\"-\",IFERROR('Tabel 2 B'!J135/'Tabel 1 B'!G133*100,\"-\"))","v":"-"}]
["Arkitekt",null,{"$f":"IF(OR('Tabel 1 B'!C134<5, 'Tabel 2 B'!C136<0.5),\"-\",IFERROR('Tabel 2 B'!C136/'Tabel 1 B'!C134*100,\"-\"))","v":"-"},{"$f":"IF(OR('Tabel 1 B'!C134<5,'Tabel 2 B'!D136<0.5),\"-\",IFERROR('Tabel 2 B'!D136/'Tabel 1 B'!C134*100,\"-\"))","v":"-"},null,{"$f":"IF(OR('Tabel 1 B'!E134<5, 'Tabel 2 B'!F136<0.5),\"-\",IFERROR('Tabel 2 B'!F136/'Tabel 1 B'!E134*100,\"-\"))","v":"-"},{"$f":"IF(OR('Tabel 1 B'!E134<5,'Tabel 2 B'!G136<0.5),\"-\",IFERROR('Tabel 2 B'!G136/'Tabel 1 B'!E134*100,\"-\"))","v":"-"},null,{"$f":"IF(OR('Tabel 1 B'!G134<5,'Tabel 2 B'!I136<0.5),\"-\",IFERROR('Tabel 2 B'!I136/'Tabel 1 B'!G134*100,\"-\"))","v":"-"},{"$f":"IF(OR('Tabel 1 B'!G134<5,'Tabel 2 B'!J136<0.5),\"-\",IFERROR('Tabel 2 B'!J136/'Tabel 1 B'!G134*100,\"-\"))","v":"-"}]
["Landinspek.",null,{"$f":"IF(OR('Tabel 1 B'!C135<5, 'Tabel 2 B'!C137<0.5),\"-\",IFERROR('Tabel 2 B'!C137/'Tabel 1 B'!C135*100,\"-\"))","v":"-"},{"$f":"IF(OR('Tabel 1 B'!C135<5,'Tabel 2 B'!D137<0.5),\"-\",IFERROR('Tabel 2 B'!D137/'Tabel 1 B'!C135*100,\"-\"))","v":"-"},null,{"$f":"IF(OR('Tabel 1 B'!E135<5, 'Tabel 2 B'!F137<0.5),\"-\",IFERROR('Tabel 2 B'!F137/'Tabel 1 B'!E135*100,\"-\"))","v":"-"},{"$f":"IF(OR('Tabel 1 B'!E135<5,'Tabel 2 B'!G137<0.5),\"-\",IFERROR('Tabel 2 B'!G137/'Tabel 1 B'!E135*100,\"-\"))","v":"-"},null,{"$f":"IF(OR('Tabel 1 B'!G135<5,'Tabel 2 B'!I137<0.5),\"-\",IFERROR('Tabel 2 B'!I137/'Tabel 1 B'!G135*100,\"-\"))","v":"-"},{"$f":"IF(OR('Tabel 1 B'!G135<5,'Tabel 2 B'!J137<0.5),\"-\",IFERROR('Tabel 2 B'!J137/'Tabel 1 B'!G135*100,\"-\"))","v":"-"}]
["Bibliotekar",null,{"$f":"IF(OR('Tabel 1 B'!C136<5, 'Tabel 2 B'!C138<0.5),\"-\",IFERROR('Tabel 2 B'!C138/'Tabel 1 B'!C136*100,\"-\"))","v":"-"},{"$f":"IF(OR('Tabel 1 B'!C136<5,'Tabel 2 B'!D138<0.5),\"-\",IFERROR('Tabel 2 B'!D138/'Tabel 1 B'!C136*100,\"-\"))","v":"-"},null,{"$f":"IF(OR('Tabel 1 B'!E136<5, 'Tabel 2 B'!F138<0.5),\"-\",IFERROR('Tabel 2 B'!F138/'Tabel 1 B'!E136*100,\"-\"))","v":"-"},{"$f":"IF(OR('Tabel 1 B'!E136<5,'Tabel 2 B'!G138<0.5),\"-\",IFERROR('Tabel 2 B'!G138/'Tabel 1 B'!E136*100,\"-\"))","v":"-"},null,{"$f":"IF(OR('Tabel 1 B'!G136<5,'Tabel 2 B'!I138<0.5),\"-\",IFERROR('Tabel 2 B'!I138/'Tabel 1 B'!G136*100,\"-\"))","v":"-"},{"$f":"IF(OR('Tabel 1 B'!G136<5,'Tabel 2 B'!J138<0.5),\"-\",IFERROR('Tabel 2 B'!J138/'Tabel 1 B'!G136*100,\"-\"))","v":"-"}]
["Musikudd.",null,{"$f":"IF(OR('Tabel 1 B'!C137<5, 'Tabel 2 B'!C139<0.5),\"-\",IFERROR('Tabel 2 B'!C139/'Tabel 1 B'!C137*100,\"-\"))","v":"-"},{"$f":"IF(OR('Tabel 1 B'!C137<5,'Tabel 2 B'!D139<0.5),\"-\",IFERROR('Tabel 2 B'!D139/'Tabel 1 B'!C137*100,\"-\"))","v":"-"},null,{"$f":"IF(OR('Tabel 1 B'!E137<5, 'Tabel 2 B'!F139<0.5),\"-\",IFERROR('Tabel 2 B'!F139/'Tabel 1 B'!E137*100,\"-\"))","v":"-"},{"$f":"IF(OR('Tabel 1 B'!E137<5,'Tabel 2 B'!G139<0.5),\"-\",IFERROR('Tabel 2 B'!G139/'Tabel 1 B'!E137*100,\"-\"))","v":"-"},null,{"$f":"IF(OR('Tabel 1 B'!G137<5,'Tabel 2 B'!I139<0.5),\"-\",IFERROR('Tabel 2 B'!I139/'Tabel 1 B'!G137*100,\"-\"))","v":"-"},{"$f":"IF(OR('Tabel 1 B'!G137<5,'Tabel 2 B'!J139<0.5),\"-\",IFERROR('Tabel 2 B'!J139/'Tabel 1 B'!G137*100,\"-\"))","v":"-"}]
["Teolog",null,{"$f":"IF(OR('Tabel 1 B'!C138<5, 'Tabel 2 B'!C140<0.5),\"-\",IFERROR('Tabel 2 B'!C140/'Tabel 1 B'!C138*100,\"-\"))","v":"-"},{"$f":"IF(OR('Tabel 1 B'!C138<5,'Tabel 2 B'!D140<0.5),\"-\",IFERROR('Tabel 2 B'!D140/'Tabel 1 B'!C138*100,\"-\"))","v":"-"},null,{"$f":"IF(OR('Tabel 1 B'!E138<5, 'Tabel 2 B'!F140<0.5),\"-\",IFERROR('Tabel 2 B'!F140/'Tabel 1 B'!E138*100,\"-\"))","v":"-"},{"$f":"IF(OR('Tabel 1 B'!E138<5,'Tabel 2 B'!G140<0.5),\"-\",IFERROR('Tabel 2 B'!G140/'Tabel 1 B'!E138*100,\"-\"))","v":"-"},null,{"$f":"IF(OR('Tabel 1 B'!G138<5,'Tabel 2 B'!I140<0.5),\"-\",IFERROR('Tabel 2 B'!I140/'Tabel 1 B'!G138*100,\"-\"))","v":"-"},{"$f":"IF(OR('Tabel 1 B'!G138<5,'Tabel 2 B'!J140<0.5),\"-\",IFERROR('Tabel 2 B'!J140/'Tabel 1 B'!G138*100,\"-\"))","v":"-"}]
["Psykolog",null,{"$f":"IF(OR('Tabel 1 B'!C139<5, 'Tabel 2 B'!C141<0.5),\"-\",IFERROR('Tabel 2 B'!C141/'Tabel 1 B'!C139*100,\"-\"))","v":"-"},{"$f":"IF(OR('Tabel 1 B'!C139<5,'Tabel 2 B'!D141<0.5),\"-\",IFERROR('Tabel 2 B'!D141/'Tabel 1 B'!C139*100,\"-\"))","v":"-"},null,{"$f":"IF(OR('Tabel 1 B'!E139<5, 'Tabel 2 B'!F141<0.5),\"-\",IFERROR('Tabel 2 B'!F141/'Tabel 1 B'!E139*100,\"-\"))","v":"-"},{"$f":"IF(OR('Tabel 1 B'!E139<5,'Tabel 2 B'!G141<0.5),\"-\",IFERROR('Tabel 2 B'!G141/'Tabel 1 B'!E139*100,\"-\"))","v":"-"},null,{"$f":"IF(OR('Tabel 1 B'!G139<5,'Tabel 2 B'!I141<0.5),\"-\",IFERROR('Tabel 2 B'!I141/'Tabel 1 B'!G139*100,\"-\"))","v":"-"},{"$f":"IF(OR('Tabel 1 B'!G139<5,'Tabel 2 B'!J141<0.5),\"-\",IFERROR('Tabel 2 B'!J141/'Tabel 1 B'!G139*100,\"-\"))","v":"-"}]
["Jurist",null,{"$f":"IF(OR('Tabel 1 B'!C140<5, 'Tabel 2 B'!C142<0.5),\"-\",IFERROR('Tabel 2 B'!C142/'Tabel 1 B'!C140*100,\"-\"))","v":"-"},{"$f":"IF(OR('Tabel 1 B'!C140<5,'Tabel 2 B'!D142<0.5),\"-\",IFERROR('Tabel 2 B'!D142/'Tabel 1 B'!C140*100,\"-\"))","v":"-"},null,{"$f":"IF(OR('Tabel 1 B'!E140<5, 'Tabel 2 B'!F142<0.5),\"-\",IFERROR('Tabel 2 B'!F142/'Tabel 1 B'!E140*100,\"-\"))","v":"-"},{"$f":"IF(OR('Tabel 1 B'!E140<5,'Tabel 2 B'!G142<0.5),\"-\",IFERROR('Tabel 2 B'!G142/'Tabel 1 B'!E140*100,\"-\"))","v":"-"},null,{"$f":"IF(OR('Tabel 1 B'!G140<5,'Tabel 2 B'!I142<0.5),\"-\",IFERROR('Tabel 2 B'!I142/'Tabel 1 B'!G140*100,\"-\"))","v":"-"},{"$f":"IF(OR('Tabel 1 B'!G140<5,'Tabel 2 B'!J142<0.5),\"-\",IFERROR('Tabel 2 B'!J142/'Tabel 1 B'!G140*100,\"-\"))","v":"-"}]
["Økonom",null,{"$f":"IF(OR('Tabel 1 B'!C141<5, 'Tabel 2 B'!C143<0.5),\"-\",IFERROR('Tabel 2 B'!C143/'Tabel 1 B'!C141*100,\"-\"))","v":"-"},{"$f":"IF(OR('Tabel 1 B'!C141<5,'Tabel 2 B'!D143<0.5),\"-\",IFERROR('Tabel 2 B'!D143/'Tabel 1 B'!C141*100,\"-\"))","v":"-"},null,{"$f":"IF(OR('Tabel 1 B'!E141<5, 'Tabel 2 B'!F143<0.5),\"-\",IFERROR('Tabel 2 B'!F143/'Tabel 1 B'!E141*100,\"-\"))","v":"-"},{"$f":"IF(OR('Tabel 1 B'!E141<5,'Tabel 2 B'!G143<0.5),\"-\",IFERROR('Tabel 2 B'!G143/'Tabel 1 B'!E141*100,\"-\"))","v":"-"},null,{"$f":"IF(OR('Tabel 1 B'!G141<5,'Tabel 2 B'!I143<0.5),\"-\",IFERROR('Tabel 2 B'!I143/'Tabel 1 B'!G141*100,\"-\"))","v":"-"},{"$f":"IF(OR('Tabel 1 B'!G141<5,'Tabel 2 B'!J143<0.5),\"-\",IFERROR('Tabel 2 B'!J143/'Tabel 1 B'!G141*100,\"-\"))","v":"-"}]
["Samf. Adm.",null,{"$f":"IF(OR('Tabel 1 B'!C142<5, 'Tabel 2 B'!C144<0.5),\"-\",IFERROR('Tabel 2 B'!C144/'Tabel 1 B'!C142*100,\"-\"))","v":"-"},{"$f":"IF(OR('Tabel 1 B'!C142<5,'Tabel 2 B'!D144<0.5),\"-\",IFERROR('Tabel 2 B'!D144/'Tabel 1 B'!C142*100,\"-\"))","v":"-"},null,{"$f":"IF(OR('Tabel 1 B'!E142<5, 'Tabel 2 B'!F144<0.5),\"-\",IFERROR('Tabel 2 B'!F144/'Tabel 1 B'!E142*100,\"-\"))","v":"-"},{"$f":"IF(OR('Tabel 1 B'!E142<5,'Tabel 2 B'!G144<0.5),\"-\",IFERROR('Tabel 2 B'!G144/'Tabel 1 B'!E142*100,\"-\"))","v":"-"},null,{"$f":"IF(OR('Tabel 1 B'!G142<5,'Tabel 2 B'!I144<0.5),\"-\",IFERROR('Tabel 2 B'!I144/'Tabel 1 B'!G142*100,\"-\"))","v":"-"},{"$f":"IF(OR('Tabel 1 B'!G142<5,'Tabel 2 B'!J144<0.5),\"-\",IFERROR('Tabel 2 B'!J144/'Tabel 1 B'!G142*100,\"-\"))","v":"-"}]
["Cand. Merc.",null,{"$f":"IF(OR('Tabel 1 B'!C143<5, 'Tabel 2 B'!C145<0.5),\"-\",IFERROR('Tabel 2 B'!C145/'Tabel 1 B'!C143*100,\"-\"))","v":"-"},{"$f":"IF(OR('Tabel 1 B'!C143<5,'Tabel 2 B'!D145<0.5),\"-\",IFERROR('Tabel 2 B'!D145/'Tabel 1 B'!C143*100,\"-\"))","v":"-"},null,{"$f":"IF(OR('Tabel 1 B'!E143<5, 'Tabel 2 B'!F145<0.5),\"-\",IFERROR('Tabel 2 B'!F145/'Tabel 1 B'!E143*100,\"-\"))","v":"-"},{"$f":"IF(OR('Tabel 1 B'!E143<5,'Tabel 2 B'!G145<0.5),\"-\",IFERROR('Tabel 2 B'!G145/'Tabel 1 B'!E143*100,\"-\"))","v":"-"},null,{"$f":"IF(OR('Tabel 1 B'!G143<5,'Tabel 2 B'!I145<0.5),\"-\",IFERROR('Tabel 2 B'!I145/'Tabel 1 B'!G143*100,\"-\"))","v":"-"},{"$f":"IF(OR('Tabel 1 B'!G143<5,'Tabel 2 B'!J145<0.5),\"-\",IFERROR('Tabel 2 B'!J145/'Tabel 1 B'!G143*100,\"-\"))","v":"-"}]
["HA",null,{"$f":"IF(OR('Tabel 1 B'!C144<5, 'Tabel 2 B'!C146<0.5),\"-\",IFERROR('Tabel 2 B'!C146/'Tabel 1 B'!C144*100,\"-\"))","v":"-"},{"$f":"IF(OR('Tabel 1 B'!C144<5,'Tabel 2 B'!D146<0.5),\"-\",IFERROR('Tabel 2 B'!D146/'Tabel 1 B'!C144*100,\"-\"))","v":"-"},null,{"$f":"IF(OR('Tabel 1 B'!E144<5, 'Tabel 2 B'!F146<0.5),\"-\",IFERROR('Tabel 2 B'!F146/'Tabel 1 B'!E144*100,\"-\"))","v":"-"},{"$f":"IF(OR('Tabel 1 B'!E144<5,'Tabel 2 B'!G146<0.5),\"-\",IFERROR('Tabel 2 B'!G146/'Tabel 1 B'!E144*100,\"-\"))","v":"-"},null,{"$f":"IF(OR('Tabel 1 B'!G144<5,'Tabel 2 B'!I146<0.5),\"-\",IFERROR('Tabel 2 B'!I146/'Tabel 1 B'!G144*100,\"-\"))","v":"-"},{"$f":"IF(OR('Tabel 1 B'!G144<5,'Tabel 2 B'!J146<0.5),\"-\",IFERROR('Tabel 2 B'!J146/'Tabel 1 B'!G144*100,\"-\"))","v":"-"}]
["HD",null,{"$f":"IF(OR('Tabel 1 B'!C145<5, 'Tabel 2 B'!C147<0.5),\"-\",IFERROR('Tabel 2 B'!C147/'Tabel 1 B'!C145*100,\"-\"))","v":"-"},{"$f":"IF(OR('Tabel 1 B'!C145<5,'Tabel 2 B'!D147<0.5),\"-\",IFERROR('Tabel 2 B'!D147/'Tabel 1 B'!C145*100,\"-\"))","v":"-"},null,{"$f":"IF(OR('Tabel 1 B'!E145<5, 'Tabel 2 B'!F147<0.5),\"-\",IFERROR('Tabel 2 B'!F147/'Tabel 1 B'!E145*100,\"-\"))","v":"-"},{"$f":"IF(OR('Tabel 1 B'!E145<5,'Tabel 2 B'!G147<0.5),\"-\",IFERROR('Tabel 2 B'!G147/'Tabel 1 B'!E145*100,\"-\"))","v":"-"},null,{"$f":"IF(OR('Tabel 1 B'!G145<5,'Tabel 2 B'!I147<0.5),\"-\",IFERROR('Tabel 2 B'!I147/'Tabel 1 B'!G145*100,\"-\"))","v":"-"},{"$f":"IF(OR('Tabel 1 B'!G145<5,'Tabel 2 B'!J147<0.5),\"-\",IFERROR('Tabel 2 B'!J147/'Tabel 1 B'!G145*100,\"-\"))","v":"-"}]
["Komm. og Sprog",null,{"$f":"IF(OR('Tabel 1 B'!C146<5, 'Tabel 2 B'!C148<0.5),\"-\",IFERROR('Tabel 2 B'!C148/'Tabel 1 B'!C146*100,\"-\"))","v":"-"},{"$f":"IF(OR('Tabel 1 B'!C146<5,'Tabel 2 B'!D148<0.5),\"-\",IFERROR('Tabel 2 B'!D148/'Tabel 1 B'!C146*100,\"-\"))","v":"-"},null,{"$f":"IF(OR('Tabel 1 B'!E146<5, 'Tabel 2 B'!F148<0.5),\"-\",IFERROR('Tabel 2 B'!F148/'Tabel 1 B'!E146*100,\"-\"))","v":"-"},{"$f":"IF(OR('Tabel 1 B'!E146<5,'Tabel 2 B'!G148<0.5),\"-\",IFERROR('Tabel 2 B'!G148/'Tabel 1 B'!E146*100,\"-\"))","v":"-"},null,{"$f":"IF(OR('Tabel 1 B'!G146<5,'Tabel 2 B'!I148<0.5),\"-\",IFERROR('Tabel 2 B'!I148/'Tabel 1 B'!G146*100,\"-\"))","v":"-"},{"$f":"IF(OR('Tabel 1 B'!G146<5,'Tabel 2 B'!J148<0.5),\"-\",IFERROR('Tabel 2 B'!J148/'Tabel 1 B'!G146*100,\"-\"))","v":"-"}]
["Bygningskonst.",null,{"$f":"IF(OR('Tabel 1 B'!C147<5, 'Tabel 2 B'!C149<0.5),\"-\",IFERROR('Tabel 2 B'!C149/'Tabel 1 B'!C147*100,\"-\"))","v":"-"},{"$f":"IF(OR('Tabel 1 B'!C147<5,'Tabel 2 B'!D149<0.5),\"-\",IFERROR('Tabel 2 B'!D149/'Tabel 1 B'!C147*100,\"-\"))","v":"-"},null,{"$f":"IF(OR('Tabel 1 B'!E147<5, 'Tabel 2 B'!F149<0.5),\"-\",IFERROR('Tabel 2 B'!F149/'Tabel 1 B'!E147*100,\"-\"))","v":"-"},{"$f":"IF(OR('Tabel 1 B'!E147<5,'Tabel 2 B'!G149<0.5),\"-\",IFERROR('Tabel 2 B'!G149/'Tabel 1 B'!E147*100,\"-\"))","v":"-"},null,{"$f":"IF(OR('Tabel 1 B'!G147<5,'Tabel 2 B'!I149<0.5),\"-\",IFERROR('Tabel 2 B'!I149/'Tabel 1 B'!G147*100,\"-\"))","v":"-"},{"$f":"IF(OR('Tabel 1 B'!G147<5,'Tabel 2 B'!J149<0.5),\"-\",IFERROR('Tabel 2 B'!J149/'Tabel 1 B'!G147*100,\"-\"))","v":"-"}]
["Cand. IT.",null,{"$f":"IF(OR('Tabel 1 B'!C148<5, 'Tabel 2 B'!C150<0.5),\"-\",IFERROR('Tabel 2 B'!C150/'Tabel 1 B'!C148*100,\"-\"))","v":"-"},{"$f":"IF(OR('Tabel 1 B'!C148<5,'Tabel 2 B'!D150<0.5),\"-\",IFERROR('Tabel 2 B'!D150/'Tabel 1 B'!C148*100,\"-\"))","v":"-"},null,{"$f":"IF(OR('Tabel 1 B'!E148<5, 'Tabel 2 B'!F150<0.5),\"-\",IFERROR('Tabel 2 B'!F150/'Tabel 1 B'!E148*100,\"-\"))","v":"-"},{"$f":"IF(OR('Tabel 1 B'!E148<5,'Tabel 2 B'!G150<0.5),\"-\",IFERROR('Tabel 2 B'!G150/'Tabel 1 B'!E148*100,\"-\"))","v":"-"},null,{"$f":"IF(OR('Tabel 1 B'!G148<5,'Tabel 2 B'!I150<0.5),\"-\",IFERROR('Tabel 2 B'!I150/'Tabel 1 B'!G148*100,\"-\"))","v":"-"},{"$f":"IF(OR('Tabel 1 B'!G148<5,'Tabel 2 B'!J150<0.5),\"-\",IFERROR('Tabel 2 B'!J150/'Tabel 1 B'!G148*100,\"-\"))","v":"-"}]
["Bac. Samf.",null,{"$f":"IF(OR('Tabel 1 B'!C149<5, 'Tabel 2 B'!C151<0.5),\"-\",IFERROR('Tabel 2 B'!C151/'Tabel 1 B'!C149*100,\"-\"))","v":"-"},{"$f":"IF(OR('Tabel 1 B'!C149<5,'Tabel 2 B'!D151<0.5),\"-\",IFERROR('Tabel 2 B'!D151/'Tabel 1 B'!C149*100,\"-\"))","v":"-"},null,{"$f":"IF(OR('Tabel 1 B'!E149<5, 'Tabel 2 B'!F151<0.5),\"-\",IFERROR('Tabel 2 B'!F151/'Tabel 1 B'!E149*100,\"-\"))","v":"-"},{"$f":"IF(OR('Tabel 1 B'!E149<5,'Tabel 2 B'!G151<0.5),\"-\",IFERROR('Tabel 2 B'!G151/'Tabel 1 B'!E149*100,\"-\"))","v":"-"},null,{"$f":"IF(OR('Tabel 1 B'!G149<5,'Tabel 2 B'!I151<0.5),\"-\",IFERROR('Tabel 2 B'!I151/'Tabel 1 B'!G149*100,\"-\"))","v":"-"},{"$f":"IF(OR('Tabel 1 B'!G149<5,'Tabel 2 B'!J151<0.5),\"-\",IFERROR('Tabel 2 B'!J151/'Tabel 1 B'!G149*100,\"-\"))","v":"-"}]
["Bac. Hum.",null,{"$f":"IF(OR('Tabel 1 B'!C150<5, 'Tabel 2 B'!C152<0.5),\"-\",IFERROR('Tabel 2 B'!C152/'Tabel 1 B'!C150*100,\"-\"))","v":"-"},{"$f":"IF(OR('Tabel 1 B'!C150<5,'Tabel 2 B'!D152<0.5),\"-\",IFERROR('Tabel 2 B'!D152/'Tabel 1 B'!C150*100,\"-\"))","v":"-"},null,{"$f":"IF(OR('Tabel 1 B'!E150<5, 'Tabel 2 B'!F152<0.5),\"-\",IFERROR('Tabel 2 B'!F152/'Tabel 1 B'!E150*100,\"-\"))","v":"-"},{"$f":"IF(OR('Tabel 1 B'!E150<5,'Tabel 2 B'!G152<0.5),\"-\",IFERROR('Tabel 2 B'!G152/'Tabel 1 B'!E150*100,\"-\"))","v":"-"},null,{"$f":"IF(OR('Tabel 1 B'!G150<5,'Tabel 2 B'!I152<0.5),\"-\",IFERROR('Tabel 2 B'!I152/'Tabel 1 B'!G150*100,\"-\"))","v":"-"},{"$f":"IF(OR('Tabel 1 B'!G150<5,'Tabel 2 B'!J152<0.5),\"-\",IFERROR('Tabel 2 B'!J152/'Tabel 1 B'!G150*100,\"-\"))","v":"-"}]
["Bac. Nat.",null,{"$f":"IF(OR('Tabel 1 B'!C151<5, 'Tabel 2 B'!C153<0.5),\"-\",IFERROR('Tabel 2 B'!C153/'Tabel 1 B'!C151*100,\"-\"))","v":"-"},{"$f":"IF(OR('Tabel 1 B'!C151<5,'Tabel 2 B'!D153<0.5),\"-\",IFERROR('Tabel 2 B'!D153/'Tabel 1 B'!C151*100,\"-\"))","v":"-"},null,{"$f":"IF(OR('Tabel 1 B'!E151<5, 'Tabel 2 B'!F153<0.5),\"-\",IFERROR('Tabel 2 B'!F153/'Tabel 1 B'!E151*100,\"-\"))","v":"-"},{"$f":"IF(OR('Tabel 1 B'!E151<5,'Tabel 2 B'!G153<0.5),\"-\",IFERROR('Tabel 2 B'!G153/'Tabel 1 B'!E151*100,\"-\"))","v":"-"},null,{"$f":"IF(OR('Tabel 1 B'!G151<5,'Tabel 2 B'!I153<0.5),\"-\",IFERROR('Tabel 2 B'!I153/'Tabel 1 B'!G151*100,\"-\"))","v":"-"},{"$f":"IF(OR('Tabel 1 B'!G151<5,'Tabel 2 B'!J153<0.5),\"-\",IFERROR('Tabel 2 B'!J153/'Tabel 1 B'!G151*100,\"-\"))","v":"-"}]
["Andre",null,{"$f":"IF(OR('Tabel 1 B'!C152<5, 'Tabel 2 B'!C154<0.5),\"-\",IFERROR('Tabel 2 B'!C154/'Tabel 1 B'!C152*100,\"-\"))","v":"-"},{"$f":"IF(OR('Tabel 1 B'!C152<5,'Tabel 2 B'!D154<0.5),\"-\",IFERROR('Tabel 2 B'!D154/'Tabel 1 B'!C152*100,\"-\"))","v":"-"},null,{"$f":"IF(OR('Tabel 1 B'!E152<5, 'Tabel 2 B'!F154<0.5),\"-\",IFERROR('Tabel 2 B'!F154/'Tabel 1 B'!E152*100,\"-\"))","v":"-"},{"$f":"IF(OR('Tabel 1 B'!E152<5,'Tabel 2 B'!G154<0.5),\"-\",IFERROR('Tabel 2 B'!G154/'Tabel 1 B'!E152*100,\"-\"))","v":"-"},null,{"$f":"IF(OR('Tabel 1 B'!G152<5,'Tabel 2 B'!I154<0.5),\"-\",IFERROR('Tabel 2 B'!I154/'Tabel 1 B'!G152*100,\"-\"))","v":"-"},{"$f":"IF(OR('Tabel 1 B'!G152<5,'Tabel 2 B'!J154<0.5),\"-\",IFERROR('Tabel 2 B'!J154/'Tabel 1 B'!G152*100,\"-\"))","v":"-"}]
[]
["Total",null,{"$f":"IF(OR('Tabel 1 B'!C154<5, 'Tabel 2 B'!C156<0.5),\"-\",IFERROR('Tabel 2 B'!C156/'Tabel 1 B'!C154*100,\"-\"))","v":"-"},{"$f":"IF(OR('Tabel 1 B'!C154<5,'Tabel 2 B'!D156<0.5),\"-\",IFERROR('Tabel 2 B'!D156/'Tabel 1 B'!C154*100,\"-\"))","v":"-"},null,{"$f":"IF(OR('Tabel 1 B'!E154<5, 'Tabel 2 B'!F156<0.5),\"-\",IFERROR('Tabel 2 B'!F156/'Tabel 1 B'!E154*100,\"-\"))","v":"-"},{"$f":"IF(OR('Tabel 1 B'!E154<5,'Tabel 2 B'!G156<0.5),\"-\",IFERROR('Tabel 2 B'!G156/'Tabel 1 B'!E154*100,\"-\"))","v":"-"},null,{"$f":"IF(OR('Tabel 1 B'!G154<5,'Tabel 2 B'!I156<0.5),\"-\",IFERROR('Tabel 2 B'!I156/'Tabel 1 B'!G154*100,\"-\"))","v":"-"},{"$f":"IF(OR('Tabel 1 B'!G154<5,'Tabel 2 B'!J156<0.5),\"-\",IFERROR('Tabel 2 B'!J156/'Tabel 1 B'!G154*100,\"-\"))","v":"-"}]
[]
["Ingeniører i alt",null,{"$f":"IF(OR('Tabel 1 B'!C156<5, 'Tabel 2 B'!C158<0.5),\"-\",IFERROR('Tabel 2 B'!C158/'Tabel 1 B'!C156*100,\"-\"))","v":"-"},{"$f":"IF(OR('Tabel 1 B'!C156<5,'Tabel 2 B'!D158<0.5),\"-\",IFERROR('Tabel 2 B'!D158/'Tabel 1 B'!C156*100,\"-\"))","v":"-"},null,{"$f":"IF(OR('Tabel 1 B'!E156<5, 'Tabel 2 B'!F158<0.5),\"-\",IFERROR('Tabel 2 B'!F158/'Tabel 1 B'!E156*100,\"-\"))","v":"-"},{"$f":"IF(OR('Tabel 1 B'!E156<5,'Tabel 2 B'!G158<0.5),\"-\",IFERROR('Tabel 2 B'!G158/'Tabel 1 B'!E156*100,\"-\"))","v":"-"},null,{"$f":"IF(OR('Tabel 1 B'!G156<5,'Tabel 2 B'!I158<0.5),\"-\",IFERROR('Tabel 2 B'!I158/'Tabel 1 B'!G156*100,\"-\"))","v":"-"},{"$f":"IF(OR('Tabel 1 B'!G156<5,'Tabel 2 B'!J158<0.5),\"-\",IFERROR('Tabel 2 B'!J158/'Tabel 1 B'!G156*100,\"-\"))","v":"-"}]
["Magistre i alt",null,{"$f":"IF(OR('Tabel 1 B'!C157<5, 'Tabel 2 B'!C159<0.5),\"-\",IFERROR('Tabel 2 B'!C159/'Tabel 1 B'!C157*100,\"-\"))","v":"-"},{"$f":"IF(OR('Tabel 1 B'!C157<5,'Tabel 2 B'!D159<0.5),\"-\",IFERROR('Tabel 2 B'!D159/'Tabel 1 B'!C157*100,\"-\"))","v":"-"},null,{"$f":"IF(OR('Tabel 1 B'!E157<5, 'Tabel 2 B'!F159<0.5),\"-\",IFERROR('Tabel 2 B'!F159/'Tabel 1 B'!E157*100,\"-\"))","v":"-"},{"$f":"IF(OR('Tabel 1 B'!E157<5,'Tabel 2 B'!G159<0.5),\"-\",IFERROR('Tabel 2 B'!G159/'Tabel 1 B'!E157*100,\"-\"))","v":"-"},null,{"$f":"IF(OR('Tabel 1 B'!G157<5,'Tabel 2 B'!I159<0.5),\"-\",IFERROR('Tabel 2 B'!I159/'Tabel 1 B'!G157*100,\"-\"))","v":"-"},{"$f":"IF(OR('Tabel 1 B'!G157<5,'Tabel 2 B'!J159<0.5),\"-\",IFERROR('Tabel 2 B'!J159/'Tabel 1 B'!G157*100,\"-\"))","v":"-"}]
["DJØF'ere i alt",null,{"$f":"IF(OR('Tabel 1 B'!C158<5, 'Tabel 2 B'!C160<0.5),\"-\",IFERROR('Tabel 2 B'!C160/'Tabel 1 B'!C158*100,\"-\"))","v":"-"},{"$f":"IF(OR('Tabel 1 B'!C158<5,'Tabel 2 B'!D160<0.5),\"-\",IFERROR('Tabel 2 B'!D160/'Tabel 1 B'!C158*100,\"-\"))","v":"-"},null,{"$f":"IF(OR('Tabel 1 B'!E158<5, 'Tabel 2 B'!F160<0.5),\"-\",IFERROR('Tabel 2 B'!F160/'Tabel 1 B'!E158*100,\"-\"))","v":"-"},{"$f":"IF(OR('Tabel 1 B'!E158<5,'Tabel 2 B'!G160<0.5),\"-\",IFERROR('Tabel 2 B'!G160/'Tabel 1 B'!E158*100,\"-\"))","v":"-"},null,{"$f":"IF(OR('Tabel 1 B'!G158<5,'Tabel 2 B'!I160<0.5),\"-\",IFERROR('Tabel 2 B'!I160/'Tabel 1 B'!G158*100,\"-\"))","v":"-"},{"$f":"IF(OR('Tabel 1 B'!G158<5,'Tabel 2 B'!J160<0.5),\"-\",IFERROR('Tabel 2 B'!J160/'Tabel 1 B'!G158*100,\"-\"))","v":"-"}]

{"sheet":"Tabel 4F B","index":4,"n_rows":158,"n_cols":9,"rows_kept":158,"cut":false,"hidden":false,"merged":[]}
["Tabel 4. Antal forsikrede - aldersfordelt"]
[]
["Bornholm"]
[]
[null,null,"Under 30 år","30 - 39 år","40 - 49 år","50 - 59 år","Over 60 år",null,"I alt"]
[]
["Civ. ing.",null,2,13,9,8,2,null,34]
["Diplom ing.",null,3,13,18,22,7,null,63]
["Cand. Scient. Tek.",null,3,17,6,2,1,null,29]
["MA. Hum.",null,6,54,27,20,17,null,124]
["MA. Nat.",null,0,4,17,19,6,null,46]
["MA. Ph.d.",null,0,1,3,2,1,null,7]
["MA. Samf.",null,2,7,1,4,2,null,16]
["Øvrige Mag.",null,3,6,5,1,2,null,17]
["Agronom",null,1,0,2,6,1,null,10]
["Landsk. Arkt.",null,0,0,1,1,1,null,3]
["Hortonom",null,0,0,1,0,1,null,2]
["Forstkand.",null,0,0,0,1,0,null,1]
["Jordbrugsakad.",null,1,0,4,8,3,null,16]
["Mejeriing.",null,0,0,0,0,0,null,0]
["Levn.m.kand.",null,0,1,0,0,0,null,1]
["Dyrlæge",null,1,5,3,3,2,null,14]
["Farmaceut",null,0,1,2,1,2,null,6]
["Læge",null,8,12,3,5,5,null,33]
["Tandlæge",null,1,2,6,1,0,null,10]
["Arkitekt",null,0,2,5,2,5,null,14]
["Landinspek.",null,0,0,1,0,0,null,1]
["Bibliotekar",null,1,4,4,4,2,null,15]
["Musikudd.",null,0,0,0,2,0,null,2]
["Teolog",null,0,1,3,4,5,null,13]
["Psykolog",null,5,7,14,3,1,null,30]
["Jurist",null,2,9,8,10,3,null,32]
["Økonom",null,0,3,2,4,0,null,9]
["Samf. Adm.",null,1,16,21,10,4,null,52]
["Cand. Merc.",null,1,6,10,10,2,null,29]
["HA",null,0,2,3,6,1,null,12]
["HD",null,0,3,1,2,3,null,9]
["Komm. og Sprog",null,1,7,3,3,1,null,15]
["Bygningskonst.",null,4,9,7,6,2,null,28]
["Cand. IT.",null,0,1,1,0,0,null,2]
["Bac. Samf.",null,0,3,1,0,1,null,5]
["Bac. Hum.",null,3,3,4,2,1,null,13]
["Bac. Nat.",null,3,3,2,1,1,null,10]
["Andre",null,4,19,26,35,23,null,107]
[]
["Total",null,55,234,220,200,105,null,814]
[]
["Ingeniører i alt",null,5,26,27,30,9,null,97]
["Magistre i alt",null,11,72,53,46,28,null,210]
["DJØF'ere i alt",null,4,36,44,40,10,null,134]
[]
[]
[]
[]
[]
[]
["Bornholm"]
[]
[null,null,"Under 30 år","30 - 39 år","40 - 49 år","50 - 59 år","Over 60 år",null,"I alt"]
[]
["Civ. ing.",null,2,13,9,8,2,null,34]
["Diplom ing.",null,3,13,18,22,7,null,63]
["Cand. Scient. Tek.",null,3,17,6,2,1,null,29]
["MA. Hum.",null,6,54,27,20,17,null,124]
["MA. Nat.",null,0,4,17,19,6,null,46]
["MA. Ph.d.",null,0,1,3,2,1,null,7]
["MA. Samf.",null,2,7,1,4,2,null,16]
["Øvrige Mag.",null,3,6,5,1,2,null,17]
["Agronom",null,1,0,2,6,1,null,10]
["Landsk. Arkt.",null,0,0,1,1,1,null,3]
["Hortonom",null,0,0,1,0,1,null,2]
["Forstkand.",null,0,0,0,1,0,null,1]
["Jordbrugsakad.",null,1,0,4,8,3,null,16]
["Mejeriing.",null,0,0,0,0,0,null,0]
["Levn.m.kand.",null,0,1,0,0,0,null,1]
["Dyrlæge",null,1,5,3,3,2,null,14]
["Farmaceut",null,0,1,2,1,2,null,6]
["Læge",null,8,12,3,5,4,null,32]
["Tandlæge",null,1,2,6,1,0,null,10]
["Arkitekt",null,0,2,5,2,5,null,14]
["Landinspek.",null,0,0,1,0,0,null,1]
["Bibliotekar",null,1,4,4,4,2,null,15]
["Musikudd.",null,0,0,0,2,0,null,2]
["Teolog",null,0,1,3,4,5,null,13]
["Psykolog",null,5,7,14,3,1,null,30]
["Jurist",null,2,9,8,10,3,null,32]
["Økonom",null,0,3,2,4,0,null,9]
["Samf. Adm.",null,1,16,21,10,4,null,52]
["Cand. Merc.",null,1,6,10,10,2,null,29]
["HA",null,0,2,3,6,1,null,12]
["HD",null,0,3,1,2,3,null,9]
["Komm. og Sprog",null,1,7,3,3,1,null,15]
["Bygningskonst.",null,4,9,7,6,2,null,28]
["Cand. IT.",null,0,1,1,0,0,null,2]
["Bac. Samf.",null,0,3,1,0,1,null,5]
["Bac. Hum.",null,3,3,4,2,1,null,13]
["Bac. Nat.",null,3,3,2,1,1,null,10]
["Andre",null,4,19,26,35,23,null,107]
[]
["Total",null,55,234,220,200,104,null,813]
[]
["Ingeniører i alt",null,5,26,27,30,9,null,97]
["Magistre i alt",null,11,72,53,46,28,null,210]
["DJØF'ere i alt",null,4,36,44,40,10,null,134]
[]
[]
[]
[]
[]
[]
["Christiansø"]
[]
[null,null,"Under 30 år","30 - 39 år","40 - 49 år","50 - 59 år","Over 60 år",null,"I alt"]
[]
["Civ. ing.",null,0,0,0,0,0,null,0]
["Diplom ing.",null,0,0,0,0,0,null,0]
["Cand. Scient. Tek.",null,0,0,0,0,0,null,0]
["MA. Hum.",null,0,0,0,0,0,null,0]
["MA. Nat.",null,0,0,0,0,0,null,0]
["MA. Ph.d.",null,0,0,0,0,0,null,0]
["MA. Samf.",null,0,0,0,0,0,null,0]
["Øvrige Mag.",null,0,0,0,0,0,null,0]
["Agronom",null,0,0,0,0,0,null,0]
["Landsk. Arkt.",null,0,0,0,0,0,null,0]
["Hortonom",null,0,0,0,0,0,null,0]
["Forstkand.",null,0,0,0,0,0,null,0]
["Jordbrugsakad.",null,0,0,0,0,0,null,0]
["Mejeriing.",null,0,0,0,0,0,null,0]
["Levn.m.kand.",null,0,0,0,0,0,null,0]
["Dyrlæge",null,0,0,0,0,0,null,0]
["Farmaceut",null,0,0,0,0,0,null,0]
["Læge",null,0,0,0,0,1,null,1]
["Tandlæge",null,0,0,0,0,0,null,0]
["Arkitekt",null,0,0,0,0,0,null,0]
["Landinspek.",null,0,0,0,0,0,null,0]
["Bibliotekar",null,0,0,0,0,0,null,0]
["Musikudd.",null,0,0,0,0,0,null,0]
["Teolog",null,0,0,0,0,0,null,0]
["Psykolog",null,0,0,0,0,0,null,0]
["Jurist",null,0,0,0,0,0,null,0]
["Økonom",null,0,0,0,0,0,null,0]
["Samf. Adm.",null,0,0,0,0,0,null,0]
["Cand. Merc.",null,0,0,0,0,0,null,0]
["HA",null,0,0,0,0,0,null,0]
["HD",null,0,0,0,0,0,null,0]
["Komm. og Sprog",null,0,0,0,0,0,null,0]
["Bygningskonst.",null,0,0,0,0,0,null,0]
["Cand. IT.",null,0,0,0,0,0,null,0]
["Bac. Samf.",null,0,0,0,0,0,null,0]
["Bac. Hum.",null,0,0,0,0,0,null,0]
["Bac. Nat.",null,0,0,0,0,0,null,0]
["Andre",null,0,0,0,0,0,null,0]
[]
["Total",null,0,0,0,0,1,null,1]
[]
["Ingeniører i alt",null,0,0,0,0,0,null,0]
["Magistre i alt",null,0,0,0,0,0,null,0]
["DJØF'ere i alt",null,0,0,0,0,0,null,0]

{"sheet":"Tabel 4 B","index":5,"n_rows":158,"n_cols":9,"rows_kept":158,"cut":false,"hidden":false,"merged":[]}
["Tabel 4. Ledighedsberørte - aldersfordelt"]
[]
["Bornholm"]
[]
[null,null,"Under 30 år","30 - 39 år","40 - 49 år","50 - 59 år","Over 60 år",null,"I alt"]
[]
["Civ. ing.",null,0,2,1,0,0,null,3]
["Diplom ing.",null,0,1,0,2,0,null,3]
["Cand. Scient. Tek",null,1,4,1,0,0,null,6]
["MA. Hum.",null,2,8,7,1,4,null,22]
["MA. Nat.",null,0,0,2,0,1,null,3]
["MA. Ph.d.",null,0,0,1,0,0,null,1]
["MA. Samf.",null,0,0,0,2,0,null,2]
["Øvrige Mag.",null,0,3,2,0,0,null,5]
["Agronom",null,0,0,0,0,0,null,0]
["Landsk. Arkt.",null,0,0,0,0,0,null,0]
["Hortonom",null,0,0,0,0,0,null,0]
["Forstkand.",null,0,0,0,0,0,null,0]
["Jordbrugsakad.",null,0,0,0,0,0,null,0]
["Mejeriing.",null,0,0,0,0,0,null,0]
["Levn.m.kand.",null,0,0,0,0,0,null,0]
["Dyrlæge",null,0,0,0,1,0,null,1]
["Farmaceut",null,0,0,0,0,0,null,0]
["Læge",null,1,0,0,0,0,null,1]
["Tandlæge",null,0,0,0,0,0,null,0]
["Arkitekt",null,0,0,0,1,0,null,1]
["Landinspek.",null,0,0,0,0,0,null,0]
["Bibliotekar",null,0,0,0,0,1,null,1]
["Musikudd.",null,0,0,0,1,0,null,1]
["Teolog",null,0,0,0,0,0,null,0]
["Psykolog",null,0,1,1,0,0,null,2]
["Jurist",null,0,0,0,0,0,null,0]
["Økonom",null,0,0,0,0,0,null,0]
["Samf. Adm.",null,0,0,1,2,0,null,3]
["Cand. Merc.",null,0,0,3,0,0,null,3]
["HA",null,0,0,0,0,0,null,0]
["HD",null,0,0,0,0,0,null,0]
["Komm. og Sprog",null,0,2,0,2,0,null,4]
["Bygningskonst",null,0,0,0,0,0,null,0]
["Cand. IT.",null,0,0,0,0,0,null,0]
["Bac. Samf.",null,0,0,0,0,0,null,0]
["Bac. Hum.",null,0,1,1,0,0,null,2]
["Bac. Nat.",null,0,1,0,1,0,null,2]
["Andre",null,0,2,5,2,2,null,11]
[]
["Total",null,4,25,25,15,8,null,77]
[]
["Ingeniører i alt",null,0,3,1,2,0,null,6]
["Magistre i alt",null,2,11,12,3,5,null,33]
["DJØF'ere i alt",null,0,0,4,2,0,null,6]
[]
[]
[]
[]
[]
[]
["Bornholm"]
[]
[null,null,"Under 30 år","30 - 39 år","40 - 49 år","50 - 59 år","Over 60 år",null,"I alt"]
[]
["Civ. ing.",null,0,2,1,0,0,null,3]
["Diplom ing.",null,0,1,0,2,0,null,3]
["Cand. Scient. Tek",null,1,4,1,0,0,null,6]
["MA. Hum.",null,2,8,7,1,4,null,22]
["MA. Nat.",null,0,0,2,0,1,null,3]
["MA. Ph.d.",null,0,0,1,0,0,null,1]
["MA. Samf.",null,0,0,0,2,0,null,2]
["Øvrige Mag.",null,0,3,2,0,0,null,5]
["Agronom",null,0,0,0,0,0,null,0]
["Landsk. Arkt.",null,0,0,0,0,0,null,0]
["Hortonom",null,0,0,0,0,0,null,0]
["Forstkand.",null,0,0,0,0,0,null,0]
["Jordbrugsakad.",null,0,0,0,0,0,null,0]
["Mejeriing.",null,0,0,0,0,0,null,0]
["Levn.m.kand.",null,0,0,0,0,0,null,0]
["Dyrlæge",null,0,0,0,1,0,null,1]
["Farmaceut",null,0,0,0,0,0,null,0]
["Læge",null,1,0,0,0,0,null,1]
["Tandlæge",null,0,0,0,0,0,null,0]
["Arkitekt",null,0,0,0,1,0,null,1]
["Landinspek.",null,0,0,0,0,0,null,0]
["Bibliotekar",null,0,0,0,0,1,null,1]
["Musikudd.",null,0,0,0,1,0,null,1]
["Teolog",null,0,0,0,0,0,null,0]
["Psykolog",null,0,1,1,0,0,null,2]
["Jurist",null,0,0,0,0,0,null,0]
["Økonom",null,0,0,0,0,0,null,0]
["Samf. Adm.",null,0,0,1,2,0,null,3]
["Cand. Merc.",null,0,0,3,0,0,null,3]
["HA",null,0,0,0,0,0,null,0]
["HD",null,0,0,0,0,0,null,0]
["Komm. og Sprog",null,0,2,0,2,0,null,4]
["Bygningskonst.",null,0,0,0,0,0,null,0]
["Cand. IT.",null,0,0,0,0,0,null,0]
["Bac. Samf.",null,0,0,0,0,0,null,0]
["Bac. Hum.",null,0,1,1,0,0,null,2]
["Bac. Nat.",null,0,1,0,1,0,null,2]
["Andre",null,0,2,5,2,2,null,11]
[]
["Total",null,4,25,25,15,8,null,77]
[]
["Ingeniører i alt",null,0,3,1,2,0,null,6]
["Magistre i alt",null,2,11,12,3,5,null,33]
["DJØF'ere i alt",null,0,0,4,2,0,null,6]
[]
[]
[]
[]
[]
[]
["Christiansø"]
[]
[null,null,"Under 30 år","30 - 39 år","40 - 49 år","50 - 59 år","Over 60 år",null,"I alt"]
[]
["Civ. ing.",null,0,0,0,0,0,null,0]
["Diplom ing.",null,0,0,0,0,0,null,0]
["Cand. Scient. Tek",null,0,0,0,0,0,null,0]
["MA. Hum.",null,0,0,0,0,0,null,0]
["MA. Nat.",null,0,0,0,0,0,null,0]
["MA. Ph.d.",null,0,0,0,0,0,null,0]
["MA. Samf.",null,0,0,0,0,0,null,0]
["Øvrige Mag.",null,0,0,0,0,0,null,0]
["Agronom",null,0,0,0,0,0,null,0]
["Landsk. Arkt.",null,0,0,0,0,0,null,0]
["Hortonom",null,0,0,0,0,0,null,0]
["Forstkand.",null,0,0,0,0,0,null,0]
["Jordbrugsakad.",null,0,0,0,0,0,null,0]
["Mejeriing.",null,0,0,0,0,0,null,0]
["Levn.m.kand.",null,0,0,0,0,0,null,0]
["Dyrlæge",null,0,0,0,0,0,null,0]
["Farmaceut",null,0,0,0,0,0,null,0]
["Læge",null,0,0,0,0,0,null,0]
["Tandlæge",null,0,0,0,0,0,null,0]
["Arkitekt",null,0,0,0,0,0,null,0]
["Landinspek.",null,0,0,0,0,0,null,0]
["Bibliotekar",null,0,0,0,0,0,null,0]
["Musikudd.",null,0,0,0,0,0,null,0]
["Teolog",null,0,0,0,0,0,null,0]
["Psykolog",null,0,0,0,0,0,null,0]
["Jurist",null,0,0,0,0,0,null,0]
["Økonom",null,0,0,0,0,0,null,0]
["Samf. Adm.",null,0,0,0,0,0,null,0]
["Cand. Merc.",null,0,0,0,0,0,null,0]
["HA",null,0,0,0,0,0,null,0]
["HD",null,0,0,0,0,0,null,0]
["Komm. og Sprog",null,0,0,0,0,0,null,0]
["Bygningskonst.",null,0,0,0,0,0,null,0]
["Cand. IT.",null,0,0,0,0,0,null,0]
["Bac. Samf.",null,0,0,0,0,0,null,0]
["Bac. Hum.",null,0,0,0,0,0,null,0]
["Bac. Nat.",null,0,0,0,0,0,null,0]
["Andre",null,0,0,0,0,0,null,0]
[]
["Total",null,0,0,0,0,0,null,0]
[]
["Ingeniører i alt",null,0,0,0,0,0,null,0]
["Magistre i alt",null,0,0,0,0,0,null,0]
["DJØF'ere i alt",null,0,0,0,0,0,null,0]

{"sheet":"Tabel 4(Br) B","index":6,"n_rows":158,"n_cols":9,"rows_kept":158,"cut":false,"hidden":false,"merged":[]}
["Tabel 4. Ledighedsberørte - aldersfordelt"]
[]
["Bornholm"]
[]
[null,null,"Under 30 år","30 - 39 år","40 - 49 år","50 - 59 år","Over 60 år",null,"I alt"]
[]
["Civ. ing.",null,0,1.9996257718455581,0.99981288592278261,0,0,null,2.9994386577683407]
["Diplom ing.",null,0,0.71290463419198602,0,1.9996257718455652,0,null,2.7125304060375512]
["Cand. Scient. Tek",null,0.58441963450383128,3.6562090687956186,0.39730555728809236,0,0,null,4.6379342605875422]
["MA. Hum.",null,1.9996257718455581,5.4007359820370766,5.8828665876629032,0.99981288592275064,3.5002806711158314,null,17.78332189858412]
["MA. Nat.",null,0,0,1.9996257718455723,0,0.99981288592278439,null,2.9994386577683567]
["MA. Ph.d.",null,0,0,0.99981288592278439,0,0,null,0.99981288592278439]
["MA. Samf.",null,0,0,0,1.999625771845567,0,null,1.999625771845567]
["Øvrige Mag.",null,0,2.9071290463419288,1.9996257718455652,0,0,null,4.906754818187494]
["Agronom",null,0,0,0,0,0,null,0]
["Landsk. Arkt.",null,0,0,0,0,0,null,0]
["Hortonom",null,0,0,0,0,0,null,0]
["Forstkand.",null,0,0,0,0,0,null,0]
["Jordbrugsakad.",null,0,0,0,0,0,null,0]
["Mejeriing.",null,0,0,0,0,0,null,0]
["Levn.m.kand.",null,0,0,0,0,0,null,0]
["Dyrlæge",null,0,0,0,0.53826482879061932,0,null,0.53826482879061932]
["Farmaceut",null,0,0,0,0,0,null,0]
["Læge",null,0.30749080022454223,0,0,0,0,null,0.30749080022454223]
["Tandlæge",null,0,0,0,0,0,null,0]
["Arkitekt",null,0,0,0,0.99981288592278261,0,null,0.99981288592278261]
["Landinspek.",null,0,0,0,0,0,null,0]
["Bibliotekar",null,0,0,0,0,0.99981288592278439,null,0.99981288592278439]
["Musikudd.",null,0,0,0,0.9998128859227835,0,null,0.9998128859227835]
["Teolog",null,0,0,0,0,0,null,0]
["Psykolog",null,0,0.99981288592277195,0.5844196345038366,0,0,null,1.5842325204266086]
["Jurist",null,0,0,0,0,0,null,0]
["Økonom",null,0,0,0,0,0,null,0]
["Samf. Adm.",null,0,0,0.99981288592277906,1.9996257718455723,0,null,2.9994386577683514]
["Cand. Merc.",null,0,0,2.6002619597080923,0,0,null,2.6002619597080923]
["HA",null,0,0,0,0,0,null,0]
["HD",null,0,0,0,0,0,null,0]
["Komm. og Sprog",null,0,1.9996257718455723,0,1.9996257718455688,0,null,3.9992515436911411]
["Bygningskonst.",null,0,0,0,0,0,null,0]
["Cand. IT.",null,0,0,0,0,0,null,0]
["Bac. Samf.",null,0,0,0,0,0,null,0]
["Bac. Hum.",null,0,0.99981288592278617,0.99981288592278261,0,0,null,1.9996257718455688]
["Bac. Nat.",null,0,0.99357575001559439,0,0.99981288592278439,0,null,1.9933886359383788]
["Andre",null,0,1.7688517432794697,4.609867149005197,1.9996257718455581,1.8106405538576738,null,10.188985217987899]
[]
["Total",null,2.8915362065739316,21.438283540198363,22.073223975550388,14.535645231709552,7.3105469968190739,null,68.2492359508513]
[]
["Ingeniører i alt",null,0,2.7125304060375441,0.99981288592278261,1.9996257718455652,0,null,5.711969063805892]
["Magistre i alt",null,1.9996257718455581,8.3078650283790054,10.881931017276825,2.9994386577683176,4.5000935570386158,null,28.688954032308324]
["DJØF'ere i alt",null,0,0,3.6000748456308713,1.9996257718455723,0,null,5.5997006174764437]
[]
[]
[]
[]
[]
[]
["Bornholm"]
[]
[null,null,"Under 30 år","30 - 39 år","40 - 49 år","50 - 59 år","Over 60 år",null,"I alt"]
[]
["Civ. ing.",null,0,1.9996257718455686,0.99981288592278428,0,0,null,2.9994386577683527]
["Diplom ing.",null,0,0.71290463419197903,0,1.9996257718455686,0,null,2.7125304060375477]
["Cand. Scient. Tek",null,0.58441963450383583,3.6562090687956093,0.3973055572880933,0,0,null,4.6379342605875387]
["MA. Hum.",null,1.9996257718455686,5.4007359820370491,5.8828665876629449,0.99981288592278428,3.5002806711158239,null,17.78332189858417]
["MA. Nat.",null,0,0,1.9996257718455686,0,0.99981288592278428,null,2.9994386577683527]
["MA. Ph.d.",null,0,0,0.99981288592278428,0,0,null,0.99981288592278428]
["MA. Samf.",null,0,0,0,1.9996257718455686,0,null,1.9996257718455686]
["Øvrige Mag.",null,0,2.9071290463419199,1.9996257718455686,0,0,null,4.9067548181874887]
["Agronom",null,0,0,0,0,0,null,0]
["Landsk. Arkt.",null,0,0,0,0,0,null,0]
["Hortonom",null,0,0,0,0,0,null,0]
["Forstkand.",null,0,0,0,0,0,null,0]
["Jordbrugsakad.",null,0,0,0,0,0,null,0]
["Mejeriing.",null,0,0,0,0,0,null,0]
["Levn.m.kand.",null,0,0,0,0,0,null,0]
["Dyrlæge",null,0,0,0,0.53826482879061932,0,null,0.53826482879061932]
["Farmaceut",null,0,0,0,0,0,null,0]
["Læge",null,0.30749080022453684,0,0,0,0,null,0.30749080022453684]
["Tandlæge",null,0,0,0,0,0,null,0]
["Arkitekt",null,0,0,0,0.99981288592278428,0,null,0.99981288592278428]
["Landinspek.",null,0,0,0,0,0,null,0]
["Bibliotekar",null,0,0,0,0,0.99981288592278428,null,0.99981288592278428]
["Musikudd.",null,0,0,0,0.99981288592278428,0,null,0.99981288592278428]
["Teolog",null,0,0,0,0,0,null,0]
["Psykolog",null,0,0.99981288592278428,0.58441963450383583,0,0,null,1.5842325204266201]
["Jurist",null,0,0,0,0,0,null,0]
["Økonom",null,0,0,0,0,0,null,0]
["Samf. Adm.",null,0,0,0.99981288592278428,1.9996257718455686,0,null,2.9994386577683527]
["Cand. Merc.",null,0,0,2.600261959708102,0,0,null,2.600261959708102]
["HA",null,0,0,0,0,0,null,0]
["HD",null,0,0,0,0,0,null,0]
["Komm. og Sprog",null,0,1.9996257718455686,0,1.9996257718455686,0,null,3.9992515436911371]
["Bygningskonst.",null,0,0,0,0,0,null,0]
["Cand. IT.",null,0,0,0,0,0,null,0]
["Bac. Samf.",null,0,0,0,0,0,null,0]
["Bac. Hum.",null,0,0.99981288592278428,0.99981288592278428,0,0,null,1.9996257718455686]
["Bac. Nat.",null,0,0.99357575001559284,0,0.99981288592278428,0,null,1.993388635938377]
["Andre",null,0,1.7688517432794859,4.6098671490051766,1.9996257718455686,1.8106405538576684,null,10.188985217987899]
[]
["Total",null,2.8915362065739414,21.438283540198345,22.073223975550427,14.5356452317096,7.3105469968190606,null,68.249235950851372]
[]
["Ingeniører i alt",null,0,2.7125304060375477,0.99981288592278428,1.9996257718455686,0,null,5.7119690638059009]
["Magistre i alt",null,1.9996257718455686,8.3078650283789699,10.881931017276866,2.9994386577683527,4.5000935570386078,null,28.688954032308363]
["DJØF'ere i alt",null,0,0,3.6000748456308864,1.9996257718455686,0,null,5.5997006174764552]
[]
[]
[]
[]
[]
[]
["Christiansø"]
[]
[null,null,"Under 30 år","30 - 39 år","40 - 49 år","50 - 59 år","Over 60 år",null,"I alt"]
[]
["Civ. ing.",null,0,0,0,0,0,null,0]
["Diplom ing.",null,0,0,0,0,0,null,0]
["Cand. Scient. Tek",null,0,0,0,0,0,null,0]
["MA. Hum.",null,0,0,0,0,0,null,0]
["MA. Nat.",null,0,0,0,0,0,null,0]
["MA. Ph.d.",null,0,0,0,0,0,null,0]
["MA. Samf.",null,0,0,0,0,0,null,0]
["Øvrige Mag.",null,0,0,0,0,0,null,0]
["Agronom",null,0,0,0,0,0,null,0]
["Landsk. Arkt.",null,0,0,0,0,0,null,0]
["Hortonom",null,0,0,0,0,0,null,0]
["Forstkand.",null,0,0,0,0,0,null,0]
["Jordbrugsakad.",null,0,0,0,0,0,null,0]
["Mejeriing.",null,0,0,0,0,0,null,0]
["Levn.m.kand.",null,0,0,0,0,0,null,0]
["Dyrlæge",null,0,0,0,0,0,null,0]
["Farmaceut",null,0,0,0,0,0,null,0]
["Læge",null,0,0,0,0,0,null,0]
["Tandlæge",null,0,0,0,0,0,null,0]
["Arkitekt",null,0,0,0,0,0,null,0]
["Landinspek.",null,0,0,0,0,0,null,0]
["Bibliotekar",null,0,0,0,0,0,null,0]
["Musikudd.",null,0,0,0,0,0,null,0]
["Teolog",null,0,0,0,0,0,null,0]
["Psykolog",null,0,0,0,0,0,null,0]
["Jurist",null,0,0,0,0,0,null,0]
["Økonom",null,0,0,0,0,0,null,0]
["Samf. Adm.",null,0,0,0,0,0,null,0]
["Cand. Merc.",null,0,0,0,0,0,null,0]
["HA",null,0,0,0,0,0,null,0]
["HD",null,0,0,0,0,0,null,0]
["Komm. og Sprog",null,0,0,0,0,0,null,0]
["Bygningskonst.",null,0,0,0,0,0,null,0]
["Cand. IT.",null,0,0,0,0,0,null,0]
["Bac. Samf.",null,0,0,0,0,0,null,0]
["Bac. Hum.",null,0,0,0,0,0,null,0]
["Bac. Nat.",null,0,0,0,0,0,null,0]
["Andre",null,0,0,0,0,0,null,0]
[]
["Total",null,0,0,0,0,0,null,0]
[]
["Ingeniører i alt",null,0,0,0,0,0,null,0]
["Magistre i alt",null,0,0,0,0,0,null,0]
["DJØF'ere i alt",null,0,0,0,0,0,null,0]

{"sheet":"Tabel 4P B","index":7,"n_rows":158,"n_cols":9,"rows_kept":158,"cut":false,"hidden":false,"merged":[]}
["Tabel 4. Ledighedsberørte - aldersfordelt"]
[]
["Bornholm"]
[]
[null,null,"Under 30 år","30 - 39 år","40 - 49 år","50 - 59 år","Over 60 år",null,"I alt"]
[]
["Civ. ing.",null,{"$f":"IF(OR('Tabel 4F B'!C7<5, 'Tabel 4 B'!C7<0.5),\"-\",IFERROR('Tabel 4 B'!C7/'Tabel 4F B'!C7*100,\"-\"))","v":"-"},{"$f":"IF(OR('Tabel 4F B'!D7<5, 'Tabel 4 B'!D7<0.5),\"-\",IFERROR('Tabel 4 B'!D7/'Tabel 4F B'!D7*100,\"-\"))","v":15.384615384615385},{"$f":"IF(OR('Tabel 4F B'!E7<5, 'Tabel 4 B'!E7<0.5),\"-\",IFERROR('Tabel 4 B'!E7/'Tabel 4F B'!E7*100,\"-\"))","v":11.111111111111111},{"$f":"IF(OR('Tabel 4F B'!F7<5, 'Tabel 4 B'!F7<0.5),\"-\",IFERROR('Tabel 4 B'!F7/'Tabel 4F B'!F7*100,\"-\"))","v":"-"},{"$f":"IF(OR('Tabel 4F B'!G7<5, 'Tabel 4 B'!G7<0.5),\"-\",IFERROR('Tabel 4 B'!G7/'Tabel 4F B'!G7*100,\"-\"))","v":"-"},null,{"$f":"IF(OR('Tabel 4F B'!I7<5, 'Tabel 4 B'!I7<0.5),\"-\",IFERROR('Tabel 4 B'!I7/'Tabel 4F B'!I7*100,\"-\"))","v":8.8235294117647065}]
["Diplom ing.",null,{"$f":"IF(OR('Tabel 4F B'!C8<5, 'Tabel 4 B'!C8<0.5),\"-\",IFERROR('Tabel 4 B'!C8/'Tabel 4F B'!C8*100,\"-\"))","v":"-"},{"$f":"IF(OR('Tabel 4F B'!D8<5, 'Tabel 4 B'!D8<0.5),\"-\",IFERROR('Tabel 4 B'!D8/'Tabel 4F B'!D8*100,\"-\"))","v":7.6923076923076925},{"$f":"IF(OR('Tabel 4F B'!E8<5, 'Tabel 4 B'!E8<0.5),\"-\",IFERROR('Tabel 4 B'!E8/'Tabel 4F B'!E8*100,\"-\"))","v":"-"},{"$f":"IF(OR('Tabel 4F B'!F8<5, 'Tabel 4 B'!F8<0.5),\"-\",IFERROR('Tabel 4 B'!F8/'Tabel 4F B'!F8*100,\"-\"))","v":9.0909090909090917},{"$f":"IF(OR('Tabel 4F B'!G8<5, 'Tabel 4 B'!G8<0.5),\"-\",IFERROR('Tabel 4 B'!G8/'Tabel 4F B'!G8*100,\"-\"))","v":"-"},null,{"$f":"IF(OR('Tabel 4F B'!I8<5, 'Tabel 4 B'!I8<0.5),\"-\",IFERROR('Tabel 4 B'!I8/'Tabel 4F B'!I8*100,\"-\"))","v":4.7619047619047619}]
["Cand. Scient. Tek",null,{"$f":"IF(OR('Tabel 4F B'!C9<5, 'Tabel 4 B'!C9<0.5),\"-\",IFERROR('Tabel 4 B'!C9/'Tabel 4F B'!C9*100,\"-\"))","v":"-"},{"$f":"IF(OR('Tabel 4F B'!D9<5, 'Tabel 4 B'!D9<0.5),\"-\",IFERROR('Tabel 4 B'!D9/'Tabel 4F B'!D9*100,\"-\"))","v":23.52941176470588},{"$f":"IF(OR('Tabel 4F B'!E9<5, 'Tabel 4 B'!E9<0.5),\"-\",IFERROR('Tabel 4 B'!E9/'Tabel 4F B'!E9*100,\"-\"))","v":16.666666666666664},{"$f":"IF(OR('Tabel 4F B'!F9<5, 'Tabel 4 B'!F9<0.5),\"-\",IFERROR('Tabel 4 B'!F9/'Tabel 4F B'!F9*100,\"-\"))","v":"-"},{"$f":"IF(OR('Tabel 4F B'!G9<5, 'Tabel 4 B'!G9<0.5),\"-\",IFERROR('Tabel 4 B'!G9/'Tabel 4F B'!G9*100,\"-\"))","v":"-"},null,{"$f":"IF(OR('Tabel 4F B'!I9<5, 'Tabel 4 B'!I9<0.5),\"-\",IFERROR('Tabel 4 B'!I9/'Tabel 4F B'!I9*100,\"-\"))","v":20.689655172413794}]
["MA. Hum.",null,{"$f":"IF(OR('Tabel 4F B'!C10<5, 'Tabel 4 B'!C10<0.5),\"-\",IFERROR('Tabel 4 B'!C10/'Tabel 4F B'!C10*100,\"-\"))","v":33.333333333333329},{"$f":"IF(OR('Tabel 4F B'!D10<5, 'Tabel 4 B'!D10<0.5),\"-\",IFERROR('Tabel 4 B'!D10/'Tabel 4F B'!D10*100,\"-\"))","v":14.814814814814813},{"$f":"IF(OR('Tabel 4F B'!E10<5, 'Tabel 4 B'!E10<0.5),\"-\",IFERROR('Tabel 4 B'!E10/'Tabel 4F B'!E10*100,\"-\"))","v":25.925925925925924},{"$f":"IF(OR('Tabel 4F B'!F10<5, 'Tabel 4 B'!F10<0.5),\"-\",IFERROR('Tabel 4 B'!F10/'Tabel 4F B'!F10*100,\"-\"))","v":5},{"$f":"IF(OR('Tabel 4F B'!G10<5, 'Tabel 4 B'!G10<0.5),\"-\",IFERROR('Tabel 4 B'!G10/'Tabel 4F B'!G10*100,\"-\"))","v":23.52941176470588},null,{"$f":"IF(OR('Tabel 4F B'!I10<5, 'Tabel 4 B'!I10<0.5),\"-\",IFERROR('Tabel 4 B'!I10/'Tabel 4F B'!I10*100,\"-\"))","v":17.741935483870968}]
["MA. Nat.",null,{"$f":"IF(OR('Tabel 4F B'!C11<5, 'Tabel 4 B'!C11<0.5),\"-\",IFERROR('Tabel 4 B'!C11/'Tabel 4F B'!C11*100,\"-\"))","v":"-"},{"$f":"IF(OR('Tabel 4F B'!D11<5, 'Tabel 4 B'!D11<0.5),\"-\",IFERROR('Tabel 4 B'!D11/'Tabel 4F B'!D11*100,\"-\"))","v":"-"},{"$f":"IF(OR('Tabel 4F B'!E11<5, 'Tabel 4 B'!E11<0.5),\"-\",IFERROR('Tabel 4 B'!E11/'Tabel 4F B'!E11*100,\"-\"))","v":11.76470588235294},{"$f":"IF(OR('Tabel 4F B'!F11<5, 'Tabel 4 B'!F11<0.5),\"-\",IFERROR('Tabel 4 B'!F11/'Tabel 4F B'!F11*100,\"-\"))","v":"-"},{"$f":"IF(OR('Tabel 4F B'!G11<5, 'Tabel 4 B'!G11<0.5),\"-\",IFERROR('Tabel 4 B'!G11/'Tabel 4F B'!G11*100,\"-\"))","v":16.666666666666664},null,{"$f":"IF(OR('Tabel 4F B'!I11<5, 'Tabel 4 B'!I11<0.5),\"-\",IFERROR('Tabel 4 B'!I11/'Tabel 4F B'!I11*100,\"-\"))","v":6.5217391304347823}]
["MA. Ph.d.",null,{"$f":"IF(OR('Tabel 4F B'!C12<5, 'Tabel 4 B'!C12<0.5),\"-\",IFERROR('Tabel 4 B'!C12/'Tabel 4F B'!C12*100,\"-\"))","v":"-"},{"$f":"IF(OR('Tabel 4F B'!D12<5, 'Tabel 4 B'!D12<0.5),\"-\",IFERROR('Tabel 4 B'!D12/'Tabel 4F B'!D12*100,\"-\"))","v":"-"},{"$f":"IF(OR('Tabel 4F B'!E12<5, 'Tabel 4 B'!E12<0.5),\"-\",IFERROR('Tabel 4 B'!E12/'Tabel 4F B'!E12*100,\"-\"))","v":"-"},{"$f":"IF(OR('Tabel 4F B'!F12<5, 'Tabel 4 B'!F12<0.5),\"-\",IFERROR('Tabel 4 B'!F12/'Tabel 4F B'!F12*100,\"-\"))","v":"-"},{"$f":"IF(OR('Tabel 4F B'!G12<5, 'Tabel 4 B'!G12<0.5),\"-\",IFERROR('Tabel 4 B'!G12/'Tabel 4F B'!G12*100,\"-\"))","v":"-"},null,{"$f":"IF(OR('Tabel 4F B'!I12<5, 'Tabel 4 B'!I12<0.5),\"-\",IFERROR('Tabel 4 B'!I12/'Tabel 4F B'!I12*100,\"-\"))","v":14.285714285714285}]
["MA. Samf.",null,{"$f":"IF(OR('Tabel 4F B'!C13<5, 'Tabel 4 B'!C13<0.5),\"-\",IFERROR('Tabel 4 B'!C13/'Tabel 4F B'!C13*100,\"-\"))","v":"-"},{"$f":"IF(OR('Tabel 4F B'!D13<5, 'Tabel 4 B'!D13<0.5),\"-\",IFERROR('Tabel 4 B'!D13/'Tabel 4F B'!D13*100,\"-\"))","v":"-"},{"$f":"IF(OR('Tabel 4F B'!E13<5, 'Tabel 4 B'!E13<0.5),\"-\",IFERROR('Tabel 4 B'!E13/'Tabel 4F B'!E13*100,\"-\"))","v":"-"},{"$f":"IF(OR('Tabel 4F B'!F13<5, 'Tabel 4 B'!F13<0.5),\"-\",IFERROR('Tabel 4 B'!F13/'Tabel 4F B'!F13*100,\"-\"))","v":"-"},{"$f":"IF(OR('Tabel 4F B'!G13<5, 'Tabel 4 B'!G13<0.5),\"-\",IFERROR('Tabel 4 B'!G13/'Tabel 4F B'!G13*100,\"-\"))","v":"-"},null,{"$f":"IF(OR('Tabel 4F B'!I13<5, 'Tabel 4 B'!I13<0.5),\"-\",IFERROR('Tabel 4 B'!I13/'Tabel 4F B'!I13*100,\"-\"))","v":12.5}]
["Øvrige Mag.",null,{"$f":"IF(OR('Tabel 4F B'!C14<5, 'Tabel 4 B'!C14<0.5),\"-\",IFERROR('Tabel 4 B'!C14/'Tabel 4F B'!C14*100,\"-\"))","v":"-"},{"$f":"IF(OR('Tabel 4F B'!D14<5, 'Tabel 4 B'!D14<0.5),\"-\",IFERROR('Tabel 4 B'!D14/'Tabel 4F B'!D14*100,\"-\"))","v":50},{"$f":"IF(OR('Tabel 4F B'!E14<5, 'Tabel 4 B'!E14<0.5),\"-\",IFERROR('Tabel 4 B'!E14/'Tabel 4F B'!E14*100,\"-\"))","v":40},{"$f":"IF(OR('Tabel 4F B'!F14<5, 'Tabel 4 B'!F14<0.5),\"-\",IFERROR('Tabel 4 B'!F14/'Tabel 4F B'!F14*100,\"-\"))","v":"-"},{"$f":"IF(OR('Tabel 4F B'!G14<5, 'Tabel 4 B'!G14<0.5),\"-\",IFERROR('Tabel 4 B'!G14/'Tabel 4F B'!G14*100,\"-\"))","v":"-"},null,{"$f":"IF(OR('Tabel 4F B'!I14<5, 'Tabel 4 B'!I14<0.5),\"-\",IFERROR('Tabel 4 B'!I14/'Tabel 4F B'!I14*100,\"-\"))","v":29.411764705882355}]
["Agronom",null,{"$f":"IF(OR('Tabel 4F B'!C15<5, 'Tabel 4 B'!C15<0.5),\"-\",IFERROR('Tabel 4 B'!C15/'Tabel 4F B'!C15*100,\"-\"))","v":"-"},{"$f":"IF(OR('Tabel 4F B'!D15<5, 'Tabel 4 B'!D15<0.5),\"-\",IFERROR('Tabel 4 B'!D15/'Tabel 4F B'!D15*100,\"-\"))","v":"-"},{"$f":"IF(OR('Tabel 4F B'!E15<5, 'Tabel 4 B'!E15<0.5),\"-\",IFERROR('Tabel 4 B'!E15/'Tabel 4F B'!E15*100,\"-\"))","v":"-"},{"$f":"IF(OR('Tabel 4F B'!F15<5, 'Tabel 4 B'!F15<0.5),\"-\",IFERROR('Tabel 4 B'!F15/'Tabel 4F B'!F15*100,\"-\"))","v":"-"},{"$f":"IF(OR('Tabel 4F B'!G15<5, 'Tabel 4 B'!G15<0.5),\"-\",IFERROR('Tabel 4 B'!G15/'Tabel 4F B'!G15*100,\"-\"))","v":"-"},null,{"$f":"IF(OR('Tabel 4F B'!I15<5, 'Tabel 4 B'!I15<0.5),\"-\",IFERROR('Tabel 4 B'!I15/'Tabel 4F B'!I15*100,\"-\"))","v":"-"}]
["Landsk. Arkt.",null,{"$f":"IF(OR('Tabel 4F B'!C16<5, 'Tabel 4 B'!C16<0.5),\"-\",IFERROR('Tabel 4 B'!C16/'Tabel 4F B'!C16*100,\"-\"))","v":"-"},{"$f":"IF(OR('Tabel 4F B'!D16<5, 'Tabel 4 B'!D16<0.5),\"-\",IFERROR('Tabel 4 B'!D16/'Tabel 4F B'!D16*100,\"-\"))","v":"-"},{"$f":"IF(OR('Tabel 4F B'!E16<5, 'Tabel 4 B'!E16<0.5),\"-\",IFERROR('Tabel 4 B'!E16/'Tabel 4F B'!E16*100,\"-\"))","v":"-"},{"$f":"IF(OR('Tabel 4F B'!F16<5, 'Tabel 4 B'!F16<0.5),\"-\",IFERROR('Tabel 4 B'!F16/'Tabel 4F B'!F16*100,\"-\"))","v":"-"},{"$f":"IF(OR('Tabel 4F B'!G16<5, 'Tabel 4 B'!G16<0.5),\"-\",IFERROR('Tabel 4 B'!G16/'Tabel 4F B'!G16*100,\"-\"))","v":"-"},null,{"$f":"IF(OR('Tabel 4F B'!I16<5, 'Tabel 4 B'!I16<0.5),\"-\",IFERROR('Tabel 4 B'!I16/'Tabel 4F B'!I16*100,\"-\"))","v":"-"}]
["Hortonom",null,{"$f":"IF(OR('Tabel 4F B'!C17<5, 'Tabel 4 B'!C17<0.5),\"-\",IFERROR('Tabel 4 B'!C17/'Tabel 4F B'!C17*100,\"-\"))","v":"-"},{"$f":"IF(OR('Tabel 4F B'!D17<5, 'Tabel 4 B'!D17<0.5),\"-\",IFERROR('Tabel 4 B'!D17/'Tabel 4F B'!D17*100,\"-\"))","v":"-"},{"$f":"IF(OR('Tabel 4F B'!E17<5, 'Tabel 4 B'!E17<0.5),\"-\",IFERROR('Tabel 4 B'!E17/'Tabel 4F B'!E17*100,\"-\"))","v":"-"},{"$f":"IF(OR('Tabel 4F B'!F17<5, 'Tabel 4 B'!F17<0.5),\"-\",IFERROR('Tabel 4 B'!F17/'Tabel 4F B'!F17*100,\"-\"))","v":"-"},{"$f":"IF(OR('Tabel 4F B'!G17<5, 'Tabel 4 B'!G17<0.5),\"-\",IFERROR('Tabel 4 B'!G17/'Tabel 4F B'!G17*100,\"-\"))","v":"-"},null,{"$f":"IF(OR('Tabel 4F B'!I17<5, 'Tabel 4 B'!I17<0.5),\"-\",IFERROR('Tabel 4 B'!I17/'Tabel 4F B'!I17*100,\"-\"))","v":"-"}]
["Forstkand.",null,{"$f":"IF(OR('Tabel 4F B'!C18<5, 'Tabel 4 B'!C18<0.5),\"-\",IFERROR('Tabel 4 B'!C18/'Tabel 4F B'!C18*100,\"-\"))","v":"-"},{"$f":"IF(OR('Tabel 4F B'!D18<5, 'Tabel 4 B'!D18<0.5),\"-\",IFERROR('Tabel 4 B'!D18/'Tabel 4F B'!D18*100,\"-\"))","v":"-"},{"$f":"IF(OR('Tabel 4F B'!E18<5, 'Tabel 4 B'!E18<0.5),\"-\",IFERROR('Tabel 4 B'!E18/'Tabel 4F B'!E18*100,\"-\"))","v":"-"},{"$f":"IF(OR('Tabel 4F B'!F18<5, 'Tabel 4 B'!F18<0.5),\"-\",IFERROR('Tabel 4 B'!F18/'Tabel 4F B'!F18*100,\"-\"))","v":"-"},{"$f":"IF(OR('Tabel 4F B'!G18<5, 'Tabel 4 B'!G18<0.5),\"-\",IFERROR('Tabel 4 B'!G18/'Tabel 4F B'!G18*100,\"-\"))","v":"-"},null,{"$f":"IF(OR('Tabel 4F B'!I18<5, 'Tabel 4 B'!I18<0.5),\"-\",IFERROR('Tabel 4 B'!I18/'Tabel 4F B'!I18*100,\"-\"))","v":"-"}]
["Jordbrugsakad.",null,{"$f":"IF(OR('Tabel 4F B'!C19<5, 'Tabel 4 B'!C19<0.5),\"-\",IFERROR('Tabel 4 B'!C19/'Tabel 4F B'!C19*100,\"-\"))","v":"-"},{"$f":"IF(OR('Tabel 4F B'!D19<5, 'Tabel 4 B'!D19<0.5),\"-\",IFERROR('Tabel 4 B'!D19/'Tabel 4F B'!D19*100,\"-\"))","v":"-"},{"$f":"IF(OR('Tabel 4F B'!E19<5, 'Tabel 4 B'!E19<0.5),\"-\",IFERROR('Tabel 4 B'!E19/'Tabel 4F B'!E19*100,\"-\"))","v":"-"},{"$f":"IF(OR('Tabel 4F B'!F19<5, 'Tabel 4 B'!F19<0.5),\"-\",IFERROR('Tabel 4 B'!F19/'Tabel 4F B'!F19*100,\"-\"))","v":"-"},{"$f":"IF(OR('Tabel 4F B'!G19<5, 'Tabel 4 B'!G19<0.5),\"-\",IFERROR('Tabel 4 B'!G19/'Tabel 4F B'!G19*100,\"-\"))","v":"-"},null,{"$f":"IF(OR('Tabel 4F B'!I19<5, 'Tabel 4 B'!I19<0.5),\"-\",IFERROR('Tabel 4 B'!I19/'Tabel 4F B'!I19*100,\"-\"))","v":"-"}]
["Mejeriing.",null,{"$f":"IF(OR('Tabel 4F B'!C20<5, 'Tabel 4 B'!C20<0.5),\"-\",IFERROR('Tabel 4 B'!C20/'Tabel 4F B'!C20*100,\"-\"))","v":"-"},{"$f":"IF(OR('Tabel 4F B'!D20<5, 'Tabel 4 B'!D20<0.5),\"-\",IFERROR('Tabel 4 B'!D20/'Tabel 4F B'!D20*100,\"-\"))","v":"-"},{"$f":"IF(OR('Tabel 4F B'!E20<5, 'Tabel 4 B'!E20<0.5),\"-\",IFERROR('Tabel 4 B'!E20/'Tabel 4F B'!E20*100,\"-\"))","v":"-"},{"$f":"IF(OR('Tabel 4F B'!F20<5, 'Tabel 4 B'!F20<0.5),\"-\",IFERROR('Tabel 4 B'!F20/'Tabel 4F B'!F20*100,\"-\"))","v":"-"},{"$f":"IF(OR('Tabel 4F B'!G20<5, 'Tabel 4 B'!G20<0.5),\"-\",IFERROR('Tabel 4 B'!G20/'Tabel 4F B'!G20*100,\"-\"))","v":"-"},null,{"$f":"IF(OR('Tabel 4F B'!I20<5, 'Tabel 4 B'!I20<0.5),\"-\",IFERROR('Tabel 4 B'!I20/'Tabel 4F B'!I20*100,\"-\"))","v":"-"}]
["Levn.m.kand.",null,{"$f":"IF(OR('Tabel 4F B'!C21<5, 'Tabel 4 B'!C21<0.5),\"-\",IFERROR('Tabel 4 B'!C21/'Tabel 4F B'!C21*100,\"-\"))","v":"-"},{"$f":"IF(OR('Tabel 4F B'!D21<5, 'Tabel 4 B'!D21<0.5),\"-\",IFERROR('Tabel 4 B'!D21/'Tabel 4F B'!D21*100,\"-\"))","v":"-"},{"$f":"IF(OR('Tabel 4F B'!E21<5, 'Tabel 4 B'!E21<0.5),\"-\",IFERROR('Tabel 4 B'!E21/'Tabel 4F B'!E21*100,\"-\"))","v":"-"},{"$f":"IF(OR('Tabel 4F B'!F21<5, 'Tabel 4 B'!F21<0.5),\"-\",IFERROR('Tabel 4 B'!F21/'Tabel 4F B'!F21*100,\"-\"))","v":"-"},{"$f":"IF(OR('Tabel 4F B'!G21<5, 'Tabel 4 B'!G21<0.5),\"-\",IFERROR('Tabel 4 B'!G21/'Tabel 4F B'!G21*100,\"-\"))","v":"-"},null,{"$f":"IF(OR('Tabel 4F B'!I21<5, 'Tabel 4 B'!I21<0.5),\"-\",IFERROR('Tabel 4 B'!I21/'Tabel 4F B'!I21*100,\"-\"))","v":"-"}]
["Dyrlæge",null,{"$f":"IF(OR('Tabel 4F B'!C22<5, 'Tabel 4 B'!C22<0.5),\"-\",IFERROR('Tabel 4 B'!C22/'Tabel 4F B'!C22*100,\"-\"))","v":"-"},{"$f":"IF(OR('Tabel 4F B'!D22<5, 'Tabel 4 B'!D22<0.5),\"-\",IFERROR('Tabel 4 B'!D22/'Tabel 4F B'!D22*100,\"-\"))","v":"-"},{"$f":"IF(OR('Tabel 4F B'!E22<5, 'Tabel 4 B'!E22<0.5),\"-\",IFERROR('Tabel 4 B'!E22/'Tabel 4F B'!E22*100,\"-\"))","v":"-"},{"$f":"IF(OR('Tabel 4F B'!F22<5, 'Tabel 4 B'!F22<0.5),\"-\",IFERROR('Tabel 4 B'!F22/'Tabel 4F B'!F22*100,\"-\"))","v":"-"},{"$f":"IF(OR('Tabel 4F B'!G22<5, 'Tabel 4 B'!G22<0.5),\"-\",IFERROR('Tabel 4 B'!G22/'Tabel 4F B'!G22*100,\"-\"))","v":"-"},null,{"$f":"IF(OR('Tabel 4F B'!I22<5, 'Tabel 4 B'!I22<0.5),\"-\",IFERROR('Tabel 4 B'!I22/'Tabel 4F B'!I22*100,\"-\"))","v":7.1428571428571423}]
["Farmaceut",null,{"$f":"IF(OR('Tabel 4F B'!C23<5, 'Tabel 4 B'!C23<0.5),\"-\",IFERROR('Tabel 4 B'!C23/'Tabel 4F B'!C23*100,\"-\"))","v":"-"},{"$f":"IF(OR('Tabel 4F B'!D23<5, 'Tabel 4 B'!D23<0.5),\"-\",IFERROR('Tabel 4 B'!D23/'Tabel 4F B'!D23*100,\"-\"))","v":"-"},{"$f":"IF(OR('Tabel 4F B'!E23<5, 'Tabel 4 B'!E23<0.5),\"-\",IFERROR('Tabel 4 B'!E23/'Tabel 4F B'!E23*100,\"-\"))","v":"-"},{"$f":"IF(OR('Tabel 4F B'!F23<5, 'Tabel 4 B'!F23<0.5),\"-\",IFERROR('Tabel 4 B'!F23/'Tabel 4F B'!F23*100,\"-\"))","v":"-"},{"$f":"IF(OR('Tabel 4F B'!G23<5, 'Tabel 4 B'!G23<0.5),\"-\",IFERROR('Tabel 4 B'!G23/'Tabel 4F B'!G23*100,\"-\"))","v":"-"},null,{"$f":"IF(OR('Tabel 4F B'!I23<5, 'Tabel 4 B'!I23<0.5),\"-\",IFERROR('Tabel 4 B'!I23/'Tabel 4F B'!I23*100,\"-\"))","v":"-"}]
["Læge",null,{"$f":"IF(OR('Tabel 4F B'!C24<5, 'Tabel 4 B'!C24<0.5),\"-\",IFERROR('Tabel 4 B'!C24/'Tabel 4F B'!C24*100,\"-\"))","v":12.5},{"$f":"IF(OR('Tabel 4F B'!D24<5, 'Tabel 4 B'!D24<0.5),\"-\",IFERROR('Tabel 4 B'!D24/'Tabel 4F B'!D24*100,\"-\"))","v":"-"},{"$f":"IF(OR('Tabel 4F B'!E24<5, 'Tabel 4 B'!E24<0.5),\"-\",IFERROR('Tabel 4 B'!E24/'Tabel 4F B'!E24*100,\"-\"))","v":"-"},{"$f":"IF(OR('Tabel 4F B'!F24<5, 'Tabel 4 B'!F24<0.5),\"-\",IFERROR('Tabel 4 B'!F24/'Tabel 4F B'!F24*100,\"-\"))","v":"-"},{"$f":"IF(OR('Tabel 4F B'!G24<5, 'Tabel 4 B'!G24<0.5),\"-\",IFERROR('Tabel 4 B'!G24/'Tabel 4F B'!G24*100,\"-\"))","v":"-"},null,{"$f":"IF(OR('Tabel 4F B'!I24<5, 'Tabel 4 B'!I24<0.5),\"-\",IFERROR('Tabel 4 B'!I24/'Tabel 4F B'!I24*100,\"-\"))","v":3.0303030303030303}]
["Tandlæge",null,{"$f":"IF(OR('Tabel 4F B'!C25<5, 'Tabel 4 B'!C25<0.5),\"-\",IFERROR('Tabel 4 B'!C25/'Tabel 4F B'!C25*100,\"-\"))","v":"-"},{"$f":"IF(OR('Tabel 4F B'!D25<5, 'Tabel 4 B'!D25<0.5),\"-\",IFERROR('Tabel 4 B'!D25/'Tabel 4F B'!D25*100,\"-\"))","v":"-"},{"$f":"IF(OR('Tabel 4F B'!E25<5, 'Tabel 4 B'!E25<0.5),\"-\",IFERROR('Tabel 4 B'!E25/'Tabel 4F B'!E25*100,\"-\"))","v":"-"},{"$f":"IF(OR('Tabel 4F B'!F25<5, 'Tabel 4 B'!F25<0.5),\"-\",IFERROR('Tabel 4 B'!F25/'Tabel 4F B'!F25*100,\"-\"))","v":"-"},{"$f":"IF(OR('Tabel 4F B'!G25<5, 'Tabel 4 B'!G25<0.5),\"-\",IFERROR('Tabel 4 B'!G25/'Tabel 4F B'!G25*100,\"-\"))","v":"-"},null,{"$f":"IF(OR('Tabel 4F B'!I25<5, 'Tabel 4 B'!I25<0.5),\"-\",IFERROR('Tabel 4 B'!I25/'Tabel 4F B'!I25*100,\"-\"))","v":"-"}]
["Arkitekt",null,{"$f":"IF(OR('Tabel 4F B'!C26<5, 'Tabel 4 B'!C26<0.5),\"-\",IFERROR('Tabel 4 B'!C26/'Tabel 4F B'!C26*100,\"-\"))","v":"-"},{"$f":"IF(OR('Tabel 4F B'!D26<5, 'Tabel 4 B'!D26<0.5),\"-\",IFERROR('Tabel 4 B'!D26/'Tabel 4F B'!D26*100,\"-\"))","v":"-"},{"$f":"IF(OR('Tabel 4F B'!E26<5, 'Tabel 4 B'!E26<0.5),\"-\",IFERROR('Tabel 4 B'!E26/'Tabel 4F B'!E26*100,\"-\"))","v":"-"},{"$f":"IF(OR('Tabel 4F B'!F26<5, 'Tabel 4 B'!F26<0.5),\"-\",IFERROR('Tabel 4 B'!F26/'Tabel 4F B'!F26*100,\"-\"))","v":"-"},{"$f":"IF(OR('Tabel 4F B'!G26<5, 'Tabel 4 B'!G26<0.5),\"-\",IFERROR('Tabel 4 B'!G26/'Tabel 4F B'!G26*100,\"-\"))","v":"-"},null,{"$f":"IF(OR('Tabel 4F B'!I26<5, 'Tabel 4 B'!I26<0.5),\"-\",IFERROR('Tabel 4 B'!I26/'Tabel 4F B'!I26*100,\"-\"))","v":7.1428571428571423}]
["Landinspek.",null,{"$f":"IF(OR('Tabel 4F B'!C27<5, 'Tabel 4 B'!C27<0.5),\"-\",IFERROR('Tabel 4 B'!C27/'Tabel 4F B'!C27*100,\"-\"))","v":"-"},{"$f":"IF(OR('Tabel 4F B'!D27<5, 'Tabel 4 B'!D27<0.5),\"-\",IFERROR('Tabel 4 B'!D27/'Tabel 4F B'!D27*100,\"-\"))","v":"-"},{"$f":"IF(OR('Tabel 4F B'!E27<5, 'Tabel 4 B'!E27<0.5),\"-\",IFERROR('Tabel 4 B'!E27/'Tabel 4F B'!E27*100,\"-\"))","v":"-"},{"$f":"IF(OR('Tabel 4F B'!F27<5, 'Tabel 4 B'!F27<0.5),\"-\",IFERROR('Tabel 4 B'!F27/'Tabel 4F B'!F27*100,\"-\"))","v":"-"},{"$f":"IF(OR('Tabel 4F B'!G27<5, 'Tabel 4 B'!G27<0.5),\"-\",IFERROR('Tabel 4 B'!G27/'Tabel 4F B'!G27*100,\"-\"))","v":"-"},null,{"$f":"IF(OR('Tabel 4F B'!I27<5, 'Tabel 4 B'!I27<0.5),\"-\",IFERROR('Tabel 4 B'!I27/'Tabel 4F B'!I27*100,\"-\"))","v":"-"}]
["Bibliotekar",null,{"$f":"IF(OR('Tabel 4F B'!C28<5, 'Tabel 4 B'!C28<0.5),\"-\",IFERROR('Tabel 4 B'!C28/'Tabel 4F B'!C28*100,\"-\"))","v":"-"},{"$f":"IF(OR('Tabel 4F B'!D28<5, 'Tabel 4 B'!D28<0.5),\"-\",IFERROR('Tabel 4 B'!D28/'Tabel 4F B'!D28*100,\"-\"))","v":"-"},{"$f":"IF(OR('Tabel 4F B'!E28<5, 'Tabel 4 B'!E28<0.5),\"-\",IFERROR('Tabel 4 B'!E28/'Tabel 4F B'!E28*100,\"-\"))","v":"-"},{"$f":"IF(OR('Tabel 4F B'!F28<5, 'Tabel 4 B'!F28<0.5),\"-\",IFERROR('Tabel 4 B'!F28/'Tabel 4F B'!F28*100,\"-\"))","v":"-"},{"$f":"IF(OR('Tabel 4F B'!G28<5, 'Tabel 4 B'!G28<0.5),\"-\",IFERROR('Tabel 4 B'!G28/'Tabel 4F B'!G28*100,\"-\"))","v":"-"},null,{"$f":"IF(OR('Tabel 4F B'!I28<5, 'Tabel 4 B'!I28<0.5),\"-\",IFERROR('Tabel 4 B'!I28/'Tabel 4F B'!I28*100,\"-\"))","v":6.666666666666667}]
["Musikudd.",null,{"$f":"IF(OR('Tabel 4F B'!C29<5, 'Tabel 4 B'!C29<0.5),\"-\",IFERROR('Tabel 4 B'!C29/'Tabel 4F B'!C29*100,\"-\"))","v":"-"},{"$f":"IF(OR('Tabel 4F B'!D29<5, 'Tabel 4 B'!D29<0.5),\"-\",IFERROR('Tabel 4 B'!D29/'Tabel 4F B'!D29*100,\"-\"))","v":"-"},{"$f":"IF(OR('Tabel 4F B'!E29<5, 'Tabel 4 B'!E29<0.5),\"-\",IFERROR('Tabel 4 B'!E29/'Tabel 4F B'!E29*100,\"-\"))","v":"-"},{"$f":"IF(OR('Tabel 4F B'!F29<5, 'Tabel 4 B'!F29<0.5),\"-\",IFERROR('Tabel 4 B'!F29/'Tabel 4F B'!F29*100,\"-\"))","v":"-"},{"$f":"IF(OR('Tabel 4F B'!G29<5, 'Tabel 4 B'!G29<0.5),\"-\",IFERROR('Tabel 4 B'!G29/'Tabel 4F B'!G29*100,\"-\"))","v":"-"},null,{"$f":"IF(OR('Tabel 4F B'!I29<5, 'Tabel 4 B'!I29<0.5),\"-\",IFERROR('Tabel 4 B'!I29/'Tabel 4F B'!I29*100,\"-\"))","v":"-"}]
["Teolog",null,{"$f":"IF(OR('Tabel 4F B'!C30<5, 'Tabel 4 B'!C30<0.5),\"-\",IFERROR('Tabel 4 B'!C30/'Tabel 4F B'!C30*100,\"-\"))","v":"-"},{"$f":"IF(OR('Tabel 4F B'!D30<5, 'Tabel 4 B'!D30<0.5),\"-\",IFERROR('Tabel 4 B'!D30/'Tabel 4F B'!D30*100,\"-\"))","v":"-"},{"$f":"IF(OR('Tabel 4F B'!E30<5, 'Tabel 4 B'!E30<0.5),\"-\",IFERROR('Tabel 4 B'!E30/'Tabel 4F B'!E30*100,\"-\"))","v":"-"},{"$f":"IF(OR('Tabel 4F B'!F30<5, 'Tabel 4 B'!F30<0.5),\"-\",IFERROR('Tabel 4 B'!F30/'Tabel 4F B'!F30*100,\"-\"))","v":"-"},{"$f":"IF(OR('Tabel 4F B'!G30<5, 'Tabel 4 B'!G30<0.5),\"-\",IFERROR('Tabel 4 B'!G30/'Tabel 4F B'!G30*100,\"-\"))","v":"-"},null,{"$f":"IF(OR('Tabel 4F B'!I30<5, 'Tabel 4 B'!I30<0.5),\"-\",IFERROR('Tabel 4 B'!I30/'Tabel 4F B'!I30*100,\"-\"))","v":"-"}]
["Psykolog",null,{"$f":"IF(OR('Tabel 4F B'!C31<5, 'Tabel 4 B'!C31<0.5),\"-\",IFERROR('Tabel 4 B'!C31/'Tabel 4F B'!C31*100,\"-\"))","v":"-"},{"$f":"IF(OR('Tabel 4F B'!D31<5, 'Tabel 4 B'!D31<0.5),\"-\",IFERROR('Tabel 4 B'!D31/'Tabel 4F B'!D31*100,\"-\"))","v":14.285714285714285},{"$f":"IF(OR('Tabel 4F B'!E31<5, 'Tabel 4 B'!E31<0.5),\"-\",IFERROR('Tabel 4 B'!E31/'Tabel 4F B'!E31*100,\"-\"))","v":7.1428571428571423},{"$f":"IF(OR('Tabel 4F B'!F31<5, 'Tabel 4 B'!F31<0.5),\"-\",IFERROR('Tabel 4 B'!F31/'Tabel 4F B'!F31*100,\"-\"))","v":"-"},{"$f":"IF(OR('Tabel 4F B'!G31<5, 'Tabel 4 B'!G31<0.5),\"-\",IFERROR('Tabel 4 B'!G31/'Tabel 4F B'!G31*100,\"-\"))","v":"-"},null,{"$f":"IF(OR('Tabel 4F B'!I31<5, 'Tabel 4 B'!I31<0.5),\"-\",IFERROR('Tabel 4 B'!I31/'Tabel 4F B'!I31*100,\"-\"))","v":6.666666666666667}]
["Jurist",null,{"$f":"IF(OR('Tabel 4F B'!C32<5, 'Tabel 4 B'!C32<0.5),\"-\",IFERROR('Tabel 4 B'!C32/'Tabel 4F B'!C32*100,\"-\"))","v":"-"},{"$f":"IF(OR('Tabel 4F B'!D32<5, 'Tabel 4 B'!D32<0.5),\"-\",IFERROR('Tabel 4 B'!D32/'Tabel 4F B'!D32*100,\"-\"))","v":"-"},{"$f":"IF(OR('Tabel 4F B'!E32<5, 'Tabel 4 B'!E32<0.5),\"-\",IFERROR('Tabel 4 B'!E32/'Tabel 4F B'!E32*100,\"-\"))","v":"-"},{"$f":"IF(OR('Tabel 4F B'!F32<5, 'Tabel 4 B'!F32<0.5),\"-\",IFERROR('Tabel 4 B'!F32/'Tabel 4F B'!F32*100,\"-\"))","v":"-"},{"$f":"IF(OR('Tabel 4F B'!G32<5, 'Tabel 4 B'!G32<0.5),\"-\",IFERROR('Tabel 4 B'!G32/'Tabel 4F B'!G32*100,\"-\"))","v":"-"},null,{"$f":"IF(OR('Tabel 4F B'!I32<5, 'Tabel 4 B'!I32<0.5),\"-\",IFERROR('Tabel 4 B'!I32/'Tabel 4F B'!I32*100,\"-\"))","v":"-"}]
["Økonom",null,{"$f":"IF(OR('Tabel 4F B'!C33<5, 'Tabel 4 B'!C33<0.5),\"-\",IFERROR('Tabel 4 B'!C33/'Tabel 4F B'!C33*100,\"-\"))","v":"-"},{"$f":"IF(OR('Tabel 4F B'!D33<5, 'Tabel 4 B'!D33<0.5),\"-\",IFERROR('Tabel 4 B'!D33/'Tabel 4F B'!D33*100,\"-\"))","v":"-"},{"$f":"IF(OR('Tabel 4F B'!E33<5, 'Tabel 4 B'!E33<0.5),\"-\",IFERROR('Tabel 4 B'!E33/'Tabel 4F B'!E33*100,\"-\"))","v":"-"},{"$f":"IF(OR('Tabel 4F B'!F33<5, 'Tabel 4 B'!F33<0.5),\"-\",IFERROR('Tabel 4 B'!F33/'Tabel 4F B'!F33*100,\"-\"))","v":"-"},{"$f":"IF(OR('Tabel 4F B'!G33<5, 'Tabel 4 B'!G33<0.5),\"-\",IFERROR('Tabel 4 B'!G33/'Tabel 4F B'!G33*100,\"-\"))","v":"-"},null,{"$f":"IF(OR('Tabel 4F B'!I33<5, 'Tabel 4 B'!I33<0.5),\"-\",IFERROR('Tabel 4 B'!I33/'Tabel 4F B'!I33*100,\"-\"))","v":"-"}]
["Samf. Adm.",null,{"$f":"IF(OR('Tabel 4F B'!C34<5, 'Tabel 4 B'!C34<0.5),\"-\",IFERROR('Tabel 4 B'!C34/'Tabel 4F B'!C34*100,\"-\"))","v":"-"},{"$f":"IF(OR('Tabel 4F B'!D34<5, 'Tabel 4 B'!D34<0.5),\"-\",IFERROR('Tabel 4 B'!D34/'Tabel 4F B'!D34*100,\"-\"))","v":"-"},{"$f":"IF(OR('Tabel 4F B'!E34<5, 'Tabel 4 B'!E34<0.5),\"-\",IFERROR('Tabel 4 B'!E34/'Tabel 4F B'!E34*100,\"-\"))","v":4.7619047619047619},{"$f":"IF(OR('Tabel 4F B'!F34<5, 'Tabel 4 B'!F34<0.5),\"-\",IFERROR('Tabel 4 B'!F34/'Tabel 4F B'!F34*100,\"-\"))","v":20},{"$f":"IF(OR('Tabel 4F B'!G34<5, 'Tabel 4 B'!G34<0.5),\"-\",IFERROR('Tabel 4 B'!G34/'Tabel 4F B'!G34*100,\"-\"))","v":"-"},null,{"$f":"IF(OR('Tabel 4F B'!I34<5, 'Tabel 4 B'!I34<0.5),\"-\",IFERROR('Tabel 4 B'!I34/'Tabel 4F B'!I34*100,\"-\"))","v":5.7692307692307692}]
["Cand. Merc.",null,{"$f":"IF(OR('Tabel 4F B'!C35<5, 'Tabel 4 B'!C35<0.5),\"-\",IFERROR('Tabel 4 B'!C35/'Tabel 4F B'!C35*100,\"-\"))","v":"-"},{"$f":"IF(OR('Tabel 4F B'!D35<5, 'Tabel 4 B'!D35<0.5),\"-\",IFERROR('Tabel 4 B'!D35/'Tabel 4F B'!D35*100,\"-\"))","v":"-"},{"$f":"IF(OR('Tabel 4F B'!E35<5, 'Tabel 4 B'!E35<0.5),\"-\",IFERROR('Tabel 4 B'!E35/'Tabel 4F B'!E35*100,\"-\"))","v":30},{"$f":"IF(OR('Tabel 4F B'!F35<5, 'Tabel 4 B'!F35<0.5),\"-\",IFERROR('Tabel 4 B'!F35/'Tabel 4F B'!F35*100,\"-\"))","v":"-"},{"$f":"IF(OR('Tabel 4F B'!G35<5, 'Tabel 4 B'!G35<0.5),\"-\",IFERROR('Tabel 4 B'!G35/'Tabel 4F B'!G35*100,\"-\"))","v":"-"},null,{"$f":"IF(OR('Tabel 4F B'!I35<5, 'Tabel 4 B'!I35<0.5),\"-\",IFERROR('Tabel 4 B'!I35/'Tabel 4F B'!I35*100,\"-\"))","v":10.344827586206897}]
["HA",null,{"$f":"IF(OR('Tabel 4F B'!C36<5, 'Tabel 4 B'!C36<0.5),\"-\",IFERROR('Tabel 4 B'!C36/'Tabel 4F B'!C36*100,\"-\"))","v":"-"},{"$f":"IF(OR('Tabel 4F B'!D36<5, 'Tabel 4 B'!D36<0.5),\"-\",IFERROR('Tabel 4 B'!D36/'Tabel 4F B'!D36*100,\"-\"))","v":"-"},{"$f":"IF(OR('Tabel 4F B'!E36<5, 'Tabel 4 B'!E36<0.5),\"-\",IFERROR('Tabel 4 B'!E36/'Tabel 4F B'!E36*100,\"-\"))","v":"-"},{"$f":"IF(OR('Tabel 4F B'!F36<5, 'Tabel 4 B'!F36<0.5),\"-\",IFERROR('Tabel 4 B'!F36/'Tabel 4F B'!F36*100,\"-\"))","v":"-"},{"$f":"IF(OR('Tabel 4F B'!G36<5, 'Tabel 4 B'!G36<0.5),\"-\",IFERROR('Tabel 4 B'!G36/'Tabel 4F B'!G36*100,\"-\"))","v":"-"},null,{"$f":"IF(OR('Tabel 4F B'!I36<5, 'Tabel 4 B'!I36<0.5),\"-\",IFERROR('Tabel 4 B'!I36/'Tabel 4F B'!I36*100,\"-\"))","v":"-"}]
["HD",null,{"$f":"IF(OR('Tabel 4F B'!C37<5, 'Tabel 4 B'!C37<0.5),\"-\",IFERROR('Tabel 4 B'!C37/'Tabel 4F B'!C37*100,\"-\"))","v":"-"},{"$f":"IF(OR('Tabel 4F B'!D37<5, 'Tabel 4 B'!D37<0.5),\"-\",IFERROR('Tabel 4 B'!D37/'Tabel 4F B'!D37*100,\"-\"))","v":"-"},{"$f":"IF(OR('Tabel 4F B'!E37<5, 'Tabel 4 B'!E37<0.5),\"-\",IFERROR('Tabel 4 B'!E37/'Tabel 4F B'!E37*100,\"-\"))","v":"-"},{"$f":"IF(OR('Tabel 4F B'!F37<5, 'Tabel 4 B'!F37<0.5),\"-\",IFERROR('Tabel 4 B'!F37/'Tabel 4F B'!F37*100,\"-\"))","v":"-"},{"$f":"IF(OR('Tabel 4F B'!G37<5, 'Tabel 4 B'!G37<0.5),\"-\",IFERROR('Tabel 4 B'!G37/'Tabel 4F B'!G37*100,\"-\"))","v":"-"},null,{"$f":"IF(OR('Tabel 4F B'!I37<5, 'Tabel 4 B'!I37<0.5),\"-\",IFERROR('Tabel 4 B'!I37/'Tabel 4F B'!I37*100,\"-\"))","v":"-"}]
["Komm. og Sprog",null,{"$f":"IF(OR('Tabel 4F B'!C38<5, 'Tabel 4 B'!C38<0.5),\"-\",IFERROR('Tabel 4 B'!C38/'Tabel 4F B'!C38*100,\"-\"))","v":"-"},{"$f":"IF(OR('Tabel 4F B'!D38<5, 'Tabel 4 B'!D38<0.5),\"-\",IFERROR('Tabel 4 B'!D38/'Tabel 4F B'!D38*100,\"-\"))","v":28.571428571428569},{"$f":"IF(OR('Tabel 4F B'!E38<5, 'Tabel 4 B'!E38<0.5),\"-\",IFERROR('Tabel 4 B'!E38/'Tabel 4F B'!E38*100,\"-\"))","v":"-"},{"$f":"IF(OR('Tabel 4F B'!F38<5, 'Tabel 4 B'!F38<0.5),\"-\",IFERROR('Tabel 4 B'!F38/'Tabel 4F B'!F38*100,\"-\"))","v":"-"},{"$f":"IF(OR('Tabel 4F B'!G38<5, 'Tabel 4 B'!G38<0.5),\"-\",IFERROR('Tabel 4 B'!G38/'Tabel 4F B'!G38*100,\"-\"))","v":"-"},null,{"$f":"IF(OR('Tabel 4F B'!I38<5, 'Tabel 4 B'!I38<0.5),\"-\",IFERROR('Tabel 4 B'!I38/'Tabel 4F B'!I38*100,\"-\"))","v":26.666666666666668}]
["Bygningskonst.",null,{"$f":"IF(OR('Tabel 4F B'!C39<5, 'Tabel 4 B'!C39<0.5),\"-\",IFERROR('Tabel 4 B'!C39/'Tabel 4F B'!C39*100,\"-\"))","v":"-"},{"$f":"IF(OR('Tabel 4F B'!D39<5, 'Tabel 4 B'!D39<0.5),\"-\",IFERROR('Tabel 4 B'!D39/'Tabel 4F B'!D39*100,\"-\"))","v":"-"},{"$f":"IF(OR('Tabel 4F B'!E39<5, 'Tabel 4 B'!E39<0.5),\"-\",IFERROR('Tabel 4 B'!E39/'Tabel 4F B'!E39*100,\"-\"))","v":"-"},{"$f":"IF(OR('Tabel 4F B'!F39<5, 'Tabel 4 B'!F39<0.5),\"-\",IFERROR('Tabel 4 B'!F39/'Tabel 4F B'!F39*100,\"-\"))","v":"-"},{"$f":"IF(OR('Tabel 4F B'!G39<5, 'Tabel 4 B'!G39<0.5),\"-\",IFERROR('Tabel 4 B'!G39/'Tabel 4F B'!G39*100,\"-\"))","v":"-"},null,{"$f":"IF(OR('Tabel 4F B'!I39<5, 'Tabel 4 B'!I39<0.5),\"-\",IFERROR('Tabel 4 B'!I39/'Tabel 4F B'!I39*100,\"-\"))","v":"-"}]
["Cand. IT.",null,{"$f":"IF(OR('Tabel 4F B'!C40<5, 'Tabel 4 B'!C40<0.5),\"-\",IFERROR('Tabel 4 B'!C40/'Tabel 4F B'!C40*100,\"-\"))","v":"-"},{"$f":"IF(OR('Tabel 4F B'!D40<5, 'Tabel 4 B'!D40<0.5),\"-\",IFERROR('Tabel 4 B'!D40/'Tabel 4F B'!D40*100,\"-\"))","v":"-"},{"$f":"IF(OR('Tabel 4F B'!E40<5, 'Tabel 4 B'!E40<0.5),\"-\",IFERROR('Tabel 4 B'!E40/'Tabel 4F B'!E40*100,\"-\"))","v":"-"},{"$f":"IF(OR('Tabel 4F B'!F40<5, 'Tabel 4 B'!F40<0.5),\"-\",IFERROR('Tabel 4 B'!F40/'Tabel 4F B'!F40*100,\"-\"))","v":"-"},{"$f":"IF(OR('Tabel 4F B'!G40<5, 'Tabel 4 B'!G40<0.5),\"-\",IFERROR('Tabel 4 B'!G40/'Tabel 4F B'!G40*100,\"-\"))","v":"-"},null,{"$f":"IF(OR('Tabel 4F B'!I40<5, 'Tabel 4 B'!I40<0.5),\"-\",IFERROR('Tabel 4 B'!I40/'Tabel 4F B'!I40*100,\"-\"))","v":"-"}]
["Bac. Samf.",null,{"$f":"IF(OR('Tabel 4F B'!C41<5, 'Tabel 4 B'!C41<0.5),\"-\",IFERROR('Tabel 4 B'!C41/'Tabel 4F B'!C41*100,\"-\"))","v":"-"},{"$f":"IF(OR('Tabel 4F B'!D41<5, 'Tabel 4 B'!D41<0.5),\"-\",IFERROR('Tabel 4 B'!D41/'Tabel 4F B'!D41*100,\"-\"))","v":"-"},{"$f":"IF(OR('Tabel 4F B'!E41<5, 'Tabel 4 B'!E41<0.5),\"-\",IFERROR('Tabel 4 B'!E41/'Tabel 4F B'!E41*100,\"-\"))","v":"-"},{"$f":"IF(OR('Tabel 4F B'!F41<5, 'Tabel 4 B'!F41<0.5),\"-\",IFERROR('Tabel 4 B'!F41/'Tabel 4F B'!F41*100,\"-\"))","v":"-"},{"$f":"IF(OR('Tabel 4F B'!G41<5, 'Tabel 4 B'!G41<0.5),\"-\",IFERROR('Tabel 4 B'!G41/'Tabel 4F B'!G41*100,\"-\"))","v":"-"},null,{"$f":"IF(OR('Tabel 4F B'!I41<5, 'Tabel 4 B'!I41<0.5),\"-\",IFERROR('Tabel 4 B'!I41/'Tabel 4F B'!I41*100,\"-\"))","v":"-"}]
["Bac. Hum.",null,{"$f":"IF(OR('Tabel 4F B'!C42<5, 'Tabel 4 B'!C42<0.5),\"-\",IFERROR('Tabel 4 B'!C42/'Tabel 4F B'!C42*100,\"-\"))","v":"-"},{"$f":"IF(OR('Tabel 4F B'!D42<5, 'Tabel 4 B'!D42<0.5),\"-\",IFERROR('Tabel 4 B'!D42/'Tabel 4F B'!D42*100,\"-\"))","v":"-"},{"$f":"IF(OR('Tabel 4F B'!E42<5, 'Tabel 4 B'!E42<0.5),\"-\",IFERROR('Tabel 4 B'!E42/'Tabel 4F B'!E42*100,\"-\"))","v":"-"},{"$f":"IF(OR('Tabel 4F B'!F42<5, 'Tabel 4 B'!F42<0.5),\"-\",IFERROR('Tabel 4 B'!F42/'Tabel 4F B'!F42*100,\"-\"))","v":"-"},{"$f":"IF(OR('Tabel 4F B'!G42<5, 'Tabel 4 B'!G42<0.5),\"-\",IFERROR('Tabel 4 B'!G42/'Tabel 4F B'!G42*100,\"-\"))","v":"-"},null,{"$f":"IF(OR('Tabel 4F B'!I42<5, 'Tabel 4 B'!I42<0.5),\"-\",IFERROR('Tabel 4 B'!I42/'Tabel 4F B'!I42*100,\"-\"))","v":15.384615384615385}]
["Bac. Nat.",null,{"$f":"IF(OR('Tabel 4F B'!C43<5, 'Tabel 4 B'!C43<0.5),\"-\",IFERROR('Tabel 4 B'!C43/'Tabel 4F B'!C43*100,\"-\"))","v":"-"},{"$f":"IF(OR('Tabel 4F B'!D43<5, 'Tabel 4 B'!D43<0.5),\"-\",IFERROR('Tabel 4 B'!D43/'Tabel 4F B'!D43*100,\"-\"))","v":"-"},{"$f":"IF(OR('Tabel 4F B'!E43<5, 'Tabel 4 B'!E43<0.5),\"-\",IFERROR('Tabel 4 B'!E43/'Tabel 4F B'!E43*100,\"-\"))","v":"-"},{"$f":"IF(OR('Tabel 4F B'!F43<5, 'Tabel 4 B'!F43<0.5),\"-\",IFERROR('Tabel 4 B'!F43/'Tabel 4F B'!F43*100,\"-\"))","v":"-"},{"$f":"IF(OR('Tabel 4F B'!G43<5, 'Tabel 4 B'!G43<0.5),\"-\",IFERROR('Tabel 4 B'!G43/'Tabel 4F B'!G43*100,\"-\"))","v":"-"},null,{"$f":"IF(OR('Tabel 4F B'!I43<5, 'Tabel 4 B'!I43<0.5),\"-\",IFERROR('Tabel 4 B'!I43/'Tabel 4F B'!I43*100,\"-\"))","v":20}]
["Andre",null,{"$f":"IF(OR('Tabel 4F B'!C44<5, 'Tabel 4 B'!C44<0.5),\"-\",IFERROR('Tabel 4 B'!C44/'Tabel 4F B'!C44*100,\"-\"))","v":"-"},{"$f":"IF(OR('Tabel 4F B'!D44<5, 'Tabel 4 B'!D44<0.5),\"-\",IFERROR('Tabel 4 B'!D44/'Tabel 4F B'!D44*100,\"-\"))","v":10.526315789473683},{"$f":"IF(OR('Tabel 4F B'!E44<5, 'Tabel 4 B'!E44<0.5),\"-\",IFERROR('Tabel 4 B'!E44/'Tabel 4F B'!E44*100,\"-\"))","v":19.230769230769234},{"$f":"IF(OR('Tabel 4F B'!F44<5, 'Tabel 4 B'!F44<0.5),\"-\",IFERROR('Tabel 4 B'!F44/'Tabel 4F B'!F44*100,\"-\"))","v":5.7142857142857144},{"$f":"IF(OR('Tabel 4F B'!G44<5, 'Tabel 4 B'!G44<0.5),\"-\",IFERROR('Tabel 4 B'!G44/'Tabel 4F B'!G44*100,\"-\"))","v":8.695652173913043},null,{"$f":"IF(OR('Tabel 4F B'!I44<5, 'Tabel 4 B'!I44<0.5),\"-\",IFERROR('Tabel 4 B'!I44/'Tabel 4F B'!I44*100,\"-\"))","v":10.2803738317757}]
[]
["Total",null,{"$f":"IF(OR('Tabel 4F B'!C46<5, 'Tabel 4 B'!C46<0.5),\"-\",IFERROR('Tabel 4 B'!C46/'Tabel 4F B'!C46*100,\"-\"))","v":7.2727272727272725},{"$f":"IF(OR('Tabel 4F B'!D46<5, 'Tabel 4 B'!D46<0.5),\"-\",IFERROR('Tabel 4 B'!D46/'Tabel 4F B'!D46*100,\"-\"))","v":10.683760683760683},{"$f":"IF(OR('Tabel 4F B'!E46<5, 'Tabel 4 B'!E46<0.5),\"-\",IFERROR('Tabel 4 B'!E46/'Tabel 4F B'!E46*100,\"-\"))","v":11.363636363636363},{"$f":"IF(OR('Tabel 4F B'!F46<5, 'Tabel 4 B'!F46<0.5),\"-\",IFERROR('Tabel 4 B'!F46/'Tabel 4F B'!F46*100,\"-\"))","v":7.5},{"$f":"IF(OR('Tabel 4F B'!G46<5, 'Tabel 4 B'!G46<0.5),\"-\",IFERROR('Tabel 4 B'!G46/'Tabel 4F B'!G46*100,\"-\"))","v":7.6190476190476195},null,{"$f":"IF(OR('Tabel 4F B'!I46<5, 'Tabel 4 B'!I46<0.5),\"-\",IFERROR('Tabel 4 B'!I46/'Tabel 4F B'!I46*100,\"-\"))","v":9.4594594594594597}]
[]
["Ingeniører i alt",null,{"$f":"IF(OR('Tabel 4F B'!C48<5, 'Tabel 4 B'!C48<0.5),\"-\",IFERROR('Tabel 4 B'!C48/'Tabel 4F B'!C48*100,\"-\"))","v":"-"},{"$f":"IF(OR('Tabel 4F B'!D48<5, 'Tabel 4 B'!D48<0.5),\"-\",IFERROR('Tabel 4 B'!D48/'Tabel 4F B'!D48*100,\"-\"))","v":11.538461538461538},{"$f":"IF(OR('Tabel 4F B'!E48<5, 'Tabel 4 B'!E48<0.5),\"-\",IFERROR('Tabel 4 B'!E48/'Tabel 4F B'!E48*100,\"-\"))","v":3.7037037037037033},{"$f":"IF(OR('Tabel 4F B'!F48<5, 'Tabel 4 B'!F48<0.5),\"-\",IFERROR('Tabel 4 B'!F48/'Tabel 4F B'!F48*100,\"-\"))","v":6.666666666666667},{"$f":"IF(OR('Tabel 4F B'!G48<5, 'Tabel 4 B'!G48<0.5),\"-\",IFERROR('Tabel 4 B'!G48/'Tabel 4F B'!G48*100,\"-\"))","v":"-"},null,{"$f":"IF(OR('Tabel 4F B'!I48<5, 'Tabel 4 B'!I48<0.5),\"-\",IFERROR('Tabel 4 B'!I48/'Tabel 4F B'!I48*100,\"-\"))","v":6.1855670103092786}]
["Magistre i alt",null,{"$f":"IF(OR('Tabel 4F B'!C49<5, 'Tabel 4 B'!C49<0.5),\"-\",IFERROR('Tabel 4 B'!C49/'Tabel 4F B'!C49*100,\"-\"))","v":18.181818181818183},{"$f":"IF(OR('Tabel 4F B'!D49<5, 'Tabel 4 B'!D49<0.5),\"-\",IFERROR('Tabel 4 B'!D49/'Tabel 4F B'!D49*100,\"-\"))","v":15.277777777777779},{"$f":"IF(OR('Tabel 4F B'!E49<5, 'Tabel 4 B'!E49<0.5),\"-\",IFERROR('Tabel 4 B'!E49/'Tabel 4F B'!E49*100,\"-\"))","v":22.641509433962266},{"$f":"IF(OR('Tabel 4F B'!F49<5, 'Tabel 4 B'!F49<0.5),\"-\",IFERROR('Tabel 4 B'!F49/'Tabel 4F B'!F49*100,\"-\"))","v":6.5217391304347823},{"$f":"IF(OR('Tabel 4F B'!G49<5, 'Tabel 4 B'!G49<0.5),\"-\",IFERROR('Tabel 4 B'!G49/'Tabel 4F B'!G49*100,\"-\"))","v":17.857142857142858},null,{"$f":"IF(OR('Tabel 4F B'!I49<5, 'Tabel 4 B'!I49<0.5),\"-\",IFERROR('Tabel 4 B'!I49/'Tabel 4F B'!I49*100,\"-\"))","v":15.714285714285714}]
["DJØF'ere i alt",null,{"$f":"IF(OR('Tabel 4F B'!C50<5, 'Tabel 4 B'!C50<0.5),\"-\",IFERROR('Tabel 4 B'!C50/'Tabel 4F B'!C50*100,\"-\"))","v":"-"},{"$f":"IF(OR('Tabel 4F B'!D50<5, 'Tabel 4 B'!D50<0.5),\"-\",IFERROR('Tabel 4 B'!D50/'Tabel 4F B'!D50*100,\"-\"))","v":"-"},{"$f":"IF(OR('Tabel 4F B'!E50<5, 'Tabel 4 B'!E50<0.5),\"-\",IFERROR('Tabel 4 B'!E50/'Tabel 4F B'!E50*100,\"-\"))","v":9.0909090909090917},{"$f":"IF(OR('Tabel 4F B'!F50<5, 'Tabel 4 B'!F50<0.5),\"-\",IFERROR('Tabel 4 B'!F50/'Tabel 4F B'!F50*100,\"-\"))","v":5},{"$f":"IF(OR('Tabel 4F B'!G50<5, 'Tabel 4 B'!G50<0.5),\"-\",IFERROR('Tabel 4 B'!G50/'Tabel 4F B'!G50*100,\"-\"))","v":"-"},null,{"$f":"IF(OR('Tabel 4F B'!I50<5, 'Tabel 4 B'!I50<0.5),\"-\",IFERROR('Tabel 4 B'!I50/'Tabel 4F B'!I50*100,\"-\"))","v":4.4776119402985071}]
[]
[]
[]
[]
[]
[]
["Bornholm"]
[]
[null,null,"Under 30 år","30 - 39 år","40 - 49 år","50 - 59 år","Over 60 år",null,"I alt"]
[]
["Civ. ing.",null,{"$f":"IF(OR('Tabel 4F B'!C61<5, 'Tabel 4 B'!C61<0.5),\"-\",IFERROR('Tabel 4 B'!C61/'Tabel 4F B'!C61*100,\"-\"))","v":"-"},{"$f":"IF(OR('Tabel 4F B'!D61<5, 'Tabel 4 B'!D61<0.5),\"-\",IFERROR('Tabel 4 B'!D61/'Tabel 4F B'!D61*100,\"-\"))","v":15.384615384615385},{"$f":"IF(OR('Tabel 4F B'!E61<5, 'Tabel 4 B'!E61<0.5),\"-\",IFERROR('Tabel 4 B'!E61/'Tabel 4F B'!E61*100,\"-\"))","v":11.111111111111111},{"$f":"IF(OR('Tabel 4F B'!F61<5, 'Tabel 4 B'!F61<0.5),\"-\",IFERROR('Tabel 4 B'!F61/'Tabel 4F B'!F61*100,\"-\"))","v":"-"},{"$f":"IF(OR('Tabel 4F B'!G61<5, 'Tabel 4 B'!G61<0.5),\"-\",IFERROR('Tabel 4 B'!G61/'Tabel 4F B'!G61*100,\"-\"))","v":"-"},null,{"$f":"IF(OR('Tabel 4F B'!I61<5, 'Tabel 4 B'!I61<0.5),\"-\",IFERROR('Tabel 4 B'!I61/'Tabel 4F B'!I61*100,\"-\"))","v":8.8235294117647065}]
["Diplom ing.",null,{"$f":"IF(OR('Tabel 4F B'!C62<5, 'Tabel 4 B'!C62<0.5),\"-\",IFERROR('Tabel 4 B'!C62/'Tabel 4F B'!C62*100,\"-\"))","v":"-"},{"$f":"IF(OR('Tabel 4F B'!D62<5, 'Tabel 4 B'!D62<0.5),\"-\",IFERROR('Tabel 4 B'!D62/'Tabel 4F B'!D62*100,\"-\"))","v":7.6923076923076925},{"$f":"IF(OR('Tabel 4F B'!E62<5, 'Tabel 4 B'!E62<0.5),\"-\",IFERROR('Tabel 4 B'!E62/'Tabel 4F B'!E62*100,\"-\"))","v":"-"},{"$f":"IF(OR('Tabel 4F B'!F62<5, 'Tabel 4 B'!F62<0.5),\"-\",IFERROR('Tabel 4 B'!F62/'Tabel 4F B'!F62*100,\"-\"))","v":9.0909090909090917},{"$f":"IF(OR('Tabel 4F B'!G62<5, 'Tabel 4 B'!G62<0.5),\"-\",IFERROR('Tabel 4 B'!G62/'Tabel 4F B'!G62*100,\"-\"))","v":"-"},null,{"$f":"IF(OR('Tabel 4F B'!I62<5, 'Tabel 4 B'!I62<0.5),\"-\",IFERROR('Tabel 4 B'!I62/'Tabel 4F B'!I62*100,\"-\"))","v":4.7619047619047619}]
["Cand. Scient. Tek",null,{"$f":"IF(OR('Tabel 4F B'!C63<5, 'Tabel 4 B'!C63<0.5),\"-\",IFERROR('Tabel 4 B'!C63/'Tabel 4F B'!C63*100,\"-\"))","v":"-"},{"$f":"IF(OR('Tabel 4F B'!D63<5, 'Tabel 4 B'!D63<0.5),\"-\",IFERROR('Tabel 4 B'!D63/'Tabel 4F B'!D63*100,\"-\"))","v":23.52941176470588},{"$f":"IF(OR('Tabel 4F B'!E63<5, 'Tabel 4 B'!E63<0.5),\"-\",IFERROR('Tabel 4 B'!E63/'Tabel 4F B'!E63*100,\"-\"))","v":16.666666666666664},{"$f":"IF(OR('Tabel 4F B'!F63<5, 'Tabel 4 B'!F63<0.5),\"-\",IFERROR('Tabel 4 B'!F63/'Tabel 4F B'!F63*100,\"-\"))","v":"-"},{"$f":"IF(OR('Tabel 4F B'!G63<5, 'Tabel 4 B'!G63<0.5),\"-\",IFERROR('Tabel 4 B'!G63/'Tabel 4F B'!G63*100,\"-\"))","v":"-"},null,{"$f":"IF(OR('Tabel 4F B'!I63<5, 'Tabel 4 B'!I63<0.5),\"-\",IFERROR('Tabel 4 B'!I63/'Tabel 4F B'!I63*100,\"-\"))","v":20.689655172413794}]
["MA. Hum.",null,{"$f":"IF(OR('Tabel 4F B'!C64<5, 'Tabel 4 B'!C64<0.5),\"-\",IFERROR('Tabel 4 B'!C64/'Tabel 4F B'!C64*100,\"-\"))","v":33.333333333333329},{"$f":"IF(OR('Tabel 4F B'!D64<5, 'Tabel 4 B'!D64<0.5),\"-\",IFERROR('Tabel 4 B'!D64/'Tabel 4F B'!D64*100,\"-\"))","v":14.814814814814813},{"$f":"IF(OR('Tabel 4F B'!E64<5, 'Tabel 4 B'!E64<0.5),\"-\",IFERROR('Tabel 4 B'!E64/'Tabel 4F B'!E64*100,\"-\"))","v":25.925925925925924},{"$f":"IF(OR('Tabel 4F B'!F64<5, 'Tabel 4 B'!F64<0.5),\"-\",IFERROR('Tabel 4 B'!F64/'Tabel 4F B'!F64*100,\"-\"))","v":5},{"$f":"IF(OR('Tabel 4F B'!G64<5, 'Tabel 4 B'!G64<0.5),\"-\",IFERROR('Tabel 4 B'!G64/'Tabel 4F B'!G64*100,\"-\"))","v":23.52941176470588},null,{"$f":"IF(OR('Tabel 4F B'!I64<5, 'Tabel 4 B'!I64<0.5),\"-\",IFERROR('Tabel 4 B'!I64/'Tabel 4F B'!I64*100,\"-\"))","v":17.741935483870968}]
["MA. Nat.",null,{"$f":"IF(OR('Tabel 4F B'!C65<5, 'Tabel 4 B'!C65<0.5),\"-\",IFERROR('Tabel 4 B'!C65/'Tabel 4F B'!C65*100,\"-\"))","v":"-"},{"$f":"IF(OR('Tabel 4F B'!D65<5, 'Tabel 4 B'!D65<0.5),\"-\",IFERROR('Tabel 4 B'!D65/'Tabel 4F B'!D65*100,\"-\"))","v":"-"},{"$f":"IF(OR('Tabel 4F B'!E65<5, 'Tabel 4 B'!E65<0.5),\"-\",IFERROR('Tabel 4 B'!E65/'Tabel 4F B'!E65*100,\"-\"))","v":11.76470588235294},{"$f":"IF(OR('Tabel 4F B'!F65<5, 'Tabel 4 B'!F65<0.5),\"-\",IFERROR('Tabel 4 B'!F65/'Tabel 4F B'!F65*100,\"-\"))","v":"-"},{"$f":"IF(OR('Tabel 4F B'!G65<5, 'Tabel 4 B'!G65<0.5),\"-\",IFERROR('Tabel 4 B'!G65/'Tabel 4F B'!G65*100,\"-\"))","v":16.666666666666664},null,{"$f":"IF(OR('Tabel 4F B'!I65<5, 'Tabel 4 B'!I65<0.5),\"-\",IFERROR('Tabel 4 B'!I65/'Tabel 4F B'!I65*100,\"-\"))","v":6.5217391304347823}]
["MA. Ph.d.",null,{"$f":"IF(OR('Tabel 4F B'!C66<5, 'Tabel 4 B'!C66<0.5),\"-\",IFERROR('Tabel 4 B'!C66/'Tabel 4F B'!C66*100,\"-\"))","v":"-"},{"$f":"IF(OR('Tabel 4F B'!D66<5, 'Tabel 4 B'!D66<0.5),\"-\",IFERROR('Tabel 4 B'!D66/'Tabel 4F B'!D66*100,\"-\"))","v":"-"},{"$f":"IF(OR('Tabel 4F B'!E66<5, 'Tabel 4 B'!E66<0.5),\"-\",IFERROR('Tabel 4 B'!E66/'Tabel 4F B'!E66*100,\"-\"))","v":"-"},{"$f":"IF(OR('Tabel 4F B'!F66<5, 'Tabel 4 B'!F66<0.5),\"-\",IFERROR('Tabel 4 B'!F66/'Tabel 4F B'!F66*100,\"-\"))","v":"-"},{"$f":"IF(OR('Tabel 4F B'!G66<5, 'Tabel 4 B'!G66<0.5),\"-\",IFERROR('Tabel 4 B'!G66/'Tabel 4F B'!G66*100,\"-\"))","v":"-"},null,{"$f":"IF(OR('Tabel 4F B'!I66<5, 'Tabel 4 B'!I66<0.5),\"-\",IFERROR('Tabel 4 B'!I66/'Tabel 4F B'!I66*100,\"-\"))","v":14.285714285714285}]
["MA. Samf.",null,{"$f":"IF(OR('Tabel 4F B'!C67<5, 'Tabel 4 B'!C67<0.5),\"-\",IFERROR('Tabel 4 B'!C67/'Tabel 4F B'!C67*100,\"-\"))","v":"-"},{"$f":"IF(OR('Tabel 4F B'!D67<5, 'Tabel 4 B'!D67<0.5),\"-\",IFERROR('Tabel 4 B'!D67/'Tabel 4F B'!D67*100,\"-\"))","v":"-"},{"$f":"IF(OR('Tabel 4F B'!E67<5, 'Tabel 4 B'!E67<0.5),\"-\",IFERROR('Tabel 4 B'!E67/'Tabel 4F B'!E67*100,\"-\"))","v":"-"},{"$f":"IF(OR('Tabel 4F B'!F67<5, 'Tabel 4 B'!F67<0.5),\"-\",IFERROR('Tabel 4 B'!F67/'Tabel 4F B'!F67*100,\"-\"))","v":"-"},{"$f":"IF(OR('Tabel 4F B'!G67<5, 'Tabel 4 B'!G67<0.5),\"-\",IFERROR('Tabel 4 B'!G67/'Tabel 4F B'!G67*100,\"-\"))","v":"-"},null,{"$f":"IF(OR('Tabel 4F B'!I67<5, 'Tabel 4 B'!I67<0.5),\"-\",IFERROR('Tabel 4 B'!I67/'Tabel 4F B'!I67*100,\"-\"))","v":12.5}]
["Øvrige Mag.",null,{"$f":"IF(OR('Tabel 4F B'!C68<5, 'Tabel 4 B'!C68<0.5),\"-\",IFERROR('Tabel 4 B'!C68/'Tabel 4F B'!C68*100,\"-\"))","v":"-"},{"$f":"IF(OR('Tabel 4F B'!D68<5, 'Tabel 4 B'!D68<0.5),\"-\",IFERROR('Tabel 4 B'!D68/'Tabel 4F B'!D68*100,\"-\"))","v":50},{"$f":"IF(OR('Tabel 4F B'!E68<5, 'Tabel 4 B'!E68<0.5),\"-\",IFERROR('Tabel 4 B'!E68/'Tabel 4F B'!E68*100,\"-\"))","v":40},{"$f":"IF(OR('Tabel 4F B'!F68<5, 'Tabel 4 B'!F68<0.5),\"-\",IFERROR('Tabel 4 B'!F68/'Tabel 4F B'!F68*100,\"-\"))","v":"-"},{"$f":"IF(OR('Tabel 4F B'!G68<5, 'Tabel 4 B'!G68<0.5),\"-\",IFERROR('Tabel 4 B'!G68/'Tabel 4F B'!G68*100,\"-\"))","v":"-"},null,{"$f":"IF(OR('Tabel 4F B'!I68<5, 'Tabel 4 B'!I68<0.5),\"-\",IFERROR('Tabel 4 B'!I68/'Tabel 4F B'!I68*100,\"-\"))","v":29.411764705882355}]
["Agronom",null,{"$f":"IF(OR('Tabel 4F B'!C69<5, 'Tabel 4 B'!C69<0.5),\"-\",IFERROR('Tabel 4 B'!C69/'Tabel 4F B'!C69*100,\"-\"))","v":"-"},{"$f":"IF(OR('Tabel 4F B'!D69<5, 'Tabel 4 B'!D69<0.5),\"-\",IFERROR('Tabel 4 B'!D69/'Tabel 4F B'!D69*100,\"-\"))","v":"-"},{"$f":"IF(OR('Tabel 4F B'!E69<5, 'Tabel 4 B'!E69<0.5),\"-\",IFERROR('Tabel 4 B'!E69/'Tabel 4F B'!E69*100,\"-\"))","v":"-"},{"$f":"IF(OR('Tabel 4F B'!F69<5, 'Tabel 4 B'!F69<0.5),\"-\",IFERROR('Tabel 4 B'!F69/'Tabel 4F B'!F69*100,\"-\"))","v":"-"},{"$f":"IF(OR('Tabel 4F B'!G69<5, 'Tabel 4 B'!G69<0.5),\"-\",IFERROR('Tabel 4 B'!G69/'Tabel 4F B'!G69*100,\"-\"))","v":"-"},null,{"$f":"IF(OR('Tabel 4F B'!I69<5, 'Tabel 4 B'!I69<0.5),\"-\",IFERROR('Tabel 4 B'!I69/'Tabel 4F B'!I69*100,\"-\"))","v":"-"}]
["Landsk. Arkt.",null,{"$f":"IF(OR('Tabel 4F B'!C70<5, 'Tabel 4 B'!C70<0.5),\"-\",IFERROR('Tabel 4 B'!C70/'Tabel 4F B'!C70*100,\"-\"))","v":"-"},{"$f":"IF(OR('Tabel 4F B'!D70<5, 'Tabel 4 B'!D70<0.5),\"-\",IFERROR('Tabel 4 B'!D70/'Tabel 4F B'!D70*100,\"-\"))","v":"-"},{"$f":"IF(OR('Tabel 4F B'!E70<5, 'Tabel 4 B'!E70<0.5),\"-\",IFERROR('Tabel 4 B'!E70/'Tabel 4F B'!E70*100,\"-\"))","v":"-"},{"$f":"IF(OR('Tabel 4F B'!F70<5, 'Tabel 4 B'!F70<0.5),\"-\",IFERROR('Tabel 4 B'!F70/'Tabel 4F B'!F70*100,\"-\"))","v":"-"},{"$f":"IF(OR('Tabel 4F B'!G70<5, 'Tabel 4 B'!G70<0.5),\"-\",IFERROR('Tabel 4 B'!G70/'Tabel 4F B'!G70*100,\"-\"))","v":"-"},null,{"$f":"IF(OR('Tabel 4F B'!I70<5, 'Tabel 4 B'!I70<0.5),\"-\",IFERROR('Tabel 4 B'!I70/'Tabel 4F B'!I70*100,\"-\"))","v":"-"}]
["Hortonom",null,{"$f":"IF(OR('Tabel 4F B'!C71<5, 'Tabel 4 B'!C71<0.5),\"-\",IFERROR('Tabel 4 B'!C71/'Tabel 4F B'!C71*100,\"-\"))","v":"-"},{"$f":"IF(OR('Tabel 4F B'!D71<5, 'Tabel 4 B'!D71<0.5),\"-\",IFERROR('Tabel 4 B'!D71/'Tabel 4F B'!D71*100,\"-\"))","v":"-"},{"$f":"IF(OR('Tabel 4F B'!E71<5, 'Tabel 4 B'!E71<0.5),\"-\",IFERROR('Tabel 4 B'!E71/'Tabel 4F B'!E71*100,\"-\"))","v":"-"},{"$f":"IF(OR('Tabel 4F B'!F71<5, 'Tabel 4 B'!F71<0.5),\"-\",IFERROR('Tabel 4 B'!F71/'Tabel 4F B'!F71*100,\"-\"))","v":"-"},{"$f":"IF(OR('Tabel 4F B'!G71<5, 'Tabel 4 B'!G71<0.5),\"-\",IFERROR('Tabel 4 B'!G71/'Tabel 4F B'!G71*100,\"-\"))","v":"-"},null,{"$f":"IF(OR('Tabel 4F B'!I71<5, 'Tabel 4 B'!I71<0.5),\"-\",IFERROR('Tabel 4 B'!I71/'Tabel 4F B'!I71*100,\"-\"))","v":"-"}]
["Forstkand.",null,{"$f":"IF(OR('Tabel 4F B'!C72<5, 'Tabel 4 B'!C72<0.5),\"-\",IFERROR('Tabel 4 B'!C72/'Tabel 4F B'!C72*100,\"-\"))","v":"-"},{"$f":"IF(OR('Tabel 4F B'!D72<5, 'Tabel 4 B'!D72<0.5),\"-\",IFERROR('Tabel 4 B'!D72/'Tabel 4F B'!D72*100,\"-\"))","v":"-"},{"$f":"IF(OR('Tabel 4F B'!E72<5, 'Tabel 4 B'!E72<0.5),\"-\",IFERROR('Tabel 4 B'!E72/'Tabel 4F B'!E72*100,\"-\"))","v":"-"},{"$f":"IF(OR('Tabel 4F B'!F72<5, 'Tabel 4 B'!F72<0.5),\"-\",IFERROR('Tabel 4 B'!F72/'Tabel 4F B'!F72*100,\"-\"))","v":"-"},{"$f":"IF(OR('Tabel 4F B'!G72<5, 'Tabel 4 B'!G72<0.5),\"-\",IFERROR('Tabel 4 B'!G72/'Tabel 4F B'!G72*100,\"-\"))","v":"-"},null,{"$f":"IF(OR('Tabel 4F B'!I72<5, 'Tabel 4 B'!I72<0.5),\"-\",IFERROR('Tabel 4 B'!I72/'Tabel 4F B'!I72*100,\"-\"))","v":"-"}]
["Jordbrugsakad.",null,{"$f":"IF(OR('Tabel 4F B'!C73<5, 'Tabel 4 B'!C73<0.5),\"-\",IFERROR('Tabel 4 B'!C73/'Tabel 4F B'!C73*100,\"-\"))","v":"-"},{"$f":"IF(OR('Tabel 4F B'!D73<5, 'Tabel 4 B'!D73<0.5),\"-\",IFERROR('Tabel 4 B'!D73/'Tabel 4F B'!D73*100,\"-\"))","v":"-"},{"$f":"IF(OR('Tabel 4F B'!E73<5, 'Tabel 4 B'!E73<0.5),\"-\",IFERROR('Tabel 4 B'!E73/'Tabel 4F B'!E73*100,\"-\"))","v":"-"},{"$f":"IF(OR('Tabel 4F B'!F73<5, 'Tabel 4 B'!F73<0.5),\"-\",IFERROR('Tabel 4 B'!F73/'Tabel 4F B'!F73*100,\"-\"))","v":"-"},{"$f":"IF(OR('Tabel 4F B'!G73<5, 'Tabel 4 B'!G73<0.5),\"-\",IFERROR('Tabel 4 B'!G73/'Tabel 4F B'!G73*100,\"-\"))","v":"-"},null,{"$f":"IF(OR('Tabel 4F B'!I73<5, 'Tabel 4 B'!I73<0.5),\"-\",IFERROR('Tabel 4 B'!I73/'Tabel 4F B'!I73*100,\"-\"))","v":"-"}]
["Mejeriing.",null,{"$f":"IF(OR('Tabel 4F B'!C74<5, 'Tabel 4 B'!C74<0.5),\"-\",IFERROR('Tabel 4 B'!C74/'Tabel 4F B'!C74*100,\"-\"))","v":"-"},{"$f":"IF(OR('Tabel 4F B'!D74<5, 'Tabel 4 B'!D74<0.5),\"-\",IFERROR('Tabel 4 B'!D74/'Tabel 4F B'!D74*100,\"-\"))","v":"-"},{"$f":"IF(OR('Tabel 4F B'!E74<5, 'Tabel 4 B'!E74<0.5),\"-\",IFERROR('Tabel 4 B'!E74/'Tabel 4F B'!E74*100,\"-\"))","v":"-"},{"$f":"IF(OR('Tabel 4F B'!F74<5, 'Tabel 4 B'!F74<0.5),\"-\",IFERROR('Tabel 4 B'!F74/'Tabel 4F B'!F74*100,\"-\"))","v":"-"},{"$f":"IF(OR('Tabel 4F B'!G74<5, 'Tabel 4 B'!G74<0.5),\"-\",IFERROR('Tabel 4 B'!G74/'Tabel 4F B'!G74*100,\"-\"))","v":"-"},null,{"$f":"IF(OR('Tabel 4F B'!I74<5, 'Tabel 4 B'!I74<0.5),\"-\",IFERROR('Tabel 4 B'!I74/'Tabel 4F B'!I74*100,\"-\"))","v":"-"}]
["Levn.m.kand.",null,{"$f":"IF(OR('Tabel 4F B'!C75<5, 'Tabel 4 B'!C75<0.5),\"-\",IFERROR('Tabel 4 B'!C75/'Tabel 4F B'!C75*100,\"-\"))","v":"-"},{"$f":"IF(OR('Tabel 4F B'!D75<5, 'Tabel 4 B'!D75<0.5),\"-\",IFERROR('Tabel 4 B'!D75/'Tabel 4F B'!D75*100,\"-\"))","v":"-"},{"$f":"IF(OR('Tabel 4F B'!E75<5, 'Tabel 4 B'!E75<0.5),\"-\",IFERROR('Tabel 4 B'!E75/'Tabel 4F B'!E75*100,\"-\"))","v":"-"},{"$f":"IF(OR('Tabel 4F B'!F75<5, 'Tabel 4 B'!F75<0.5),\"-\",IFERROR('Tabel 4 B'!F75/'Tabel 4F B'!F75*100,\"-\"))","v":"-"},{"$f":"IF(OR('Tabel 4F B'!G75<5, 'Tabel 4 B'!G75<0.5),\"-\",IFERROR('Tabel 4 B'!G75/'Tabel 4F B'!G75*100,\"-\"))","v":"-"},null,{"$f":"IF(OR('Tabel 4F B'!I75<5, 'Tabel 4 B'!I75<0.5),\"-\",IFERROR('Tabel 4 B'!I75/'Tabel 4F B'!I75*100,\"-\"))","v":"-"}]
["Dyrlæge",null,{"$f":"IF(OR('Tabel 4F B'!C76<5, 'Tabel 4 B'!C76<0.5),\"-\",IFERROR('Tabel 4 B'!C76/'Tabel 4F B'!C76*100,\"-\"))","v":"-"},{"$f":"IF(OR('Tabel 4F B'!D76<5, 'Tabel 4 B'!D76<0.5),\"-\",IFERROR('Tabel 4 B'!D76/'Tabel 4F B'!D76*100,\"-\"))","v":"-"},{"$f":"IF(OR('Tabel 4F B'!E76<5, 'Tabel 4 B'!E76<0.5),\"-\",IFERROR('Tabel 4 B'!E76/'Tabel 4F B'!E76*100,\"-\"))","v":"-"},{"$f":"IF(OR('Tabel 4F B'!F76<5, 'Tabel 4 B'!F76<0.5),\"-\",IFERROR('Tabel 4 B'!F76/'Tabel 4F B'!F76*100,\"-\"))","v":"-"},{"$f":"IF(OR('Tabel 4F B'!G76<5, 'Tabel 4 B'!G76<0.5),\"-\",IFERROR('Tabel 4 B'!G76/'Tabel 4F B'!G76*100,\"-\"))","v":"-"},null,{"$f":"IF(OR('Tabel 4F B'!I76<5, 'Tabel 4 B'!I76<0.5),\"-\",IFERROR('Tabel 4 B'!I76/'Tabel 4F B'!I76*100,\"-\"))","v":7.1428571428571423}]
["Farmaceut",null,{"$f":"IF(OR('Tabel 4F B'!C77<5, 'Tabel 4 B'!C77<0.5),\"-\",IFERROR('Tabel 4 B'!C77/'Tabel 4F B'!C77*100,\"-\"))","v":"-"},{"$f":"IF(OR('Tabel 4F B'!D77<5, 'Tabel 4 B'!D77<0.5),\"-\",IFERROR('Tabel 4 B'!D77/'Tabel 4F B'!D77*100,\"-\"))","v":"-"},{"$f":"IF(OR('Tabel 4F B'!E77<5, 'Tabel 4 B'!E77<0.5),\"-\",IFERROR('Tabel 4 B'!E77/'Tabel 4F B'!E77*100,\"-\"))","v":"-"},{"$f":"IF(OR('Tabel 4F B'!F77<5, 'Tabel 4 B'!F77<0.5),\"-\",IFERROR('Tabel 4 B'!F77/'Tabel 4F B'!F77*100,\"-\"))","v":"-"},{"$f":"IF(OR('Tabel 4F B'!G77<5, 'Tabel 4 B'!G77<0.5),\"-\",IFERROR('Tabel 4 B'!G77/'Tabel 4F B'!G77*100,\"-\"))","v":"-"},null,{"$f":"IF(OR('Tabel 4F B'!I77<5, 'Tabel 4 B'!I77<0.5),\"-\",IFERROR('Tabel 4 B'!I77/'Tabel 4F B'!I77*100,\"-\"))","v":"-"}]
["Læge",null,{"$f":"IF(OR('Tabel 4F B'!C78<5, 'Tabel 4 B'!C78<0.5),\"-\",IFERROR('Tabel 4 B'!C78/'Tabel 4F B'!C78*100,\"-\"))","v":12.5},{"$f":"IF(OR('Tabel 4F B'!D78<5, 'Tabel 4 B'!D78<0.5),\"-\",IFERROR('Tabel 4 B'!D78/'Tabel 4F B'!D78*100,\"-\"))","v":"-"},{"$f":"IF(OR('Tabel 4F B'!E78<5, 'Tabel 4 B'!E78<0.5),\"-\",IFERROR('Tabel 4 B'!E78/'Tabel 4F B'!E78*100,\"-\"))","v":"-"},{"$f":"IF(OR('Tabel 4F B'!F78<5, 'Tabel 4 B'!F78<0.5),\"-\",IFERROR('Tabel 4 B'!F78/'Tabel 4F B'!F78*100,\"-\"))","v":"-"},{"$f":"IF(OR('Tabel 4F B'!G78<5, 'Tabel 4 B'!G78<0.5),\"-\",IFERROR('Tabel 4 B'!G78/'Tabel 4F B'!G78*100,\"-\"))","v":"-"},null,{"$f":"IF(OR('Tabel 4F B'!I78<5, 'Tabel 4 B'!I78<0.5),\"-\",IFERROR('Tabel 4 B'!I78/'Tabel 4F B'!I78*100,\"-\"))","v":3.125}]
["Tandlæge",null,{"$f":"IF(OR('Tabel 4F B'!C79<5, 'Tabel 4 B'!C79<0.5),\"-\",IFERROR('Tabel 4 B'!C79/'Tabel 4F B'!C79*100,\"-\"))","v":"-"},{"$f":"IF(OR('Tabel 4F B'!D79<5, 'Tabel 4 B'!D79<0.5),\"-\",IFERROR('Tabel 4 B'!D79/'Tabel 4F B'!D79*100,\"-\"))","v":"-"},{"$f":"IF(OR('Tabel 4F B'!E79<5, 'Tabel 4 B'!E79<0.5),\"-\",IFERROR('Tabel 4 B'!E79/'Tabel 4F B'!E79*100,\"-\"))","v":"-"},{"$f":"IF(OR('Tabel 4F B'!F79<5, 'Tabel 4 B'!F79<0.5),\"-\",IFERROR('Tabel 4 B'!F79/'Tabel 4F B'!F79*100,\"-\"))","v":"-"},{"$f":"IF(OR('Tabel 4F B'!G79<5, 'Tabel 4 B'!G79<0.5),\"-\",IFERROR('Tabel 4 B'!G79/'Tabel 4F B'!G79*100,\"-\"))","v":"-"},null,{"$f":"IF(OR('Tabel 4F B'!I79<5, 'Tabel 4 B'!I79<0.5),\"-\",IFERROR('Tabel 4 B'!I79/'Tabel 4F B'!I79*100,\"-\"))","v":"-"}]
["Arkitekt",null,{"$f":"IF(OR('Tabel 4F B'!C80<5, 'Tabel 4 B'!C80<0.5),\"-\",IFERROR('Tabel 4 B'!C80/'Tabel 4F B'!C80*100,\"-\"))","v":"-"},{"$f":"IF(OR('Tabel 4F B'!D80<5, 'Tabel 4 B'!D80<0.5),\"-\",IFERROR('Tabel 4 B'!D80/'Tabel 4F B'!D80*100,\"-\"))","v":"-"},{"$f":"IF(OR('Tabel 4F B'!E80<5, 'Tabel 4 B'!E80<0.5),\"-\",IFERROR('Tabel 4 B'!E80/'Tabel 4F B'!E80*100,\"-\"))","v":"-"},{"$f":"IF(OR('Tabel 4F B'!F80<5, 'Tabel 4 B'!F80<0.5),\"-\",IFERROR('Tabel 4 B'!F80/'Tabel 4F B'!F80*100,\"-\"))","v":"-"},{"$f":"IF(OR('Tabel 4F B'!G80<5, 'Tabel 4 B'!G80<0.5),\"-\",IFERROR('Tabel 4 B'!G80/'Tabel 4F B'!G80*100,\"-\"))","v":"-"},null,{"$f":"IF(OR('Tabel 4F B'!I80<5, 'Tabel 4 B'!I80<0.5),\"-\",IFERROR('Tabel 4 B'!I80/'Tabel 4F B'!I80*100,\"-\"))","v":7.1428571428571423}]
["Landinspek.",null,{"$f":"IF(OR('Tabel 4F B'!C81<5, 'Tabel 4 B'!C81<0.5),\"-\",IFERROR('Tabel 4 B'!C81/'Tabel 4F B'!C81*100,\"-\"))","v":"-"},{"$f":"IF(OR('Tabel 4F B'!D81<5, 'Tabel 4 B'!D81<0.5),\"-\",IFERROR('Tabel 4 B'!D81/'Tabel 4F B'!D81*100,\"-\"))","v":"-"},{"$f":"IF(OR('Tabel 4F B'!E81<5, 'Tabel 4 B'!E81<0.5),\"-\",IFERROR('Tabel 4 B'!E81/'Tabel 4F B'!E81*100,\"-\"))","v":"-"},{"$f":"IF(OR('Tabel 4F B'!F81<5, 'Tabel 4 B'!F81<0.5),\"-\",IFERROR('Tabel 4 B'!F81/'Tabel 4F B'!F81*100,\"-\"))","v":"-"},{"$f":"IF(OR('Tabel 4F B'!G81<5, 'Tabel 4 B'!G81<0.5),\"-\",IFERROR('Tabel 4 B'!G81/'Tabel 4F B'!G81*100,\"-\"))","v":"-"},null,{"$f":"IF(OR('Tabel 4F B'!I81<5, 'Tabel 4 B'!I81<0.5),\"-\",IFERROR('Tabel 4 B'!I81/'Tabel 4F B'!I81*100,\"-\"))","v":"-"}]
["Bibliotekar",null,{"$f":"IF(OR('Tabel 4F B'!C82<5, 'Tabel 4 B'!C82<0.5),\"-\",IFERROR('Tabel 4 B'!C82/'Tabel 4F B'!C82*100,\"-\"))","v":"-"},{"$f":"IF(OR('Tabel 4F B'!D82<5, 'Tabel 4 B'!D82<0.5),\"-\",IFERROR('Tabel 4 B'!D82/'Tabel 4F B'!D82*100,\"-\"))","v":"-"},{"$f":"IF(OR('Tabel 4F B'!E82<5, 'Tabel 4 B'!E82<0.5),\"-\",IFERROR('Tabel 4 B'!E82/'Tabel 4F B'!E82*100,\"-\"))","v":"-"},{"$f":"IF(OR('Tabel 4F B'!F82<5, 'Tabel 4 B'!F82<0.5),\"-\",IFERROR('Tabel 4 B'!F82/'Tabel 4F B'!F82*100,\"-\"))","v":"-"},{"$f":"IF(OR('Tabel 4F B'!G82<5, 'Tabel 4 B'!G82<0.5),\"-\",IFERROR('Tabel 4 B'!G82/'Tabel 4F B'!G82*100,\"-\"))","v":"-"},null,{"$f":"IF(OR('Tabel 4F B'!I82<5, 'Tabel 4 B'!I82<0.5),\"-\",IFERROR('Tabel 4 B'!I82/'Tabel 4F B'!I82*100,\"-\"))","v":6.666666666666667}]
["Musikudd.",null,{"$f":"IF(OR('Tabel 4F B'!C83<5, 'Tabel 4 B'!C83<0.5),\"-\",IFERROR('Tabel 4 B'!C83/'Tabel 4F B'!C83*100,\"-\"))","v":"-"},{"$f":"IF(OR('Tabel 4F B'!D83<5, 'Tabel 4 B'!D83<0.5),\"-\",IFERROR('Tabel 4 B'!D83/'Tabel 4F B'!D83*100,\"-\"))","v":"-"},{"$f":"IF(OR('Tabel 4F B'!E83<5, 'Tabel 4 B'!E83<0.5),\"-\",IFERROR('Tabel 4 B'!E83/'Tabel 4F B'!E83*100,\"-\"))","v":"-"},{"$f":"IF(OR('Tabel 4F B'!F83<5, 'Tabel 4 B'!F83<0.5),\"-\",IFERROR('Tabel 4 B'!F83/'Tabel 4F B'!F83*100,\"-\"))","v":"-"},{"$f":"IF(OR('Tabel 4F B'!G83<5, 'Tabel 4 B'!G83<0.5),\"-\",IFERROR('Tabel 4 B'!G83/'Tabel 4F B'!G83*100,\"-\"))","v":"-"},null,{"$f":"IF(OR('Tabel 4F B'!I83<5, 'Tabel 4 B'!I83<0.5),\"-\",IFERROR('Tabel 4 B'!I83/'Tabel 4F B'!I83*100,\"-\"))","v":"-"}]
["Teolog",null,{"$f":"IF(OR('Tabel 4F B'!C84<5, 'Tabel 4 B'!C84<0.5),\"-\",IFERROR('Tabel 4 B'!C84/'Tabel 4F B'!C84*100,\"-\"))","v":"-"},{"$f":"IF(OR('Tabel 4F B'!D84<5, 'Tabel 4 B'!D84<0.5),\"-\",IFERROR('Tabel 4 B'!D84/'Tabel 4F B'!D84*100,\"-\"))","v":"-"},{"$f":"IF(OR('Tabel 4F B'!E84<5, 'Tabel 4 B'!E84<0.5),\"-\",IFERROR('Tabel 4 B'!E84/'Tabel 4F B'!E84*100,\"-\"))","v":"-"},{"$f":"IF(OR('Tabel 4F B'!F84<5, 'Tabel 4 B'!F84<0.5),\"-\",IFERROR('Tabel 4 B'!F84/'Tabel 4F B'!F84*100,\"-\"))","v":"-"},{"$f":"IF(OR('Tabel 4F B'!G84<5, 'Tabel 4 B'!G84<0.5),\"-\",IFERROR('Tabel 4 B'!G84/'Tabel 4F B'!G84*100,\"-\"))","v":"-"},null,{"$f":"IF(OR('Tabel 4F B'!I84<5, 'Tabel 4 B'!I84<0.5),\"-\",IFERROR('Tabel 4 B'!I84/'Tabel 4F B'!I84*100,\"-\"))","v":"-"}]
["Psykolog",null,{"$f":"IF(OR('Tabel 4F B'!C85<5, 'Tabel 4 B'!C85<0.5),\"-\",IFERROR('Tabel 4 B'!C85/'Tabel 4F B'!C85*100,\"-\"))","v":"-"},{"$f":"IF(OR('Tabel 4F B'!D85<5, 'Tabel 4 B'!D85<0.5),\"-\",IFERROR('Tabel 4 B'!D85/'Tabel 4F B'!D85*100,\"-\"))","v":14.285714285714285},{"$f":"IF(OR('Tabel 4F B'!E85<5, 'Tabel 4 B'!E85<0.5),\"-\",IFERROR('Tabel 4 B'!E85/'Tabel 4F B'!E85*100,\"-\"))","v":7.1428571428571423},{"$f":"IF(OR('Tabel 4F B'!F85<5, 'Tabel 4 B'!F85<0.5),\"-\",IFERROR('Tabel 4 B'!F85/'Tabel 4F B'!F85*100,\"-\"))","v":"-"},{"$f":"IF(OR('Tabel 4F B'!G85<5, 'Tabel 4 B'!G85<0.5),\"-\",IFERROR('Tabel 4 B'!G85/'Tabel 4F B'!G85*100,\"-\"))","v":"-"},null,{"$f":"IF(OR('Tabel 4F B'!I85<5, 'Tabel 4 B'!I85<0.5),\"-\",IFERROR('Tabel 4 B'!I85/'Tabel 4F B'!I85*100,\"-\"))","v":6.666666666666667}]
["Jurist",null,{"$f":"IF(OR('Tabel 4F B'!C86<5, 'Tabel 4 B'!C86<0.5),\"-\",IFERROR('Tabel 4 B'!C86/'Tabel 4F B'!C86*100,\"-\"))","v":"-"},{"$f":"IF(OR('Tabel 4F B'!D86<5, 'Tabel 4 B'!D86<0.5),\"-\",IFERROR('Tabel 4 B'!D86/'Tabel 4F B'!D86*100,\"-\"))","v":"-"},{"$f":"IF(OR('Tabel 4F B'!E86<5, 'Tabel 4 B'!E86<0.5),\"-\",IFERROR('Tabel 4 B'!E86/'Tabel 4F B'!E86*100,\"-\"))","v":"-"},{"$f":"IF(OR('Tabel 4F B'!F86<5, 'Tabel 4 B'!F86<0.5),\"-\",IFERROR('Tabel 4 B'!F86/'Tabel 4F B'!F86*100,\"-\"))","v":"-"},{"$f":"IF(OR('Tabel 4F B'!G86<5, 'Tabel 4 B'!G86<0.5),\"-\",IFERROR('Tabel 4 B'!G86/'Tabel 4F B'!G86*100,\"-\"))","v":"-"},null,{"$f":"IF(OR('Tabel 4F B'!I86<5, 'Tabel 4 B'!I86<0.5),\"-\",IFERROR('Tabel 4 B'!I86/'Tabel 4F B'!I86*100,\"-\"))","v":"-"}]
["Økonom",null,{"$f":"IF(OR('Tabel 4F B'!C87<5, 'Tabel 4 B'!C87<0.5),\"-\",IFERROR('Tabel 4 B'!C87/'Tabel 4F B'!C87*100,\"-\"))","v":"-"},{"$f":"IF(OR('Tabel 4F B'!D87<5, 'Tabel 4 B'!D87<0.5),\"-\",IFERROR('Tabel 4 B'!D87/'Tabel 4F B'!D87*100,\"-\"))","v":"-"},{"$f":"IF(OR('Tabel 4F B'!E87<5, 'Tabel 4 B'!E87<0.5),\"-\",IFERROR('Tabel 4 B'!E87/'Tabel 4F B'!E87*100,\"-\"))","v":"-"},{"$f":"IF(OR('Tabel 4F B'!F87<5, 'Tabel 4 B'!F87<0.5),\"-\",IFERROR('Tabel 4 B'!F87/'Tabel 4F B'!F87*100,\"-\"))","v":"-"},{"$f":"IF(OR('Tabel 4F B'!G87<5, 'Tabel 4 B'!G87<0.5),\"-\",IFERROR('Tabel 4 B'!G87/'Tabel 4F B'!G87*100,\"-\"))","v":"-"},null,{"$f":"IF(OR('Tabel 4F B'!I87<5, 'Tabel 4 B'!I87<0.5),\"-\",IFERROR('Tabel 4 B'!I87/'Tabel 4F B'!I87*100,\"-\"))","v":"-"}]
["Samf. Adm.",null,{"$f":"IF(OR('Tabel 4F B'!C88<5, 'Tabel 4 B'!C88<0.5),\"-\",IFERROR('Tabel 4 B'!C88/'Tabel 4F B'!C88*100,\"-\"))","v":"-"},{"$f":"IF(OR('Tabel 4F B'!D88<5, 'Tabel 4 B'!D88<0.5),\"-\",IFERROR('Tabel 4 B'!D88/'Tabel 4F B'!D88*100,\"-\"))","v":"-"},{"$f":"IF(OR('Tabel 4F B'!E88<5, 'Tabel 4 B'!E88<0.5),\"-\",IFERROR('Tabel 4 B'!E88/'Tabel 4F B'!E88*100,\"-\"))","v":4.7619047619047619},{"$f":"IF(OR('Tabel 4F B'!F88<5, 'Tabel 4 B'!F88<0.5),\"-\",IFERROR('Tabel 4 B'!F88/'Tabel 4F B'!F88*100,\"-\"))","v":20},{"$f":"IF(OR('Tabel 4F B'!G88<5, 'Tabel 4 B'!G88<0.5),\"-\",IFERROR('Tabel 4 B'!G88/'Tabel 4F B'!G88*100,\"-\"))","v":"-"},null,{"$f":"IF(OR('Tabel 4F B'!I88<5, 'Tabel 4 B'!I88<0.5),\"-\",IFERROR('Tabel 4 B'!I88/'Tabel 4F B'!I88*100,\"-\"))","v":5.7692307692307692}]
["Cand. Merc.",null,{"$f":"IF(OR('Tabel 4F B'!C89<5, 'Tabel 4 B'!C89<0.5),\"-\",IFERROR('Tabel 4 B'!C89/'Tabel 4F B'!C89*100,\"-\"))","v":"-"},{"$f":"IF(OR('Tabel 4F B'!D89<5, 'Tabel 4 B'!D89<0.5),\"-\",IFERROR('Tabel 4 B'!D89/'Tabel 4F B'!D89*100,\"-\"))","v":"-"},{"$f":"IF(OR('Tabel 4F B'!E89<5, 'Tabel 4 B'!E89<0.5),\"-\",IFERROR('Tabel 4 B'!E89/'Tabel 4F B'!E89*100,\"-\"))","v":30},{"$f":"IF(OR('Tabel 4F B'!F89<5, 'Tabel 4 B'!F89<0.5),\"-\",IFERROR('Tabel 4 B'!F89/'Tabel 4F B'!F89*100,\"-\"))","v":"-"},{"$f":"IF(OR('Tabel 4F B'!G89<5, 'Tabel 4 B'!G89<0.5),\"-\",IFERROR('Tabel 4 B'!G89/'Tabel 4F B'!G89*100,\"-\"))","v":"-"},null,{"$f":"IF(OR('Tabel 4F B'!I89<5, 'Tabel 4 B'!I89<0.5),\"-\",IFERROR('Tabel 4 B'!I89/'Tabel 4F B'!I89*100,\"-\"))","v":10.344827586206897}]
["HA",null,{"$f":"IF(OR('Tabel 4F B'!C90<5, 'Tabel 4 B'!C90<0.5),\"-\",IFERROR('Tabel 4 B'!C90/'Tabel 4F B'!C90*100,\"-\"))","v":"-"},{"$f":"IF(OR('Tabel 4F B'!D90<5, 'Tabel 4 B'!D90<0.5),\"-\",IFERROR('Tabel 4 B'!D90/'Tabel 4F B'!D90*100,\"-\"))","v":"-"},{"$f":"IF(OR('Tabel 4F B'!E90<5, 'Tabel 4 B'!E90<0.5),\"-\",IFERROR('Tabel 4 B'!E90/'Tabel 4F B'!E90*100,\"-\"))","v":"-"},{"$f":"IF(OR('Tabel 4F B'!F90<5, 'Tabel 4 B'!F90<0.5),\"-\",IFERROR('Tabel 4 B'!F90/'Tabel 4F B'!F90*100,\"-\"))","v":"-"},{"$f":"IF(OR('Tabel 4F B'!G90<5, 'Tabel 4 B'!G90<0.5),\"-\",IFERROR('Tabel 4 B'!G90/'Tabel 4F B'!G90*100,\"-\"))","v":"-"},null,{"$f":"IF(OR('Tabel 4F B'!I90<5, 'Tabel 4 B'!I90<0.5),\"-\",IFERROR('Tabel 4 B'!I90/'Tabel 4F B'!I90*100,\"-\"))","v":"-"}]
["HD",null,{"$f":"IF(OR('Tabel 4F B'!C91<5, 'Tabel 4 B'!C91<0.5),\"-\",IFERROR('Tabel 4 B'!C91/'Tabel 4F B'!C91*100,\"-\"))","v":"-"},{"$f":"IF(OR('Tabel 4F B'!D91<5, 'Tabel 4 B'!D91<0.5),\"-\",IFERROR('Tabel 4 B'!D91/'Tabel 4F B'!D91*100,\"-\"))","v":"-"},{"$f":"IF(OR('Tabel 4F B'!E91<5, 'Tabel 4 B'!E91<0.5),\"-\",IFERROR('Tabel 4 B'!E91/'Tabel 4F B'!E91*100,\"-\"))","v":"-"},{"$f":"IF(OR('Tabel 4F B'!F91<5, 'Tabel 4 B'!F91<0.5),\"-\",IFERROR('Tabel 4 B'!F91/'Tabel 4F B'!F91*100,\"-\"))","v":"-"},{"$f":"IF(OR('Tabel 4F B'!G91<5, 'Tabel 4 B'!G91<0.5),\"-\",IFERROR('Tabel 4 B'!G91/'Tabel 4F B'!G91*100,\"-\"))","v":"-"},null,{"$f":"IF(OR('Tabel 4F B'!I91<5, 'Tabel 4 B'!I91<0.5),\"-\",IFERROR('Tabel 4 B'!I91/'Tabel 4F B'!I91*100,\"-\"))","v":"-"}]
["Komm. og Sprog",null,{"$f":"IF(OR('Tabel 4F B'!C92<5, 'Tabel 4 B'!C92<0.5),\"-\",IFERROR('Tabel 4 B'!C92/'Tabel 4F B'!C92*100,\"-\"))","v":"-"},{"$f":"IF(OR('Tabel 4F B'!D92<5, 'Tabel 4 B'!D92<0.5),\"-\",IFERROR('Tabel 4 B'!D92/'Tabel 4F B'!D92*100,\"-\"))","v":28.571428571428569},{"$f":"IF(OR('Tabel 4F B'!E92<5, 'Tabel 4 B'!E92<0.5),\"-\",IFERROR('Tabel 4 B'!E92/'Tabel 4F B'!E92*100,\"-\"))","v":"-"},{"$f":"IF(OR('Tabel 4F B'!F92<5, 'Tabel 4 B'!F92<0.5),\"-\",IFERROR('Tabel 4 B'!F92/'Tabel 4F B'!F92*100,\"-\"))","v":"-"},{"$f":"IF(OR('Tabel 4F B'!G92<5, 'Tabel 4 B'!G92<0.5),\"-\",IFERROR('Tabel 4 B'!G92/'Tabel 4F B'!G92*100,\"-\"))","v":"-"},null,{"$f":"IF(OR('Tabel 4F B'!I92<5, 'Tabel 4 B'!I92<0.5),\"-\",IFERROR('Tabel 4 B'!I92/'Tabel 4F B'!I92*100,\"-\"))","v":26.666666666666668}]
["Bygningskonst.",null,{"$f":"IF(OR('Tabel 4F B'!C93<5, 'Tabel 4 B'!C93<0.5),\"-\",IFERROR('Tabel 4 B'!C93/'Tabel 4F B'!C93*100,\"-\"))","v":"-"},{"$f":"IF(OR('Tabel 4F B'!D93<5, 'Tabel 4 B'!D93<0.5),\"-\",IFERROR('Tabel 4 B'!D93/'Tabel 4F B'!D93*100,\"-\"))","v":"-"},{"$f":"IF(OR('Tabel 4F B'!E93<5, 'Tabel 4 B'!E93<0.5),\"-\",IFERROR('Tabel 4 B'!E93/'Tabel 4F B'!E93*100,\"-\"))","v":"-"},{"$f":"IF(OR('Tabel 4F B'!F93<5, 'Tabel 4 B'!F93<0.5),\"-\",IFERROR('Tabel 4 B'!F93/'Tabel 4F B'!F93*100,\"-\"))","v":"-"},{"$f":"IF(OR('Tabel 4F B'!G93<5, 'Tabel 4 B'!G93<0.5),\"-\",IFERROR('Tabel 4 B'!G93/'Tabel 4F B'!G93*100,\"-\"))","v":"-"},null,{"$f":"IF(OR('Tabel 4F B'!I93<5, 'Tabel 4 B'!I93<0.5),\"-\",IFERROR('Tabel 4 B'!I93/'Tabel 4F B'!I93*100,\"-\"))","v":"-"}]
["Cand. IT.",null,{"$f":"IF(OR('Tabel 4F B'!C94<5, 'Tabel 4 B'!C94<0.5),\"-\",IFERROR('Tabel 4 B'!C94/'Tabel 4F B'!C94*100,\"-\"))","v":"-"},{"$f":"IF(OR('Tabel 4F B'!D94<5, 'Tabel 4 B'!D94<0.5),\"-\",IFERROR('Tabel 4 B'!D94/'Tabel 4F B'!D94*100,\"-\"))","v":"-"},{"$f":"IF(OR('Tabel 4F B'!E94<5, 'Tabel 4 B'!E94<0.5),\"-\",IFERROR('Tabel 4 B'!E94/'Tabel 4F B'!E94*100,\"-\"))","v":"-"},{"$f":"IF(OR('Tabel 4F B'!F94<5, 'Tabel 4 B'!F94<0.5),\"-\",IFERROR('Tabel 4 B'!F94/'Tabel 4F B'!F94*100,\"-\"))","v":"-"},{"$f":"IF(OR('Tabel 4F B'!G94<5, 'Tabel 4 B'!G94<0.5),\"-\",IFERROR('Tabel 4 B'!G94/'Tabel 4F B'!G94*100,\"-\"))","v":"-"},null,{"$f":"IF(OR('Tabel 4F B'!I94<5, 'Tabel 4 B'!I94<0.5),\"-\",IFERROR('Tabel 4 B'!I94/'Tabel 4F B'!I94*100,\"-\"))","v":"-"}]
["Bac. Samf.",null,{"$f":"IF(OR('Tabel 4F B'!C95<5, 'Tabel 4 B'!C95<0.5),\"-\",IFERROR('Tabel 4 B'!C95/'Tabel 4F B'!C95*100,\"-\"))","v":"-"},{"$f":"IF(OR('Tabel 4F B'!D95<5, 'Tabel 4 B'!D95<0.5),\"-\",IFERROR('Tabel 4 B'!D95/'Tabel 4F B'!D95*100,\"-\"))","v":"-"},{"$f":"IF(OR('Tabel 4F B'!E95<5, 'Tabel 4 B'!E95<0.5),\"-\",IFERROR('Tabel 4 B'!E95/'Tabel 4F B'!E95*100,\"-\"))","v":"-"},{"$f":"IF(OR('Tabel 4F B'!F95<5, 'Tabel 4 B'!F95<0.5),\"-\",IFERROR('Tabel 4 B'!F95/'Tabel 4F B'!F95*100,\"-\"))","v":"-"},{"$f":"IF(OR('Tabel 4F B'!G95<5, 'Tabel 4 B'!G95<0.5),\"-\",IFERROR('Tabel 4 B'!G95/'Tabel 4F B'!G95*100,\"-\"))","v":"-"},null,{"$f":"IF(OR('Tabel 4F B'!I95<5, 'Tabel 4 B'!I95<0.5),\"-\",IFERROR('Tabel 4 B'!I95/'Tabel 4F B'!I95*100,\"-\"))","v":"-"}]
["Bac. Hum.",null,{"$f":"IF(OR('Tabel 4F B'!C96<5, 'Tabel 4 B'!C96<0.5),\"-\",IFERROR('Tabel 4 B'!C96/'Tabel 4F B'!C96*100,\"-\"))","v":"-"},{"$f":"IF(OR('Tabel 4F B'!D96<5, 'Tabel 4 B'!D96<0.5),\"-\",IFERROR('Tabel 4 B'!D96/'Tabel 4F B'!D96*100,\"-\"))","v":"-"},{"$f":"IF(OR('Tabel 4F B'!E96<5, 'Tabel 4 B'!E96<0.5),\"-\",IFERROR('Tabel 4 B'!E96/'Tabel 4F B'!E96*100,\"-\"))","v":"-"},{"$f":"IF(OR('Tabel 4F B'!F96<5, 'Tabel 4 B'!F96<0.5),\"-\",IFERROR('Tabel 4 B'!F96/'Tabel 4F B'!F96*100,\"-\"))","v":"-"},{"$f":"IF(OR('Tabel 4F B'!G96<5, 'Tabel 4 B'!G96<0.5),\"-\",IFERROR('Tabel 4 B'!G96/'Tabel 4F B'!G96*100,\"-\"))","v":"-"},null,{"$f":"IF(OR('Tabel 4F B'!I96<5, 'Tabel 4 B'!I96<0.5),\"-\",IFERROR('Tabel 4 B'!I96/'Tabel 4F B'!I96*100,\"-\"))","v":15.384615384615385}]
["Bac. Nat.",null,{"$f":"IF(OR('Tabel 4F B'!C97<5, 'Tabel 4 B'!C97<0.5),\"-\",IFERROR('Tabel 4 B'!C97/'Tabel 4F B'!C97*100,\"-\"))","v":"-"},{"$f":"IF(OR('Tabel 4F B'!D97<5, 'Tabel 4 B'!D97<0.5),\"-\",IFERROR('Tabel 4 B'!D97/'Tabel 4F B'!D97*100,\"-\"))","v":"-"},{"$f":"IF(OR('Tabel 4F B'!E97<5, 'Tabel 4 B'!E97<0.5),\"-\",IFERROR('Tabel 4 B'!E97/'Tabel 4F B'!E97*100,\"-\"))","v":"-"},{"$f":"IF(OR('Tabel 4F B'!F97<5, 'Tabel 4 B'!F97<0.5),\"-\",IFERROR('Tabel 4 B'!F97/'Tabel 4F B'!F97*100,\"-\"))","v":"-"},{"$f":"IF(OR('Tabel 4F B'!G97<5, 'Tabel 4 B'!G97<0.5),\"-\",IFERROR('Tabel 4 B'!G97/'Tabel 4F B'!G97*100,\"-\"))","v":"-"},null,{"$f":"IF(OR('Tabel 4F B'!I97<5, 'Tabel 4 B'!I97<0.5),\"-\",IFERROR('Tabel 4 B'!I97/'Tabel 4F B'!I97*100,\"-\"))","v":20}]
["Andre",null,{"$f":"IF(OR('Tabel 4F B'!C98<5, 'Tabel 4 B'!C98<0.5),\"-\",IFERROR('Tabel 4 B'!C98/'Tabel 4F B'!C98*100,\"-\"))","v":"-"},{"$f":"IF(OR('Tabel 4F B'!D98<5, 'Tabel 4 B'!D98<0.5),\"-\",IFERROR('Tabel 4 B'!D98/'Tabel 4F B'!D98*100,\"-\"))","v":10.526315789473683},{"$f":"IF(OR('Tabel 4F B'!E98<5, 'Tabel 4 B'!E98<0.5),\"-\",IFERROR('Tabel 4 B'!E98/'Tabel 4F B'!E98*100,\"-\"))","v":19.230769230769234},{"$f":"IF(OR('Tabel 4F B'!F98<5, 'Tabel 4 B'!F98<0.5),\"-\",IFERROR('Tabel 4 B'!F98/'Tabel 4F B'!F98*100,\"-\"))","v":5.7142857142857144},{"$f":"IF(OR('Tabel 4F B'!G98<5, 'Tabel 4 B'!G98<0.5),\"-\",IFERROR('Tabel 4 B'!G98/'Tabel 4F B'!G98*100,\"-\"))","v":8.695652173913043},null,{"$f":"IF(OR('Tabel 4F B'!I98<5, 'Tabel 4 B'!I98<0.5),\"-\",IFERROR('Tabel 4 B'!I98/'Tabel 4F B'!I98*100,\"-\"))","v":10.2803738317757}]
[]
["Total",null,{"$f":"IF(OR('Tabel 4F B'!C100<5, 'Tabel 4 B'!C100<0.5),\"-\",IFERROR('Tabel 4 B'!C100/'Tabel 4F B'!C100*100,\"-\"))","v":7.2727272727272725},{"$f":"IF(OR('Tabel 4F B'!D100<5, 'Tabel 4 B'!D100<0.5),\"-\",IFERROR('Tabel 4 B'!D100/'Tabel 4F B'!D100*100,\"-\"))","v":10.683760683760683},{"$f":"IF(OR('Tabel 4F B'!E100<5, 'Tabel 4 B'!E100<0.5),\"-\",IFERROR('Tabel 4 B'!E100/'Tabel 4F B'!E100*100,\"-\"))","v":11.363636363636363},{"$f":"IF(OR('Tabel 4F B'!F100<5, 'Tabel 4 B'!F100<0.5),\"-\",IFERROR('Tabel 4 B'!F100/'Tabel 4F B'!F100*100,\"-\"))","v":7.5},{"$f":"IF(OR('Tabel 4F B'!G100<5, 'Tabel 4 B'!G100<0.5),\"-\",IFERROR('Tabel 4 B'!G100/'Tabel 4F B'!G100*100,\"-\"))","v":7.6923076923076925},null,{"$f":"IF(OR('Tabel 4F B'!I100<5, 'Tabel 4 B'!I100<0.5),\"-\",IFERROR('Tabel 4 B'!I100/'Tabel 4F B'!I100*100,\"-\"))","v":9.4710947109471082}]
[]
["Ingeniører i alt",null,{"$f":"IF(OR('Tabel 4F B'!C102<5, 'Tabel 4 B'!C102<0.5),\"-\",IFERROR('Tabel 4 B'!C102/'Tabel 4F B'!C102*100,\"-\"))","v":"-"},{"$f":"IF(OR('Tabel 4F B'!D102<5, 'Tabel 4 B'!D102<0.5),\"-\",IFERROR('Tabel 4 B'!D102/'Tabel 4F B'!D102*100,\"-\"))","v":11.538461538461538},{"$f":"IF(OR('Tabel 4F B'!E102<5, 'Tabel 4 B'!E102<0.5),\"-\",IFERROR('Tabel 4 B'!E102/'Tabel 4F B'!E102*100,\"-\"))","v":3.7037037037037033},{"$f":"IF(OR('Tabel 4F B'!F102<5, 'Tabel 4 B'!F102<0.5),\"-\",IFERROR('Tabel 4 B'!F102/'Tabel 4F B'!F102*100,\"-\"))","v":6.666666666666667},{"$f":"IF(OR('Tabel 4F B'!G102<5, 'Tabel 4 B'!G102<0.5),\"-\",IFERROR('Tabel 4 B'!G102/'Tabel 4F B'!G102*100,\"-\"))","v":"-"},null,{"$f":"IF(OR('Tabel 4F B'!I102<5, 'Tabel 4 B'!I102<0.5),\"-\",IFERROR('Tabel 4 B'!I102/'Tabel 4F B'!I102*100,\"-\"))","v":6.1855670103092786}]
["Magistre i alt",null,{"$f":"IF(OR('Tabel 4F B'!C103<5, 'Tabel 4 B'!C103<0.5),\"-\",IFERROR('Tabel 4 B'!C103/'Tabel 4F B'!C103*100,\"-\"))","v":18.181818181818183},{"$f":"IF(OR('Tabel 4F B'!D103<5, 'Tabel 4 B'!D103<0.5),\"-\",IFERROR('Tabel 4 B'!D103/'Tabel 4F B'!D103*100,\"-\"))","v":15.277777777777779},{"$f":"IF(OR('Tabel 4F B'!E103<5, 'Tabel 4 B'!E103<0.5),\"-\",IFERROR('Tabel 4 B'!E103/'Tabel 4F B'!E103*100,\"-\"))","v":22.641509433962266},{"$f":"IF(OR('Tabel 4F B'!F103<5, 'Tabel 4 B'!F103<0.5),\"-\",IFERROR('Tabel 4 B'!F103/'Tabel 4F B'!F103*100,\"-\"))","v":6.5217391304347823},{"$f":"IF(OR('Tabel 4F B'!G103<5, 'Tabel 4 B'!G103<0.5),\"-\",IFERROR('Tabel 4 B'!G103/'Tabel 4F B'!G103*100,\"-\"))","v":17.857142857142858},null,{"$f":"IF(OR('Tabel 4F B'!I103<5, 'Tabel 4 B'!I103<0.5),\"-\",IFERROR('Tabel 4 B'!I103/'Tabel 4F B'!I103*100,\"-\"))","v":15.714285714285714}]
["DJØF'ere i alt",null,{"$f":"IF(OR('Tabel 4F B'!C104<5, 'Tabel 4 B'!C104<0.5),\"-\",IFERROR('Tabel 4 B'!C104/'Tabel 4F B'!C104*100,\"-\"))","v":"-"},{"$f":"IF(OR('Tabel 4F B'!D104<5, 'Tabel 4 B'!D104<0.5),\"-\",IFERROR('Tabel 4 B'!D104/'Tabel 4F B'!D104*100,\"-\"))","v":"-"},{"$f":"IF(OR('Tabel 4F B'!E104<5, 'Tabel 4 B'!E104<0.5),\"-\",IFERROR('Tabel 4 B'!E104/'Tabel 4F B'!E104*100,\"-\"))","v":9.0909090909090917},{"$f":"IF(OR('Tabel 4F B'!F104<5, 'Tabel 4 B'!F104<0.5),\"-\",IFERROR('Tabel 4 B'!F104/'Tabel 4F B'!F104*100,\"-\"))","v":5},{"$f":"IF(OR('Tabel 4F B'!G104<5, 'Tabel 4 B'!G104<0.5),\"-\",IFERROR('Tabel 4 B'!G104/'Tabel 4F B'!G104*100,\"-\"))","v":"-"},null,{"$f":"IF(OR('Tabel 4F B'!I104<5, 'Tabel 4 B'!I104<0.5),\"-\",IFERROR('Tabel 4 B'!I104/'Tabel 4F B'!I104*100,\"-\"))","v":4.4776119402985071}]
[]
[]
[]
[]
[]
[]
["Christiansø"]
[]
[null,null,"Under 30 år","30 - 39 år","40 - 49 år","50 - 59 år","Over 60 år",null,"I alt"]
[]
["Civ. ing.",null,{"$f":"IF(OR('Tabel 4F B'!C115<5, 'Tabel 4 B'!C115<0.5),\"-\",IFERROR('Tabel 4 B'!C115/'Tabel 4F B'!C115*100,\"-\"))","v":"-"},{"$f":"IF(OR('Tabel 4F B'!D115<5, 'Tabel 4 B'!D115<0.5),\"-\",IFERROR('Tabel 4 B'!D115/'Tabel 4F B'!D115*100,\"-\"))","v":"-"},{"$f":"IF(OR('Tabel 4F B'!E115<5, 'Tabel 4 B'!E115<0.5),\"-\",IFERROR('Tabel 4 B'!E115/'Tabel 4F B'!E115*100,\"-\"))","v":"-"},{"$f":"IF(OR('Tabel 4F B'!F115<5, 'Tabel 4 B'!F115<0.5),\"-\",IFERROR('Tabel 4 B'!F115/'Tabel 4F B'!F115*100,\"-\"))","v":"-"},{"$f":"IF(OR('Tabel 4F B'!G115<5, 'Tabel 4 B'!G115<0.5),\"-\",IFERROR('Tabel 4 B'!G115/'Tabel 4F B'!G115*100,\"-\"))","v":"-"},null,{"$f":"IF(OR('Tabel 4F B'!I115<5, 'Tabel 4 B'!I115<0.5),\"-\",IFERROR('Tabel 4 B'!I115/'Tabel 4F B'!I115*100,\"-\"))","v":"-"}]
["Diplom ing.",null,{"$f":"IF(OR('Tabel 4F B'!C116<5, 'Tabel 4 B'!C116<0.5),\"-\",IFERROR('Tabel 4 B'!C116/'Tabel 4F B'!C116*100,\"-\"))","v":"-"},{"$f":"IF(OR('Tabel 4F B'!D116<5, 'Tabel 4 B'!D116<0.5),\"-\",IFERROR('Tabel 4 B'!D116/'Tabel 4F B'!D116*100,\"-\"))","v":"-"},{"$f":"IF(OR('Tabel 4F B'!E116<5, 'Tabel 4 B'!E116<0.5),\"-\",IFERROR('Tabel 4 B'!E116/'Tabel 4F B'!E116*100,\"-\"))","v":"-"},{"$f":"IF(OR('Tabel 4F B'!F116<5, 'Tabel 4 B'!F116<0.5),\"-\",IFERROR('Tabel 4 B'!F116/'Tabel 4F B'!F116*100,\"-\"))","v":"-"},{"$f":"IF(OR('Tabel 4F B'!G116<5, 'Tabel 4 B'!G116<0.5),\"-\",IFERROR('Tabel 4 B'!G116/'Tabel 4F B'!G116*100,\"-\"))","v":"-"},null,{"$f":"IF(OR('Tabel 4F B'!I116<5, 'Tabel 4 B'!I116<0.5),\"-\",IFERROR('Tabel 4 B'!I116/'Tabel 4F B'!I116*100,\"-\"))","v":"-"}]
["Cand. Scient. Tek",null,{"$f":"IF(OR('Tabel 4F B'!C117<5, 'Tabel 4 B'!C117<0.5),\"-\",IFERROR('Tabel 4 B'!C117/'Tabel 4F B'!C117*100,\"-\"))","v":"-"},{"$f":"IF(OR('Tabel 4F B'!D117<5, 'Tabel 4 B'!D117<0.5),\"-\",IFERROR('Tabel 4 B'!D117/'Tabel 4F B'!D117*100,\"-\"))","v":"-"},{"$f":"IF(OR('Tabel 4F B'!E117<5, 'Tabel 4 B'!E117<0.5),\"-\",IFERROR('Tabel 4 B'!E117/'Tabel 4F B'!E117*100,\"-\"))","v":"-"},{"$f":"IF(OR('Tabel 4F B'!F117<5, 'Tabel 4 B'!F117<0.5),\"-\",IFERROR('Tabel 4 B'!F117/'Tabel 4F B'!F117*100,\"-\"))","v":"-"},{"$f":"IF(OR('Tabel 4F B'!G117<5, 'Tabel 4 B'!G117<0.5),\"-\",IFERROR('Tabel 4 B'!G117/'Tabel 4F B'!G117*100,\"-\"))","v":"-"},null,{"$f":"IF(OR('Tabel 4F B'!I117<5, 'Tabel 4 B'!I117<0.5),\"-\",IFERROR('Tabel 4 B'!I117/'Tabel 4F B'!I117*100,\"-\"))","v":"-"}]
["MA. Hum.",null,{"$f":"IF(OR('Tabel 4F B'!C118<5, 'Tabel 4 B'!C118<0.5),\"-\",IFERROR('Tabel 4 B'!C118/'Tabel 4F B'!C118*100,\"-\"))","v":"-"},{"$f":"IF(OR('Tabel 4F B'!D118<5, 'Tabel 4 B'!D118<0.5),\"-\",IFERROR('Tabel 4 B'!D118/'Tabel 4F B'!D118*100,\"-\"))","v":"-"},{"$f":"IF(OR('Tabel 4F B'!E118<5, 'Tabel 4 B'!E118<0.5),\"-\",IFERROR('Tabel 4 B'!E118/'Tabel 4F B'!E118*100,\"-\"))","v":"-"},{"$f":"IF(OR('Tabel 4F B'!F118<5, 'Tabel 4 B'!F118<0.5),\"-\",IFERROR('Tabel 4 B'!F118/'Tabel 4F B'!F118*100,\"-\"))","v":"-"},{"$f":"IF(OR('Tabel 4F B'!G118<5, 'Tabel 4 B'!G118<0.5),\"-\",IFERROR('Tabel 4 B'!G118/'Tabel 4F B'!G118*100,\"-\"))","v":"-"},null,{"$f":"IF(OR('Tabel 4F B'!I118<5, 'Tabel 4 B'!I118<0.5),\"-\",IFERROR('Tabel 4 B'!I118/'Tabel 4F B'!I118*100,\"-\"))","v":"-"}]
["MA. Nat.",null,{"$f":"IF(OR('Tabel 4F B'!C119<5, 'Tabel 4 B'!C119<0.5),\"-\",IFERROR('Tabel 4 B'!C119/'Tabel 4F B'!C119*100,\"-\"))","v":"-"},{"$f":"IF(OR('Tabel 4F B'!D119<5, 'Tabel 4 B'!D119<0.5),\"-\",IFERROR('Tabel 4 B'!D119/'Tabel 4F B'!D119*100,\"-\"))","v":"-"},{"$f":"IF(OR('Tabel 4F B'!E119<5, 'Tabel 4 B'!E119<0.5),\"-\",IFERROR('Tabel 4 B'!E119/'Tabel 4F B'!E119*100,\"-\"))","v":"-"},{"$f":"IF(OR('Tabel 4F B'!F119<5, 'Tabel 4 B'!F119<0.5),\"-\",IFERROR('Tabel 4 B'!F119/'Tabel 4F B'!F119*100,\"-\"))","v":"-"},{"$f":"IF(OR('Tabel 4F B'!G119<5, 'Tabel 4 B'!G119<0.5),\"-\",IFERROR('Tabel 4 B'!G119/'Tabel 4F B'!G119*100,\"-\"))","v":"-"},null,{"$f":"IF(OR('Tabel 4F B'!I119<5, 'Tabel 4 B'!I119<0.5),\"-\",IFERROR('Tabel 4 B'!I119/'Tabel 4F B'!I119*100,\"-\"))","v":"-"}]
["MA. Ph.d.",null,{"$f":"IF(OR('Tabel 4F B'!C120<5, 'Tabel 4 B'!C120<0.5),\"-\",IFERROR('Tabel 4 B'!C120/'Tabel 4F B'!C120*100,\"-\"))","v":"-"},{"$f":"IF(OR('Tabel 4F B'!D120<5, 'Tabel 4 B'!D120<0.5),\"-\",IFERROR('Tabel 4 B'!D120/'Tabel 4F B'!D120*100,\"-\"))","v":"-"},{"$f":"IF(OR('Tabel 4F B'!E120<5, 'Tabel 4 B'!E120<0.5),\"-\",IFERROR('Tabel 4 B'!E120/'Tabel 4F B'!E120*100,\"-\"))","v":"-"},{"$f":"IF(OR('Tabel 4F B'!F120<5, 'Tabel 4 B'!F120<0.5),\"-\",IFERROR('Tabel 4 B'!F120/'Tabel 4F B'!F120*100,\"-\"))","v":"-"},{"$f":"IF(OR('Tabel 4F B'!G120<5, 'Tabel 4 B'!G120<0.5),\"-\",IFERROR('Tabel 4 B'!G120/'Tabel 4F B'!G120*100,\"-\"))","v":"-"},null,{"$f":"IF(OR('Tabel 4F B'!I120<5, 'Tabel 4 B'!I120<0.5),\"-\",IFERROR('Tabel 4 B'!I120/'Tabel 4F B'!I120*100,\"-\"))","v":"-"}]
["MA. Samf.",null,{"$f":"IF(OR('Tabel 4F B'!C121<5, 'Tabel 4 B'!C121<0.5),\"-\",IFERROR('Tabel 4 B'!C121/'Tabel 4F B'!C121*100,\"-\"))","v":"-"},{"$f":"IF(OR('Tabel 4F B'!D121<5, 'Tabel 4 B'!D121<0.5),\"-\",IFERROR('Tabel 4 B'!D121/'Tabel 4F B'!D121*100,\"-\"))","v":"-"},{"$f":"IF(OR('Tabel 4F B'!E121<5, 'Tabel 4 B'!E121<0.5),\"-\",IFERROR('Tabel 4 B'!E121/'Tabel 4F B'!E121*100,\"-\"))","v":"-"},{"$f":"IF(OR('Tabel 4F B'!F121<5, 'Tabel 4 B'!F121<0.5),\"-\",IFERROR('Tabel 4 B'!F121/'Tabel 4F B'!F121*100,\"-\"))","v":"-"},{"$f":"IF(OR('Tabel 4F B'!G121<5, 'Tabel 4 B'!G121<0.5),\"-\",IFERROR('Tabel 4 B'!G121/'Tabel 4F B'!G121*100,\"-\"))","v":"-"},null,{"$f":"IF(OR('Tabel 4F B'!I121<5, 'Tabel 4 B'!I121<0.5),\"-\",IFERROR('Tabel 4 B'!I121/'Tabel 4F B'!I121*100,\"-\"))","v":"-"}]
["Øvrige Mag.",null,{"$f":"IF(OR('Tabel 4F B'!C122<5, 'Tabel 4 B'!C122<0.5),\"-\",IFERROR('Tabel 4 B'!C122/'Tabel 4F B'!C122*100,\"-\"))","v":"-"},{"$f":"IF(OR('Tabel 4F B'!D122<5, 'Tabel 4 B'!D122<0.5),\"-\",IFERROR('Tabel 4 B'!D122/'Tabel 4F B'!D122*100,\"-\"))","v":"-"},{"$f":"IF(OR('Tabel 4F B'!E122<5, 'Tabel 4 B'!E122<0.5),\"-\",IFERROR('Tabel 4 B'!E122/'Tabel 4F B'!E122*100,\"-\"))","v":"-"},{"$f":"IF(OR('Tabel 4F B'!F122<5, 'Tabel 4 B'!F122<0.5),\"-\",IFERROR('Tabel 4 B'!F122/'Tabel 4F B'!F122*100,\"-\"))","v":"-"},{"$f":"IF(OR('Tabel 4F B'!G122<5, 'Tabel 4 B'!G122<0.5),\"-\",IFERROR('Tabel 4 B'!G122/'Tabel 4F B'!G122*100,\"-\"))","v":"-"},null,{"$f":"IF(OR('Tabel 4F B'!I122<5, 'Tabel 4 B'!I122<0.5),\"-\",IFERROR('Tabel 4 B'!I122/'Tabel 4F B'!I122*100,\"-\"))","v":"-"}]
["Agronom",null,{"$f":"IF(OR('Tabel 4F B'!C123<5, 'Tabel 4 B'!C123<0.5),\"-\",IFERROR('Tabel 4 B'!C123/'Tabel 4F B'!C123*100,\"-\"))","v":"-"},{"$f":"IF(OR('Tabel 4F B'!D123<5, 'Tabel 4 B'!D123<0.5),\"-\",IFERROR('Tabel 4 B'!D123/'Tabel 4F B'!D123*100,\"-\"))","v":"-"},{"$f":"IF(OR('Tabel 4F B'!E123<5, 'Tabel 4 B'!E123<0.5),\"-\",IFERROR('Tabel 4 B'!E123/'Tabel 4F B'!E123*100,\"-\"))","v":"-"},{"$f":"IF(OR('Tabel 4F B'!F123<5, 'Tabel 4 B'!F123<0.5),\"-\",IFERROR('Tabel 4 B'!F123/'Tabel 4F B'!F123*100,\"-\"))","v":"-"},{"$f":"IF(OR('Tabel 4F B'!G123<5, 'Tabel 4 B'!G123<0.5),\"-\",IFERROR('Tabel 4 B'!G123/'Tabel 4F B'!G123*100,\"-\"))","v":"-"},null,{"$f":"IF(OR('Tabel 4F B'!I123<5, 'Tabel 4 B'!I123<0.5),\"-\",IFERROR('Tabel 4 B'!I123/'Tabel 4F B'!I123*100,\"-\"))","v":"-"}]
["Landsk. Arkt.",null,{"$f":"IF(OR('Tabel 4F B'!C124<5, 'Tabel 4 B'!C124<0.5),\"-\",IFERROR('Tabel 4 B'!C124/'Tabel 4F B'!C124*100,\"-\"))","v":"-"},{"$f":"IF(OR('Tabel 4F B'!D124<5, 'Tabel 4 B'!D124<0.5),\"-\",IFERROR('Tabel 4 B'!D124/'Tabel 4F B'!D124*100,\"-\"))","v":"-"},{"$f":"IF(OR('Tabel 4F B'!E124<5, 'Tabel 4 B'!E124<0.5),\"-\",IFERROR('Tabel 4 B'!E124/'Tabel 4F B'!E124*100,\"-\"))","v":"-"},{"$f":"IF(OR('Tabel 4F B'!F124<5, 'Tabel 4 B'!F124<0.5),\"-\",IFERROR('Tabel 4 B'!F124/'Tabel 4F B'!F124*100,\"-\"))","v":"-"},{"$f":"IF(OR('Tabel 4F B'!G124<5, 'Tabel 4 B'!G124<0.5),\"-\",IFERROR('Tabel 4 B'!G124/'Tabel 4F B'!G124*100,\"-\"))","v":"-"},null,{"$f":"IF(OR('Tabel 4F B'!I124<5, 'Tabel 4 B'!I124<0.5),\"-\",IFERROR('Tabel 4 B'!I124/'Tabel 4F B'!I124*100,\"-\"))","v":"-"}]
["Hortonom",null,{"$f":"IF(OR('Tabel 4F B'!C125<5, 'Tabel 4 B'!C125<0.5),\"-\",IFERROR('Tabel 4 B'!C125/'Tabel 4F B'!C125*100,\"-\"))","v":"-"},{"$f":"IF(OR('Tabel 4F B'!D125<5, 'Tabel 4 B'!D125<0.5),\"-\",IFERROR('Tabel 4 B'!D125/'Tabel 4F B'!D125*100,\"-\"))","v":"-"},{"$f":"IF(OR('Tabel 4F B'!E125<5, 'Tabel 4 B'!E125<0.5),\"-\",IFERROR('Tabel 4 B'!E125/'Tabel 4F B'!E125*100,\"-\"))","v":"-"},{"$f":"IF(OR('Tabel 4F B'!F125<5, 'Tabel 4 B'!F125<0.5),\"-\",IFERROR('Tabel 4 B'!F125/'Tabel 4F B'!F125*100,\"-\"))","v":"-"},{"$f":"IF(OR('Tabel 4F B'!G125<5, 'Tabel 4 B'!G125<0.5),\"-\",IFERROR('Tabel 4 B'!G125/'Tabel 4F B'!G125*100,\"-\"))","v":"-"},null,{"$f":"IF(OR('Tabel 4F B'!I125<5, 'Tabel 4 B'!I125<0.5),\"-\",IFERROR('Tabel 4 B'!I125/'Tabel 4F B'!I125*100,\"-\"))","v":"-"}]
["Forstkand.",null,{"$f":"IF(OR('Tabel 4F B'!C126<5, 'Tabel 4 B'!C126<0.5),\"-\",IFERROR('Tabel 4 B'!C126/'Tabel 4F B'!C126*100,\"-\"))","v":"-"},{"$f":"IF(OR('Tabel 4F B'!D126<5, 'Tabel 4 B'!D126<0.5),\"-\",IFERROR('Tabel 4 B'!D126/'Tabel 4F B'!D126*100,\"-\"))","v":"-"},{"$f":"IF(OR('Tabel 4F B'!E126<5, 'Tabel 4 B'!E126<0.5),\"-\",IFERROR('Tabel 4 B'!E126/'Tabel 4F B'!E126*100,\"-\"))","v":"-"},{"$f":"IF(OR('Tabel 4F B'!F126<5, 'Tabel 4 B'!F126<0.5),\"-\",IFERROR('Tabel 4 B'!F126/'Tabel 4F B'!F126*100,\"-\"))","v":"-"},{"$f":"IF(OR('Tabel 4F B'!G126<5, 'Tabel 4 B'!G126<0.5),\"-\",IFERROR('Tabel 4 B'!G126/'Tabel 4F B'!G126*100,\"-\"))","v":"-"},null,{"$f":"IF(OR('Tabel 4F B'!I126<5, 'Tabel 4 B'!I126<0.5),\"-\",IFERROR('Tabel 4 B'!I126/'Tabel 4F B'!I126*100,\"-\"))","v":"-"}]
["Jordbrugsakad.",null,{"$f":"IF(OR('Tabel 4F B'!C127<5, 'Tabel 4 B'!C127<0.5),\"-\",IFERROR('Tabel 4 B'!C127/'Tabel 4F B'!C127*100,\"-\"))","v":"-"},{"$f":"IF(OR('Tabel 4F B'!D127<5, 'Tabel 4 B'!D127<0.5),\"-\",IFERROR('Tabel 4 B'!D127/'Tabel 4F B'!D127*100,\"-\"))","v":"-"},{"$f":"IF(OR('Tabel 4F B'!E127<5, 'Tabel 4 B'!E127<0.5),\"-\",IFERROR('Tabel 4 B'!E127/'Tabel 4F B'!E127*100,\"-\"))","v":"-"},{"$f":"IF(OR('Tabel 4F B'!F127<5, 'Tabel 4 B'!F127<0.5),\"-\",IFERROR('Tabel 4 B'!F127/'Tabel 4F B'!F127*100,\"-\"))","v":"-"},{"$f":"IF(OR('Tabel 4F B'!G127<5, 'Tabel 4 B'!G127<0.5),\"-\",IFERROR('Tabel 4 B'!G127/'Tabel 4F B'!G127*100,\"-\"))","v":"-"},null,{"$f":"IF(OR('Tabel 4F B'!I127<5, 'Tabel 4 B'!I127<0.5),\"-\",IFERROR('Tabel 4 B'!I127/'Tabel 4F B'!I127*100,\"-\"))","v":"-"}]
["Mejeriing.",null,{"$f":"IF(OR('Tabel 4F B'!C128<5, 'Tabel 4 B'!C128<0.5),\"-\",IFERROR('Tabel 4 B'!C128/'Tabel 4F B'!C128*100,\"-\"))","v":"-"},{"$f":"IF(OR('Tabel 4F B'!D128<5, 'Tabel 4 B'!D128<0.5),\"-\",IFERROR('Tabel 4 B'!D128/'Tabel 4F B'!D128*100,\"-\"))","v":"-"},{"$f":"IF(OR('Tabel 4F B'!E128<5, 'Tabel 4 B'!E128<0.5),\"-\",IFERROR('Tabel 4 B'!E128/'Tabel 4F B'!E128*100,\"-\"))","v":"-"},{"$f":"IF(OR('Tabel 4F B'!F128<5, 'Tabel 4 B'!F128<0.5),\"-\",IFERROR('Tabel 4 B'!F128/'Tabel 4F B'!F128*100,\"-\"))","v":"-"},{"$f":"IF(OR('Tabel 4F B'!G128<5, 'Tabel 4 B'!G128<0.5),\"-\",IFERROR('Tabel 4 B'!G128/'Tabel 4F B'!G128*100,\"-\"))","v":"-"},null,{"$f":"IF(OR('Tabel 4F B'!I128<5, 'Tabel 4 B'!I128<0.5),\"-\",IFERROR('Tabel 4 B'!I128/'Tabel 4F B'!I128*100,\"-\"))","v":"-"}]
["Levn.m.kand.",null,{"$f":"IF(OR('Tabel 4F B'!C129<5, 'Tabel 4 B'!C129<0.5),\"-\",IFERROR('Tabel 4 B'!C129/'Tabel 4F B'!C129*100,\"-\"))","v":"-"},{"$f":"IF(OR('Tabel 4F B'!D129<5, 'Tabel 4 B'!D129<0.5),\"-\",IFERROR('Tabel 4 B'!D129/'Tabel 4F B'!D129*100,\"-\"))","v":"-"},{"$f":"IF(OR('Tabel 4F B'!E129<5, 'Tabel 4 B'!E129<0.5),\"-\",IFERROR('Tabel 4 B'!E129/'Tabel 4F B'!E129*100,\"-\"))","v":"-"},{"$f":"IF(OR('Tabel 4F B'!F129<5, 'Tabel 4 B'!F129<0.5),\"-\",IFERROR('Tabel 4 B'!F129/'Tabel 4F B'!F129*100,\"-\"))","v":"-"},{"$f":"IF(OR('Tabel 4F B'!G129<5, 'Tabel 4 B'!G129<0.5),\"-\",IFERROR('Tabel 4 B'!G129/'Tabel 4F B'!G129*100,\"-\"))","v":"-"},null,{"$f":"IF(OR('Tabel 4F B'!I129<5, 'Tabel 4 B'!I129<0.5),\"-\",IFERROR('Tabel 4 B'!I129/'Tabel 4F B'!I129*100,\"-\"))","v":"-"}]
["Dyrlæge",null,{"$f":"IF(OR('Tabel 4F B'!C130<5, 'Tabel 4 B'!C130<0.5),\"-\",IFERROR('Tabel 4 B'!C130/'Tabel 4F B'!C130*100,\"-\"))","v":"-"},{"$f":"IF(OR('Tabel 4F B'!D130<5, 'Tabel 4 B'!D130<0.5),\"-\",IFERROR('Tabel 4 B'!D130/'Tabel 4F B'!D130*100,\"-\"))","v":"-"},{"$f":"IF(OR('Tabel 4F B'!E130<5, 'Tabel 4 B'!E130<0.5),\"-\",IFERROR('Tabel 4 B'!E130/'Tabel 4F B'!E130*100,\"-\"))","v":"-"},{"$f":"IF(OR('Tabel 4F B'!F130<5, 'Tabel 4 B'!F130<0.5),\"-\",IFERROR('Tabel 4 B'!F130/'Tabel 4F B'!F130*100,\"-\"))","v":"-"},{"$f":"IF(OR('Tabel 4F B'!G130<5, 'Tabel 4 B'!G130<0.5),\"-\",IFERROR('Tabel 4 B'!G130/'Tabel 4F B'!G130*100,\"-\"))","v":"-"},null,{"$f":"IF(OR('Tabel 4F B'!I130<5, 'Tabel 4 B'!I130<0.5),\"-\",IFERROR('Tabel 4 B'!I130/'Tabel 4F B'!I130*100,\"-\"))","v":"-"}]
["Farmaceut",null,{"$f":"IF(OR('Tabel 4F B'!C131<5, 'Tabel 4 B'!C131<0.5),\"-\",IFERROR('Tabel 4 B'!C131/'Tabel 4F B'!C131*100,\"-\"))","v":"-"},{"$f":"IF(OR('Tabel 4F B'!D131<5, 'Tabel 4 B'!D131<0.5),\"-\",IFERROR('Tabel 4 B'!D131/'Tabel 4F B'!D131*100,\"-\"))","v":"-"},{"$f":"IF(OR('Tabel 4F B'!E131<5, 'Tabel 4 B'!E131<0.5),\"-\",IFERROR('Tabel 4 B'!E131/'Tabel 4F B'!E131*100,\"-\"))","v":"-"},{"$f":"IF(OR('Tabel 4F B'!F131<5, 'Tabel 4 B'!F131<0.5),\"-\",IFERROR('Tabel 4 B'!F131/'Tabel 4F B'!F131*100,\"-\"))","v":"-"},{"$f":"IF(OR('Tabel 4F B'!G131<5, 'Tabel 4 B'!G131<0.5),\"-\",IFERROR('Tabel 4 B'!G131/'Tabel 4F B'!G131*100,\"-\"))","v":"-"},null,{"$f":"IF(OR('Tabel 4F B'!I131<5, 'Tabel 4 B'!I131<0.5),\"-\",IFERROR('Tabel 4 B'!I131/'Tabel 4F B'!I131*100,\"-\"))","v":"-"}]
["Læge",null,{"$f":"IF(OR('Tabel 4F B'!C132<5, 'Tabel 4 B'!C132<0.5),\"-\",IFERROR('Tabel 4 B'!C132/'Tabel 4F B'!C132*100,\"-\"))","v":"-"},{"$f":"IF(OR('Tabel 4F B'!D132<5, 'Tabel 4 B'!D132<0.5),\"-\",IFERROR('Tabel 4 B'!D132/'Tabel 4F B'!D132*100,\"-\"))","v":"-"},{"$f":"IF(OR('Tabel 4F B'!E132<5, 'Tabel 4 B'!E132<0.5),\"-\",IFERROR('Tabel 4 B'!E132/'Tabel 4F B'!E132*100,\"-\"))","v":"-"},{"$f":"IF(OR('Tabel 4F B'!F132<5, 'Tabel 4 B'!F132<0.5),\"-\",IFERROR('Tabel 4 B'!F132/'Tabel 4F B'!F132*100,\"-\"))","v":"-"},{"$f":"IF(OR('Tabel 4F B'!G132<5, 'Tabel 4 B'!G132<0.5),\"-\",IFERROR('Tabel 4 B'!G132/'Tabel 4F B'!G132*100,\"-\"))","v":"-"},null,{"$f":"IF(OR('Tabel 4F B'!I132<5, 'Tabel 4 B'!I132<0.5),\"-\",IFERROR('Tabel 4 B'!I132/'Tabel 4F B'!I132*100,\"-\"))","v":"-"}]
["Tandlæge",null,{"$f":"IF(OR('Tabel 4F B'!C133<5, 'Tabel 4 B'!C133<0.5),\"-\",IFERROR('Tabel 4 B'!C133/'Tabel 4F B'!C133*100,\"-\"))","v":"-"},{"$f":"IF(OR('Tabel 4F B'!D133<5, 'Tabel 4 B'!D133<0.5),\"-\",IFERROR('Tabel 4 B'!D133/'Tabel 4F B'!D133*100,\"-\"))","v":"-"},{"$f":"IF(OR('Tabel 4F B'!E133<5, 'Tabel 4 B'!E133<0.5),\"-\",IFERROR('Tabel 4 B'!E133/'Tabel 4F B'!E133*100,\"-\"))","v":"-"},{"$f":"IF(OR('Tabel 4F B'!F133<5, 'Tabel 4 B'!F133<0.5),\"-\",IFERROR('Tabel 4 B'!F133/'Tabel 4F B'!F133*100,\"-\"))","v":"-"},{"$f":"IF(OR('Tabel 4F B'!G133<5, 'Tabel 4 B'!G133<0.5),\"-\",IFERROR('Tabel 4 B'!G133/'Tabel 4F B'!G133*100,\"-\"))","v":"-"},null,{"$f":"IF(OR('Tabel 4F B'!I133<5, 'Tabel 4 B'!I133<0.5),\"-\",IFERROR('Tabel 4 B'!I133/'Tabel 4F B'!I133*100,\"-\"))","v":"-"}]
["Arkitekt",null,{"$f":"IF(OR('Tabel 4F B'!C134<5, 'Tabel 4 B'!C134<0.5),\"-\",IFERROR('Tabel 4 B'!C134/'Tabel 4F B'!C134*100,\"-\"))","v":"-"},{"$f":"IF(OR('Tabel 4F B'!D134<5, 'Tabel 4 B'!D134<0.5),\"-\",IFERROR('Tabel 4 B'!D134/'Tabel 4F B'!D134*100,\"-\"))","v":"-"},{"$f":"IF(OR('Tabel 4F B'!E134<5, 'Tabel 4 B'!E134<0.5),\"-\",IFERROR('Tabel 4 B'!E134/'Tabel 4F B'!E134*100,\"-\"))","v":"-"},{"$f":"IF(OR('Tabel 4F B'!F134<5, 'Tabel 4 B'!F134<0.5),\"-\",IFERROR('Tabel 4 B'!F134/'Tabel 4F B'!F134*100,\"-\"))","v":"-"},{"$f":"IF(OR('Tabel 4F B'!G134<5, 'Tabel 4 B'!G134<0.5),\"-\",IFERROR('Tabel 4 B'!G134/'Tabel 4F B'!G134*100,\"-\"))","v":"-"},null,{"$f":"IF(OR('Tabel 4F B'!I134<5, 'Tabel 4 B'!I134<0.5),\"-\",IFERROR('Tabel 4 B'!I134/'Tabel 4F B'!I134*100,\"-\"))","v":"-"}]
["Landinspek.",null,{"$f":"IF(OR('Tabel 4F B'!C135<5, 'Tabel 4 B'!C135<0.5),\"-\",IFERROR('Tabel 4 B'!C135/'Tabel 4F B'!C135*100,\"-\"))","v":"-"},{"$f":"IF(OR('Tabel 4F B'!D135<5, 'Tabel 4 B'!D135<0.5),\"-\",IFERROR('Tabel 4 B'!D135/'Tabel 4F B'!D135*100,\"-\"))","v":"-"},{"$f":"IF(OR('Tabel 4F B'!E135<5, 'Tabel 4 B'!E135<0.5),\"-\",IFERROR('Tabel 4 B'!E135/'Tabel 4F B'!E135*100,\"-\"))","v":"-"},{"$f":"IF(OR('Tabel 4F B'!F135<5, 'Tabel 4 B'!F135<0.5),\"-\",IFERROR('Tabel 4 B'!F135/'Tabel 4F B'!F135*100,\"-\"))","v":"-"},{"$f":"IF(OR('Tabel 4F B'!G135<5, 'Tabel 4 B'!G135<0.5),\"-\",IFERROR('Tabel 4 B'!G135/'Tabel 4F B'!G135*100,\"-\"))","v":"-"},null,{"$f":"IF(OR('Tabel 4F B'!I135<5, 'Tabel 4 B'!I135<0.5),\"-\",IFERROR('Tabel 4 B'!I135/'Tabel 4F B'!I135*100,\"-\"))","v":"-"}]
["Bibliotekar",null,{"$f":"IF(OR('Tabel 4F B'!C136<5, 'Tabel 4 B'!C136<0.5),\"-\",IFERROR('Tabel 4 B'!C136/'Tabel 4F B'!C136*100,\"-\"))","v":"-"},{"$f":"IF(OR('Tabel 4F B'!D136<5, 'Tabel 4 B'!D136<0.5),\"-\",IFERROR('Tabel 4 B'!D136/'Tabel 4F B'!D136*100,\"-\"))","v":"-"},{"$f":"IF(OR('Tabel 4F B'!E136<5, 'Tabel 4 B'!E136<0.5),\"-\",IFERROR('Tabel 4 B'!E136/'Tabel 4F B'!E136*100,\"-\"))","v":"-"},{"$f":"IF(OR('Tabel 4F B'!F136<5, 'Tabel 4 B'!F136<0.5),\"-\",IFERROR('Tabel 4 B'!F136/'Tabel 4F B'!F136*100,\"-\"))","v":"-"},{"$f":"IF(OR('Tabel 4F B'!G136<5, 'Tabel 4 B'!G136<0.5),\"-\",IFERROR('Tabel 4 B'!G136/'Tabel 4F B'!G136*100,\"-\"))","v":"-"},null,{"$f":"IF(OR('Tabel 4F B'!I136<5, 'Tabel 4 B'!I136<0.5),\"-\",IFERROR('Tabel 4 B'!I136/'Tabel 4F B'!I136*100,\"-\"))","v":"-"}]
["Musikudd.",null,{"$f":"IF(OR('Tabel 4F B'!C137<5, 'Tabel 4 B'!C137<0.5),\"-\",IFERROR('Tabel 4 B'!C137/'Tabel 4F B'!C137*100,\"-\"))","v":"-"},{"$f":"IF(OR('Tabel 4F B'!D137<5, 'Tabel 4 B'!D137<0.5),\"-\",IFERROR('Tabel 4 B'!D137/'Tabel 4F B'!D137*100,\"-\"))","v":"-"},{"$f":"IF(OR('Tabel 4F B'!E137<5, 'Tabel 4 B'!E137<0.5),\"-\",IFERROR('Tabel 4 B'!E137/'Tabel 4F B'!E137*100,\"-\"))","v":"-"},{"$f":"IF(OR('Tabel 4F B'!F137<5, 'Tabel 4 B'!F137<0.5),\"-\",IFERROR('Tabel 4 B'!F137/'Tabel 4F B'!F137*100,\"-\"))","v":"-"},{"$f":"IF(OR('Tabel 4F B'!G137<5, 'Tabel 4 B'!G137<0.5),\"-\",IFERROR('Tabel 4 B'!G137/'Tabel 4F B'!G137*100,\"-\"))","v":"-"},null,{"$f":"IF(OR('Tabel 4F B'!I137<5, 'Tabel 4 B'!I137<0.5),\"-\",IFERROR('Tabel 4 B'!I137/'Tabel 4F B'!I137*100,\"-\"))","v":"-"}]
["Teolog",null,{"$f":"IF(OR('Tabel 4F B'!C138<5, 'Tabel 4 B'!C138<0.5),\"-\",IFERROR('Tabel 4 B'!C138/'Tabel 4F B'!C138*100,\"-\"))","v":"-"},{"$f":"IF(OR('Tabel 4F B'!D138<5, 'Tabel 4 B'!D138<0.5),\"-\",IFERROR('Tabel 4 B'!D138/'Tabel 4F B'!D138*100,\"-\"))","v":"-"},{"$f":"IF(OR('Tabel 4F B'!E138<5, 'Tabel 4 B'!E138<0.5),\"-\",IFERROR('Tabel 4 B'!E138/'Tabel 4F B'!E138*100,\"-\"))","v":"-"},{"$f":"IF(OR('Tabel 4F B'!F138<5, 'Tabel 4 B'!F138<0.5),\"-\",IFERROR('Tabel 4 B'!F138/'Tabel 4F B'!F138*100,\"-\"))","v":"-"},{"$f":"IF(OR('Tabel 4F B'!G138<5, 'Tabel 4 B'!G138<0.5),\"-\",IFERROR('Tabel 4 B'!G138/'Tabel 4F B'!G138*100,\"-\"))","v":"-"},null,{"$f":"IF(OR('Tabel 4F B'!I138<5, 'Tabel 4 B'!I138<0.5),\"-\",IFERROR('Tabel 4 B'!I138/'Tabel 4F B'!I138*100,\"-\"))","v":"-"}]
["Psykolog",null,{"$f":"IF(OR('Tabel 4F B'!C139<5, 'Tabel 4 B'!C139<0.5),\"-\",IFERROR('Tabel 4 B'!C139/'Tabel 4F B'!C139*100,\"-\"))","v":"-"},{"$f":"IF(OR('Tabel 4F B'!D139<5, 'Tabel 4 B'!D139<0.5),\"-\",IFERROR('Tabel 4 B'!D139/'Tabel 4F B'!D139*100,\"-\"))","v":"-"},{"$f":"IF(OR('Tabel 4F B'!E139<5, 'Tabel 4 B'!E139<0.5),\"-\",IFERROR('Tabel 4 B'!E139/'Tabel 4F B'!E139*100,\"-\"))","v":"-"},{"$f":"IF(OR('Tabel 4F B'!F139<5, 'Tabel 4 B'!F139<0.5),\"-\",IFERROR('Tabel 4 B'!F139/'Tabel 4F B'!F139*100,\"-\"))","v":"-"},{"$f":"IF(OR('Tabel 4F B'!G139<5, 'Tabel 4 B'!G139<0.5),\"-\",IFERROR('Tabel 4 B'!G139/'Tabel 4F B'!G139*100,\"-\"))","v":"-"},null,{"$f":"IF(OR('Tabel 4F B'!I139<5, 'Tabel 4 B'!I139<0.5),\"-\",IFERROR('Tabel 4 B'!I139/'Tabel 4F B'!I139*100,\"-\"))","v":"-"}]
["Jurist",null,{"$f":"IF(OR('Tabel 4F B'!C140<5, 'Tabel 4 B'!C140<0.5),\"-\",IFERROR('Tabel 4 B'!C140/'Tabel 4F B'!C140*100,\"-\"))","v":"-"},{"$f":"IF(OR('Tabel 4F B'!D140<5, 'Tabel 4 B'!D140<0.5),\"-\",IFERROR('Tabel 4 B'!D140/'Tabel 4F B'!D140*100,\"-\"))","v":"-"},{"$f":"IF(OR('Tabel 4F B'!E140<5, 'Tabel 4 B'!E140<0.5),\"-\",IFERROR('Tabel 4 B'!E140/'Tabel 4F B'!E140*100,\"-\"))","v":"-"},{"$f":"IF(OR('Tabel 4F B'!F140<5, 'Tabel 4 B'!F140<0.5),\"-\",IFERROR('Tabel 4 B'!F140/'Tabel 4F B'!F140*100,\"-\"))","v":"-"},{"$f":"IF(OR('Tabel 4F B'!G140<5, 'Tabel 4 B'!G140<0.5),\"-\",IFERROR('Tabel 4 B'!G140/'Tabel 4F B'!G140*100,\"-\"))","v":"-"},null,{"$f":"IF(OR('Tabel 4F B'!I140<5, 'Tabel 4 B'!I140<0.5),\"-\",IFERROR('Tabel 4 B'!I140/'Tabel 4F B'!I140*100,\"-\"))","v":"-"}]
["Økonom",null,{"$f":"IF(OR('Tabel 4F B'!C141<5, 'Tabel 4 B'!C141<0.5),\"-\",IFERROR('Tabel 4 B'!C141/'Tabel 4F B'!C141*100,\"-\"))","v":"-"},{"$f":"IF(OR('Tabel 4F B'!D141<5, 'Tabel 4 B'!D141<0.5),\"-\",IFERROR('Tabel 4 B'!D141/'Tabel 4F B'!D141*100,\"-\"))","v":"-"},{"$f":"IF(OR('Tabel 4F B'!E141<5, 'Tabel 4 B'!E141<0.5),\"-\",IFERROR('Tabel 4 B'!E141/'Tabel 4F B'!E141*100,\"-\"))","v":"-"},{"$f":"IF(OR('Tabel 4F B'!F141<5, 'Tabel 4 B'!F141<0.5),\"-\",IFERROR('Tabel 4 B'!F141/'Tabel 4F B'!F141*100,\"-\"))","v":"-"},{"$f":"IF(OR('Tabel 4F B'!G141<5, 'Tabel 4 B'!G141<0.5),\"-\",IFERROR('Tabel 4 B'!G141/'Tabel 4F B'!G141*100,\"-\"))","v":"-"},null,{"$f":"IF(OR('Tabel 4F B'!I141<5, 'Tabel 4 B'!I141<0.5),\"-\",IFERROR('Tabel 4 B'!I141/'Tabel 4F B'!I141*100,\"-\"))","v":"-"}]
["Samf. Adm.",null,{"$f":"IF(OR('Tabel 4F B'!C142<5, 'Tabel 4 B'!C142<0.5),\"-\",IFERROR('Tabel 4 B'!C142/'Tabel 4F B'!C142*100,\"-\"))","v":"-"},{"$f":"IF(OR('Tabel 4F B'!D142<5, 'Tabel 4 B'!D142<0.5),\"-\",IFERROR('Tabel 4 B'!D142/'Tabel 4F B'!D142*100,\"-\"))","v":"-"},{"$f":"IF(OR('Tabel 4F B'!E142<5, 'Tabel 4 B'!E142<0.5),\"-\",IFERROR('Tabel 4 B'!E142/'Tabel 4F B'!E142*100,\"-\"))","v":"-"},{"$f":"IF(OR('Tabel 4F B'!F142<5, 'Tabel 4 B'!F142<0.5),\"-\",IFERROR('Tabel 4 B'!F142/'Tabel 4F B'!F142*100,\"-\"))","v":"-"},{"$f":"IF(OR('Tabel 4F B'!G142<5, 'Tabel 4 B'!G142<0.5),\"-\",IFERROR('Tabel 4 B'!G142/'Tabel 4F B'!G142*100,\"-\"))","v":"-"},null,{"$f":"IF(OR('Tabel 4F B'!I142<5, 'Tabel 4 B'!I142<0.5),\"-\",IFERROR('Tabel 4 B'!I142/'Tabel 4F B'!I142*100,\"-\"))","v":"-"}]
["Cand. Merc.",null,{"$f":"IF(OR('Tabel 4F B'!C143<5, 'Tabel 4 B'!C143<0.5),\"-\",IFERROR('Tabel 4 B'!C143/'Tabel 4F B'!C143*100,\"-\"))","v":"-"},{"$f":"IF(OR('Tabel 4F B'!D143<5, 'Tabel 4 B'!D143<0.5),\"-\",IFERROR('Tabel 4 B'!D143/'Tabel 4F B'!D143*100,\"-\"))","v":"-"},{"$f":"IF(OR('Tabel 4F B'!E143<5, 'Tabel 4 B'!E143<0.5),\"-\",IFERROR('Tabel 4 B'!E143/'Tabel 4F B'!E143*100,\"-\"))","v":"-"},{"$f":"IF(OR('Tabel 4F B'!F143<5, 'Tabel 4 B'!F143<0.5),\"-\",IFERROR('Tabel 4 B'!F143/'Tabel 4F B'!F143*100,\"-\"))","v":"-"},{"$f":"IF(OR('Tabel 4F B'!G143<5, 'Tabel 4 B'!G143<0.5),\"-\",IFERROR('Tabel 4 B'!G143/'Tabel 4F B'!G143*100,\"-\"))","v":"-"},null,{"$f":"IF(OR('Tabel 4F B'!I143<5, 'Tabel 4 B'!I143<0.5),\"-\",IFERROR('Tabel 4 B'!I143/'Tabel 4F B'!I143*100,\"-\"))","v":"-"}]
["HA",null,{"$f":"IF(OR('Tabel 4F B'!C144<5, 'Tabel 4 B'!C144<0.5),\"-\",IFERROR('Tabel 4 B'!C144/'Tabel 4F B'!C144*100,\"-\"))","v":"-"},{"$f":"IF(OR('Tabel 4F B'!D144<5, 'Tabel 4 B'!D144<0.5),\"-\",IFERROR('Tabel 4 B'!D144/'Tabel 4F B'!D144*100,\"-\"))","v":"-"},{"$f":"IF(OR('Tabel 4F B'!E144<5, 'Tabel 4 B'!E144<0.5),\"-\",IFERROR('Tabel 4 B'!E144/'Tabel 4F B'!E144*100,\"-\"))","v":"-"},{"$f":"IF(OR('Tabel 4F B'!F144<5, 'Tabel 4 B'!F144<0.5),\"-\",IFERROR('Tabel 4 B'!F144/'Tabel 4F B'!F144*100,\"-\"))","v":"-"},{"$f":"IF(OR('Tabel 4F B'!G144<5, 'Tabel 4 B'!G144<0.5),\"-\",IFERROR('Tabel 4 B'!G144/'Tabel 4F B'!G144*100,\"-\"))","v":"-"},null,{"$f":"IF(OR('Tabel 4F B'!I144<5, 'Tabel 4 B'!I144<0.5),\"-\",IFERROR('Tabel 4 B'!I144/'Tabel 4F B'!I144*100,\"-\"))","v":"-"}]
["HD",null,{"$f":"IF(OR('Tabel 4F B'!C145<5, 'Tabel 4 B'!C145<0.5),\"-\",IFERROR('Tabel 4 B'!C145/'Tabel 4F B'!C145*100,\"-\"))","v":"-"},{"$f":"IF(OR('Tabel 4F B'!D145<5, 'Tabel 4 B'!D145<0.5),\"-\",IFERROR('Tabel 4 B'!D145/'Tabel 4F B'!D145*100,\"-\"))","v":"-"},{"$f":"IF(OR('Tabel 4F B'!E145<5, 'Tabel 4 B'!E145<0.5),\"-\",IFERROR('Tabel 4 B'!E145/'Tabel 4F B'!E145*100,\"-\"))","v":"-"},{"$f":"IF(OR('Tabel 4F B'!F145<5, 'Tabel 4 B'!F145<0.5),\"-\",IFERROR('Tabel 4 B'!F145/'Tabel 4F B'!F145*100,\"-\"))","v":"-"},{"$f":"IF(OR('Tabel 4F B'!G145<5, 'Tabel 4 B'!G145<0.5),\"-\",IFERROR('Tabel 4 B'!G145/'Tabel 4F B'!G145*100,\"-\"))","v":"-"},null,{"$f":"IF(OR('Tabel 4F B'!I145<5, 'Tabel 4 B'!I145<0.5),\"-\",IFERROR('Tabel 4 B'!I145/'Tabel 4F B'!I145*100,\"-\"))","v":"-"}]
["Komm. og Sprog",null,{"$f":"IF(OR('Tabel 4F B'!C146<5, 'Tabel 4 B'!C146<0.5),\"-\",IFERROR('Tabel 4 B'!C146/'Tabel 4F B'!C146*100,\"-\"))","v":"-"},{"$f":"IF(OR('Tabel 4F B'!D146<5, 'Tabel 4 B'!D146<0.5),\"-\",IFERROR('Tabel 4 B'!D146/'Tabel 4F B'!D146*100,\"-\"))","v":"-"},{"$f":"IF(OR('Tabel 4F B'!E146<5, 'Tabel 4 B'!E146<0.5),\"-\",IFERROR('Tabel 4 B'!E146/'Tabel 4F B'!E146*100,\"-\"))","v":"-"},{"$f":"IF(OR('Tabel 4F B'!F146<5, 'Tabel 4 B'!F146<0.5),\"-\",IFERROR('Tabel 4 B'!F146/'Tabel 4F B'!F146*100,\"-\"))","v":"-"},{"$f":"IF(OR('Tabel 4F B'!G146<5, 'Tabel 4 B'!G146<0.5),\"-\",IFERROR('Tabel 4 B'!G146/'Tabel 4F B'!G146*100,\"-\"))","v":"-"},null,{"$f":"IF(OR('Tabel 4F B'!I146<5, 'Tabel 4 B'!I146<0.5),\"-\",IFERROR('Tabel 4 B'!I146/'Tabel 4F B'!I146*100,\"-\"))","v":"-"}]
["Bygningskonst.",null,{"$f":"IF(OR('Tabel 4F B'!C147<5, 'Tabel 4 B'!C147<0.5),\"-\",IFERROR('Tabel 4 B'!C147/'Tabel 4F B'!C147*100,\"-\"))","v":"-"},{"$f":"IF(OR('Tabel 4F B'!D147<5, 'Tabel 4 B'!D147<0.5),\"-\",IFERROR('Tabel 4 B'!D147/'Tabel 4F B'!D147*100,\"-\"))","v":"-"},{"$f":"IF(OR('Tabel 4F B'!E147<5, 'Tabel 4 B'!E147<0.5),\"-\",IFERROR('Tabel 4 B'!E147/'Tabel 4F B'!E147*100,\"-\"))","v":"-"},{"$f":"IF(OR('Tabel 4F B'!F147<5, 'Tabel 4 B'!F147<0.5),\"-\",IFERROR('Tabel 4 B'!F147/'Tabel 4F B'!F147*100,\"-\"))","v":"-"},{"$f":"IF(OR('Tabel 4F B'!G147<5, 'Tabel 4 B'!G147<0.5),\"-\",IFERROR('Tabel 4 B'!G147/'Tabel 4F B'!G147*100,\"-\"))","v":"-"},null,{"$f":"IF(OR('Tabel 4F B'!I147<5, 'Tabel 4 B'!I147<0.5),\"-\",IFERROR('Tabel 4 B'!I147/'Tabel 4F B'!I147*100,\"-\"))","v":"-"}]
["Cand. IT.",null,{"$f":"IF(OR('Tabel 4F B'!C148<5, 'Tabel 4 B'!C148<0.5),\"-\",IFERROR('Tabel 4 B'!C148/'Tabel 4F B'!C148*100,\"-\"))","v":"-"},{"$f":"IF(OR('Tabel 4F B'!D148<5, 'Tabel 4 B'!D148<0.5),\"-\",IFERROR('Tabel 4 B'!D148/'Tabel 4F B'!D148*100,\"-\"))","v":"-"},{"$f":"IF(OR('Tabel 4F B'!E148<5, 'Tabel 4 B'!E148<0.5),\"-\",IFERROR('Tabel 4 B'!E148/'Tabel 4F B'!E148*100,\"-\"))","v":"-"},{"$f":"IF(OR('Tabel 4F B'!F148<5, 'Tabel 4 B'!F148<0.5),\"-\",IFERROR('Tabel 4 B'!F148/'Tabel 4F B'!F148*100,\"-\"))","v":"-"},{"$f":"IF(OR('Tabel 4F B'!G148<5, 'Tabel 4 B'!G148<0.5),\"-\",IFERROR('Tabel 4 B'!G148/'Tabel 4F B'!G148*100,\"-\"))","v":"-"},null,{"$f":"IF(OR('Tabel 4F B'!I148<5, 'Tabel 4 B'!I148<0.5),\"-\",IFERROR('Tabel 4 B'!I148/'Tabel 4F B'!I148*100,\"-\"))","v":"-"}]
["Bac. Samf.",null,{"$f":"IF(OR('Tabel 4F B'!C149<5, 'Tabel 4 B'!C149<0.5),\"-\",IFERROR('Tabel 4 B'!C149/'Tabel 4F B'!C149*100,\"-\"))","v":"-"},{"$f":"IF(OR('Tabel 4F B'!D149<5, 'Tabel 4 B'!D149<0.5),\"-\",IFERROR('Tabel 4 B'!D149/'Tabel 4F B'!D149*100,\"-\"))","v":"-"},{"$f":"IF(OR('Tabel 4F B'!E149<5, 'Tabel 4 B'!E149<0.5),\"-\",IFERROR('Tabel 4 B'!E149/'Tabel 4F B'!E149*100,\"-\"))","v":"-"},{"$f":"IF(OR('Tabel 4F B'!F149<5, 'Tabel 4 B'!F149<0.5),\"-\",IFERROR('Tabel 4 B'!F149/'Tabel 4F B'!F149*100,\"-\"))","v":"-"},{"$f":"IF(OR('Tabel 4F B'!G149<5, 'Tabel 4 B'!G149<0.5),\"-\",IFERROR('Tabel 4 B'!G149/'Tabel 4F B'!G149*100,\"-\"))","v":"-"},null,{"$f":"IF(OR('Tabel 4F B'!I149<5, 'Tabel 4 B'!I149<0.5),\"-\",IFERROR('Tabel 4 B'!I149/'Tabel 4F B'!I149*100,\"-\"))","v":"-"}]
["Bac. Hum.",null,{"$f":"IF(OR('Tabel 4F B'!C150<5, 'Tabel 4 B'!C150<0.5),\"-\",IFERROR('Tabel 4 B'!C150/'Tabel 4F B'!C150*100,\"-\"))","v":"-"},{"$f":"IF(OR('Tabel 4F B'!D150<5, 'Tabel 4 B'!D150<0.5),\"-\",IFERROR('Tabel 4 B'!D150/'Tabel 4F B'!D150*100,\"-\"))","v":"-"},{"$f":"IF(OR('Tabel 4F B'!E150<5, 'Tabel 4 B'!E150<0.5),\"-\",IFERROR('Tabel 4 B'!E150/'Tabel 4F B'!E150*100,\"-\"))","v":"-"},{"$f":"IF(OR('Tabel 4F B'!F150<5, 'Tabel 4 B'!F150<0.5),\"-\",IFERROR('Tabel 4 B'!F150/'Tabel 4F B'!F150*100,\"-\"))","v":"-"},{"$f":"IF(OR('Tabel 4F B'!G150<5, 'Tabel 4 B'!G150<0.5),\"-\",IFERROR('Tabel 4 B'!G150/'Tabel 4F B'!G150*100,\"-\"))","v":"-"},null,{"$f":"IF(OR('Tabel 4F B'!I150<5, 'Tabel 4 B'!I150<0.5),\"-\",IFERROR('Tabel 4 B'!I150/'Tabel 4F B'!I150*100,\"-\"))","v":"-"}]
["Bac. Nat.",null,{"$f":"IF(OR('Tabel 4F B'!C151<5, 'Tabel 4 B'!C151<0.5),\"-\",IFERROR('Tabel 4 B'!C151/'Tabel 4F B'!C151*100,\"-\"))","v":"-"},{"$f":"IF(OR('Tabel 4F B'!D151<5, 'Tabel 4 B'!D151<0.5),\"-\",IFERROR('Tabel 4 B'!D151/'Tabel 4F B'!D151*100,\"-\"))","v":"-"},{"$f":"IF(OR('Tabel 4F B'!E151<5, 'Tabel 4 B'!E151<0.5),\"-\",IFERROR('Tabel 4 B'!E151/'Tabel 4F B'!E151*100,\"-\"))","v":"-"},{"$f":"IF(OR('Tabel 4F B'!F151<5, 'Tabel 4 B'!F151<0.5),\"-\",IFERROR('Tabel 4 B'!F151/'Tabel 4F B'!F151*100,\"-\"))","v":"-"},{"$f":"IF(OR('Tabel 4F B'!G151<5, 'Tabel 4 B'!G151<0.5),\"-\",IFERROR('Tabel 4 B'!G151/'Tabel 4F B'!G151*100,\"-\"))","v":"-"},null,{"$f":"IF(OR('Tabel 4F B'!I151<5, 'Tabel 4 B'!I151<0.5),\"-\",IFERROR('Tabel 4 B'!I151/'Tabel 4F B'!I151*100,\"-\"))","v":"-"}]
["Andre",null,{"$f":"IF(OR('Tabel 4F B'!C152<5, 'Tabel 4 B'!C152<0.5),\"-\",IFERROR('Tabel 4 B'!C152/'Tabel 4F B'!C152*100,\"-\"))","v":"-"},{"$f":"IF(OR('Tabel 4F B'!D152<5, 'Tabel 4 B'!D152<0.5),\"-\",IFERROR('Tabel 4 B'!D152/'Tabel 4F B'!D152*100,\"-\"))","v":"-"},{"$f":"IF(OR('Tabel 4F B'!E152<5, 'Tabel 4 B'!E152<0.5),\"-\",IFERROR('Tabel 4 B'!E152/'Tabel 4F B'!E152*100,\"-\"))","v":"-"},{"$f":"IF(OR('Tabel 4F B'!F152<5, 'Tabel 4 B'!F152<0.5),\"-\",IFERROR('Tabel 4 B'!F152/'Tabel 4F B'!F152*100,\"-\"))","v":"-"},{"$f":"IF(OR('Tabel 4F B'!G152<5, 'Tabel 4 B'!G152<0.5),\"-\",IFERROR('Tabel 4 B'!G152/'Tabel 4F B'!G152*100,\"-\"))","v":"-"},null,{"$f":"IF(OR('Tabel 4F B'!I152<5, 'Tabel 4 B'!I152<0.5),\"-\",IFERROR('Tabel 4 B'!I152/'Tabel 4F B'!I152*100,\"-\"))","v":"-"}]
[]
["Total",null,{"$f":"IF(OR('Tabel 4F B'!C154<5, 'Tabel 4 B'!C154<0.5),\"-\",IFERROR('Tabel 4 B'!C154/'Tabel 4F B'!C154*100,\"-\"))","v":"-"},{"$f":"IF(OR('Tabel 4F B'!D154<5, 'Tabel 4 B'!D154<0.5),\"-\",IFERROR('Tabel 4 B'!D154/'Tabel 4F B'!D154*100,\"-\"))","v":"-"},{"$f":"IF(OR('Tabel 4F B'!E154<5, 'Tabel 4 B'!E154<0.5),\"-\",IFERROR('Tabel 4 B'!E154/'Tabel 4F B'!E154*100,\"-\"))","v":"-"},{"$f":"IF(OR('Tabel 4F B'!F154<5, 'Tabel 4 B'!F154<0.5),\"-\",IFERROR('Tabel 4 B'!F154/'Tabel 4F B'!F154*100,\"-\"))","v":"-"},{"$f":"IF(OR('Tabel 4F B'!G154<5, 'Tabel 4 B'!G154<0.5),\"-\",IFERROR('Tabel 4 B'!G154/'Tabel 4F B'!G154*100,\"-\"))","v":"-"},null,{"$f":"IF(OR('Tabel 4F B'!I154<5, 'Tabel 4 B'!I154<0.5),\"-\",IFERROR('Tabel 4 B'!I154/'Tabel 4F B'!I154*100,\"-\"))","v":"-"}]
[]
["Ingeniører i alt",null,{"$f":"IF(OR('Tabel 4F B'!C156<5, 'Tabel 4 B'!C156<0.5),\"-\",IFERROR('Tabel 4 B'!C156/'Tabel 4F B'!C156*100,\"-\"))","v":"-"},{"$f":"IF(OR('Tabel 4F B'!D156<5, 'Tabel 4 B'!D156<0.5),\"-\",IFERROR('Tabel 4 B'!D156/'Tabel 4F B'!D156*100,\"-\"))","v":"-"},{"$f":"IF(OR('Tabel 4F B'!E156<5, 'Tabel 4 B'!E156<0.5),\"-\",IFERROR('Tabel 4 B'!E156/'Tabel 4F B'!E156*100,\"-\"))","v":"-"},{"$f":"IF(OR('Tabel 4F B'!F156<5, 'Tabel 4 B'!F156<0.5),\"-\",IFERROR('Tabel 4 B'!F156/'Tabel 4F B'!F156*100,\"-\"))","v":"-"},{"$f":"IF(OR('Tabel 4F B'!G156<5, 'Tabel 4 B'!G156<0.5),\"-\",IFERROR('Tabel 4 B'!G156/'Tabel 4F B'!G156*100,\"-\"))","v":"-"},null,{"$f":"IF(OR('Tabel 4F B'!I156<5, 'Tabel 4 B'!I156<0.5),\"-\",IFERROR('Tabel 4 B'!I156/'Tabel 4F B'!I156*100,\"-\"))","v":"-"}]
["Magistre i alt",null,{"$f":"IF(OR('Tabel 4F B'!C157<5, 'Tabel 4 B'!C157<0.5),\"-\",IFERROR('Tabel 4 B'!C157/'Tabel 4F B'!C157*100,\"-\"))","v":"-"},{"$f":"IF(OR('Tabel 4F B'!D157<5, 'Tabel 4 B'!D157<0.5),\"-\",IFERROR('Tabel 4 B'!D157/'Tabel 4F B'!D157*100,\"-\"))","v":"-"},{"$f":"IF(OR('Tabel 4F B'!E157<5, 'Tabel 4 B'!E157<0.5),\"-\",IFERROR('Tabel 4 B'!E157/'Tabel 4F B'!E157*100,\"-\"))","v":"-"},{"$f":"IF(OR('Tabel 4F B'!F157<5, 'Tabel 4 B'!F157<0.5),\"-\",IFERROR('Tabel 4 B'!F157/'Tabel 4F B'!F157*100,\"-\"))","v":"-"},{"$f":"IF(OR('Tabel 4F B'!G157<5, 'Tabel 4 B'!G157<0.5),\"-\",IFERROR('Tabel 4 B'!G157/'Tabel 4F B'!G157*100,\"-\"))","v":"-"},null,{"$f":"IF(OR('Tabel 4F B'!I157<5, 'Tabel 4 B'!I157<0.5),\"-\",IFERROR('Tabel 4 B'!I157/'Tabel 4F B'!I157*100,\"-\"))","v":"-"}]
["DJØF'ere i alt",null,{"$f":"IF(OR('Tabel 4F B'!C158<5, 'Tabel 4 B'!C158<0.5),\"-\",IFERROR('Tabel 4 B'!C158/'Tabel 4F B'!C158*100,\"-\"))","v":"-"},{"$f":"IF(OR('Tabel 4F B'!D158<5, 'Tabel 4 B'!D158<0.5),\"-\",IFERROR('Tabel 4 B'!D158/'Tabel 4F B'!D158*100,\"-\"))","v":"-"},{"$f":"IF(OR('Tabel 4F B'!E158<5, 'Tabel 4 B'!E158<0.5),\"-\",IFERROR('Tabel 4 B'!E158/'Tabel 4F B'!E158*100,\"-\"))","v":"-"},{"$f":"IF(OR('Tabel 4F B'!F158<5, 'Tabel 4 B'!F158<0.5),\"-\",IFERROR('Tabel 4 B'!F158/'Tabel 4F B'!F158*100,\"-\"))","v":"-"},{"$f":"IF(OR('Tabel 4F B'!G158<5, 'Tabel 4 B'!G158<0.5),\"-\",IFERROR('Tabel 4 B'!G158/'Tabel 4F B'!G158*100,\"-\"))","v":"-"},null,{"$f":"IF(OR('Tabel 4F B'!I158<5, 'Tabel 4 B'!I158<0.5),\"-\",IFERROR('Tabel 4 B'!I158/'Tabel 4F B'!I158*100,\"-\"))","v":"-"}]

{"sheet":"Tabel 4(Br)P B","index":8,"n_rows":158,"n_cols":9,"rows_kept":158,"cut":false,"hidden":false,"merged":[]}
["Tabel 4. Ledighedsberørte - aldersfordelt"]
[]
["Bornholm"]
[]
[null,null,"Under 30 år","30 - 39 år","40 - 49 år","50 - 59 år","Over 60 år",null,"I alt"]
[]
["Civ. ing.",null,{"$f":"IF(OR('Tabel 4F B'!C7<5,'Tabel 4(Br) B'!C7<0.5),\"-\",IFERROR('Tabel 4(Br) B'!C7/'Tabel 4F B'!C7*100,\"-\"))","v":"-"},{"$f":"IF(OR('Tabel 4F B'!D7<5,'Tabel 4(Br) B'!D7<0.5),\"-\",IFERROR('Tabel 4(Br) B'!D7/'Tabel 4F B'!D7*100,\"-\"))","v":15.381736706504293},{"$f":"IF(OR('Tabel 4F B'!E7<5,'Tabel 4(Br) B'!E7<0.5),\"-\",IFERROR('Tabel 4(Br) B'!E7/'Tabel 4F B'!E7*100,\"-\"))","v":11.109032065808695},{"$f":"IF(OR('Tabel 4F B'!F7<5,'Tabel 4(Br) B'!F7<0.5),\"-\",IFERROR('Tabel 4(Br) B'!F7/'Tabel 4F B'!F7*100,\"-\"))","v":"-"},{"$f":"IF(OR('Tabel 4F B'!G7<5,'Tabel 4(Br) B'!G7<0.5),\"-\",IFERROR('Tabel 4(Br) B'!G7/'Tabel 4F B'!G7*100,\"-\"))","v":"-"},null,{"$f":"IF(OR('Tabel 4F B'!I7<5,'Tabel 4(Br) B'!I7<0.5),\"-\",IFERROR('Tabel 4(Br) B'!I7/'Tabel 4F B'!I7*100,\"-\"))","v":8.8218784052010015}]
["Diplom ing.",null,{"$f":"IF(OR('Tabel 4F B'!C8<5,'Tabel 4(Br) B'!C8<0.5),\"-\",IFERROR('Tabel 4(Br) B'!C8/'Tabel 4F B'!C8*100,\"-\"))","v":"-"},{"$f":"IF(OR('Tabel 4F B'!D8<5,'Tabel 4(Br) B'!D8<0.5),\"-\",IFERROR('Tabel 4(Br) B'!D8/'Tabel 4F B'!D8*100,\"-\"))","v":5.4838818014768158},{"$f":"IF(OR('Tabel 4F B'!E8<5,'Tabel 4(Br) B'!E8<0.5),\"-\",IFERROR('Tabel 4(Br) B'!E8/'Tabel 4F B'!E8*100,\"-\"))","v":"-"},{"$f":"IF(OR('Tabel 4F B'!F8<5,'Tabel 4(Br) B'!F8<0.5),\"-\",IFERROR('Tabel 4(Br) B'!F8/'Tabel 4F B'!F8*100,\"-\"))","v":9.0892080538434783},{"$f":"IF(OR('Tabel 4F B'!G8<5,'Tabel 4(Br) B'!G8<0.5),\"-\",IFERROR('Tabel 4(Br) B'!G8/'Tabel 4F B'!G8*100,\"-\"))","v":"-"},null,{"$f":"IF(OR('Tabel 4F B'!I8<5,'Tabel 4(Br) B'!I8<0.5),\"-\",IFERROR('Tabel 4(Br) B'!I8/'Tabel 4F B'!I8*100,\"-\"))","v":4.3056038191072243}]
["Cand. Scient. Tek",null,{"$f":"IF(OR('Tabel 4F B'!C9<5,'Tabel 4(Br) B'!C9<0.5),\"-\",IFERROR('Tabel 4(Br) B'!C9/'Tabel 4F B'!C9*100,\"-\"))","v":"-"},{"$f":"IF(OR('Tabel 4F B'!D9<5,'Tabel 4(Br) B'!D9<0.5),\"-\",IFERROR('Tabel 4(Br) B'!D9/'Tabel 4F B'!D9*100,\"-\"))","v":21.507112169385991},{"$f":"IF(OR('Tabel 4F B'!E9<5,'Tabel 4(Br) B'!E9<0.5),\"-\",IFERROR('Tabel 4(Br) B'!E9/'Tabel 4F B'!E9*100,\"-\"))","v":"-"},{"$f":"IF(OR('Tabel 4F B'!F9<5,'Tabel 4(Br) B'!F9<0.5),\"-\",IFERROR('Tabel 4(Br) B'!F9/'Tabel 4F B'!F9*100,\"-\"))","v":"-"},{"$f":"IF(OR('Tabel 4F B'!G9<5,'Tabel 4(Br) B'!G9<0.5),\"-\",IFERROR('Tabel 4(Br) B'!G9/'Tabel 4F B'!G9*100,\"-\"))","v":"-"},null,{"$f":"IF(OR('Tabel 4F B'!I9<5,'Tabel 4(Br) B'!I9<0.5),\"-\",IFERROR('Tabel 4(Br) B'!I9/'Tabel 4F B'!I9*100,\"-\"))","v":15.992876760646697}]
["MA. Hum.",null,{"$f":"IF(OR('Tabel 4F B'!C10<5,'Tabel 4(Br) B'!C10<0.5),\"-\",IFERROR('Tabel 4(Br) B'!C10/'Tabel 4F B'!C10*100,\"-\"))","v":33.327096197425973},{"$f":"IF(OR('Tabel 4F B'!D10<5,'Tabel 4(Br) B'!D10<0.5),\"-\",IFERROR('Tabel 4(Br) B'!D10/'Tabel 4F B'!D10*100,\"-\"))","v":10.00136292969829},{"$f":"IF(OR('Tabel 4F B'!E10<5,'Tabel 4(Br) B'!E10<0.5),\"-\",IFERROR('Tabel 4(Br) B'!E10/'Tabel 4F B'!E10*100,\"-\"))","v":21.788394769121862},{"$f":"IF(OR('Tabel 4F B'!F10<5,'Tabel 4(Br) B'!F10<0.5),\"-\",IFERROR('Tabel 4(Br) B'!F10/'Tabel 4F B'!F10*100,\"-\"))","v":4.9990644296137532},{"$f":"IF(OR('Tabel 4F B'!G10<5,'Tabel 4(Br) B'!G10<0.5),\"-\",IFERROR('Tabel 4(Br) B'!G10/'Tabel 4F B'!G10*100,\"-\"))","v":20.589886300681361},null,{"$f":"IF(OR('Tabel 4F B'!I10<5,'Tabel 4(Br) B'!I10<0.5),\"-\",IFERROR('Tabel 4(Br) B'!I10/'Tabel 4F B'!I10*100,\"-\"))","v":14.341388627890419}]
["MA. Nat.",null,{"$f":"IF(OR('Tabel 4F B'!C11<5,'Tabel 4(Br) B'!C11<0.5),\"-\",IFERROR('Tabel 4(Br) B'!C11/'Tabel 4F B'!C11*100,\"-\"))","v":"-"},{"$f":"IF(OR('Tabel 4F B'!D11<5,'Tabel 4(Br) B'!D11<0.5),\"-\",IFERROR('Tabel 4(Br) B'!D11/'Tabel 4F B'!D11*100,\"-\"))","v":"-"},{"$f":"IF(OR('Tabel 4F B'!E11<5,'Tabel 4(Br) B'!E11<0.5),\"-\",IFERROR('Tabel 4(Br) B'!E11/'Tabel 4F B'!E11*100,\"-\"))","v":11.762504540268072},{"$f":"IF(OR('Tabel 4F B'!F11<5,'Tabel 4(Br) B'!F11<0.5),\"-\",IFERROR('Tabel 4(Br) B'!F11/'Tabel 4F B'!F11*100,\"-\"))","v":"-"},{"$f":"IF(OR('Tabel 4F B'!G11<5,'Tabel 4(Br) B'!G11<0.5),\"-\",IFERROR('Tabel 4(Br) B'!G11/'Tabel 4F B'!G11*100,\"-\"))","v":16.663548098713076},null,{"$f":"IF(OR('Tabel 4F B'!I11<5,'Tabel 4(Br) B'!I11<0.5),\"-\",IFERROR('Tabel 4(Br) B'!I11/'Tabel 4F B'!I11*100,\"-\"))","v":6.5205188212355578}]
["MA. Ph.d.",null,{"$f":"IF(OR('Tabel 4F B'!C12<5,'Tabel 4(Br) B'!C12<0.5),\"-\",IFERROR('Tabel 4(Br) B'!C12/'Tabel 4F B'!C12*100,\"-\"))","v":"-"},{"$f":"IF(OR('Tabel 4F B'!D12<5,'Tabel 4(Br) B'!D12<0.5),\"-\",IFERROR('Tabel 4(Br) B'!D12/'Tabel 4F B'!D12*100,\"-\"))","v":"-"},{"$f":"IF(OR('Tabel 4F B'!E12<5,'Tabel 4(Br) B'!E12<0.5),\"-\",IFERROR('Tabel 4(Br) B'!E12/'Tabel 4F B'!E12*100,\"-\"))","v":"-"},{"$f":"IF(OR('Tabel 4F B'!F12<5,'Tabel 4(Br) B'!F12<0.5),\"-\",IFERROR('Tabel 4(Br) B'!F12/'Tabel 4F B'!F12*100,\"-\"))","v":"-"},{"$f":"IF(OR('Tabel 4F B'!G12<5,'Tabel 4(Br) B'!G12<0.5),\"-\",IFERROR('Tabel 4(Br) B'!G12/'Tabel 4F B'!G12*100,\"-\"))","v":"-"},null,{"$f":"IF(OR('Tabel 4F B'!I12<5,'Tabel 4(Br) B'!I12<0.5),\"-\",IFERROR('Tabel 4(Br) B'!I12/'Tabel 4F B'!I12*100,\"-\"))","v":14.283041227468349}]
["MA. Samf.",null,{"$f":"IF(OR('Tabel 4F B'!C13<5,'Tabel 4(Br) B'!C13<0.5),\"-\",IFERROR('Tabel 4(Br) B'!C13/'Tabel 4F B'!C13*100,\"-\"))","v":"-"},{"$f":"IF(OR('Tabel 4F B'!D13<5,'Tabel 4(Br) B'!D13<0.5),\"-\",IFERROR('Tabel 4(Br) B'!D13/'Tabel 4F B'!D13*100,\"-\"))","v":"-"},{"$f":"IF(OR('Tabel 4F B'!E13<5,'Tabel 4(Br) B'!E13<0.5),\"-\",IFERROR('Tabel 4(Br) B'!E13/'Tabel 4F B'!E13*100,\"-\"))","v":"-"},{"$f":"IF(OR('Tabel 4F B'!F13<5,'Tabel 4(Br) B'!F13<0.5),\"-\",IFERROR('Tabel 4(Br) B'!F13/'Tabel 4F B'!F13*100,\"-\"))","v":"-"},{"$f":"IF(OR('Tabel 4F B'!G13<5,'Tabel 4(Br) B'!G13<0.5),\"-\",IFERROR('Tabel 4(Br) B'!G13/'Tabel 4F B'!G13*100,\"-\"))","v":"-"},null,{"$f":"IF(OR('Tabel 4F B'!I13<5,'Tabel 4(Br) B'!I13<0.5),\"-\",IFERROR('Tabel 4(Br) B'!I13/'Tabel 4F B'!I13*100,\"-\"))","v":12.497661074034793}]
["Øvrige Mag.",null,{"$f":"IF(OR('Tabel 4F B'!C14<5,'Tabel 4(Br) B'!C14<0.5),\"-\",IFERROR('Tabel 4(Br) B'!C14/'Tabel 4F B'!C14*100,\"-\"))","v":"-"},{"$f":"IF(OR('Tabel 4F B'!D14<5,'Tabel 4(Br) B'!D14<0.5),\"-\",IFERROR('Tabel 4(Br) B'!D14/'Tabel 4F B'!D14*100,\"-\"))","v":48.452150772365485},{"$f":"IF(OR('Tabel 4F B'!E14<5,'Tabel 4(Br) B'!E14<0.5),\"-\",IFERROR('Tabel 4(Br) B'!E14/'Tabel 4F B'!E14*100,\"-\"))","v":39.992515436911305},{"$f":"IF(OR('Tabel 4F B'!F14<5,'Tabel 4(Br) B'!F14<0.5),\"-\",IFERROR('Tabel 4(Br) B'!F14/'Tabel 4F B'!F14*100,\"-\"))","v":"-"},{"$f":"IF(OR('Tabel 4F B'!G14<5,'Tabel 4(Br) B'!G14<0.5),\"-\",IFERROR('Tabel 4(Br) B'!G14/'Tabel 4F B'!G14*100,\"-\"))","v":"-"},null,{"$f":"IF(OR('Tabel 4F B'!I14<5,'Tabel 4(Br) B'!I14<0.5),\"-\",IFERROR('Tabel 4(Br) B'!I14/'Tabel 4F B'!I14*100,\"-\"))","v":28.863263636397026}]
["Agronom",null,{"$f":"IF(OR('Tabel 4F B'!C15<5,'Tabel 4(Br) B'!C15<0.5),\"-\",IFERROR('Tabel 4(Br) B'!C15/'Tabel 4F B'!C15*100,\"-\"))","v":"-"},{"$f":"IF(OR('Tabel 4F B'!D15<5,'Tabel 4(Br) B'!D15<0.5),\"-\",IFERROR('Tabel 4(Br) B'!D15/'Tabel 4F B'!D15*100,\"-\"))","v":"-"},{"$f":"IF(OR('Tabel 4F B'!E15<5,'Tabel 4(Br) B'!E15<0.5),\"-\",IFERROR('Tabel 4(Br) B'!E15/'Tabel 4F B'!E15*100,\"-\"))","v":"-"},{"$f":"IF(OR('Tabel 4F B'!F15<5,'Tabel 4(Br) B'!F15<0.5),\"-\",IFERROR('Tabel 4(Br) B'!F15/'Tabel 4F B'!F15*100,\"-\"))","v":"-"},{"$f":"IF(OR('Tabel 4F B'!G15<5,'Tabel 4(Br) B'!G15<0.5),\"-\",IFERROR('Tabel 4(Br) B'!G15/'Tabel 4F B'!G15*100,\"-\"))","v":"-"},null,{"$f":"IF(OR('Tabel 4F B'!I15<5,'Tabel 4(Br) B'!I15<0.5),\"-\",IFERROR('Tabel 4(Br) B'!I15/'Tabel 4F B'!I15*100,\"-\"))","v":"-"}]
["Landsk. Arkt.",null,{"$f":"IF(OR('Tabel 4F B'!C16<5,'Tabel 4(Br) B'!C16<0.5),\"-\",IFERROR('Tabel 4(Br) B'!C16/'Tabel 4F B'!C16*100,\"-\"))","v":"-"},{"$f":"IF(OR('Tabel 4F B'!D16<5,'Tabel 4(Br) B'!D16<0.5),\"-\",IFERROR('Tabel 4(Br) B'!D16/'Tabel 4F B'!D16*100,\"-\"))","v":"-"},{"$f":"IF(OR('Tabel 4F B'!E16<5,'Tabel 4(Br) B'!E16<0.5),\"-\",IFERROR('Tabel 4(Br) B'!E16/'Tabel 4F B'!E16*100,\"-\"))","v":"-"},{"$f":"IF(OR('Tabel 4F B'!F16<5,'Tabel 4(Br) B'!F16<0.5),\"-\",IFERROR('Tabel 4(Br) B'!F16/'Tabel 4F B'!F16*100,\"-\"))","v":"-"},{"$f":"IF(OR('Tabel 4F B'!G16<5,'Tabel 4(Br) B'!G16<0.5),\"-\",IFERROR('Tabel 4(Br) B'!G16/'Tabel 4F B'!G16*100,\"-\"))","v":"-"},null,{"$f":"IF(OR('Tabel 4F B'!I16<5,'Tabel 4(Br) B'!I16<0.5),\"-\",IFERROR('Tabel 4(Br) B'!I16/'Tabel 4F B'!I16*100,\"-\"))","v":"-"}]
["Hortonom",null,{"$f":"IF(OR('Tabel 4F B'!C17<5,'Tabel 4(Br) B'!C17<0.5),\"-\",IFERROR('Tabel 4(Br) B'!C17/'Tabel 4F B'!C17*100,\"-\"))","v":"-"},{"$f":"IF(OR('Tabel 4F B'!D17<5,'Tabel 4(Br) B'!D17<0.5),\"-\",IFERROR('Tabel 4(Br) B'!D17/'Tabel 4F B'!D17*100,\"-\"))","v":"-"},{"$f":"IF(OR('Tabel 4F B'!E17<5,'Tabel 4(Br) B'!E17<0.5),\"-\",IFERROR('Tabel 4(Br) B'!E17/'Tabel 4F B'!E17*100,\"-\"))","v":"-"},{"$f":"IF(OR('Tabel 4F B'!F17<5,'Tabel 4(Br) B'!F17<0.5),\"-\",IFERROR('Tabel 4(Br) B'!F17/'Tabel 4F B'!F17*100,\"-\"))","v":"-"},{"$f":"IF(OR('Tabel 4F B'!G17<5,'Tabel 4(Br) B'!G17<0.5),\"-\",IFERROR('Tabel 4(Br) B'!G17/'Tabel 4F B'!G17*100,\"-\"))","v":"-"},null,{"$f":"IF(OR('Tabel 4F B'!I17<5,'Tabel 4(Br) B'!I17<0.5),\"-\",IFERROR('Tabel 4(Br) B'!I17/'Tabel 4F B'!I17*100,\"-\"))","v":"-"}]
["Forstkand.",null,{"$f":"IF(OR('Tabel 4F B'!C18<5,'Tabel 4(Br) B'!C18<0.5),\"-\",IFERROR('Tabel 4(Br) B'!C18/'Tabel 4F B'!C18*100,\"-\"))","v":"-"},{"$f":"IF(OR('Tabel 4F B'!D18<5,'Tabel 4(Br) B'!D18<0.5),\"-\",IFERROR('Tabel 4(Br) B'!D18/'Tabel 4F B'!D18*100,\"-\"))","v":"-"},{"$f":"IF(OR('Tabel 4F B'!E18<5,'Tabel 4(Br) B'!E18<0.5),\"-\",IFERROR('Tabel 4(Br) B'!E18/'Tabel 4F B'!E18*100,\"-\"))","v":"-"},{"$f":"IF(OR('Tabel 4F B'!F18<5,'Tabel 4(Br) B'!F18<0.5),\"-\",IFERROR('Tabel 4(Br) B'!F18/'Tabel 4F B'!F18*100,\"-\"))","v":"-"},{"$f":"IF(OR('Tabel 4F B'!G18<5,'Tabel 4(Br) B'!G18<0.5),\"-\",IFERROR('Tabel 4(Br) B'!G18/'Tabel 4F B'!G18*100,\"-\"))","v":"-"},null,{"$f":"IF(OR('Tabel 4F B'!I18<5,'Tabel 4(Br) B'!I18<0.5),\"-\",IFERROR('Tabel 4(Br) B'!I18/'Tabel 4F B'!I18*100,\"-\"))","v":"-"}]
["Jordbrugsakad.",null,{"$f":"IF(OR('Tabel 4F B'!C19<5,'Tabel 4(Br) B'!C19<0.5),\"-\",IFERROR('Tabel 4(Br) B'!C19/'Tabel 4F B'!C19*100,\"-\"))","v":"-"},{"$f":"IF(OR('Tabel 4F B'!D19<5,'Tabel 4(Br) B'!D19<0.5),\"-\",IFERROR('Tabel 4(Br) B'!D19/'Tabel 4F B'!D19*100,\"-\"))","v":"-"},{"$f":"IF(OR('Tabel 4F B'!E19<5,'Tabel 4(Br) B'!E19<0.5),\"-\",IFERROR('Tabel 4(Br) B'!E19/'Tabel 4F B'!E19*100,\"-\"))","v":"-"},{"$f":"IF(OR('Tabel 4F B'!F19<5,'Tabel 4(Br) B'!F19<0.5),\"-\",IFERROR('Tabel 4(Br) B'!F19/'Tabel 4F B'!F19*100,\"-\"))","v":"-"},{"$f":"IF(OR('Tabel 4F B'!G19<5,'Tabel 4(Br) B'!G19<0.5),\"-\",IFERROR('Tabel 4(Br) B'!G19/'Tabel 4F B'!G19*100,\"-\"))","v":"-"},null,{"$f":"IF(OR('Tabel 4F B'!I19<5,'Tabel 4(Br) B'!I19<0.5),\"-\",IFERROR('Tabel 4(Br) B'!I19/'Tabel 4F B'!I19*100,\"-\"))","v":"-"}]
["Mejeriing.",null,{"$f":"IF(OR('Tabel 4F B'!C20<5,'Tabel 4(Br) B'!C20<0.5),\"-\",IFERROR('Tabel 4(Br) B'!C20/'Tabel 4F B'!C20*100,\"-\"))","v":"-"},{"$f":"IF(OR('Tabel 4F B'!D20<5,'Tabel 4(Br) B'!D20<0.5),\"-\",IFERROR('Tabel 4(Br) B'!D20/'Tabel 4F B'!D20*100,\"-\"))","v":"-"},{"$f":"IF(OR('Tabel 4F B'!E20<5,'Tabel 4(Br) B'!E20<0.5),\"-\",IFERROR('Tabel 4(Br) B'!E20/'Tabel 4F B'!E20*100,\"-\"))","v":"-"},{"$f":"IF(OR('Tabel 4F B'!F20<5,'Tabel 4(Br) B'!F20<0.5),\"-\",IFERROR('Tabel 4(Br) B'!F20/'Tabel 4F B'!F20*100,\"-\"))","v":"-"},{"$f":"IF(OR('Tabel 4F B'!G20<5,'Tabel 4(Br) B'!G20<0.5),\"-\",IFERROR('Tabel 4(Br) B'!G20/'Tabel 4F B'!G20*100,\"-\"))","v":"-"},null,{"$f":"IF(OR('Tabel 4F B'!I20<5,'Tabel 4(Br) B'!I20<0.5),\"-\",IFERROR('Tabel 4(Br) B'!I20/'Tabel 4F B'!I20*100,\"-\"))","v":"-"}]
["Levn.m.kand.",null,{"$f":"IF(OR('Tabel 4F B'!C21<5,'Tabel 4(Br) B'!C21<0.5),\"-\",IFERROR('Tabel 4(Br) B'!C21/'Tabel 4F B'!C21*100,\"-\"))","v":"-"},{"$f":"IF(OR('Tabel 4F B'!D21<5,'Tabel 4(Br) B'!D21<0.5),\"-\",IFERROR('Tabel 4(Br) B'!D21/'Tabel 4F B'!D21*100,\"-\"))","v":"-"},{"$f":"IF(OR('Tabel 4F B'!E21<5,'Tabel 4(Br) B'!E21<0.5),\"-\",IFERROR('Tabel 4(Br) B'!E21/'Tabel 4F B'!E21*100,\"-\"))","v":"-"},{"$f":"IF(OR('Tabel 4F B'!F21<5,'Tabel 4(Br) B'!F21<0.5),\"-\",IFERROR('Tabel 4(Br) B'!F21/'Tabel 4F B'!F21*100,\"-\"))","v":"-"},{"$f":"IF(OR('Tabel 4F B'!G21<5,'Tabel 4(Br) B'!G21<0.5),\"-\",IFERROR('Tabel 4(Br) B'!G21/'Tabel 4F B'!G21*100,\"-\"))","v":"-"},null,{"$f":"IF(OR('Tabel 4F B'!I21<5,'Tabel 4(Br) B'!I21<0.5),\"-\",IFERROR('Tabel 4(Br) B'!I21/'Tabel 4F B'!I21*100,\"-\"))","v":"-"}]
["Dyrlæge",null,{"$f":"IF(OR('Tabel 4F B'!C22<5,'Tabel 4(Br) B'!C22<0.5),\"-\",IFERROR('Tabel 4(Br) B'!C22/'Tabel 4F B'!C22*100,\"-\"))","v":"-"},{"$f":"IF(OR('Tabel 4F B'!D22<5,'Tabel 4(Br) B'!D22<0.5),\"-\",IFERROR('Tabel 4(Br) B'!D22/'Tabel 4F B'!D22*100,\"-\"))","v":"-"},{"$f":"IF(OR('Tabel 4F B'!E22<5,'Tabel 4(Br) B'!E22<0.5),\"-\",IFERROR('Tabel 4(Br) B'!E22/'Tabel 4F B'!E22*100,\"-\"))","v":"-"},{"$f":"IF(OR('Tabel 4F B'!F22<5,'Tabel 4(Br) B'!F22<0.5),\"-\",IFERROR('Tabel 4(Br) B'!F22/'Tabel 4F B'!F22*100,\"-\"))","v":"-"},{"$f":"IF(OR('Tabel 4F B'!G22<5,'Tabel 4(Br) B'!G22<0.5),\"-\",IFERROR('Tabel 4(Br) B'!G22/'Tabel 4F B'!G22*100,\"-\"))","v":"-"},null,{"$f":"IF(OR('Tabel 4F B'!I22<5,'Tabel 4(Br) B'!I22<0.5),\"-\",IFERROR('Tabel 4(Br) B'!I22/'Tabel 4F B'!I22*100,\"-\"))","v":3.8447487770758522}]
["Farmaceut",null,{"$f":"IF(OR('Tabel 4F B'!C23<5,'Tabel 4(Br) B'!C23<0.5),\"-\",IFERROR('Tabel 4(Br) B'!C23/'Tabel 4F B'!C23*100,\"-\"))","v":"-"},{"$f":"IF(OR('Tabel 4F B'!D23<5,'Tabel 4(Br) B'!D23<0.5),\"-\",IFERROR('Tabel 4(Br) B'!D23/'Tabel 4F B'!D23*100,\"-\"))","v":"-"},{"$f":"IF(OR('Tabel 4F B'!E23<5,'Tabel 4(Br) B'!E23<0.5),\"-\",IFERROR('Tabel 4(Br) B'!E23/'Tabel 4F B'!E23*100,\"-\"))","v":"-"},{"$f":"IF(OR('Tabel 4F B'!F23<5,'Tabel 4(Br) B'!F23<0.5),\"-\",IFERROR('Tabel 4(Br) B'!F23/'Tabel 4F B'!F23*100,\"-\"))","v":"-"},{"$f":"IF(OR('Tabel 4F B'!G23<5,'Tabel 4(Br) B'!G23<0.5),\"-\",IFERROR('Tabel 4(Br) B'!G23/'Tabel 4F B'!G23*100,\"-\"))","v":"-"},null,{"$f":"IF(OR('Tabel 4F B'!I23<5,'Tabel 4(Br) B'!I23<0.5),\"-\",IFERROR('Tabel 4(Br) B'!I23/'Tabel 4F B'!I23*100,\"-\"))","v":"-"}]
["Læge",null,{"$f":"IF(OR('Tabel 4F B'!C24<5,'Tabel 4(Br) B'!C24<0.5),\"-\",IFERROR('Tabel 4(Br) B'!C24/'Tabel 4F B'!C24*100,\"-\"))","v":"-"},{"$f":"IF(OR('Tabel 4F B'!D24<5,'Tabel 4(Br) B'!D24<0.5),\"-\",IFERROR('Tabel 4(Br) B'!D24/'Tabel 4F B'!D24*100,\"-\"))","v":"-"},{"$f":"IF(OR('Tabel 4F B'!E24<5,'Tabel 4(Br) B'!E24<0.5),\"-\",IFERROR('Tabel 4(Br) B'!E24/'Tabel 4F B'!E24*100,\"-\"))","v":"-"},{"$f":"IF(OR('Tabel 4F B'!F24<5,'Tabel 4(Br) B'!F24<0.5),\"-\",IFERROR('Tabel 4(Br) B'!F24/'Tabel 4F B'!F24*100,\"-\"))","v":"-"},{"$f":"IF(OR('Tabel 4F B'!G24<5,'Tabel 4(Br) B'!G24<0.5),\"-\",IFERROR('Tabel 4(Br) B'!G24/'Tabel 4F B'!G24*100,\"-\"))","v":"-"},null,{"$f":"IF(OR('Tabel 4F B'!I24<5,'Tabel 4(Br) B'!I24<0.5),\"-\",IFERROR('Tabel 4(Br) B'!I24/'Tabel 4F B'!I24*100,\"-\"))","v":"-"}]
["Tandlæge",null,{"$f":"IF(OR('Tabel 4F B'!C25<5,'Tabel 4(Br) B'!C25<0.5),\"-\",IFERROR('Tabel 4(Br) B'!C25/'Tabel 4F B'!C25*100,\"-\"))","v":"-"},{"$f":"IF(OR('Tabel 4F B'!D25<5,'Tabel 4(Br) B'!D25<0.5),\"-\",IFERROR('Tabel 4(Br) B'!D25/'Tabel 4F B'!D25*100,\"-\"))","v":"-"},{"$f":"IF(OR('Tabel 4F B'!E25<5,'Tabel 4(Br) B'!E25<0.5),\"-\",IFERROR('Tabel 4(Br) B'!E25/'Tabel 4F B'!E25*100,\"-\"))","v":"-"},{"$f":"IF(OR('Tabel 4F B'!F25<5,'Tabel 4(Br) B'!F25<0.5),\"-\",IFERROR('Tabel 4(Br) B'!F25/'Tabel 4F B'!F25*100,\"-\"))","v":"-"},{"$f":"IF(OR('Tabel 4F B'!G25<5,'Tabel 4(Br) B'!G25<0.5),\"-\",IFERROR('Tabel 4(Br) B'!G25/'Tabel 4F B'!G25*100,\"-\"))","v":"-"},null,{"$f":"IF(OR('Tabel 4F B'!I25<5,'Tabel 4(Br) B'!I25<0.5),\"-\",IFERROR('Tabel 4(Br) B'!I25/'Tabel 4F B'!I25*100,\"-\"))","v":"-"}]
["Arkitekt",null,{"$f":"IF(OR('Tabel 4F B'!C26<5,'Tabel 4(Br) B'!C26<0.5),\"-\",IFERROR('Tabel 4(Br) B'!C26/'Tabel 4F B'!C26*100,\"-\"))","v":"-"},{"$f":"IF(OR('Tabel 4F B'!D26<5,'Tabel 4(Br) B'!D26<0.5),\"-\",IFERROR('Tabel 4(Br) B'!D26/'Tabel 4F B'!D26*100,\"-\"))","v":"-"},{"$f":"IF(OR('Tabel 4F B'!E26<5,'Tabel 4(Br) B'!E26<0.5),\"-\",IFERROR('Tabel 4(Br) B'!E26/'Tabel 4F B'!E26*100,\"-\"))","v":"-"},{"$f":"IF(OR('Tabel 4F B'!F26<5,'Tabel 4(Br) B'!F26<0.5),\"-\",IFERROR('Tabel 4(Br) B'!F26/'Tabel 4F B'!F26*100,\"-\"))","v":"-"},{"$f":"IF(OR('Tabel 4F B'!G26<5,'Tabel 4(Br) B'!G26<0.5),\"-\",IFERROR('Tabel 4(Br) B'!G26/'Tabel 4F B'!G26*100,\"-\"))","v":"-"},null,{"$f":"IF(OR('Tabel 4F B'!I26<5,'Tabel 4(Br) B'!I26<0.5),\"-\",IFERROR('Tabel 4(Br) B'!I26/'Tabel 4F B'!I26*100,\"-\"))","v":7.141520613734162}]
["Landinspek.",null,{"$f":"IF(OR('Tabel 4F B'!C27<5,'Tabel 4(Br) B'!C27<0.5),\"-\",IFERROR('Tabel 4(Br) B'!C27/'Tabel 4F B'!C27*100,\"-\"))","v":"-"},{"$f":"IF(OR('Tabel 4F B'!D27<5,'Tabel 4(Br) B'!D27<0.5),\"-\",IFERROR('Tabel 4(Br) B'!D27/'Tabel 4F B'!D27*100,\"-\"))","v":"-"},{"$f":"IF(OR('Tabel 4F B'!E27<5,'Tabel 4(Br) B'!E27<0.5),\"-\",IFERROR('Tabel 4(Br) B'!E27/'Tabel 4F B'!E27*100,\"-\"))","v":"-"},{"$f":"IF(OR('Tabel 4F B'!F27<5,'Tabel 4(Br) B'!F27<0.5),\"-\",IFERROR('Tabel 4(Br) B'!F27/'Tabel 4F B'!F27*100,\"-\"))","v":"-"},{"$f":"IF(OR('Tabel 4F B'!G27<5,'Tabel 4(Br) B'!G27<0.5),\"-\",IFERROR('Tabel 4(Br) B'!G27/'Tabel 4F B'!G27*100,\"-\"))","v":"-"},null,{"$f":"IF(OR('Tabel 4F B'!I27<5,'Tabel 4(Br) B'!I27<0.5),\"-\",IFERROR('Tabel 4(Br) B'!I27/'Tabel 4F B'!I27*100,\"-\"))","v":"-"}]
["Bibliotekar",null,{"$f":"IF(OR('Tabel 4F B'!C28<5,'Tabel 4(Br) B'!C28<0.5),\"-\",IFERROR('Tabel 4(Br) B'!C28/'Tabel 4F B'!C28*100,\"-\"))","v":"-"},{"$f":"IF(OR('Tabel 4F B'!D28<5,'Tabel 4(Br) B'!D28<0.5),\"-\",IFERROR('Tabel 4(Br) B'!D28/'Tabel 4F B'!D28*100,\"-\"))","v":"-"},{"$f":"IF(OR('Tabel 4F B'!E28<5,'Tabel 4(Br) B'!E28<0.5),\"-\",IFERROR('Tabel 4(Br) B'!E28/'Tabel 4F B'!E28*100,\"-\"))","v":"-"},{"$f":"IF(OR('Tabel 4F B'!F28<5,'Tabel 4(Br) B'!F28<0.5),\"-\",IFERROR('Tabel 4(Br) B'!F28/'Tabel 4F B'!F28*100,\"-\"))","v":"-"},{"$f":"IF(OR('Tabel 4F B'!G28<5,'Tabel 4(Br) B'!G28<0.5),\"-\",IFERROR('Tabel 4(Br) B'!G28/'Tabel 4F B'!G28*100,\"-\"))","v":"-"},null,{"$f":"IF(OR('Tabel 4F B'!I28<5,'Tabel 4(Br) B'!I28<0.5),\"-\",IFERROR('Tabel 4(Br) B'!I28/'Tabel 4F B'!I28*100,\"-\"))","v":6.665419239485229}]
["Musikudd.",null,{"$f":"IF(OR('Tabel 4F B'!C29<5,'Tabel 4(Br) B'!C29<0.5),\"-\",IFERROR('Tabel 4(Br) B'!C29/'Tabel 4F B'!C29*100,\"-\"))","v":"-"},{"$f":"IF(OR('Tabel 4F B'!D29<5,'Tabel 4(Br) B'!D29<0.5),\"-\",IFERROR('Tabel 4(Br) B'!D29/'Tabel 4F B'!D29*100,\"-\"))","v":"-"},{"$f":"IF(OR('Tabel 4F B'!E29<5,'Tabel 4(Br) B'!E29<0.5),\"-\",IFERROR('Tabel 4(Br) B'!E29/'Tabel 4F B'!E29*100,\"-\"))","v":"-"},{"$f":"IF(OR('Tabel 4F B'!F29<5,'Tabel 4(Br) B'!F29<0.5),\"-\",IFERROR('Tabel 4(Br) B'!F29/'Tabel 4F B'!F29*100,\"-\"))","v":"-"},{"$f":"IF(OR('Tabel 4F B'!G29<5,'Tabel 4(Br) B'!G29<0.5),\"-\",IFERROR('Tabel 4(Br) B'!G29/'Tabel 4F B'!G29*100,\"-\"))","v":"-"},null,{"$f":"IF(OR('Tabel 4F B'!I29<5,'Tabel 4(Br) B'!I29<0.5),\"-\",IFERROR('Tabel 4(Br) B'!I29/'Tabel 4F B'!I29*100,\"-\"))","v":"-"}]
["Teolog",null,{"$f":"IF(OR('Tabel 4F B'!C30<5,'Tabel 4(Br) B'!C30<0.5),\"-\",IFERROR('Tabel 4(Br) B'!C30/'Tabel 4F B'!C30*100,\"-\"))","v":"-"},{"$f":"IF(OR('Tabel 4F B'!D30<5,'Tabel 4(Br) B'!D30<0.5),\"-\",IFERROR('Tabel 4(Br) B'!D30/'Tabel 4F B'!D30*100,\"-\"))","v":"-"},{"$f":"IF(OR('Tabel 4F B'!E30<5,'Tabel 4(Br) B'!E30<0.5),\"-\",IFERROR('Tabel 4(Br) B'!E30/'Tabel 4F B'!E30*100,\"-\"))","v":"-"},{"$f":"IF(OR('Tabel 4F B'!F30<5,'Tabel 4(Br) B'!F30<0.5),\"-\",IFERROR('Tabel 4(Br) B'!F30/'Tabel 4F B'!F30*100,\"-\"))","v":"-"},{"$f":"IF(OR('Tabel 4F B'!G30<5,'Tabel 4(Br) B'!G30<0.5),\"-\",IFERROR('Tabel 4(Br) B'!G30/'Tabel 4F B'!G30*100,\"-\"))","v":"-"},null,{"$f":"IF(OR('Tabel 4F B'!I30<5,'Tabel 4(Br) B'!I30<0.5),\"-\",IFERROR('Tabel 4(Br) B'!I30/'Tabel 4F B'!I30*100,\"-\"))","v":"-"}]
["Psykolog",null,{"$f":"IF(OR('Tabel 4F B'!C31<5,'Tabel 4(Br) B'!C31<0.5),\"-\",IFERROR('Tabel 4(Br) B'!C31/'Tabel 4F B'!C31*100,\"-\"))","v":"-"},{"$f":"IF(OR('Tabel 4F B'!D31<5,'Tabel 4(Br) B'!D31<0.5),\"-\",IFERROR('Tabel 4(Br) B'!D31/'Tabel 4F B'!D31*100,\"-\"))","v":14.283041227468171},{"$f":"IF(OR('Tabel 4F B'!E31<5,'Tabel 4(Br) B'!E31<0.5),\"-\",IFERROR('Tabel 4(Br) B'!E31/'Tabel 4F B'!E31*100,\"-\"))","v":4.17442596074169},{"$f":"IF(OR('Tabel 4F B'!F31<5,'Tabel 4(Br) B'!F31<0.5),\"-\",IFERROR('Tabel 4(Br) B'!F31/'Tabel 4F B'!F31*100,\"-\"))","v":"-"},{"$f":"IF(OR('Tabel 4F B'!G31<5,'Tabel 4(Br) B'!G31<0.5),\"-\",IFERROR('Tabel 4(Br) B'!G31/'Tabel 4F B'!G31*100,\"-\"))","v":"-"},null,{"$f":"IF(OR('Tabel 4F B'!I31<5,'Tabel 4(Br) B'!I31<0.5),\"-\",IFERROR('Tabel 4(Br) B'!I31/'Tabel 4F B'!I31*100,\"-\"))","v":5.2807750680886949}]
["Jurist",null,{"$f":"IF(OR('Tabel 4F B'!C32<5,'Tabel 4(Br) B'!C32<0.5),\"-\",IFERROR('Tabel 4(Br) B'!C32/'Tabel 4F B'!C32*100,\"-\"))","v":"-"},{"$f":"IF(OR('Tabel 4F B'!D32<5,'Tabel 4(Br) B'!D32<0.5),\"-\",IFERROR('Tabel 4(Br) B'!D32/'Tabel 4F B'!D32*100,\"-\"))","v":"-"},{"$f":"IF(OR('Tabel 4F B'!E32<5,'Tabel 4(Br) B'!E32<0.5),\"-\",IFERROR('Tabel 4(Br) B'!E32/'Tabel 4F B'!E32*100,\"-\"))","v":"-"},{"$f":"IF(OR('Tabel 4F B'!F32<5,'Tabel 4(Br) B'!F32<0.5),\"-\",IFERROR('Tabel 4(Br) B'!F32/'Tabel 4F B'!F32*100,\"-\"))","v":"-"},{"$f":"IF(OR('Tabel 4F B'!G32<5,'Tabel 4(Br) B'!G32<0.5),\"-\",IFERROR('Tabel 4(Br) B'!G32/'Tabel 4F B'!G32*100,\"-\"))","v":"-"},null,{"$f":"IF(OR('Tabel 4F B'!I32<5,'Tabel 4(Br) B'!I32<0.5),\"-\",IFERROR('Tabel 4(Br) B'!I32/'Tabel 4F B'!I32*100,\"-\"))","v":"-"}]
["Økonom",null,{"$f":"IF(OR('Tabel 4F B'!C33<5,'Tabel 4(Br) B'!C33<0.5),\"-\",IFERROR('Tabel 4(Br) B'!C33/'Tabel 4F B'!C33*100,\"-\"))","v":"-"},{"$f":"IF(OR('Tabel 4F B'!D33<5,'Tabel 4(Br) B'!D33<0.5),\"-\",IFERROR('Tabel 4(Br) B'!D33/'Tabel 4F B'!D33*100,\"-\"))","v":"-"},{"$f":"IF(OR('Tabel 4F B'!E33<5,'Tabel 4(Br) B'!E33<0.5),\"-\",IFERROR('Tabel 4(Br) B'!E33/'Tabel 4F B'!E33*100,\"-\"))","v":"-"},{"$f":"IF(OR('Tabel 4F B'!F33<5,'Tabel 4(Br) B'!F33<0.5),\"-\",IFERROR('Tabel 4(Br) B'!F33/'Tabel 4F B'!F33*100,\"-\"))","v":"-"},{"$f":"IF(OR('Tabel 4F B'!G33<5,'Tabel 4(Br) B'!G33<0.5),\"-\",IFERROR('Tabel 4(Br) B'!G33/'Tabel 4F B'!G33*100,\"-\"))","v":"-"},null,{"$f":"IF(OR('Tabel 4F B'!I33<5,'Tabel 4(Br) B'!I33<0.5),\"-\",IFERROR('Tabel 4(Br) B'!I33/'Tabel 4F B'!I33*100,\"-\"))","v":"-"}]
["Samf. Adm.",null,{"$f":"IF(OR('Tabel 4F B'!C34<5,'Tabel 4(Br) B'!C34<0.5),\"-\",IFERROR('Tabel 4(Br) B'!C34/'Tabel 4F B'!C34*100,\"-\"))","v":"-"},{"$f":"IF(OR('Tabel 4F B'!D34<5,'Tabel 4(Br) B'!D34<0.5),\"-\",IFERROR('Tabel 4(Br) B'!D34/'Tabel 4F B'!D34*100,\"-\"))","v":"-"},{"$f":"IF(OR('Tabel 4F B'!E34<5,'Tabel 4(Br) B'!E34<0.5),\"-\",IFERROR('Tabel 4(Br) B'!E34/'Tabel 4F B'!E34*100,\"-\"))","v":4.7610137424894239},{"$f":"IF(OR('Tabel 4F B'!F34<5,'Tabel 4(Br) B'!F34<0.5),\"-\",IFERROR('Tabel 4(Br) B'!F34/'Tabel 4F B'!F34*100,\"-\"))","v":19.996257718455723},{"$f":"IF(OR('Tabel 4F B'!G34<5,'Tabel 4(Br) B'!G34<0.5),\"-\",IFERROR('Tabel 4(Br) B'!G34/'Tabel 4F B'!G34*100,\"-\"))","v":"-"},null,{"$f":"IF(OR('Tabel 4F B'!I34<5,'Tabel 4(Br) B'!I34<0.5),\"-\",IFERROR('Tabel 4(Br) B'!I34/'Tabel 4F B'!I34*100,\"-\"))","v":5.7681512649391369}]
["Cand. Merc.",null,{"$f":"IF(OR('Tabel 4F B'!C35<5,'Tabel 4(Br) B'!C35<0.5),\"-\",IFERROR('Tabel 4(Br) B'!C35/'Tabel 4F B'!C35*100,\"-\"))","v":"-"},{"$f":"IF(OR('Tabel 4F B'!D35<5,'Tabel 4(Br) B'!D35<0.5),\"-\",IFERROR('Tabel 4(Br) B'!D35/'Tabel 4F B'!D35*100,\"-\"))","v":"-"},{"$f":"IF(OR('Tabel 4F B'!E35<5,'Tabel 4(Br) B'!E35<0.5),\"-\",IFERROR('Tabel 4(Br) B'!E35/'Tabel 4F B'!E35*100,\"-\"))","v":26.002619597080923},{"$f":"IF(OR('Tabel 4F B'!F35<5,'Tabel 4(Br) B'!F35<0.5),\"-\",IFERROR('Tabel 4(Br) B'!F35/'Tabel 4F B'!F35*100,\"-\"))","v":"-"},{"$f":"IF(OR('Tabel 4F B'!G35<5,'Tabel 4(Br) B'!G35<0.5),\"-\",IFERROR('Tabel 4(Br) B'!G35/'Tabel 4F B'!G35*100,\"-\"))","v":"-"},null,{"$f":"IF(OR('Tabel 4F B'!I35<5,'Tabel 4(Br) B'!I35<0.5),\"-\",IFERROR('Tabel 4(Br) B'!I35/'Tabel 4F B'!I35*100,\"-\"))","v":8.9664205507175598}]
["HA",null,{"$f":"IF(OR('Tabel 4F B'!C36<5,'Tabel 4(Br) B'!C36<0.5),\"-\",IFERROR('Tabel 4(Br) B'!C36/'Tabel 4F B'!C36*100,\"-\"))","v":"-"},{"$f":"IF(OR('Tabel 4F B'!D36<5,'Tabel 4(Br) B'!D36<0.5),\"-\",IFERROR('Tabel 4(Br) B'!D36/'Tabel 4F B'!D36*100,\"-\"))","v":"-"},{"$f":"IF(OR('Tabel 4F B'!E36<5,'Tabel 4(Br) B'!E36<0.5),\"-\",IFERROR('Tabel 4(Br) B'!E36/'Tabel 4F B'!E36*100,\"-\"))","v":"-"},{"$f":"IF(OR('Tabel 4F B'!F36<5,'Tabel 4(Br) B'!F36<0.5),\"-\",IFERROR('Tabel 4(Br) B'!F36/'Tabel 4F B'!F36*100,\"-\"))","v":"-"},{"$f":"IF(OR('Tabel 4F B'!G36<5,'Tabel 4(Br) B'!G36<0.5),\"-\",IFERROR('Tabel 4(Br) B'!G36/'Tabel 4F B'!G36*100,\"-\"))","v":"-"},null,{"$f":"IF(OR('Tabel 4F B'!I36<5,'Tabel 4(Br) B'!I36<0.5),\"-\",IFERROR('Tabel 4(Br) B'!I36/'Tabel 4F B'!I36*100,\"-\"))","v":"-"}]
["HD",null,{"$f":"IF(OR('Tabel 4F B'!C37<5,'Tabel 4(Br) B'!C37<0.5),\"-\",IFERROR('Tabel 4(Br) B'!C37/'Tabel 4F B'!C37*100,\"-\"))","v":"-"},{"$f":"IF(OR('Tabel 4F B'!D37<5,'Tabel 4(Br) B'!D37<0.5),\"-\",IFERROR('Tabel 4(Br) B'!D37/'Tabel 4F B'!D37*100,\"-\"))","v":"-"},{"$f":"IF(OR('Tabel 4F B'!E37<5,'Tabel 4(Br) B'!E37<0.5),\"-\",IFERROR('Tabel 4(Br) B'!E37/'Tabel 4F B'!E37*100,\"-\"))","v":"-"},{"$f":"IF(OR('Tabel 4F B'!F37<5,'Tabel 4(Br) B'!F37<0.5),\"-\",IFERROR('Tabel 4(Br) B'!F37/'Tabel 4F B'!F37*100,\"-\"))","v":"-"},{"$f":"IF(OR('Tabel 4F B'!G37<5,'Tabel 4(Br) B'!G37<0.5),\"-\",IFERROR('Tabel 4(Br) B'!G37/'Tabel 4F B'!G37*100,\"-\"))","v":"-"},null,{"$f":"IF(OR('Tabel 4F B'!I37<5,'Tabel 4(Br) B'!I37<0.5),\"-\",IFERROR('Tabel 4(Br) B'!I37/'Tabel 4F B'!I37*100,\"-\"))","v":"-"}]
["Komm. og Sprog",null,{"$f":"IF(OR('Tabel 4F B'!C38<5,'Tabel 4(Br) B'!C38<0.5),\"-\",IFERROR('Tabel 4(Br) B'!C38/'Tabel 4F B'!C38*100,\"-\"))","v":"-"},{"$f":"IF(OR('Tabel 4F B'!D38<5,'Tabel 4(Br) B'!D38<0.5),\"-\",IFERROR('Tabel 4(Br) B'!D38/'Tabel 4F B'!D38*100,\"-\"))","v":28.566082454936748},{"$f":"IF(OR('Tabel 4F B'!E38<5,'Tabel 4(Br) B'!E38<0.5),\"-\",IFERROR('Tabel 4(Br) B'!E38/'Tabel 4F B'!E38*100,\"-\"))","v":"-"},{"$f":"IF(OR('Tabel 4F B'!F38<5,'Tabel 4(Br) B'!F38<0.5),\"-\",IFERROR('Tabel 4(Br) B'!F38/'Tabel 4F B'!F38*100,\"-\"))","v":"-"},{"$f":"IF(OR('Tabel 4F B'!G38<5,'Tabel 4(Br) B'!G38<0.5),\"-\",IFERROR('Tabel 4(Br) B'!G38/'Tabel 4F B'!G38*100,\"-\"))","v":"-"},null,{"$f":"IF(OR('Tabel 4F B'!I38<5,'Tabel 4(Br) B'!I38<0.5),\"-\",IFERROR('Tabel 4(Br) B'!I38/'Tabel 4F B'!I38*100,\"-\"))","v":26.661676957940937}]
["Bygningskonst.",null,{"$f":"IF(OR('Tabel 4F B'!C39<5,'Tabel 4(Br) B'!C39<0.5),\"-\",IFERROR('Tabel 4(Br) B'!C39/'Tabel 4F B'!C39*100,\"-\"))","v":"-"},{"$f":"IF(OR('Tabel 4F B'!D39<5,'Tabel 4(Br) B'!D39<0.5),\"-\",IFERROR('Tabel 4(Br) B'!D39/'Tabel 4F B'!D39*100,\"-\"))","v":"-"},{"$f":"IF(OR('Tabel 4F B'!E39<5,'Tabel 4(Br) B'!E39<0.5),\"-\",IFERROR('Tabel 4(Br) B'!E39/'Tabel 4F B'!E39*100,\"-\"))","v":"-"},{"$f":"IF(OR('Tabel 4F B'!F39<5,'Tabel 4(Br) B'!F39<0.5),\"-\",IFERROR('Tabel 4(Br) B'!F39/'Tabel 4F B'!F39*100,\"-\"))","v":"-"},{"$f":"IF(OR('Tabel 4F B'!G39<5,'Tabel 4(Br) B'!G39<0.5),\"-\",IFERROR('Tabel 4(Br) B'!G39/'Tabel 4F B'!G39*100,\"-\"))","v":"-"},null,{"$f":"IF(OR('Tabel 4F B'!I39<5,'Tabel 4(Br) B'!I39<0.5),\"-\",IFERROR('Tabel 4(Br) B'!I39/'Tabel 4F B'!I39*100,\"-\"))","v":"-"}]
["Cand. IT.",null,{"$f":"IF(OR('Tabel 4F B'!C40<5,'Tabel 4(Br) B'!C40<0.5),\"-\",IFERROR('Tabel 4(Br) B'!C40/'Tabel 4F B'!C40*100,\"-\"))","v":"-"},{"$f":"IF(OR('Tabel 4F B'!D40<5,'Tabel 4(Br) B'!D40<0.5),\"-\",IFERROR('Tabel 4(Br) B'!D40/'Tabel 4F B'!D40*100,\"-\"))","v":"-"},{"$f":"IF(OR('Tabel 4F B'!E40<5,'Tabel 4(Br) B'!E40<0.5),\"-\",IFERROR('Tabel 4(Br) B'!E40/'Tabel 4F B'!E40*100,\"-\"))","v":"-"},{"$f":"IF(OR('Tabel 4F B'!F40<5,'Tabel 4(Br) B'!F40<0.5),\"-\",IFERROR('Tabel 4(Br) B'!F40/'Tabel 4F B'!F40*100,\"-\"))","v":"-"},{"$f":"IF(OR('Tabel 4F B'!G40<5,'Tabel 4(Br) B'!G40<0.5),\"-\",IFERROR('Tabel 4(Br) B'!G40/'Tabel 4F B'!G40*100,\"-\"))","v":"-"},null,{"$f":"IF(OR('Tabel 4F B'!I40<5,'Tabel 4(Br) B'!I40<0.5),\"-\",IFERROR('Tabel 4(Br) B'!I40/'Tabel 4F B'!I40*100,\"-\"))","v":"-"}]
["Bac. Samf.",null,{"$f":"IF(OR('Tabel 4F B'!C41<5,'Tabel 4(Br) B'!C41<0.5),\"-\",IFERROR('Tabel 4(Br) B'!C41/'Tabel 4F B'!C41*100,\"-\"))","v":"-"},{"$f":"IF(OR('Tabel 4F B'!D41<5,'Tabel 4(Br) B'!D41<0.5),\"-\",IFERROR('Tabel 4(Br) B'!D41/'Tabel 4F B'!D41*100,\"-\"))","v":"-"},{"$f":"IF(OR('Tabel 4F B'!E41<5,'Tabel 4(Br) B'!E41<0.5),\"-\",IFERROR('Tabel 4(Br) B'!E41/'Tabel 4F B'!E41*100,\"-\"))","v":"-"},{"$f":"IF(OR('Tabel 4F B'!F41<5,'Tabel 4(Br) B'!F41<0.5),\"-\",IFERROR('Tabel 4(Br) B'!F41/'Tabel 4F B'!F41*100,\"-\"))","v":"-"},{"$f":"IF(OR('Tabel 4F B'!G41<5,'Tabel 4(Br) B'!G41<0.5),\"-\",IFERROR('Tabel 4(Br) B'!G41/'Tabel 4F B'!G41*100,\"-\"))","v":"-"},null,{"$f":"IF(OR('Tabel 4F B'!I41<5,'Tabel 4(Br) B'!I41<0.5),\"-\",IFERROR('Tabel 4(Br) B'!I41/'Tabel 4F B'!I41*100,\"-\"))","v":"-"}]
["Bac. Hum.",null,{"$f":"IF(OR('Tabel 4F B'!C42<5,'Tabel 4(Br) B'!C42<0.5),\"-\",IFERROR('Tabel 4(Br) B'!C42/'Tabel 4F B'!C42*100,\"-\"))","v":"-"},{"$f":"IF(OR('Tabel 4F B'!D42<5,'Tabel 4(Br) B'!D42<0.5),\"-\",IFERROR('Tabel 4(Br) B'!D42/'Tabel 4F B'!D42*100,\"-\"))","v":"-"},{"$f":"IF(OR('Tabel 4F B'!E42<5,'Tabel 4(Br) B'!E42<0.5),\"-\",IFERROR('Tabel 4(Br) B'!E42/'Tabel 4F B'!E42*100,\"-\"))","v":"-"},{"$f":"IF(OR('Tabel 4F B'!F42<5,'Tabel 4(Br) B'!F42<0.5),\"-\",IFERROR('Tabel 4(Br) B'!F42/'Tabel 4F B'!F42*100,\"-\"))","v":"-"},{"$f":"IF(OR('Tabel 4F B'!G42<5,'Tabel 4(Br) B'!G42<0.5),\"-\",IFERROR('Tabel 4(Br) B'!G42/'Tabel 4F B'!G42*100,\"-\"))","v":"-"},null,{"$f":"IF(OR('Tabel 4F B'!I42<5,'Tabel 4(Br) B'!I42<0.5),\"-\",IFERROR('Tabel 4(Br) B'!I42/'Tabel 4F B'!I42*100,\"-\"))","v":15.381736706504375}]
["Bac. Nat.",null,{"$f":"IF(OR('Tabel 4F B'!C43<5,'Tabel 4(Br) B'!C43<0.5),\"-\",IFERROR('Tabel 4(Br) B'!C43/'Tabel 4F B'!C43*100,\"-\"))","v":"-"},{"$f":"IF(OR('Tabel 4F B'!D43<5,'Tabel 4(Br) B'!D43<0.5),\"-\",IFERROR('Tabel 4(Br) B'!D43/'Tabel 4F B'!D43*100,\"-\"))","v":"-"},{"$f":"IF(OR('Tabel 4F B'!E43<5,'Tabel 4(Br) B'!E43<0.5),\"-\",IFERROR('Tabel 4(Br) B'!E43/'Tabel 4F B'!E43*100,\"-\"))","v":"-"},{"$f":"IF(OR('Tabel 4F B'!F43<5,'Tabel 4(Br) B'!F43<0.5),\"-\",IFERROR('Tabel 4(Br) B'!F43/'Tabel 4F B'!F43*100,\"-\"))","v":"-"},{"$f":"IF(OR('Tabel 4F B'!G43<5,'Tabel 4(Br) B'!G43<0.5),\"-\",IFERROR('Tabel 4(Br) B'!G43/'Tabel 4F B'!G43*100,\"-\"))","v":"-"},null,{"$f":"IF(OR('Tabel 4F B'!I43<5,'Tabel 4(Br) B'!I43<0.5),\"-\",IFERROR('Tabel 4(Br) B'!I43/'Tabel 4F B'!I43*100,\"-\"))","v":19.933886359383788}]
["Andre",null,{"$f":"IF(OR('Tabel 4F B'!C44<5,'Tabel 4(Br) B'!C44<0.5),\"-\",IFERROR('Tabel 4(Br) B'!C44/'Tabel 4F B'!C44*100,\"-\"))","v":"-"},{"$f":"IF(OR('Tabel 4F B'!D44<5,'Tabel 4(Br) B'!D44<0.5),\"-\",IFERROR('Tabel 4(Br) B'!D44/'Tabel 4F B'!D44*100,\"-\"))","v":9.3097460172603679},{"$f":"IF(OR('Tabel 4F B'!E44<5,'Tabel 4(Br) B'!E44<0.5),\"-\",IFERROR('Tabel 4(Br) B'!E44/'Tabel 4F B'!E44*100,\"-\"))","v":17.730258265404604},{"$f":"IF(OR('Tabel 4F B'!F44<5,'Tabel 4(Br) B'!F44<0.5),\"-\",IFERROR('Tabel 4(Br) B'!F44/'Tabel 4F B'!F44*100,\"-\"))","v":5.7132164909873087},{"$f":"IF(OR('Tabel 4F B'!G44<5,'Tabel 4(Br) B'!G44<0.5),\"-\",IFERROR('Tabel 4(Br) B'!G44/'Tabel 4F B'!G44*100,\"-\"))","v":7.8723502341637985},null,{"$f":"IF(OR('Tabel 4F B'!I44<5,'Tabel 4(Br) B'!I44<0.5),\"-\",IFERROR('Tabel 4(Br) B'!I44/'Tabel 4F B'!I44*100,\"-\"))","v":9.5224160915774743}]
[]
["Total",null,{"$f":"IF(OR('Tabel 4F B'!C46<5,'Tabel 4(Br) B'!C46<0.5),\"-\",IFERROR('Tabel 4(Br) B'!C46/'Tabel 4F B'!C46*100,\"-\"))","v":5.2573385574071487},{"$f":"IF(OR('Tabel 4F B'!D46<5,'Tabel 4(Br) B'!D46<0.5),\"-\",IFERROR('Tabel 4(Br) B'!D46/'Tabel 4F B'!D46*100,\"-\"))","v":9.1616596325634028},{"$f":"IF(OR('Tabel 4F B'!E46<5,'Tabel 4(Br) B'!E46<0.5),\"-\",IFERROR('Tabel 4(Br) B'!E46/'Tabel 4F B'!E46*100,\"-\"))","v":10.033283625250176},{"$f":"IF(OR('Tabel 4F B'!F46<5,'Tabel 4(Br) B'!F46<0.5),\"-\",IFERROR('Tabel 4(Br) B'!F46/'Tabel 4F B'!F46*100,\"-\"))","v":7.2678226158547758},{"$f":"IF(OR('Tabel 4F B'!G46<5,'Tabel 4(Br) B'!G46<0.5),\"-\",IFERROR('Tabel 4(Br) B'!G46/'Tabel 4F B'!G46*100,\"-\"))","v":6.9624257112562606},null,{"$f":"IF(OR('Tabel 4F B'!I46<5,'Tabel 4(Br) B'!I46<0.5),\"-\",IFERROR('Tabel 4(Br) B'!I46/'Tabel 4F B'!I46*100,\"-\"))","v":8.3844270209891025}]
[]
["Ingeniører i alt",null,{"$f":"IF(OR('Tabel 4F B'!C48<5,'Tabel 4(Br) B'!C48<0.5),\"-\",IFERROR('Tabel 4(Br) B'!C48/'Tabel 4F B'!C48*100,\"-\"))","v":"-"},{"$f":"IF(OR('Tabel 4F B'!D48<5,'Tabel 4(Br) B'!D48<0.5),\"-\",IFERROR('Tabel 4(Br) B'!D48/'Tabel 4F B'!D48*100,\"-\"))","v":10.432809253990555},{"$f":"IF(OR('Tabel 4F B'!E48<5,'Tabel 4(Br) B'!E48<0.5),\"-\",IFERROR('Tabel 4(Br) B'!E48/'Tabel 4F B'!E48*100,\"-\"))","v":3.7030106886028986},{"$f":"IF(OR('Tabel 4F B'!F48<5,'Tabel 4(Br) B'!F48<0.5),\"-\",IFERROR('Tabel 4(Br) B'!F48/'Tabel 4F B'!F48*100,\"-\"))","v":6.6654192394852183},{"$f":"IF(OR('Tabel 4F B'!G48<5,'Tabel 4(Br) B'!G48<0.5),\"-\",IFERROR('Tabel 4(Br) B'!G48/'Tabel 4F B'!G48*100,\"-\"))","v":"-"},null,{"$f":"IF(OR('Tabel 4F B'!I48<5,'Tabel 4(Br) B'!I48<0.5),\"-\",IFERROR('Tabel 4(Br) B'!I48/'Tabel 4F B'!I48*100,\"-\"))","v":5.8886279008308167}]
["Magistre i alt",null,{"$f":"IF(OR('Tabel 4F B'!C49<5,'Tabel 4(Br) B'!C49<0.5),\"-\",IFERROR('Tabel 4(Br) B'!C49/'Tabel 4F B'!C49*100,\"-\"))","v":18.178416107686893},{"$f":"IF(OR('Tabel 4F B'!D49<5,'Tabel 4(Br) B'!D49<0.5),\"-\",IFERROR('Tabel 4(Br) B'!D49/'Tabel 4F B'!D49*100,\"-\"))","v":11.538701428304174},{"$f":"IF(OR('Tabel 4F B'!E49<5,'Tabel 4(Br) B'!E49<0.5),\"-\",IFERROR('Tabel 4(Br) B'!E49/'Tabel 4F B'!E49*100,\"-\"))","v":20.53194531561665},{"$f":"IF(OR('Tabel 4F B'!F49<5,'Tabel 4(Br) B'!F49<0.5),\"-\",IFERROR('Tabel 4(Br) B'!F49/'Tabel 4F B'!F49*100,\"-\"))","v":6.5205188212354726},{"$f":"IF(OR('Tabel 4F B'!G49<5,'Tabel 4(Br) B'!G49<0.5),\"-\",IFERROR('Tabel 4(Br) B'!G49/'Tabel 4F B'!G49*100,\"-\"))","v":16.071762703709343},null,{"$f":"IF(OR('Tabel 4F B'!I49<5,'Tabel 4(Br) B'!I49<0.5),\"-\",IFERROR('Tabel 4(Br) B'!I49/'Tabel 4F B'!I49*100,\"-\"))","v":13.661406682051583}]
["DJØF'ere i alt",null,{"$f":"IF(OR('Tabel 4F B'!C50<5,'Tabel 4(Br) B'!C50<0.5),\"-\",IFERROR('Tabel 4(Br) B'!C50/'Tabel 4F B'!C50*100,\"-\"))","v":"-"},{"$f":"IF(OR('Tabel 4F B'!D50<5,'Tabel 4(Br) B'!D50<0.5),\"-\",IFERROR('Tabel 4(Br) B'!D50/'Tabel 4F B'!D50*100,\"-\"))","v":"-"},{"$f":"IF(OR('Tabel 4F B'!E50<5,'Tabel 4(Br) B'!E50<0.5),\"-\",IFERROR('Tabel 4(Br) B'!E50/'Tabel 4F B'!E50*100,\"-\"))","v":8.1819882855247084},{"$f":"IF(OR('Tabel 4F B'!F50<5,'Tabel 4(Br) B'!F50<0.5),\"-\",IFERROR('Tabel 4(Br) B'!F50/'Tabel 4F B'!F50*100,\"-\"))","v":4.9990644296139308},{"$f":"IF(OR('Tabel 4F B'!G50<5,'Tabel 4(Br) B'!G50<0.5),\"-\",IFERROR('Tabel 4(Br) B'!G50/'Tabel 4F B'!G50*100,\"-\"))","v":"-"},null,{"$f":"IF(OR('Tabel 4F B'!I50<5,'Tabel 4(Br) B'!I50<0.5),\"-\",IFERROR('Tabel 4(Br) B'!I50/'Tabel 4F B'!I50*100,\"-\"))","v":4.1788810578182414}]
[]
[]
[]
[]
[]
[]
["Bornholm"]
[]
[null,null,"Under 30 år","30 - 39 år","40 - 49 år","50 - 59 år","Over 60 år",null,"I alt"]
[]
["Civ. ing.",null,{"$f":"IF(OR('Tabel 4F B'!C61<5,'Tabel 4(Br) B'!C61<0.5),\"-\",IFERROR('Tabel 4(Br) B'!C61/'Tabel 4F B'!C61*100,\"-\"))","v":"-"},{"$f":"IF(OR('Tabel 4F B'!D61<5,'Tabel 4(Br) B'!D61<0.5),\"-\",IFERROR('Tabel 4(Br) B'!D61/'Tabel 4F B'!D61*100,\"-\"))","v":15.381736706504373},{"$f":"IF(OR('Tabel 4F B'!E61<5,'Tabel 4(Br) B'!E61<0.5),\"-\",IFERROR('Tabel 4(Br) B'!E61/'Tabel 4F B'!E61*100,\"-\"))","v":11.109032065808714},{"$f":"IF(OR('Tabel 4F B'!F61<5,'Tabel 4(Br) B'!F61<0.5),\"-\",IFERROR('Tabel 4(Br) B'!F61/'Tabel 4F B'!F61*100,\"-\"))","v":"-"},{"$f":"IF(OR('Tabel 4F B'!G61<5,'Tabel 4(Br) B'!G61<0.5),\"-\",IFERROR('Tabel 4(Br) B'!G61/'Tabel 4F B'!G61*100,\"-\"))","v":"-"},null,{"$f":"IF(OR('Tabel 4F B'!I61<5,'Tabel 4(Br) B'!I61<0.5),\"-\",IFERROR('Tabel 4(Br) B'!I61/'Tabel 4F B'!I61*100,\"-\"))","v":8.8218784052010371}]
["Diplom ing.",null,{"$f":"IF(OR('Tabel 4F B'!C62<5,'Tabel 4(Br) B'!C62<0.5),\"-\",IFERROR('Tabel 4(Br) B'!C62/'Tabel 4F B'!C62*100,\"-\"))","v":"-"},{"$f":"IF(OR('Tabel 4F B'!D62<5,'Tabel 4(Br) B'!D62<0.5),\"-\",IFERROR('Tabel 4(Br) B'!D62/'Tabel 4F B'!D62*100,\"-\"))","v":5.4838818014767616},{"$f":"IF(OR('Tabel 4F B'!E62<5,'Tabel 4(Br) B'!E62<0.5),\"-\",IFERROR('Tabel 4(Br) B'!E62/'Tabel 4F B'!E62*100,\"-\"))","v":"-"},{"$f":"IF(OR('Tabel 4F B'!F62<5,'Tabel 4(Br) B'!F62<0.5),\"-\",IFERROR('Tabel 4(Br) B'!F62/'Tabel 4F B'!F62*100,\"-\"))","v":9.0892080538434943},{"$f":"IF(OR('Tabel 4F B'!G62<5,'Tabel 4(Br) B'!G62<0.5),\"-\",IFERROR('Tabel 4(Br) B'!G62/'Tabel 4F B'!G62*100,\"-\"))","v":"-"},null,{"$f":"IF(OR('Tabel 4F B'!I62<5,'Tabel 4(Br) B'!I62<0.5),\"-\",IFERROR('Tabel 4(Br) B'!I62/'Tabel 4F B'!I62*100,\"-\"))","v":4.3056038191072181}]
["Cand. Scient. Tek",null,{"$f":"IF(OR('Tabel 4F B'!C63<5,'Tabel 4(Br) B'!C63<0.5),\"-\",IFERROR('Tabel 4(Br) B'!C63/'Tabel 4F B'!C63*100,\"-\"))","v":"-"},{"$f":"IF(OR('Tabel 4F B'!D63<5,'Tabel 4(Br) B'!D63<0.5),\"-\",IFERROR('Tabel 4(Br) B'!D63/'Tabel 4F B'!D63*100,\"-\"))","v":21.507112169385938},{"$f":"IF(OR('Tabel 4F B'!E63<5,'Tabel 4(Br) B'!E63<0.5),\"-\",IFERROR('Tabel 4(Br) B'!E63/'Tabel 4F B'!E63*100,\"-\"))","v":"-"},{"$f":"IF(OR('Tabel 4F B'!F63<5,'Tabel 4(Br) B'!F63<0.5),\"-\",IFERROR('Tabel 4(Br) B'!F63/'Tabel 4F B'!F63*100,\"-\"))","v":"-"},{"$f":"IF(OR('Tabel 4F B'!G63<5,'Tabel 4(Br) B'!G63<0.5),\"-\",IFERROR('Tabel 4(Br) B'!G63/'Tabel 4F B'!G63*100,\"-\"))","v":"-"},null,{"$f":"IF(OR('Tabel 4F B'!I63<5,'Tabel 4(Br) B'!I63<0.5),\"-\",IFERROR('Tabel 4(Br) B'!I63/'Tabel 4F B'!I63*100,\"-\"))","v":15.992876760646684}]
["MA. Hum.",null,{"$f":"IF(OR('Tabel 4F B'!C64<5,'Tabel 4(Br) B'!C64<0.5),\"-\",IFERROR('Tabel 4(Br) B'!C64/'Tabel 4F B'!C64*100,\"-\"))","v":33.327096197426144},{"$f":"IF(OR('Tabel 4F B'!D64<5,'Tabel 4(Br) B'!D64<0.5),\"-\",IFERROR('Tabel 4(Br) B'!D64/'Tabel 4F B'!D64*100,\"-\"))","v":10.001362929698239},{"$f":"IF(OR('Tabel 4F B'!E64<5,'Tabel 4(Br) B'!E64<0.5),\"-\",IFERROR('Tabel 4(Br) B'!E64/'Tabel 4F B'!E64*100,\"-\"))","v":21.788394769122018},{"$f":"IF(OR('Tabel 4F B'!F64<5,'Tabel 4(Br) B'!F64<0.5),\"-\",IFERROR('Tabel 4(Br) B'!F64/'Tabel 4F B'!F64*100,\"-\"))","v":4.9990644296139211},{"$f":"IF(OR('Tabel 4F B'!G64<5,'Tabel 4(Br) B'!G64<0.5),\"-\",IFERROR('Tabel 4(Br) B'!G64/'Tabel 4F B'!G64*100,\"-\"))","v":20.589886300681318},null,{"$f":"IF(OR('Tabel 4F B'!I64<5,'Tabel 4(Br) B'!I64<0.5),\"-\",IFERROR('Tabel 4(Br) B'!I64/'Tabel 4F B'!I64*100,\"-\"))","v":14.341388627890458}]
["MA. Nat.",null,{"$f":"IF(OR('Tabel 4F B'!C65<5,'Tabel 4(Br) B'!C65<0.5),\"-\",IFERROR('Tabel 4(Br) B'!C65/'Tabel 4F B'!C65*100,\"-\"))","v":"-"},{"$f":"IF(OR('Tabel 4F B'!D65<5,'Tabel 4(Br) B'!D65<0.5),\"-\",IFERROR('Tabel 4(Br) B'!D65/'Tabel 4F B'!D65*100,\"-\"))","v":"-"},{"$f":"IF(OR('Tabel 4F B'!E65<5,'Tabel 4(Br) B'!E65<0.5),\"-\",IFERROR('Tabel 4(Br) B'!E65/'Tabel 4F B'!E65*100,\"-\"))","v":11.762504540268051},{"$f":"IF(OR('Tabel 4F B'!F65<5,'Tabel 4(Br) B'!F65<0.5),\"-\",IFERROR('Tabel 4(Br) B'!F65/'Tabel 4F B'!F65*100,\"-\"))","v":"-"},{"$f":"IF(OR('Tabel 4F B'!G65<5,'Tabel 4(Br) B'!G65<0.5),\"-\",IFERROR('Tabel 4(Br) B'!G65/'Tabel 4F B'!G65*100,\"-\"))","v":16.663548098713072},null,{"$f":"IF(OR('Tabel 4F B'!I65<5,'Tabel 4(Br) B'!I65<0.5),\"-\",IFERROR('Tabel 4(Br) B'!I65/'Tabel 4F B'!I65*100,\"-\"))","v":6.5205188212355489}]
["MA. Ph.d.",null,{"$f":"IF(OR('Tabel 4F B'!C66<5,'Tabel 4(Br) B'!C66<0.5),\"-\",IFERROR('Tabel 4(Br) B'!C66/'Tabel 4F B'!C66*100,\"-\"))","v":"-"},{"$f":"IF(OR('Tabel 4F B'!D66<5,'Tabel 4(Br) B'!D66<0.5),\"-\",IFERROR('Tabel 4(Br) B'!D66/'Tabel 4F B'!D66*100,\"-\"))","v":"-"},{"$f":"IF(OR('Tabel 4F B'!E66<5,'Tabel 4(Br) B'!E66<0.5),\"-\",IFERROR('Tabel 4(Br) B'!E66/'Tabel 4F B'!E66*100,\"-\"))","v":"-"},{"$f":"IF(OR('Tabel 4F B'!F66<5,'Tabel 4(Br) B'!F66<0.5),\"-\",IFERROR('Tabel 4(Br) B'!F66/'Tabel 4F B'!F66*100,\"-\"))","v":"-"},{"$f":"IF(OR('Tabel 4F B'!G66<5,'Tabel 4(Br) B'!G66<0.5),\"-\",IFERROR('Tabel 4(Br) B'!G66/'Tabel 4F B'!G66*100,\"-\"))","v":"-"},null,{"$f":"IF(OR('Tabel 4F B'!I66<5,'Tabel 4(Br) B'!I66<0.5),\"-\",IFERROR('Tabel 4(Br) B'!I66/'Tabel 4F B'!I66*100,\"-\"))","v":14.283041227468345}]
["MA. Samf.",null,{"$f":"IF(OR('Tabel 4F B'!C67<5,'Tabel 4(Br) B'!C67<0.5),\"-\",IFERROR('Tabel 4(Br) B'!C67/'Tabel 4F B'!C67*100,\"-\"))","v":"-"},{"$f":"IF(OR('Tabel 4F B'!D67<5,'Tabel 4(Br) B'!D67<0.5),\"-\",IFERROR('Tabel 4(Br) B'!D67/'Tabel 4F B'!D67*100,\"-\"))","v":"-"},{"$f":"IF(OR('Tabel 4F B'!E67<5,'Tabel 4(Br) B'!E67<0.5),\"-\",IFERROR('Tabel 4(Br) B'!E67/'Tabel 4F B'!E67*100,\"-\"))","v":"-"},{"$f":"IF(OR('Tabel 4F B'!F67<5,'Tabel 4(Br) B'!F67<0.5),\"-\",IFERROR('Tabel 4(Br) B'!F67/'Tabel 4F B'!F67*100,\"-\"))","v":"-"},{"$f":"IF(OR('Tabel 4F B'!G67<5,'Tabel 4(Br) B'!G67<0.5),\"-\",IFERROR('Tabel 4(Br) B'!G67/'Tabel 4F B'!G67*100,\"-\"))","v":"-"},null,{"$f":"IF(OR('Tabel 4F B'!I67<5,'Tabel 4(Br) B'!I67<0.5),\"-\",IFERROR('Tabel 4(Br) B'!I67/'Tabel 4F B'!I67*100,\"-\"))","v":12.497661074034804}]
["Øvrige Mag.",null,{"$f":"IF(OR('Tabel 4F B'!C68<5,'Tabel 4(Br) B'!C68<0.5),\"-\",IFERROR('Tabel 4(Br) B'!C68/'Tabel 4F B'!C68*100,\"-\"))","v":"-"},{"$f":"IF(OR('Tabel 4F B'!D68<5,'Tabel 4(Br) B'!D68<0.5),\"-\",IFERROR('Tabel 4(Br) B'!D68/'Tabel 4F B'!D68*100,\"-\"))","v":48.452150772365329},{"$f":"IF(OR('Tabel 4F B'!E68<5,'Tabel 4(Br) B'!E68<0.5),\"-\",IFERROR('Tabel 4(Br) B'!E68/'Tabel 4F B'!E68*100,\"-\"))","v":39.992515436911368},{"$f":"IF(OR('Tabel 4F B'!F68<5,'Tabel 4(Br) B'!F68<0.5),\"-\",IFERROR('Tabel 4(Br) B'!F68/'Tabel 4F B'!F68*100,\"-\"))","v":"-"},{"$f":"IF(OR('Tabel 4F B'!G68<5,'Tabel 4(Br) B'!G68<0.5),\"-\",IFERROR('Tabel 4(Br) B'!G68/'Tabel 4F B'!G68*100,\"-\"))","v":"-"},null,{"$f":"IF(OR('Tabel 4F B'!I68<5,'Tabel 4(Br) B'!I68<0.5),\"-\",IFERROR('Tabel 4(Br) B'!I68/'Tabel 4F B'!I68*100,\"-\"))","v":28.86326363639699}]
["Agronom",null,{"$f":"IF(OR('Tabel 4F B'!C69<5,'Tabel 4(Br) B'!C69<0.5),\"-\",IFERROR('Tabel 4(Br) B'!C69/'Tabel 4F B'!C69*100,\"-\"))","v":"-"},{"$f":"IF(OR('Tabel 4F B'!D69<5,'Tabel 4(Br) B'!D69<0.5),\"-\",IFERROR('Tabel 4(Br) B'!D69/'Tabel 4F B'!D69*100,\"-\"))","v":"-"},{"$f":"IF(OR('Tabel 4F B'!E69<5,'Tabel 4(Br) B'!E69<0.5),\"-\",IFERROR('Tabel 4(Br) B'!E69/'Tabel 4F B'!E69*100,\"-\"))","v":"-"},{"$f":"IF(OR('Tabel 4F B'!F69<5,'Tabel 4(Br) B'!F69<0.5),\"-\",IFERROR('Tabel 4(Br) B'!F69/'Tabel 4F B'!F69*100,\"-\"))","v":"-"},{"$f":"IF(OR('Tabel 4F B'!G69<5,'Tabel 4(Br) B'!G69<0.5),\"-\",IFERROR('Tabel 4(Br) B'!G69/'Tabel 4F B'!G69*100,\"-\"))","v":"-"},null,{"$f":"IF(OR('Tabel 4F B'!I69<5,'Tabel 4(Br) B'!I69<0.5),\"-\",IFERROR('Tabel 4(Br) B'!I69/'Tabel 4F B'!I69*100,\"-\"))","v":"-"}]
["Landsk. Arkt.",null,{"$f":"IF(OR('Tabel 4F B'!C70<5,'Tabel 4(Br) B'!C70<0.5),\"-\",IFERROR('Tabel 4(Br) B'!C70/'Tabel 4F B'!C70*100,\"-\"))","v":"-"},{"$f":"IF(OR('Tabel 4F B'!D70<5,'Tabel 4(Br) B'!D70<0.5),\"-\",IFERROR('Tabel 4(Br) B'!D70/'Tabel 4F B'!D70*100,\"-\"))","v":"-"},{"$f":"IF(OR('Tabel 4F B'!E70<5,'Tabel 4(Br) B'!E70<0.5),\"-\",IFERROR('Tabel 4(Br) B'!E70/'Tabel 4F B'!E70*100,\"-\"))","v":"-"},{"$f":"IF(OR('Tabel 4F B'!F70<5,'Tabel 4(Br) B'!F70<0.5),\"-\",IFERROR('Tabel 4(Br) B'!F70/'Tabel 4F B'!F70*100,\"-\"))","v":"-"},{"$f":"IF(OR('Tabel 4F B'!G70<5,'Tabel 4(Br) B'!G70<0.5),\"-\",IFERROR('Tabel 4(Br) B'!G70/'Tabel 4F B'!G70*100,\"-\"))","v":"-"},null,{"$f":"IF(OR('Tabel 4F B'!I70<5,'Tabel 4(Br) B'!I70<0.5),\"-\",IFERROR('Tabel 4(Br) B'!I70/'Tabel 4F B'!I70*100,\"-\"))","v":"-"}]
["Hortonom",null,{"$f":"IF(OR('Tabel 4F B'!C71<5,'Tabel 4(Br) B'!C71<0.5),\"-\",IFERROR('Tabel 4(Br) B'!C71/'Tabel 4F B'!C71*100,\"-\"))","v":"-"},{"$f":"IF(OR('Tabel 4F B'!D71<5,'Tabel 4(Br) B'!D71<0.5),\"-\",IFERROR('Tabel 4(Br) B'!D71/'Tabel 4F B'!D71*100,\"-\"))","v":"-"},{"$f":"IF(OR('Tabel 4F B'!E71<5,'Tabel 4(Br) B'!E71<0.5),\"-\",IFERROR('Tabel 4(Br) B'!E71/'Tabel 4F B'!E71*100,\"-\"))","v":"-"},{"$f":"IF(OR('Tabel 4F B'!F71<5,'Tabel 4(Br) B'!F71<0.5),\"-\",IFERROR('Tabel 4(Br) B'!F71/'Tabel 4F B'!F71*100,\"-\"))","v":"-"},{"$f":"IF(OR('Tabel 4F B'!G71<5,'Tabel 4(Br) B'!G71<0.5),\"-\",IFERROR('Tabel 4(Br) B'!G71/'Tabel 4F B'!G71*100,\"-\"))","v":"-"},null,{"$f":"IF(OR('Tabel 4F B'!I71<5,'Tabel 4(Br) B'!I71<0.5),\"-\",IFERROR('Tabel 4(Br) B'!I71/'Tabel 4F B'!I71*100,\"-\"))","v":"-"}]
["Forstkand.",null,{"$f":"IF(OR('Tabel 4F B'!C72<5,'Tabel 4(Br) B'!C72<0.5),\"-\",IFERROR('Tabel 4(Br) B'!C72/'Tabel 4F B'!C72*100,\"-\"))","v":"-"},{"$f":"IF(OR('Tabel 4F B'!D72<5,'Tabel 4(Br) B'!D72<0.5),\"-\",IFERROR('Tabel 4(Br) B'!D72/'Tabel 4F B'!D72*100,\"-\"))","v":"-"},{"$f":"IF(OR('Tabel 4F B'!E72<5,'Tabel 4(Br) B'!E72<0.5),\"-\",IFERROR('Tabel 4(Br) B'!E72/'Tabel 4F B'!E72*100,\"-\"))","v":"-"},{"$f":"IF(OR('Tabel 4F B'!F72<5,'Tabel 4(Br) B'!F72<0.5),\"-\",IFERROR('Tabel 4(Br) B'!F72/'Tabel 4F B'!F72*100,\"-\"))","v":"-"},{"$f":"IF(OR('Tabel 4F B'!G72<5,'Tabel 4(Br) B'!G72<0.5),\"-\",IFERROR('Tabel 4(Br) B'!G72/'Tabel 4F B'!G72*100,\"-\"))","v":"-"},null,{"$f":"IF(OR('Tabel 4F B'!I72<5,'Tabel 4(Br) B'!I72<0.5),\"-\",IFERROR('Tabel 4(Br) B'!I72/'Tabel 4F B'!I72*100,\"-\"))","v":"-"}]
["Jordbrugsakad.",null,{"$f":"IF(OR('Tabel 4F B'!C73<5,'Tabel 4(Br) B'!C73<0.5),\"-\",IFERROR('Tabel 4(Br) B'!C73/'Tabel 4F B'!C73*100,\"-\"))","v":"-"},{"$f":"IF(OR('Tabel 4F B'!D73<5,'Tabel 4(Br) B'!D73<0.5),\"-\",IFERROR('Tabel 4(Br) B'!D73/'Tabel 4F B'!D73*100,\"-\"))","v":"-"},{"$f":"IF(OR('Tabel 4F B'!E73<5,'Tabel 4(Br) B'!E73<0.5),\"-\",IFERROR('Tabel 4(Br) B'!E73/'Tabel 4F B'!E73*100,\"-\"))","v":"-"},{"$f":"IF(OR('Tabel 4F B'!F73<5,'Tabel 4(Br) B'!F73<0.5),\"-\",IFERROR('Tabel 4(Br) B'!F73/'Tabel 4F B'!F73*100,\"-\"))","v":"-"},{"$f":"IF(OR('Tabel 4F B'!G73<5,'Tabel 4(Br) B'!G73<0.5),\"-\",IFERROR('Tabel 4(Br) B'!G73/'Tabel 4F B'!G73*100,\"-\"))","v":"-"},null,{"$f":"IF(OR('Tabel 4F B'!I73<5,'Tabel 4(Br) B'!I73<0.5),\"-\",IFERROR('Tabel 4(Br) B'!I73/'Tabel 4F B'!I73*100,\"-\"))","v":"-"}]
["Mejeriing.",null,{"$f":"IF(OR('Tabel 4F B'!C74<5,'Tabel 4(Br) B'!C74<0.5),\"-\",IFERROR('Tabel 4(Br) B'!C74/'Tabel 4F B'!C74*100,\"-\"))","v":"-"},{"$f":"IF(OR('Tabel 4F B'!D74<5,'Tabel 4(Br) B'!D74<0.5),\"-\",IFERROR('Tabel 4(Br) B'!D74/'Tabel 4F B'!D74*100,\"-\"))","v":"-"},{"$f":"IF(OR('Tabel 4F B'!E74<5,'Tabel 4(Br) B'!E74<0.5),\"-\",IFERROR('Tabel 4(Br) B'!E74/'Tabel 4F B'!E74*100,\"-\"))","v":"-"},{"$f":"IF(OR('Tabel 4F B'!F74<5,'Tabel 4(Br) B'!F74<0.5),\"-\",IFERROR('Tabel 4(Br) B'!F74/'Tabel 4F B'!F74*100,\"-\"))","v":"-"},{"$f":"IF(OR('Tabel 4F B'!G74<5,'Tabel 4(Br) B'!G74<0.5),\"-\",IFERROR('Tabel 4(Br) B'!G74/'Tabel 4F B'!G74*100,\"-\"))","v":"-"},null,{"$f":"IF(OR('Tabel 4F B'!I74<5,'Tabel 4(Br) B'!I74<0.5),\"-\",IFERROR('Tabel 4(Br) B'!I74/'Tabel 4F B'!I74*100,\"-\"))","v":"-"}]
["Levn.m.kand.",null,{"$f":"IF(OR('Tabel 4F B'!C75<5,'Tabel 4(Br) B'!C75<0.5),\"-\",IFERROR('Tabel 4(Br) B'!C75/'Tabel 4F B'!C75*100,\"-\"))","v":"-"},{"$f":"IF(OR('Tabel 4F B'!D75<5,'Tabel 4(Br) B'!D75<0.5),\"-\",IFERROR('Tabel 4(Br) B'!D75/'Tabel 4F B'!D75*100,\"-\"))","v":"-"},{"$f":"IF(OR('Tabel 4F B'!E75<5,'Tabel 4(Br) B'!E75<0.5),\"-\",IFERROR('Tabel 4(Br) B'!E75/'Tabel 4F B'!E75*100,\"-\"))","v":"-"},{"$f":"IF(OR('Tabel 4F B'!F75<5,'Tabel 4(Br) B'!F75<0.5),\"-\",IFERROR('Tabel 4(Br) B'!F75/'Tabel 4F B'!F75*100,\"-\"))","v":"-"},{"$f":"IF(OR('Tabel 4F B'!G75<5,'Tabel 4(Br) B'!G75<0.5),\"-\",IFERROR('Tabel 4(Br) B'!G75/'Tabel 4F B'!G75*100,\"-\"))","v":"-"},null,{"$f":"IF(OR('Tabel 4F B'!I75<5,'Tabel 4(Br) B'!I75<0.5),\"-\",IFERROR('Tabel 4(Br) B'!I75/'Tabel 4F B'!I75*100,\"-\"))","v":"-"}]
["Dyrlæge",null,{"$f":"IF(OR('Tabel 4F B'!C76<5,'Tabel 4(Br) B'!C76<0.5),\"-\",IFERROR('Tabel 4(Br) B'!C76/'Tabel 4F B'!C76*100,\"-\"))","v":"-"},{"$f":"IF(OR('Tabel 4F B'!D76<5,'Tabel 4(Br) B'!D76<0.5),\"-\",IFERROR('Tabel 4(Br) B'!D76/'Tabel 4F B'!D76*100,\"-\"))","v":"-"},{"$f":"IF(OR('Tabel 4F B'!E76<5,'Tabel 4(Br) B'!E76<0.5),\"-\",IFERROR('Tabel 4(Br) B'!E76/'Tabel 4F B'!E76*100,\"-\"))","v":"-"},{"$f":"IF(OR('Tabel 4F B'!F76<5,'Tabel 4(Br) B'!F76<0.5),\"-\",IFERROR('Tabel 4(Br) B'!F76/'Tabel 4F B'!F76*100,\"-\"))","v":"-"},{"$f":"IF(OR('Tabel 4F B'!G76<5,'Tabel 4(Br) B'!G76<0.5),\"-\",IFERROR('Tabel 4(Br) B'!G76/'Tabel 4F B'!G76*100,\"-\"))","v":"-"},null,{"$f":"IF(OR('Tabel 4F B'!I76<5,'Tabel 4(Br) B'!I76<0.5),\"-\",IFERROR('Tabel 4(Br) B'!I76/'Tabel 4F B'!I76*100,\"-\"))","v":3.8447487770758522}]
["Farmaceut",null,{"$f":"IF(OR('Tabel 4F B'!C77<5,'Tabel 4(Br) B'!C77<0.5),\"-\",IFERROR('Tabel 4(Br) B'!C77/'Tabel 4F B'!C77*100,\"-\"))","v":"-"},{"$f":"IF(OR('Tabel 4F B'!D77<5,'Tabel 4(Br) B'!D77<0.5),\"-\",IFERROR('Tabel 4(Br) B'!D77/'Tabel 4F B'!D77*100,\"-\"))","v":"-"},{"$f":"IF(OR('Tabel 4F B'!E77<5,'Tabel 4(Br) B'!E77<0.5),\"-\",IFERROR('Tabel 4(Br) B'!E77/'Tabel 4F B'!E77*100,\"-\"))","v":"-"},{"$f":"IF(OR('Tabel 4F B'!F77<5,'Tabel 4(Br) B'!F77<0.5),\"-\",IFERROR('Tabel 4(Br) B'!F77/'Tabel 4F B'!F77*100,\"-\"))","v":"-"},{"$f":"IF(OR('Tabel 4F B'!G77<5,'Tabel 4(Br) B'!G77<0.5),\"-\",IFERROR('Tabel 4(Br) B'!G77/'Tabel 4F B'!G77*100,\"-\"))","v":"-"},null,{"$f":"IF(OR('Tabel 4F B'!I77<5,'Tabel 4(Br) B'!I77<0.5),\"-\",IFERROR('Tabel 4(Br) B'!I77/'Tabel 4F B'!I77*100,\"-\"))","v":"-"}]
["Læge",null,{"$f":"IF(OR('Tabel 4F B'!C78<5,'Tabel 4(Br) B'!C78<0.5),\"-\",IFERROR('Tabel 4(Br) B'!C78/'Tabel 4F B'!C78*100,\"-\"))","v":"-"},{"$f":"IF(OR('Tabel 4F B'!D78<5,'Tabel 4(Br) B'!D78<0.5),\"-\",IFERROR('Tabel 4(Br) B'!D78/'Tabel 4F B'!D78*100,\"-\"))","v":"-"},{"$f":"IF(OR('Tabel 4F B'!E78<5,'Tabel 4(Br) B'!E78<0.5),\"-\",IFERROR('Tabel 4(Br) B'!E78/'Tabel 4F B'!E78*100,\"-\"))","v":"-"},{"$f":"IF(OR('Tabel 4F B'!F78<5,'Tabel 4(Br) B'!F78<0.5),\"-\",IFERROR('Tabel 4(Br) B'!F78/'Tabel 4F B'!F78*100,\"-\"))","v":"-"},{"$f":"IF(OR('Tabel 4F B'!G78<5,'Tabel 4(Br) B'!G78<0.5),\"-\",IFERROR('Tabel 4(Br) B'!G78/'Tabel 4F B'!G78*100,\"-\"))","v":"-"},null,{"$f":"IF(OR('Tabel 4F B'!I78<5,'Tabel 4(Br) B'!I78<0.5),\"-\",IFERROR('Tabel 4(Br) B'!I78/'Tabel 4F B'!I78*100,\"-\"))","v":"-"}]
["Tandlæge",null,{"$f":"IF(OR('Tabel 4F B'!C79<5,'Tabel 4(Br) B'!C79<0.5),\"-\",IFERROR('Tabel 4(Br) B'!C79/'Tabel 4F B'!C79*100,\"-\"))","v":"-"},{"$f":"IF(OR('Tabel 4F B'!D79<5,'Tabel 4(Br) B'!D79<0.5),\"-\",IFERROR('Tabel 4(Br) B'!D79/'Tabel 4F B'!D79*100,\"-\"))","v":"-"},{"$f":"IF(OR('Tabel 4F B'!E79<5,'Tabel 4(Br) B'!E79<0.5),\"-\",IFERROR('Tabel 4(Br) B'!E79/'Tabel 4F B'!E79*100,\"-\"))","v":"-"},{"$f":"IF(OR('Tabel 4F B'!F79<5,'Tabel 4(Br) B'!F79<0.5),\"-\",IFERROR('Tabel 4(Br) B'!F79/'Tabel 4F B'!F79*100,\"-\"))","v":"-"},{"$f":"IF(OR('Tabel 4F B'!G79<5,'Tabel 4(Br) B'!G79<0.5),\"-\",IFERROR('Tabel 4(Br) B'!G79/'Tabel 4F B'!G79*100,\"-\"))","v":"-"},null,{"$f":"IF(OR('Tabel 4F B'!I79<5,'Tabel 4(Br) B'!I79<0.5),\"-\",IFERROR('Tabel 4(Br) B'!I79/'Tabel 4F B'!I79*100,\"-\"))","v":"-"}]
["Arkitekt",null,{"$f":"IF(OR('Tabel 4F B'!C80<5,'Tabel 4(Br) B'!C80<0.5),\"-\",IFERROR('Tabel 4(Br) B'!C80/'Tabel 4F B'!C80*100,\"-\"))","v":"-"},{"$f":"IF(OR('Tabel 4F B'!D80<5,'Tabel 4(Br) B'!D80<0.5),\"-\",IFERROR('Tabel 4(Br) B'!D80/'Tabel 4F B'!D80*100,\"-\"))","v":"-"},{"$f":"IF(OR('Tabel 4F B'!E80<5,'Tabel 4(Br) B'!E80<0.5),\"-\",IFERROR('Tabel 4(Br) B'!E80/'Tabel 4F B'!E80*100,\"-\"))","v":"-"},{"$f":"IF(OR('Tabel 4F B'!F80<5,'Tabel 4(Br) B'!F80<0.5),\"-\",IFERROR('Tabel 4(Br) B'!F80/'Tabel 4F B'!F80*100,\"-\"))","v":"-"},{"$f":"IF(OR('Tabel 4F B'!G80<5,'Tabel 4(Br) B'!G80<0.5),\"-\",IFERROR('Tabel 4(Br) B'!G80/'Tabel 4F B'!G80*100,\"-\"))","v":"-"},null,{"$f":"IF(OR('Tabel 4F B'!I80<5,'Tabel 4(Br) B'!I80<0.5),\"-\",IFERROR('Tabel 4(Br) B'!I80/'Tabel 4F B'!I80*100,\"-\"))","v":7.1415206137341727}]
["Landinspek.",null,{"$f":"IF(OR('Tabel 4F B'!C81<5,'Tabel 4(Br) B'!C81<0.5),\"-\",IFERROR('Tabel 4(Br) B'!C81/'Tabel 4F B'!C81*100,\"-\"))","v":"-"},{"$f":"IF(OR('Tabel 4F B'!D81<5,'Tabel 4(Br) B'!D81<0.5),\"-\",IFERROR('Tabel 4(Br) B'!D81/'Tabel 4F B'!D81*100,\"-\"))","v":"-"},{"$f":"IF(OR('Tabel 4F B'!E81<5,'Tabel 4(Br) B'!E81<0.5),\"-\",IFERROR('Tabel 4(Br) B'!E81/'Tabel 4F B'!E81*100,\"-\"))","v":"-"},{"$f":"IF(OR('Tabel 4F B'!F81<5,'Tabel 4(Br) B'!F81<0.5),\"-\",IFERROR('Tabel 4(Br) B'!F81/'Tabel 4F B'!F81*100,\"-\"))","v":"-"},{"$f":"IF(OR('Tabel 4F B'!G81<5,'Tabel 4(Br) B'!G81<0.5),\"-\",IFERROR('Tabel 4(Br) B'!G81/'Tabel 4F B'!G81*100,\"-\"))","v":"-"},null,{"$f":"IF(OR('Tabel 4F B'!I81<5,'Tabel 4(Br) B'!I81<0.5),\"-\",IFERROR('Tabel 4(Br) B'!I81/'Tabel 4F B'!I81*100,\"-\"))","v":"-"}]
["Bibliotekar",null,{"$f":"IF(OR('Tabel 4F B'!C82<5,'Tabel 4(Br) B'!C82<0.5),\"-\",IFERROR('Tabel 4(Br) B'!C82/'Tabel 4F B'!C82*100,\"-\"))","v":"-"},{"$f":"IF(OR('Tabel 4F B'!D82<5,'Tabel 4(Br) B'!D82<0.5),\"-\",IFERROR('Tabel 4(Br) B'!D82/'Tabel 4F B'!D82*100,\"-\"))","v":"-"},{"$f":"IF(OR('Tabel 4F B'!E82<5,'Tabel 4(Br) B'!E82<0.5),\"-\",IFERROR('Tabel 4(Br) B'!E82/'Tabel 4F B'!E82*100,\"-\"))","v":"-"},{"$f":"IF(OR('Tabel 4F B'!F82<5,'Tabel 4(Br) B'!F82<0.5),\"-\",IFERROR('Tabel 4(Br) B'!F82/'Tabel 4F B'!F82*100,\"-\"))","v":"-"},{"$f":"IF(OR('Tabel 4F B'!G82<5,'Tabel 4(Br) B'!G82<0.5),\"-\",IFERROR('Tabel 4(Br) B'!G82/'Tabel 4F B'!G82*100,\"-\"))","v":"-"},null,{"$f":"IF(OR('Tabel 4F B'!I82<5,'Tabel 4(Br) B'!I82<0.5),\"-\",IFERROR('Tabel 4(Br) B'!I82/'Tabel 4F B'!I82*100,\"-\"))","v":6.665419239485229}]
["Musikudd.",null,{"$f":"IF(OR('Tabel 4F B'!C83<5,'Tabel 4(Br) B'!C83<0.5),\"-\",IFERROR('Tabel 4(Br) B'!C83/'Tabel 4F B'!C83*100,\"-\"))","v":"-"},{"$f":"IF(OR('Tabel 4F B'!D83<5,'Tabel 4(Br) B'!D83<0.5),\"-\",IFERROR('Tabel 4(Br) B'!D83/'Tabel 4F B'!D83*100,\"-\"))","v":"-"},{"$f":"IF(OR('Tabel 4F B'!E83<5,'Tabel 4(Br) B'!E83<0.5),\"-\",IFERROR('Tabel 4(Br) B'!E83/'Tabel 4F B'!E83*100,\"-\"))","v":"-"},{"$f":"IF(OR('Tabel 4F B'!F83<5,'Tabel 4(Br) B'!F83<0.5),\"-\",IFERROR('Tabel 4(Br) B'!F83/'Tabel 4F B'!F83*100,\"-\"))","v":"-"},{"$f":"IF(OR('Tabel 4F B'!G83<5,'Tabel 4(Br) B'!G83<0.5),\"-\",IFERROR('Tabel 4(Br) B'!G83/'Tabel 4F B'!G83*100,\"-\"))","v":"-"},null,{"$f":"IF(OR('Tabel 4F B'!I83<5,'Tabel 4(Br) B'!I83<0.5),\"-\",IFERROR('Tabel 4(Br) B'!I83/'Tabel 4F B'!I83*100,\"-\"))","v":"-"}]
["Teolog",null,{"$f":"IF(OR('Tabel 4F B'!C84<5,'Tabel 4(Br) B'!C84<0.5),\"-\",IFERROR('Tabel 4(Br) B'!C84/'Tabel 4F B'!C84*100,\"-\"))","v":"-"},{"$f":"IF(OR('Tabel 4F B'!D84<5,'Tabel 4(Br) B'!D84<0.5),\"-\",IFERROR('Tabel 4(Br) B'!D84/'Tabel 4F B'!D84*100,\"-\"))","v":"-"},{"$f":"IF(OR('Tabel 4F B'!E84<5,'Tabel 4(Br) B'!E84<0.5),\"-\",IFERROR('Tabel 4(Br) B'!E84/'Tabel 4F B'!E84*100,\"-\"))","v":"-"},{"$f":"IF(OR('Tabel 4F B'!F84<5,'Tabel 4(Br) B'!F84<0.5),\"-\",IFERROR('Tabel 4(Br) B'!F84/'Tabel 4F B'!F84*100,\"-\"))","v":"-"},{"$f":"IF(OR('Tabel 4F B'!G84<5,'Tabel 4(Br) B'!G84<0.5),\"-\",IFERROR('Tabel 4(Br) B'!G84/'Tabel 4F B'!G84*100,\"-\"))","v":"-"},null,{"$f":"IF(OR('Tabel 4F B'!I84<5,'Tabel 4(Br) B'!I84<0.5),\"-\",IFERROR('Tabel 4(Br) B'!I84/'Tabel 4F B'!I84*100,\"-\"))","v":"-"}]
["Psykolog",null,{"$f":"IF(OR('Tabel 4F B'!C85<5,'Tabel 4(Br) B'!C85<0.5),\"-\",IFERROR('Tabel 4(Br) B'!C85/'Tabel 4F B'!C85*100,\"-\"))","v":"-"},{"$f":"IF(OR('Tabel 4F B'!D85<5,'Tabel 4(Br) B'!D85<0.5),\"-\",IFERROR('Tabel 4(Br) B'!D85/'Tabel 4F B'!D85*100,\"-\"))","v":14.283041227468345},{"$f":"IF(OR('Tabel 4F B'!E85<5,'Tabel 4(Br) B'!E85<0.5),\"-\",IFERROR('Tabel 4(Br) B'!E85/'Tabel 4F B'!E85*100,\"-\"))","v":4.1744259607416847},{"$f":"IF(OR('Tabel 4F B'!F85<5,'Tabel 4(Br) B'!F85<0.5),\"-\",IFERROR('Tabel 4(Br) B'!F85/'Tabel 4F B'!F85*100,\"-\"))","v":"-"},{"$f":"IF(OR('Tabel 4F B'!G85<5,'Tabel 4(Br) B'!G85<0.5),\"-\",IFERROR('Tabel 4(Br) B'!G85/'Tabel 4F B'!G85*100,\"-\"))","v":"-"},null,{"$f":"IF(OR('Tabel 4F B'!I85<5,'Tabel 4(Br) B'!I85<0.5),\"-\",IFERROR('Tabel 4(Br) B'!I85/'Tabel 4F B'!I85*100,\"-\"))","v":5.280775068088734}]
["Jurist",null,{"$f":"IF(OR('Tabel 4F B'!C86<5,'Tabel 4(Br) B'!C86<0.5),\"-\",IFERROR('Tabel 4(Br) B'!C86/'Tabel 4F B'!C86*100,\"-\"))","v":"-"},{"$f":"IF(OR('Tabel 4F B'!D86<5,'Tabel 4(Br) B'!D86<0.5),\"-\",IFERROR('Tabel 4(Br) B'!D86/'Tabel 4F B'!D86*100,\"-\"))","v":"-"},{"$f":"IF(OR('Tabel 4F B'!E86<5,'Tabel 4(Br) B'!E86<0.5),\"-\",IFERROR('Tabel 4(Br) B'!E86/'Tabel 4F B'!E86*100,\"-\"))","v":"-"},{"$f":"IF(OR('Tabel 4F B'!F86<5,'Tabel 4(Br) B'!F86<0.5),\"-\",IFERROR('Tabel 4(Br) B'!F86/'Tabel 4F B'!F86*100,\"-\"))","v":"-"},{"$f":"IF(OR('Tabel 4F B'!G86<5,'Tabel 4(Br) B'!G86<0.5),\"-\",IFERROR('Tabel 4(Br) B'!G86/'Tabel 4F B'!G86*100,\"-\"))","v":"-"},null,{"$f":"IF(OR('Tabel 4F B'!I86<5,'Tabel 4(Br) B'!I86<0.5),\"-\",IFERROR('Tabel 4(Br) B'!I86/'Tabel 4F B'!I86*100,\"-\"))","v":"-"}]
["Økonom",null,{"$f":"IF(OR('Tabel 4F B'!C87<5,'Tabel 4(Br) B'!C87<0.5),\"-\",IFERROR('Tabel 4(Br) B'!C87/'Tabel 4F B'!C87*100,\"-\"))","v":"-"},{"$f":"IF(OR('Tabel 4F B'!D87<5,'Tabel 4(Br) B'!D87<0.5),\"-\",IFERROR('Tabel 4(Br) B'!D87/'Tabel 4F B'!D87*100,\"-\"))","v":"-"},{"$f":"IF(OR('Tabel 4F B'!E87<5,'Tabel 4(Br) B'!E87<0.5),\"-\",IFERROR('Tabel 4(Br) B'!E87/'Tabel 4F B'!E87*100,\"-\"))","v":"-"},{"$f":"IF(OR('Tabel 4F B'!F87<5,'Tabel 4(Br) B'!F87<0.5),\"-\",IFERROR('Tabel 4(Br) B'!F87/'Tabel 4F B'!F87*100,\"-\"))","v":"-"},{"$f":"IF(OR('Tabel 4F B'!G87<5,'Tabel 4(Br) B'!G87<0.5),\"-\",IFERROR('Tabel 4(Br) B'!G87/'Tabel 4F B'!G87*100,\"-\"))","v":"-"},null,{"$f":"IF(OR('Tabel 4F B'!I87<5,'Tabel 4(Br) B'!I87<0.5),\"-\",IFERROR('Tabel 4(Br) B'!I87/'Tabel 4F B'!I87*100,\"-\"))","v":"-"}]
["Samf. Adm.",null,{"$f":"IF(OR('Tabel 4F B'!C88<5,'Tabel 4(Br) B'!C88<0.5),\"-\",IFERROR('Tabel 4(Br) B'!C88/'Tabel 4F B'!C88*100,\"-\"))","v":"-"},{"$f":"IF(OR('Tabel 4F B'!D88<5,'Tabel 4(Br) B'!D88<0.5),\"-\",IFERROR('Tabel 4(Br) B'!D88/'Tabel 4F B'!D88*100,\"-\"))","v":"-"},{"$f":"IF(OR('Tabel 4F B'!E88<5,'Tabel 4(Br) B'!E88<0.5),\"-\",IFERROR('Tabel 4(Br) B'!E88/'Tabel 4F B'!E88*100,\"-\"))","v":4.7610137424894488},{"$f":"IF(OR('Tabel 4F B'!F88<5,'Tabel 4(Br) B'!F88<0.5),\"-\",IFERROR('Tabel 4(Br) B'!F88/'Tabel 4F B'!F88*100,\"-\"))","v":19.996257718455684},{"$f":"IF(OR('Tabel 4F B'!G88<5,'Tabel 4(Br) B'!G88<0.5),\"-\",IFERROR('Tabel 4(Br) B'!G88/'Tabel 4F B'!G88*100,\"-\"))","v":"-"},null,{"$f":"IF(OR('Tabel 4F B'!I88<5,'Tabel 4(Br) B'!I88<0.5),\"-\",IFERROR('Tabel 4(Br) B'!I88/'Tabel 4F B'!I88*100,\"-\"))","v":5.7681512649391395}]
["Cand. Merc.",null,{"$f":"IF(OR('Tabel 4F B'!C89<5,'Tabel 4(Br) B'!C89<0.5),\"-\",IFERROR('Tabel 4(Br) B'!C89/'Tabel 4F B'!C89*100,\"-\"))","v":"-"},{"$f":"IF(OR('Tabel 4F B'!D89<5,'Tabel 4(Br) B'!D89<0.5),\"-\",IFERROR('Tabel 4(Br) B'!D89/'Tabel 4F B'!D89*100,\"-\"))","v":"-"},{"$f":"IF(OR('Tabel 4F B'!E89<5,'Tabel 4(Br) B'!E89<0.5),\"-\",IFERROR('Tabel 4(Br) B'!E89/'Tabel 4F B'!E89*100,\"-\"))","v":26.002619597081022},{"$f":"IF(OR('Tabel 4F B'!F89<5,'Tabel 4(Br) B'!F89<0.5),\"-\",IFERROR('Tabel 4(Br) B'!F89/'Tabel 4F B'!F89*100,\"-\"))","v":"-"},{"$f":"IF(OR('Tabel 4F B'!G89<5,'Tabel 4(Br) B'!G89<0.5),\"-\",IFERROR('Tabel 4(Br) B'!G89/'Tabel 4F B'!G89*100,\"-\"))","v":"-"},null,{"$f":"IF(OR('Tabel 4F B'!I89<5,'Tabel 4(Br) B'!I89<0.5),\"-\",IFERROR('Tabel 4(Br) B'!I89/'Tabel 4F B'!I89*100,\"-\"))","v":8.9664205507175936}]
["HA",null,{"$f":"IF(OR('Tabel 4F B'!C90<5,'Tabel 4(Br) B'!C90<0.5),\"-\",IFERROR('Tabel 4(Br) B'!C90/'Tabel 4F B'!C90*100,\"-\"))","v":"-"},{"$f":"IF(OR('Tabel 4F B'!D90<5,'Tabel 4(Br) B'!D90<0.5),\"-\",IFERROR('Tabel 4(Br) B'!D90/'Tabel 4F B'!D90*100,\"-\"))","v":"-"},{"$f":"IF(OR('Tabel 4F B'!E90<5,'Tabel 4(Br) B'!E90<0.5),\"-\",IFERROR('Tabel 4(Br) B'!E90/'Tabel 4F B'!E90*100,\"-\"))","v":"-"},{"$f":"IF(OR('Tabel 4F B'!F90<5,'Tabel 4(Br) B'!F90<0.5),\"-\",IFERROR('Tabel 4(Br) B'!F90/'Tabel 4F B'!F90*100,\"-\"))","v":"-"},{"$f":"IF(OR('Tabel 4F B'!G90<5,'Tabel 4(Br) B'!G90<0.5),\"-\",IFERROR('Tabel 4(Br) B'!G90/'Tabel 4F B'!G90*100,\"-\"))","v":"-"},null,{"$f":"IF(OR('Tabel 4F B'!I90<5,'Tabel 4(Br) B'!I90<0.5),\"-\",IFERROR('Tabel 4(Br) B'!I90/'Tabel 4F B'!I90*100,\"-\"))","v":"-"}]
["HD",null,{"$f":"IF(OR('Tabel 4F B'!C91<5,'Tabel 4(Br) B'!C91<0.5),\"-\",IFERROR('Tabel 4(Br) B'!C91/'Tabel 4F B'!C91*100,\"-\"))","v":"-"},{"$f":"IF(OR('Tabel 4F B'!D91<5,'Tabel 4(Br) B'!D91<0.5),\"-\",IFERROR('Tabel 4(Br) B'!D91/'Tabel 4F B'!D91*100,\"-\"))","v":"-"},{"$f":"IF(OR('Tabel 4F B'!E91<5,'Tabel 4(Br) B'!E91<0.5),\"-\",IFERROR('Tabel 4(Br) B'!E91/'Tabel 4F B'!E91*100,\"-\"))","v":"-"},{"$f":"IF(OR('Tabel 4F B'!F91<5,'Tabel 4(Br) B'!F91<0.5),\"-\",IFERROR('Tabel 4(Br) B'!F91/'Tabel 4F B'!F91*100,\"-\"))","v":"-"},{"$f":"IF(OR('Tabel 4F B'!G91<5,'Tabel 4(Br) B'!G91<0.5),\"-\",IFERROR('Tabel 4(Br) B'!G91/'Tabel 4F B'!G91*100,\"-\"))","v":"-"},null,{"$f":"IF(OR('Tabel 4F B'!I91<5,'Tabel 4(Br) B'!I91<0.5),\"-\",IFERROR('Tabel 4(Br) B'!I91/'Tabel 4F B'!I91*100,\"-\"))","v":"-"}]
["Komm. og Sprog",null,{"$f":"IF(OR('Tabel 4F B'!C92<5,'Tabel 4(Br) B'!C92<0.5),\"-\",IFERROR('Tabel 4(Br) B'!C92/'Tabel 4F B'!C92*100,\"-\"))","v":"-"},{"$f":"IF(OR('Tabel 4F B'!D92<5,'Tabel 4(Br) B'!D92<0.5),\"-\",IFERROR('Tabel 4(Br) B'!D92/'Tabel 4F B'!D92*100,\"-\"))","v":28.566082454936691},{"$f":"IF(OR('Tabel 4F B'!E92<5,'Tabel 4(Br) B'!E92<0.5),\"-\",IFERROR('Tabel 4(Br) B'!E92/'Tabel 4F B'!E92*100,\"-\"))","v":"-"},{"$f":"IF(OR('Tabel 4F B'!F92<5,'Tabel 4(Br) B'!F92<0.5),\"-\",IFERROR('Tabel 4(Br) B'!F92/'Tabel 4F B'!F92*100,\"-\"))","v":"-"},{"$f":"IF(OR('Tabel 4F B'!G92<5,'Tabel 4(Br) B'!G92<0.5),\"-\",IFERROR('Tabel 4(Br) B'!G92/'Tabel 4F B'!G92*100,\"-\"))","v":"-"},null,{"$f":"IF(OR('Tabel 4F B'!I92<5,'Tabel 4(Br) B'!I92<0.5),\"-\",IFERROR('Tabel 4(Br) B'!I92/'Tabel 4F B'!I92*100,\"-\"))","v":26.661676957940916}]
["Bygningskonst.",null,{"$f":"IF(OR('Tabel 4F B'!C93<5,'Tabel 4(Br) B'!C93<0.5),\"-\",IFERROR('Tabel 4(Br) B'!C93/'Tabel 4F B'!C93*100,\"-\"))","v":"-"},{"$f":"IF(OR('Tabel 4F B'!D93<5,'Tabel 4(Br) B'!D93<0.5),\"-\",IFERROR('Tabel 4(Br) B'!D93/'Tabel 4F B'!D93*100,\"-\"))","v":"-"},{"$f":"IF(OR('Tabel 4F B'!E93<5,'Tabel 4(Br) B'!E93<0.5),\"-\",IFERROR('Tabel 4(Br) B'!E93/'Tabel 4F B'!E93*100,\"-\"))","v":"-"},{"$f":"IF(OR('Tabel 4F B'!F93<5,'Tabel 4(Br) B'!F93<0.5),\"-\",IFERROR('Tabel 4(Br) B'!F93/'Tabel 4F B'!F93*100,\"-\"))","v":"-"},{"$f":"IF(OR('Tabel 4F B'!G93<5,'Tabel 4(Br) B'!G93<0.5),\"-\",IFERROR('Tabel 4(Br) B'!G93/'Tabel 4F B'!G93*100,\"-\"))","v":"-"},null,{"$f":"IF(OR('Tabel 4F B'!I93<5,'Tabel 4(Br) B'!I93<0.5),\"-\",IFERROR('Tabel 4(Br) B'!I93/'Tabel 4F B'!I93*100,\"-\"))","v":"-"}]
["Cand. IT.",null,{"$f":"IF(OR('Tabel 4F B'!C94<5,'Tabel 4(Br) B'!C94<0.5),\"-\",IFERROR('Tabel 4(Br) B'!C94/'Tabel 4F B'!C94*100,\"-\"))","v":"-"},{"$f":"IF(OR('Tabel 4F B'!D94<5,'Tabel 4(Br) B'!D94<0.5),\"-\",IFERROR('Tabel 4(Br) B'!D94/'Tabel 4F B'!D94*100,\"-\"))","v":"-"},{"$f":"IF(OR('Tabel 4F B'!E94<5,'Tabel 4(Br) B'!E94<0.5),\"-\",IFERROR('Tabel 4(Br) B'!E94/'Tabel 4F B'!E94*100,\"-\"))","v":"-"},{"$f":"IF(OR('Tabel 4F B'!F94<5,'Tabel 4(Br) B'!F94<0.5),\"-\",IFERROR('Tabel 4(Br) B'!F94/'Tabel 4F B'!F94*100,\"-\"))","v":"-"},{"$f":"IF(OR('Tabel 4F B'!G94<5,'Tabel 4(Br) B'!G94<0.5),\"-\",IFERROR('Tabel 4(Br) B'!G94/'Tabel 4F B'!G94*100,\"-\"))","v":"-"},null,{"$f":"IF(OR('Tabel 4F B'!I94<5,'Tabel 4(Br) B'!I94<0.5),\"-\",IFERROR('Tabel 4(Br) B'!I94/'Tabel 4F B'!I94*100,\"-\"))","v":"-"}]
["Bac. Samf.",null,{"$f":"IF(OR('Tabel 4F B'!C95<5,'Tabel 4(Br) B'!C95<0.5),\"-\",IFERROR('Tabel 4(Br) B'!C95/'Tabel 4F B'!C95*100,\"-\"))","v":"-"},{"$f":"IF(OR('Tabel 4F B'!D95<5,'Tabel 4(Br) B'!D95<0.5),\"-\",IFERROR('Tabel 4(Br) B'!D95/'Tabel 4F B'!D95*100,\"-\"))","v":"-"},{"$f":"IF(OR('Tabel 4F B'!E95<5,'Tabel 4(Br) B'!E95<0.5),\"-\",IFERROR('Tabel 4(Br) B'!E95/'Tabel 4F B'!E95*100,\"-\"))","v":"-"},{"$f":"IF(OR('Tabel 4F B'!F95<5,'Tabel 4(Br) B'!F95<0.5),\"-\",IFERROR('Tabel 4(Br) B'!F95/'Tabel 4F B'!F95*100,\"-\"))","v":"-"},{"$f":"IF(OR('Tabel 4F B'!G95<5,'Tabel 4(Br) B'!G95<0.5),\"-\",IFERROR('Tabel 4(Br) B'!G95/'Tabel 4F B'!G95*100,\"-\"))","v":"-"},null,{"$f":"IF(OR('Tabel 4F B'!I95<5,'Tabel 4(Br) B'!I95<0.5),\"-\",IFERROR('Tabel 4(Br) B'!I95/'Tabel 4F B'!I95*100,\"-\"))","v":"-"}]
["Bac. Hum.",null,{"$f":"IF(OR('Tabel 4F B'!C96<5,'Tabel 4(Br) B'!C96<0.5),\"-\",IFERROR('Tabel 4(Br) B'!C96/'Tabel 4F B'!C96*100,\"-\"))","v":"-"},{"$f":"IF(OR('Tabel 4F B'!D96<5,'Tabel 4(Br) B'!D96<0.5),\"-\",IFERROR('Tabel 4(Br) B'!D96/'Tabel 4F B'!D96*100,\"-\"))","v":"-"},{"$f":"IF(OR('Tabel 4F B'!E96<5,'Tabel 4(Br) B'!E96<0.5),\"-\",IFERROR('Tabel 4(Br) B'!E96/'Tabel 4F B'!E96*100,\"-\"))","v":"-"},{"$f":"IF(OR('Tabel 4F B'!F96<5,'Tabel 4(Br) B'!F96<0.5),\"-\",IFERROR('Tabel 4(Br) B'!F96/'Tabel 4F B'!F96*100,\"-\"))","v":"-"},{"$f":"IF(OR('Tabel 4F B'!G96<5,'Tabel 4(Br) B'!G96<0.5),\"-\",IFERROR('Tabel 4(Br) B'!G96/'Tabel 4F B'!G96*100,\"-\"))","v":"-"},null,{"$f":"IF(OR('Tabel 4F B'!I96<5,'Tabel 4(Br) B'!I96<0.5),\"-\",IFERROR('Tabel 4(Br) B'!I96/'Tabel 4F B'!I96*100,\"-\"))","v":15.381736706504373}]
["Bac. Nat.",null,{"$f":"IF(OR('Tabel 4F B'!C97<5,'Tabel 4(Br) B'!C97<0.5),\"-\",IFERROR('Tabel 4(Br) B'!C97/'Tabel 4F B'!C97*100,\"-\"))","v":"-"},{"$f":"IF(OR('Tabel 4F B'!D97<5,'Tabel 4(Br) B'!D97<0.5),\"-\",IFERROR('Tabel 4(Br) B'!D97/'Tabel 4F B'!D97*100,\"-\"))","v":"-"},{"$f":"IF(OR('Tabel 4F B'!E97<5,'Tabel 4(Br) B'!E97<0.5),\"-\",IFERROR('Tabel 4(Br) B'!E97/'Tabel 4F B'!E97*100,\"-\"))","v":"-"},{"$f":"IF(OR('Tabel 4F B'!F97<5,'Tabel 4(Br) B'!F97<0.5),\"-\",IFERROR('Tabel 4(Br) B'!F97/'Tabel 4F B'!F97*100,\"-\"))","v":"-"},{"$f":"IF(OR('Tabel 4F B'!G97<5,'Tabel 4(Br) B'!G97<0.5),\"-\",IFERROR('Tabel 4(Br) B'!G97/'Tabel 4F B'!G97*100,\"-\"))","v":"-"},null,{"$f":"IF(OR('Tabel 4F B'!I97<5,'Tabel 4(Br) B'!I97<0.5),\"-\",IFERROR('Tabel 4(Br) B'!I97/'Tabel 4F B'!I97*100,\"-\"))","v":19.93388635938377}]
["Andre",null,{"$f":"IF(OR('Tabel 4F B'!C98<5,'Tabel 4(Br) B'!C98<0.5),\"-\",IFERROR('Tabel 4(Br) B'!C98/'Tabel 4F B'!C98*100,\"-\"))","v":"-"},{"$f":"IF(OR('Tabel 4F B'!D98<5,'Tabel 4(Br) B'!D98<0.5),\"-\",IFERROR('Tabel 4(Br) B'!D98/'Tabel 4F B'!D98*100,\"-\"))","v":9.3097460172604514},{"$f":"IF(OR('Tabel 4F B'!E98<5,'Tabel 4(Br) B'!E98<0.5),\"-\",IFERROR('Tabel 4(Br) B'!E98/'Tabel 4F B'!E98*100,\"-\"))","v":17.730258265404526},{"$f":"IF(OR('Tabel 4F B'!F98<5,'Tabel 4(Br) B'!F98<0.5),\"-\",IFERROR('Tabel 4(Br) B'!F98/'Tabel 4F B'!F98*100,\"-\"))","v":5.7132164909873389},{"$f":"IF(OR('Tabel 4F B'!G98<5,'Tabel 4(Br) B'!G98<0.5),\"-\",IFERROR('Tabel 4(Br) B'!G98/'Tabel 4F B'!G98*100,\"-\"))","v":7.8723502341637763},null,{"$f":"IF(OR('Tabel 4F B'!I98<5,'Tabel 4(Br) B'!I98<0.5),\"-\",IFERROR('Tabel 4(Br) B'!I98/'Tabel 4F B'!I98*100,\"-\"))","v":9.5224160915774743}]
[]
["Total",null,{"$f":"IF(OR('Tabel 4F B'!C100<5,'Tabel 4(Br) B'!C100<0.5),\"-\",IFERROR('Tabel 4(Br) B'!C100/'Tabel 4F B'!C100*100,\"-\"))","v":5.2573385574071656},{"$f":"IF(OR('Tabel 4F B'!D100<5,'Tabel 4(Br) B'!D100<0.5),\"-\",IFERROR('Tabel 4(Br) B'!D100/'Tabel 4F B'!D100*100,\"-\"))","v":9.1616596325633957},{"$f":"IF(OR('Tabel 4F B'!E100<5,'Tabel 4(Br) B'!E100<0.5),\"-\",IFERROR('Tabel 4(Br) B'!E100/'Tabel 4F B'!E100*100,\"-\"))","v":10.033283625250194},{"$f":"IF(OR('Tabel 4F B'!F100<5,'Tabel 4(Br) B'!F100<0.5),\"-\",IFERROR('Tabel 4(Br) B'!F100/'Tabel 4F B'!F100*100,\"-\"))","v":7.2678226158547989},{"$f":"IF(OR('Tabel 4F B'!G100<5,'Tabel 4(Br) B'!G100<0.5),\"-\",IFERROR('Tabel 4(Br) B'!G100/'Tabel 4F B'!G100*100,\"-\"))","v":7.02937211232602},null,{"$f":"IF(OR('Tabel 4F B'!I100<5,'Tabel 4(Br) B'!I100<0.5),\"-\",IFERROR('Tabel 4(Br) B'!I100/'Tabel 4F B'!I100*100,\"-\"))","v":8.3947399693544114}]
[]
["Ingeniører i alt",null,{"$f":"IF(OR('Tabel 4F B'!C102<5,'Tabel 4(Br) B'!C102<0.5),\"-\",IFERROR('Tabel 4(Br) B'!C102/'Tabel 4F B'!C102*100,\"-\"))","v":"-"},{"$f":"IF(OR('Tabel 4F B'!D102<5,'Tabel 4(Br) B'!D102<0.5),\"-\",IFERROR('Tabel 4(Br) B'!D102/'Tabel 4F B'!D102*100,\"-\"))","v":10.432809253990568},{"$f":"IF(OR('Tabel 4F B'!E102<5,'Tabel 4(Br) B'!E102<0.5),\"-\",IFERROR('Tabel 4(Br) B'!E102/'Tabel 4F B'!E102*100,\"-\"))","v":3.7030106886029048},{"$f":"IF(OR('Tabel 4F B'!F102<5,'Tabel 4(Br) B'!F102<0.5),\"-\",IFERROR('Tabel 4(Br) B'!F102/'Tabel 4F B'!F102*100,\"-\"))","v":6.665419239485229},{"$f":"IF(OR('Tabel 4F B'!G102<5,'Tabel 4(Br) B'!G102<0.5),\"-\",IFERROR('Tabel 4(Br) B'!G102/'Tabel 4F B'!G102*100,\"-\"))","v":"-"},null,{"$f":"IF(OR('Tabel 4F B'!I102<5,'Tabel 4(Br) B'!I102<0.5),\"-\",IFERROR('Tabel 4(Br) B'!I102/'Tabel 4F B'!I102*100,\"-\"))","v":5.8886279008308255}]
["Magistre i alt",null,{"$f":"IF(OR('Tabel 4F B'!C103<5,'Tabel 4(Br) B'!C103<0.5),\"-\",IFERROR('Tabel 4(Br) B'!C103/'Tabel 4F B'!C103*100,\"-\"))","v":18.178416107686989},{"$f":"IF(OR('Tabel 4F B'!D103<5,'Tabel 4(Br) B'!D103<0.5),\"-\",IFERROR('Tabel 4(Br) B'!D103/'Tabel 4F B'!D103*100,\"-\"))","v":11.538701428304126},{"$f":"IF(OR('Tabel 4F B'!E103<5,'Tabel 4(Br) B'!E103<0.5),\"-\",IFERROR('Tabel 4(Br) B'!E103/'Tabel 4F B'!E103*100,\"-\"))","v":20.531945315616728},{"$f":"IF(OR('Tabel 4F B'!F103<5,'Tabel 4(Br) B'!F103<0.5),\"-\",IFERROR('Tabel 4(Br) B'!F103/'Tabel 4F B'!F103*100,\"-\"))","v":6.5205188212355489},{"$f":"IF(OR('Tabel 4F B'!G103<5,'Tabel 4(Br) B'!G103<0.5),\"-\",IFERROR('Tabel 4(Br) B'!G103/'Tabel 4F B'!G103*100,\"-\"))","v":16.071762703709314},null,{"$f":"IF(OR('Tabel 4F B'!I103<5,'Tabel 4(Br) B'!I103<0.5),\"-\",IFERROR('Tabel 4(Br) B'!I103/'Tabel 4F B'!I103*100,\"-\"))","v":13.661406682051602}]
["DJØF'ere i alt",null,{"$f":"IF(OR('Tabel 4F B'!C104<5,'Tabel 4(Br) B'!C104<0.5),\"-\",IFERROR('Tabel 4(Br) B'!C104/'Tabel 4F B'!C104*100,\"-\"))","v":"-"},{"$f":"IF(OR('Tabel 4F B'!D104<5,'Tabel 4(Br) B'!D104<0.5),\"-\",IFERROR('Tabel 4(Br) B'!D104/'Tabel 4F B'!D104*100,\"-\"))","v":"-"},{"$f":"IF(OR('Tabel 4F B'!E104<5,'Tabel 4(Br) B'!E104<0.5),\"-\",IFERROR('Tabel 4(Br) B'!E104/'Tabel 4F B'!E104*100,\"-\"))","v":8.1819882855247421},{"$f":"IF(OR('Tabel 4F B'!F104<5,'Tabel 4(Br) B'!F104<0.5),\"-\",IFERROR('Tabel 4(Br) B'!F104/'Tabel 4F B'!F104*100,\"-\"))","v":4.9990644296139211},{"$f":"IF(OR('Tabel 4F B'!G104<5,'Tabel 4(Br) B'!G104<0.5),\"-\",IFERROR('Tabel 4(Br) B'!G104/'Tabel 4F B'!G104*100,\"-\"))","v":"-"},null,{"$f":"IF(OR('Tabel 4F B'!I104<5,'Tabel 4(Br) B'!I104<0.5),\"-\",IFERROR('Tabel 4(Br) B'!I104/'Tabel 4F B'!I104*100,\"-\"))","v":4.1788810578182503}]
[]
[]
[]
[]
[]
[]
["Christiansø"]
[]
[null,null,"Under 30 år","30 - 39 år","40 - 49 år","50 - 59 år","Over 60 år",null,"I alt"]
[]
["Civ. ing.",null,{"$f":"IF(OR('Tabel 4F B'!C115<5,'Tabel 4(Br) B'!C115<0.5),\"-\",IFERROR('Tabel 4(Br) B'!C115/'Tabel 4F B'!C115*100,\"-\"))","v":"-"},{"$f":"IF(OR('Tabel 4F B'!D115<5,'Tabel 4(Br) B'!D115<0.5),\"-\",IFERROR('Tabel 4(Br) B'!D115/'Tabel 4F B'!D115*100,\"-\"))","v":"-"},{"$f":"IF(OR('Tabel 4F B'!E115<5,'Tabel 4(Br) B'!E115<0.5),\"-\",IFERROR('Tabel 4(Br) B'!E115/'Tabel 4F B'!E115*100,\"-\"))","v":"-"},{"$f":"IF(OR('Tabel 4F B'!F115<5,'Tabel 4(Br) B'!F115<0.5),\"-\",IFERROR('Tabel 4(Br) B'!F115/'Tabel 4F B'!F115*100,\"-\"))","v":"-"},{"$f":"IF(OR('Tabel 4F B'!G115<5,'Tabel 4(Br) B'!G115<0.5),\"-\",IFERROR('Tabel 4(Br) B'!G115/'Tabel 4F B'!G115*100,\"-\"))","v":"-"},null,{"$f":"IF(OR('Tabel 4F B'!I115<5,'Tabel 4(Br) B'!I115<0.5),\"-\",IFERROR('Tabel 4(Br) B'!I115/'Tabel 4F B'!I115*100,\"-\"))","v":"-"}]
["Diplom ing.",null,{"$f":"IF(OR('Tabel 4F B'!C116<5,'Tabel 4(Br) B'!C116<0.5),\"-\",IFERROR('Tabel 4(Br) B'!C116/'Tabel 4F B'!C116*100,\"-\"))","v":"-"},{"$f":"IF(OR('Tabel 4F B'!D116<5,'Tabel 4(Br) B'!D116<0.5),\"-\",IFERROR('Tabel 4(Br) B'!D116/'Tabel 4F B'!D116*100,\"-\"))","v":"-"},{"$f":"IF(OR('Tabel 4F B'!E116<5,'Tabel 4(Br) B'!E116<0.5),\"-\",IFERROR('Tabel 4(Br) B'!E116/'Tabel 4F B'!E116*100,\"-\"))","v":"-"},{"$f":"IF(OR('Tabel 4F B'!F116<5,'Tabel 4(Br) B'!F116<0.5),\"-\",IFERROR('Tabel 4(Br) B'!F116/'Tabel 4F B'!F116*100,\"-\"))","v":"-"},{"$f":"IF(OR('Tabel 4F B'!G116<5,'Tabel 4(Br) B'!G116<0.5),\"-\",IFERROR('Tabel 4(Br) B'!G116/'Tabel 4F B'!G116*100,\"-\"))","v":"-"},null,{"$f":"IF(OR('Tabel 4F B'!I116<5,'Tabel 4(Br) B'!I116<0.5),\"-\",IFERROR('Tabel 4(Br) B'!I116/'Tabel 4F B'!I116*100,\"-\"))","v":"-"}]
["Cand. Scient. Tek",null,{"$f":"IF(OR('Tabel 4F B'!C117<5,'Tabel 4(Br) B'!C117<0.5),\"-\",IFERROR('Tabel 4(Br) B'!C117/'Tabel 4F B'!C117*100,\"-\"))","v":"-"},{"$f":"IF(OR('Tabel 4F B'!D117<5,'Tabel 4(Br) B'!D117<0.5),\"-\",IFERROR('Tabel 4(Br) B'!D117/'Tabel 4F B'!D117*100,\"-\"))","v":"-"},{"$f":"IF(OR('Tabel 4F B'!E117<5,'Tabel 4(Br) B'!E117<0.5),\"-\",IFERROR('Tabel 4(Br) B'!E117/'Tabel 4F B'!E117*100,\"-\"))","v":"-"},{"$f":"IF(OR('Tabel 4F B'!F117<5,'Tabel 4(Br) B'!F117<0.5),\"-\",IFERROR('Tabel 4(Br) B'!F117/'Tabel 4F B'!F117*100,\"-\"))","v":"-"},{"$f":"IF(OR('Tabel 4F B'!G117<5,'Tabel 4(Br) B'!G117<0.5),\"-\",IFERROR('Tabel 4(Br) B'!G117/'Tabel 4F B'!G117*100,\"-\"))","v":"-"},null,{"$f":"IF(OR('Tabel 4F B'!I117<5,'Tabel 4(Br) B'!I117<0.5),\"-\",IFERROR('Tabel 4(Br) B'!I117/'Tabel 4F B'!I117*100,\"-\"))","v":"-"}]
["MA. Hum.",null,{"$f":"IF(OR('Tabel 4F B'!C118<5,'Tabel 4(Br) B'!C118<0.5),\"-\",IFERROR('Tabel 4(Br) B'!C118/'Tabel 4F B'!C118*100,\"-\"))","v":"-"},{"$f":"IF(OR('Tabel 4F B'!D118<5,'Tabel 4(Br) B'!D118<0.5),\"-\",IFERROR('Tabel 4(Br) B'!D118/'Tabel 4F B'!D118*100,\"-\"))","v":"-"},{"$f":"IF(OR('Tabel 4F B'!E118<5,'Tabel 4(Br) B'!E118<0.5),\"-\",IFERROR('Tabel 4(Br) B'!E118/'Tabel 4F B'!E118*100,\"-\"))","v":"-"},{"$f":"IF(OR('Tabel 4F B'!F118<5,'Tabel 4(Br) B'!F118<0.5),\"-\",IFERROR('Tabel 4(Br) B'!F118/'Tabel 4F B'!F118*100,\"-\"))","v":"-"},{"$f":"IF(OR('Tabel 4F B'!G118<5,'Tabel 4(Br) B'!G118<0.5),\"-\",IFERROR('Tabel 4(Br) B'!G118/'Tabel 4F B'!G118*100,\"-\"))","v":"-"},null,{"$f":"IF(OR('Tabel 4F B'!I118<5,'Tabel 4(Br) B'!I118<0.5),\"-\",IFERROR('Tabel 4(Br) B'!I118/'Tabel 4F B'!I118*100,\"-\"))","v":"-"}]
["MA. Nat.",null,{"$f":"IF(OR('Tabel 4F B'!C119<5,'Tabel 4(Br) B'!C119<0.5),\"-\",IFERROR('Tabel 4(Br) B'!C119/'Tabel 4F B'!C119*100,\"-\"))","v":"-"},{"$f":"IF(OR('Tabel 4F B'!D119<5,'Tabel 4(Br) B'!D119<0.5),\"-\",IFERROR('Tabel 4(Br) B'!D119/'Tabel 4F B'!D119*100,\"-\"))","v":"-"},{"$f":"IF(OR('Tabel 4F B'!E119<5,'Tabel 4(Br) B'!E119<0.5),\"-\",IFERROR('Tabel 4(Br) B'!E119/'Tabel 4F B'!E119*100,\"-\"))","v":"-"},{"$f":"IF(OR('Tabel 4F B'!F119<5,'Tabel 4(Br) B'!F119<0.5),\"-\",IFERROR('Tabel 4(Br) B'!F119/'Tabel 4F B'!F119*100,\"-\"))","v":"-"},{"$f":"IF(OR('Tabel 4F B'!G119<5,'Tabel 4(Br) B'!G119<0.5),\"-\",IFERROR('Tabel 4(Br) B'!G119/'Tabel 4F B'!G119*100,\"-\"))","v":"-"},null,{"$f":"IF(OR('Tabel 4F B'!I119<5,'Tabel 4(Br) B'!I119<0.5),\"-\",IFERROR('Tabel 4(Br) B'!I119/'Tabel 4F B'!I119*100,\"-\"))","v":"-"}]
["MA. Ph.d.",null,{"$f":"IF(OR('Tabel 4F B'!C120<5,'Tabel 4(Br) B'!C120<0.5),\"-\",IFERROR('Tabel 4(Br) B'!C120/'Tabel 4F B'!C120*100,\"-\"))","v":"-"},{"$f":"IF(OR('Tabel 4F B'!D120<5,'Tabel 4(Br) B'!D120<0.5),\"-\",IFERROR('Tabel 4(Br) B'!D120/'Tabel 4F B'!D120*100,\"-\"))","v":"-"},{"$f":"IF(OR('Tabel 4F B'!E120<5,'Tabel 4(Br) B'!E120<0.5),\"-\",IFERROR('Tabel 4(Br) B'!E120/'Tabel 4F B'!E120*100,\"-\"))","v":"-"},{"$f":"IF(OR('Tabel 4F B'!F120<5,'Tabel 4(Br) B'!F120<0.5),\"-\",IFERROR('Tabel 4(Br) B'!F120/'Tabel 4F B'!F120*100,\"-\"))","v":"-"},{"$f":"IF(OR('Tabel 4F B'!G120<5,'Tabel 4(Br) B'!G120<0.5),\"-\",IFERROR('Tabel 4(Br) B'!G120/'Tabel 4F B'!G120*100,\"-\"))","v":"-"},null,{"$f":"IF(OR('Tabel 4F B'!I120<5,'Tabel 4(Br) B'!I120<0.5),\"-\",IFERROR('Tabel 4(Br) B'!I120/'Tabel 4F B'!I120*100,\"-\"))","v":"-"}]
["MA. Samf.",null,{"$f":"IF(OR('Tabel 4F B'!C121<5,'Tabel 4(Br) B'!C121<0.5),\"-\",IFERROR('Tabel 4(Br) B'!C121/'Tabel 4F B'!C121*100,\"-\"))","v":"-"},{"$f":"IF(OR('Tabel 4F B'!D121<5,'Tabel 4(Br) B'!D121<0.5),\"-\",IFERROR('Tabel 4(Br) B'!D121/'Tabel 4F B'!D121*100,\"-\"))","v":"-"},{"$f":"IF(OR('Tabel 4F B'!E121<5,'Tabel 4(Br) B'!E121<0.5),\"-\",IFERROR('Tabel 4(Br) B'!E121/'Tabel 4F B'!E121*100,\"-\"))","v":"-"},{"$f":"IF(OR('Tabel 4F B'!F121<5,'Tabel 4(Br) B'!F121<0.5),\"-\",IFERROR('Tabel 4(Br) B'!F121/'Tabel 4F B'!F121*100,\"-\"))","v":"-"},{"$f":"IF(OR('Tabel 4F B'!G121<5,'Tabel 4(Br) B'!G121<0.5),\"-\",IFERROR('Tabel 4(Br) B'!G121/'Tabel 4F B'!G121*100,\"-\"))","v":"-"},null,{"$f":"IF(OR('Tabel 4F B'!I121<5,'Tabel 4(Br) B'!I121<0.5),\"-\",IFERROR('Tabel 4(Br) B'!I121/'Tabel 4F B'!I121*100,\"-\"))","v":"-"}]
["Øvrige Mag.",null,{"$f":"IF(OR('Tabel 4F B'!C122<5,'Tabel 4(Br) B'!C122<0.5),\"-\",IFERROR('Tabel 4(Br) B'!C122/'Tabel 4F B'!C122*100,\"-\"))","v":"-"},{"$f":"IF(OR('Tabel 4F B'!D122<5,'Tabel 4(Br) B'!D122<0.5),\"-\",IFERROR('Tabel 4(Br) B'!D122/'Tabel 4F B'!D122*100,\"-\"))","v":"-"},{"$f":"IF(OR('Tabel 4F B'!E122<5,'Tabel 4(Br) B'!E122<0.5),\"-\",IFERROR('Tabel 4(Br) B'!E122/'Tabel 4F B'!E122*100,\"-\"))","v":"-"},{"$f":"IF(OR('Tabel 4F B'!F122<5,'Tabel 4(Br) B'!F122<0.5),\"-\",IFERROR('Tabel 4(Br) B'!F122/'Tabel 4F B'!F122*100,\"-\"))","v":"-"},{"$f":"IF(OR('Tabel 4F B'!G122<5,'Tabel 4(Br) B'!G122<0.5),\"-\",IFERROR('Tabel 4(Br) B'!G122/'Tabel 4F B'!G122*100,\"-\"))","v":"-"},null,{"$f":"IF(OR('Tabel 4F B'!I122<5,'Tabel 4(Br) B'!I122<0.5),\"-\",IFERROR('Tabel 4(Br) B'!I122/'Tabel 4F B'!I122*100,\"-\"))","v":"-"}]
["Agronom",null,{"$f":"IF(OR('Tabel 4F B'!C123<5,'Tabel 4(Br) B'!C123<0.5),\"-\",IFERROR('Tabel 4(Br) B'!C123/'Tabel 4F B'!C123*100,\"-\"))","v":"-"},{"$f":"IF(OR('Tabel 4F B'!D123<5,'Tabel 4(Br) B'!D123<0.5),\"-\",IFERROR('Tabel 4(Br) B'!D123/'Tabel 4F B'!D123*100,\"-\"))","v":"-"},{"$f":"IF(OR('Tabel 4F B'!E123<5,'Tabel 4(Br) B'!E123<0.5),\"-\",IFERROR('Tabel 4(Br) B'!E123/'Tabel 4F B'!E123*100,\"-\"))","v":"-"},{"$f":"IF(OR('Tabel 4F B'!F123<5,'Tabel 4(Br) B'!F123<0.5),\"-\",IFERROR('Tabel 4(Br) B'!F123/'Tabel 4F B'!F123*100,\"-\"))","v":"-"},{"$f":"IF(OR('Tabel 4F B'!G123<5,'Tabel 4(Br) B'!G123<0.5),\"-\",IFERROR('Tabel 4(Br) B'!G123/'Tabel 4F B'!G123*100,\"-\"))","v":"-"},null,{"$f":"IF(OR('Tabel 4F B'!I123<5,'Tabel 4(Br) B'!I123<0.5),\"-\",IFERROR('Tabel 4(Br) B'!I123/'Tabel 4F B'!I123*100,\"-\"))","v":"-"}]
["Landsk. Arkt.",null,{"$f":"IF(OR('Tabel 4F B'!C124<5,'Tabel 4(Br) B'!C124<0.5),\"-\",IFERROR('Tabel 4(Br) B'!C124/'Tabel 4F B'!C124*100,\"-\"))","v":"-"},{"$f":"IF(OR('Tabel 4F B'!D124<5,'Tabel 4(Br) B'!D124<0.5),\"-\",IFERROR('Tabel 4(Br) B'!D124/'Tabel 4F B'!D124*100,\"-\"))","v":"-"},{"$f":"IF(OR('Tabel 4F B'!E124<5,'Tabel 4(Br) B'!E124<0.5),\"-\",IFERROR('Tabel 4(Br) B'!E124/'Tabel 4F B'!E124*100,\"-\"))","v":"-"},{"$f":"IF(OR('Tabel 4F B'!F124<5,'Tabel 4(Br) B'!F124<0.5),\"-\",IFERROR('Tabel 4(Br) B'!F124/'Tabel 4F B'!F124*100,\"-\"))","v":"-"},{"$f":"IF(OR('Tabel 4F B'!G124<5,'Tabel 4(Br) B'!G124<0.5),\"-\",IFERROR('Tabel 4(Br) B'!G124/'Tabel 4F B'!G124*100,\"-\"))","v":"-"},null,{"$f":"IF(OR('Tabel 4F B'!I124<5,'Tabel 4(Br) B'!I124<0.5),\"-\",IFERROR('Tabel 4(Br) B'!I124/'Tabel 4F B'!I124*100,\"-\"))","v":"-"}]
["Hortonom",null,{"$f":"IF(OR('Tabel 4F B'!C125<5,'Tabel 4(Br) B'!C125<0.5),\"-\",IFERROR('Tabel 4(Br) B'!C125/'Tabel 4F B'!C125*100,\"-\"))","v":"-"},{"$f":"IF(OR('Tabel 4F B'!D125<5,'Tabel 4(Br) B'!D125<0.5),\"-\",IFERROR('Tabel 4(Br) B'!D125/'Tabel 4F B'!D125*100,\"-\"))","v":"-"},{"$f":"IF(OR('Tabel 4F B'!E125<5,'Tabel 4(Br) B'!E125<0.5),\"-\",IFERROR('Tabel 4(Br) B'!E125/'Tabel 4F B'!E125*100,\"-\"))","v":"-"},{"$f":"IF(OR('Tabel 4F B'!F125<5,'Tabel 4(Br) B'!F125<0.5),\"-\",IFERROR('Tabel 4(Br) B'!F125/'Tabel 4F B'!F125*100,\"-\"))","v":"-"},{"$f":"IF(OR('Tabel 4F B'!G125<5,'Tabel 4(Br) B'!G125<0.5),\"-\",IFERROR('Tabel 4(Br) B'!G125/'Tabel 4F B'!G125*100,\"-\"))","v":"-"},null,{"$f":"IF(OR('Tabel 4F B'!I125<5,'Tabel 4(Br) B'!I125<0.5),\"-\",IFERROR('Tabel 4(Br) B'!I125/'Tabel 4F B'!I125*100,\"-\"))","v":"-"}]
["Forstkand.",null,{"$f":"IF(OR('Tabel 4F B'!C126<5,'Tabel 4(Br) B'!C126<0.5),\"-\",IFERROR('Tabel 4(Br) B'!C126/'Tabel 4F B'!C126*100,\"-\"))","v":"-"},{"$f":"IF(OR('Tabel 4F B'!D126<5,'Tabel 4(Br) B'!D126<0.5),\"-\",IFERROR('Tabel 4(Br) B'!D126/'Tabel 4F B'!D126*100,\"-\"))","v":"-"},{"$f":"IF(OR('Tabel 4F B'!E126<5,'Tabel 4(Br) B'!E126<0.5),\"-\",IFERROR('Tabel 4(Br) B'!E126/'Tabel 4F B'!E126*100,\"-\"))","v":"-"},{"$f":"IF(OR('Tabel 4F B'!F126<5,'Tabel 4(Br) B'!F126<0.5),\"-\",IFERROR('Tabel 4(Br) B'!F126/'Tabel 4F B'!F126*100,\"-\"))","v":"-"},{"$f":"IF(OR('Tabel 4F B'!G126<5,'Tabel 4(Br) B'!G126<0.5),\"-\",IFERROR('Tabel 4(Br) B'!G126/'Tabel 4F B'!G126*100,\"-\"))","v":"-"},null,{"$f":"IF(OR('Tabel 4F B'!I126<5,'Tabel 4(Br) B'!I126<0.5),\"-\",IFERROR('Tabel 4(Br) B'!I126/'Tabel 4F B'!I126*100,\"-\"))","v":"-"}]
["Jordbrugsakad.",null,{"$f":"IF(OR('Tabel 4F B'!C127<5,'Tabel 4(Br) B'!C127<0.5),\"-\",IFERROR('Tabel 4(Br) B'!C127/'Tabel 4F B'!C127*100,\"-\"))","v":"-"},{"$f":"IF(OR('Tabel 4F B'!D127<5,'Tabel 4(Br) B'!D127<0.5),\"-\",IFERROR('Tabel 4(Br) B'!D127/'Tabel 4F B'!D127*100,\"-\"))","v":"-"},{"$f":"IF(OR('Tabel 4F B'!E127<5,'Tabel 4(Br) B'!E127<0.5),\"-\",IFERROR('Tabel 4(Br) B'!E127/'Tabel 4F B'!E127*100,\"-\"))","v":"-"},{"$f":"IF(OR('Tabel 4F B'!F127<5,'Tabel 4(Br) B'!F127<0.5),\"-\",IFERROR('Tabel 4(Br) B'!F127/'Tabel 4F B'!F127*100,\"-\"))","v":"-"},{"$f":"IF(OR('Tabel 4F B'!G127<5,'Tabel 4(Br) B'!G127<0.5),\"-\",IFERROR('Tabel 4(Br) B'!G127/'Tabel 4F B'!G127*100,\"-\"))","v":"-"},null,{"$f":"IF(OR('Tabel 4F B'!I127<5,'Tabel 4(Br) B'!I127<0.5),\"-\",IFERROR('Tabel 4(Br) B'!I127/'Tabel 4F B'!I127*100,\"-\"))","v":"-"}]
["Mejeriing.",null,{"$f":"IF(OR('Tabel 4F B'!C128<5,'Tabel 4(Br) B'!C128<0.5),\"-\",IFERROR('Tabel 4(Br) B'!C128/'Tabel 4F B'!C128*100,\"-\"))","v":"-"},{"$f":"IF(OR('Tabel 4F B'!D128<5,'Tabel 4(Br) B'!D128<0.5),\"-\",IFERROR('Tabel 4(Br) B'!D128/'Tabel 4F B'!D128*100,\"-\"))","v":"-"},{"$f":"IF(OR('Tabel 4F B'!E128<5,'Tabel 4(Br) B'!E128<0.5),\"-\",IFERROR('Tabel 4(Br) B'!E128/'Tabel 4F B'!E128*100,\"-\"))","v":"-"},{"$f":"IF(OR('Tabel 4F B'!F128<5,'Tabel 4(Br) B'!F128<0.5),\"-\",IFERROR('Tabel 4(Br) B'!F128/'Tabel 4F B'!F128*100,\"-\"))","v":"-"},{"$f":"IF(OR('Tabel 4F B'!G128<5,'Tabel 4(Br) B'!G128<0.5),\"-\",IFERROR('Tabel 4(Br) B'!G128/'Tabel 4F B'!G128*100,\"-\"))","v":"-"},null,{"$f":"IF(OR('Tabel 4F B'!I128<5,'Tabel 4(Br) B'!I128<0.5),\"-\",IFERROR('Tabel 4(Br) B'!I128/'Tabel 4F B'!I128*100,\"-\"))","v":"-"}]
["Levn.m.kand.",null,{"$f":"IF(OR('Tabel 4F B'!C129<5,'Tabel 4(Br) B'!C129<0.5),\"-\",IFERROR('Tabel 4(Br) B'!C129/'Tabel 4F B'!C129*100,\"-\"))","v":"-"},{"$f":"IF(OR('Tabel 4F B'!D129<5,'Tabel 4(Br) B'!D129<0.5),\"-\",IFERROR('Tabel 4(Br) B'!D129/'Tabel 4F B'!D129*100,\"-\"))","v":"-"},{"$f":"IF(OR('Tabel 4F B'!E129<5,'Tabel 4(Br) B'!E129<0.5),\"-\",IFERROR('Tabel 4(Br) B'!E129/'Tabel 4F B'!E129*100,\"-\"))","v":"-"},{"$f":"IF(OR('Tabel 4F B'!F129<5,'Tabel 4(Br) B'!F129<0.5),\"-\",IFERROR('Tabel 4(Br) B'!F129/'Tabel 4F B'!F129*100,\"-\"))","v":"-"},{"$f":"IF(OR('Tabel 4F B'!G129<5,'Tabel 4(Br) B'!G129<0.5),\"-\",IFERROR('Tabel 4(Br) B'!G129/'Tabel 4F B'!G129*100,\"-\"))","v":"-"},null,{"$f":"IF(OR('Tabel 4F B'!I129<5,'Tabel 4(Br) B'!I129<0.5),\"-\",IFERROR('Tabel 4(Br) B'!I129/'Tabel 4F B'!I129*100,\"-\"))","v":"-"}]
["Dyrlæge",null,{"$f":"IF(OR('Tabel 4F B'!C130<5,'Tabel 4(Br) B'!C130<0.5),\"-\",IFERROR('Tabel 4(Br) B'!C130/'Tabel 4F B'!C130*100,\"-\"))","v":"-"},{"$f":"IF(OR('Tabel 4F B'!D130<5,'Tabel 4(Br) B'!D130<0.5),\"-\",IFERROR('Tabel 4(Br) B'!D130/'Tabel 4F B'!D130*100,\"-\"))","v":"-"},{"$f":"IF(OR('Tabel 4F B'!E130<5,'Tabel 4(Br) B'!E130<0.5),\"-\",IFERROR('Tabel 4(Br) B'!E130/'Tabel 4F B'!E130*100,\"-\"))","v":"-"},{"$f":"IF(OR('Tabel 4F B'!F130<5,'Tabel 4(Br) B'!F130<0.5),\"-\",IFERROR('Tabel 4(Br) B'!F130/'Tabel 4F B'!F130*100,\"-\"))","v":"-"},{"$f":"IF(OR('Tabel 4F B'!G130<5,'Tabel 4(Br) B'!G130<0.5),\"-\",IFERROR('Tabel 4(Br) B'!G130/'Tabel 4F B'!G130*100,\"-\"))","v":"-"},null,{"$f":"IF(OR('Tabel 4F B'!I130<5,'Tabel 4(Br) B'!I130<0.5),\"-\",IFERROR('Tabel 4(Br) B'!I130/'Tabel 4F B'!I130*100,\"-\"))","v":"-"}]
["Farmaceut",null,{"$f":"IF(OR('Tabel 4F B'!C131<5,'Tabel 4(Br) B'!C131<0.5),\"-\",IFERROR('Tabel 4(Br) B'!C131/'Tabel 4F B'!C131*100,\"-\"))","v":"-"},{"$f":"IF(OR('Tabel 4F B'!D131<5,'Tabel 4(Br) B'!D131<0.5),\"-\",IFERROR('Tabel 4(Br) B'!D131/'Tabel 4F B'!D131*100,\"-\"))","v":"-"},{"$f":"IF(OR('Tabel 4F B'!E131<5,'Tabel 4(Br) B'!E131<0.5),\"-\",IFERROR('Tabel 4(Br) B'!E131/'Tabel 4F B'!E131*100,\"-\"))","v":"-"},{"$f":"IF(OR('Tabel 4F B'!F131<5,'Tabel 4(Br) B'!F131<0.5),\"-\",IFERROR('Tabel 4(Br) B'!F131/'Tabel 4F B'!F131*100,\"-\"))","v":"-"},{"$f":"IF(OR('Tabel 4F B'!G131<5,'Tabel 4(Br) B'!G131<0.5),\"-\",IFERROR('Tabel 4(Br) B'!G131/'Tabel 4F B'!G131*100,\"-\"))","v":"-"},null,{"$f":"IF(OR('Tabel 4F B'!I131<5,'Tabel 4(Br) B'!I131<0.5),\"-\",IFERROR('Tabel 4(Br) B'!I131/'Tabel 4F B'!I131*100,\"-\"))","v":"-"}]
["Læge",null,{"$f":"IF(OR('Tabel 4F B'!C132<5,'Tabel 4(Br) B'!C132<0.5),\"-\",IFERROR('Tabel 4(Br) B'!C132/'Tabel 4F B'!C132*100,\"-\"))","v":"-"},{"$f":"IF(OR('Tabel 4F B'!D132<5,'Tabel 4(Br) B'!D132<0.5),\"-\",IFERROR('Tabel 4(Br) B'!D132/'Tabel 4F B'!D132*100,\"-\"))","v":"-"},{"$f":"IF(OR('Tabel 4F B'!E132<5,'Tabel 4(Br) B'!E132<0.5),\"-\",IFERROR('Tabel 4(Br) B'!E132/'Tabel 4F B'!E132*100,\"-\"))","v":"-"},{"$f":"IF(OR('Tabel 4F B'!F132<5,'Tabel 4(Br) B'!F132<0.5),\"-\",IFERROR('Tabel 4(Br) B'!F132/'Tabel 4F B'!F132*100,\"-\"))","v":"-"},{"$f":"IF(OR('Tabel 4F B'!G132<5,'Tabel 4(Br) B'!G132<0.5),\"-\",IFERROR('Tabel 4(Br) B'!G132/'Tabel 4F B'!G132*100,\"-\"))","v":"-"},null,{"$f":"IF(OR('Tabel 4F B'!I132<5,'Tabel 4(Br) B'!I132<0.5),\"-\",IFERROR('Tabel 4(Br) B'!I132/'Tabel 4F B'!I132*100,\"-\"))","v":"-"}]
["Tandlæge",null,{"$f":"IF(OR('Tabel 4F B'!C133<5,'Tabel 4(Br) B'!C133<0.5),\"-\",IFERROR('Tabel 4(Br) B'!C133/'Tabel 4F B'!C133*100,\"-\"))","v":"-"},{"$f":"IF(OR('Tabel 4F B'!D133<5,'Tabel 4(Br) B'!D133<0.5),\"-\",IFERROR('Tabel 4(Br) B'!D133/'Tabel 4F B'!D133*100,\"-\"))","v":"-"},{"$f":"IF(OR('Tabel 4F B'!E133<5,'Tabel 4(Br) B'!E133<0.5),\"-\",IFERROR('Tabel 4(Br) B'!E133/'Tabel 4F B'!E133*100,\"-\"))","v":"-"},{"$f":"IF(OR('Tabel 4F B'!F133<5,'Tabel 4(Br) B'!F133<0.5),\"-\",IFERROR('Tabel 4(Br) B'!F133/'Tabel 4F B'!F133*100,\"-\"))","v":"-"},{"$f":"IF(OR('Tabel 4F B'!G133<5,'Tabel 4(Br) B'!G133<0.5),\"-\",IFERROR('Tabel 4(Br) B'!G133/'Tabel 4F B'!G133*100,\"-\"))","v":"-"},null,{"$f":"IF(OR('Tabel 4F B'!I133<5,'Tabel 4(Br) B'!I133<0.5),\"-\",IFERROR('Tabel 4(Br) B'!I133/'Tabel 4F B'!I133*100,\"-\"))","v":"-"}]
["Arkitekt",null,{"$f":"IF(OR('Tabel 4F B'!C134<5,'Tabel 4(Br) B'!C134<0.5),\"-\",IFERROR('Tabel 4(Br) B'!C134/'Tabel 4F B'!C134*100,\"-\"))","v":"-"},{"$f":"IF(OR('Tabel 4F B'!D134<5,'Tabel 4(Br) B'!D134<0.5),\"-\",IFERROR('Tabel 4(Br) B'!D134/'Tabel 4F B'!D134*100,\"-\"))","v":"-"},{"$f":"IF(OR('Tabel 4F B'!E134<5,'Tabel 4(Br) B'!E134<0.5),\"-\",IFERROR('Tabel 4(Br) B'!E134/'Tabel 4F B'!E134*100,\"-\"))","v":"-"},{"$f":"IF(OR('Tabel 4F B'!F134<5,'Tabel 4(Br) B'!F134<0.5),\"-\",IFERROR('Tabel 4(Br) B'!F134/'Tabel 4F B'!F134*100,\"-\"))","v":"-"},{"$f":"IF(OR('Tabel 4F B'!G134<5,'Tabel 4(Br) B'!G134<0.5),\"-\",IFERROR('Tabel 4(Br) B'!G134/'Tabel 4F B'!G134*100,\"-\"))","v":"-"},null,{"$f":"IF(OR('Tabel 4F B'!I134<5,'Tabel 4(Br) B'!I134<0.5),\"-\",IFERROR('Tabel 4(Br) B'!I134/'Tabel 4F B'!I134*100,\"-\"))","v":"-"}]
["Landinspek.",null,{"$f":"IF(OR('Tabel 4F B'!C135<5,'Tabel 4(Br) B'!C135<0.5),\"-\",IFERROR('Tabel 4(Br) B'!C135/'Tabel 4F B'!C135*100,\"-\"))","v":"-"},{"$f":"IF(OR('Tabel 4F B'!D135<5,'Tabel 4(Br) B'!D135<0.5),\"-\",IFERROR('Tabel 4(Br) B'!D135/'Tabel 4F B'!D135*100,\"-\"))","v":"-"},{"$f":"IF(OR('Tabel 4F B'!E135<5,'Tabel 4(Br) B'!E135<0.5),\"-\",IFERROR('Tabel 4(Br) B'!E135/'Tabel 4F B'!E135*100,\"-\"))","v":"-"},{"$f":"IF(OR('Tabel 4F B'!F135<5,'Tabel 4(Br) B'!F135<0.5),\"-\",IFERROR('Tabel 4(Br) B'!F135/'Tabel 4F B'!F135*100,\"-\"))","v":"-"},{"$f":"IF(OR('Tabel 4F B'!G135<5,'Tabel 4(Br) B'!G135<0.5),\"-\",IFERROR('Tabel 4(Br) B'!G135/'Tabel 4F B'!G135*100,\"-\"))","v":"-"},null,{"$f":"IF(OR('Tabel 4F B'!I135<5,'Tabel 4(Br) B'!I135<0.5),\"-\",IFERROR('Tabel 4(Br) B'!I135/'Tabel 4F B'!I135*100,\"-\"))","v":"-"}]
["Bibliotekar",null,{"$f":"IF(OR('Tabel 4F B'!C136<5,'Tabel 4(Br) B'!C136<0.5),\"-\",IFERROR('Tabel 4(Br) B'!C136/'Tabel 4F B'!C136*100,\"-\"))","v":"-"},{"$f":"IF(OR('Tabel 4F B'!D136<5,'Tabel 4(Br) B'!D136<0.5),\"-\",IFERROR('Tabel 4(Br) B'!D136/'Tabel 4F B'!D136*100,\"-\"))","v":"-"},{"$f":"IF(OR('Tabel 4F B'!E136<5,'Tabel 4(Br) B'!E136<0.5),\"-\",IFERROR('Tabel 4(Br) B'!E136/'Tabel 4F B'!E136*100,\"-\"))","v":"-"},{"$f":"IF(OR('Tabel 4F B'!F136<5,'Tabel 4(Br) B'!F136<0.5),\"-\",IFERROR('Tabel 4(Br) B'!F136/'Tabel 4F B'!F136*100,\"-\"))","v":"-"},{"$f":"IF(OR('Tabel 4F B'!G136<5,'Tabel 4(Br) B'!G136<0.5),\"-\",IFERROR('Tabel 4(Br) B'!G136/'Tabel 4F B'!G136*100,\"-\"))","v":"-"},null,{"$f":"IF(OR('Tabel 4F B'!I136<5,'Tabel 4(Br) B'!I136<0.5),\"-\",IFERROR('Tabel 4(Br) B'!I136/'Tabel 4F B'!I136*100,\"-\"))","v":"-"}]
["Musikudd.",null,{"$f":"IF(OR('Tabel 4F B'!C137<5,'Tabel 4(Br) B'!C137<0.5),\"-\",IFERROR('Tabel 4(Br) B'!C137/'Tabel 4F B'!C137*100,\"-\"))","v":"-"},{"$f":"IF(OR('Tabel 4F B'!D137<5,'Tabel 4(Br) B'!D137<0.5),\"-\",IFERROR('Tabel 4(Br) B'!D137/'Tabel 4F B'!D137*100,\"-\"))","v":"-"},{"$f":"IF(OR('Tabel 4F B'!E137<5,'Tabel 4(Br) B'!E137<0.5),\"-\",IFERROR('Tabel 4(Br) B'!E137/'Tabel 4F B'!E137*100,\"-\"))","v":"-"},{"$f":"IF(OR('Tabel 4F B'!F137<5,'Tabel 4(Br) B'!F137<0.5),\"-\",IFERROR('Tabel 4(Br) B'!F137/'Tabel 4F B'!F137*100,\"-\"))","v":"-"},{"$f":"IF(OR('Tabel 4F B'!G137<5,'Tabel 4(Br) B'!G137<0.5),\"-\",IFERROR('Tabel 4(Br) B'!G137/'Tabel 4F B'!G137*100,\"-\"))","v":"-"},null,{"$f":"IF(OR('Tabel 4F B'!I137<5,'Tabel 4(Br) B'!I137<0.5),\"-\",IFERROR('Tabel 4(Br) B'!I137/'Tabel 4F B'!I137*100,\"-\"))","v":"-"}]
["Teolog",null,{"$f":"IF(OR('Tabel 4F B'!C138<5,'Tabel 4(Br) B'!C138<0.5),\"-\",IFERROR('Tabel 4(Br) B'!C138/'Tabel 4F B'!C138*100,\"-\"))","v":"-"},{"$f":"IF(OR('Tabel 4F B'!D138<5,'Tabel 4(Br) B'!D138<0.5),\"-\",IFERROR('Tabel 4(Br) B'!D138/'Tabel 4F B'!D138*100,\"-\"))","v":"-"},{"$f":"IF(OR('Tabel 4F B'!E138<5,'Tabel 4(Br) B'!E138<0.5),\"-\",IFERROR('Tabel 4(Br) B'!E138/'Tabel 4F B'!E138*100,\"-\"))","v":"-"},{"$f":"IF(OR('Tabel 4F B'!F138<5,'Tabel 4(Br) B'!F138<0.5),\"-\",IFERROR('Tabel 4(Br) B'!F138/'Tabel 4F B'!F138*100,\"-\"))","v":"-"},{"$f":"IF(OR('Tabel 4F B'!G138<5,'Tabel 4(Br) B'!G138<0.5),\"-\",IFERROR('Tabel 4(Br) B'!G138/'Tabel 4F B'!G138*100,\"-\"))","v":"-"},null,{"$f":"IF(OR('Tabel 4F B'!I138<5,'Tabel 4(Br) B'!I138<0.5),\"-\",IFERROR('Tabel 4(Br) B'!I138/'Tabel 4F B'!I138*100,\"-\"))","v":"-"}]
["Psykolog",null,{"$f":"IF(OR('Tabel 4F B'!C139<5,'Tabel 4(Br) B'!C139<0.5),\"-\",IFERROR('Tabel 4(Br) B'!C139/'Tabel 4F B'!C139*100,\"-\"))","v":"-"},{"$f":"IF(OR('Tabel 4F B'!D139<5,'Tabel 4(Br) B'!D139<0.5),\"-\",IFERROR('Tabel 4(Br) B'!D139/'Tabel 4F B'!D139*100,\"-\"))","v":"-"},{"$f":"IF(OR('Tabel 4F B'!E139<5,'Tabel 4(Br) B'!E139<0.5),\"-\",IFERROR('Tabel 4(Br) B'!E139/'Tabel 4F B'!E139*100,\"-\"))","v":"-"},{"$f":"IF(OR('Tabel 4F B'!F139<5,'Tabel 4(Br) B'!F139<0.5),\"-\",IFERROR('Tabel 4(Br) B'!F139/'Tabel 4F B'!F139*100,\"-\"))","v":"-"},{"$f":"IF(OR('Tabel 4F B'!G139<5,'Tabel 4(Br) B'!G139<0.5),\"-\",IFERROR('Tabel 4(Br) B'!G139/'Tabel 4F B'!G139*100,\"-\"))","v":"-"},null,{"$f":"IF(OR('Tabel 4F B'!I139<5,'Tabel 4(Br) B'!I139<0.5),\"-\",IFERROR('Tabel 4(Br) B'!I139/'Tabel 4F B'!I139*100,\"-\"))","v":"-"}]
["Jurist",null,{"$f":"IF(OR('Tabel 4F B'!C140<5,'Tabel 4(Br) B'!C140<0.5),\"-\",IFERROR('Tabel 4(Br) B'!C140/'Tabel 4F B'!C140*100,\"-\"))","v":"-"},{"$f":"IF(OR('Tabel 4F B'!D140<5,'Tabel 4(Br) B'!D140<0.5),\"-\",IFERROR('Tabel 4(Br) B'!D140/'Tabel 4F B'!D140*100,\"-\"))","v":"-"},{"$f":"IF(OR('Tabel 4F B'!E140<5,'Tabel 4(Br) B'!E140<0.5),\"-\",IFERROR('Tabel 4(Br) B'!E140/'Tabel 4F B'!E140*100,\"-\"))","v":"-"},{"$f":"IF(OR('Tabel 4F B'!F140<5,'Tabel 4(Br) B'!F140<0.5),\"-\",IFERROR('Tabel 4(Br) B'!F140/'Tabel 4F B'!F140*100,\"-\"))","v":"-"},{"$f":"IF(OR('Tabel 4F B'!G140<5,'Tabel 4(Br) B'!G140<0.5),\"-\",IFERROR('Tabel 4(Br) B'!G140/'Tabel 4F B'!G140*100,\"-\"))","v":"-"},null,{"$f":"IF(OR('Tabel 4F B'!I140<5,'Tabel 4(Br) B'!I140<0.5),\"-\",IFERROR('Tabel 4(Br) B'!I140/'Tabel 4F B'!I140*100,\"-\"))","v":"-"}]
["Økonom",null,{"$f":"IF(OR('Tabel 4F B'!C141<5,'Tabel 4(Br) B'!C141<0.5),\"-\",IFERROR('Tabel 4(Br) B'!C141/'Tabel 4F B'!C141*100,\"-\"))","v":"-"},{"$f":"IF(OR('Tabel 4F B'!D141<5,'Tabel 4(Br) B'!D141<0.5),\"-\",IFERROR('Tabel 4(Br) B'!D141/'Tabel 4F B'!D141*100,\"-\"))","v":"-"},{"$f":"IF(OR('Tabel 4F B'!E141<5,'Tabel 4(Br) B'!E141<0.5),\"-\",IFERROR('Tabel 4(Br) B'!E141/'Tabel 4F B'!E141*100,\"-\"))","v":"-"},{"$f":"IF(OR('Tabel 4F B'!F141<5,'Tabel 4(Br) B'!F141<0.5),\"-\",IFERROR('Tabel 4(Br) B'!F141/'Tabel 4F B'!F141*100,\"-\"))","v":"-"},{"$f":"IF(OR('Tabel 4F B'!G141<5,'Tabel 4(Br) B'!G141<0.5),\"-\",IFERROR('Tabel 4(Br) B'!G141/'Tabel 4F B'!G141*100,\"-\"))","v":"-"},null,{"$f":"IF(OR('Tabel 4F B'!I141<5,'Tabel 4(Br) B'!I141<0.5),\"-\",IFERROR('Tabel 4(Br) B'!I141/'Tabel 4F B'!I141*100,\"-\"))","v":"-"}]
["Samf. Adm.",null,{"$f":"IF(OR('Tabel 4F B'!C142<5,'Tabel 4(Br) B'!C142<0.5),\"-\",IFERROR('Tabel 4(Br) B'!C142/'Tabel 4F B'!C142*100,\"-\"))","v":"-"},{"$f":"IF(OR('Tabel 4F B'!D142<5,'Tabel 4(Br) B'!D142<0.5),\"-\",IFERROR('Tabel 4(Br) B'!D142/'Tabel 4F B'!D142*100,\"-\"))","v":"-"},{"$f":"IF(OR('Tabel 4F B'!E142<5,'Tabel 4(Br) B'!E142<0.5),\"-\",IFERROR('Tabel 4(Br) B'!E142/'Tabel 4F B'!E142*100,\"-\"))","v":"-"},{"$f":"IF(OR('Tabel 4F B'!F142<5,'Tabel 4(Br) B'!F142<0.5),\"-\",IFERROR('Tabel 4(Br) B'!F142/'Tabel 4F B'!F142*100,\"-\"))","v":"-"},{"$f":"IF(OR('Tabel 4F B'!G142<5,'Tabel 4(Br) B'!G142<0.5),\"-\",IFERROR('Tabel 4(Br) B'!G142/'Tabel 4F B'!G142*100,\"-\"))","v":"-"},null,{"$f":"IF(OR('Tabel 4F B'!I142<5,'Tabel 4(Br) B'!I142<0.5),\"-\",IFERROR('Tabel 4(Br) B'!I142/'Tabel 4F B'!I142*100,\"-\"))","v":"-"}]
["Cand. Merc.",null,{"$f":"IF(OR('Tabel 4F B'!C143<5,'Tabel 4(Br) B'!C143<0.5),\"-\",IFERROR('Tabel 4(Br) B'!C143/'Tabel 4F B'!C143*100,\"-\"))","v":"-"},{"$f":"IF(OR('Tabel 4F B'!D143<5,'Tabel 4(Br) B'!D143<0.5),\"-\",IFERROR('Tabel 4(Br) B'!D143/'Tabel 4F B'!D143*100,\"-\"))","v":"-"},{"$f":"IF(OR('Tabel 4F B'!E143<5,'Tabel 4(Br) B'!E143<0.5),\"-\",IFERROR('Tabel 4(Br) B'!E143/'Tabel 4F B'!E143*100,\"-\"))","v":"-"},{"$f":"IF(OR('Tabel 4F B'!F143<5,'Tabel 4(Br) B'!F143<0.5),\"-\",IFERROR('Tabel 4(Br) B'!F143/'Tabel 4F B'!F143*100,\"-\"))","v":"-"},{"$f":"IF(OR('Tabel 4F B'!G143<5,'Tabel 4(Br) B'!G143<0.5),\"-\",IFERROR('Tabel 4(Br) B'!G143/'Tabel 4F B'!G143*100,\"-\"))","v":"-"},null,{"$f":"IF(OR('Tabel 4F B'!I143<5,'Tabel 4(Br) B'!I143<0.5),\"-\",IFERROR('Tabel 4(Br) B'!I143/'Tabel 4F B'!I143*100,\"-\"))","v":"-"}]
["HA",null,{"$f":"IF(OR('Tabel 4F B'!C144<5,'Tabel 4(Br) B'!C144<0.5),\"-\",IFERROR('Tabel 4(Br) B'!C144/'Tabel 4F B'!C144*100,\"-\"))","v":"-"},{"$f":"IF(OR('Tabel 4F B'!D144<5,'Tabel 4(Br) B'!D144<0.5),\"-\",IFERROR('Tabel 4(Br) B'!D144/'Tabel 4F B'!D144*100,\"-\"))","v":"-"},{"$f":"IF(OR('Tabel 4F B'!E144<5,'Tabel 4(Br) B'!E144<0.5),\"-\",IFERROR('Tabel 4(Br) B'!E144/'Tabel 4F B'!E144*100,\"-\"))","v":"-"},{"$f":"IF(OR('Tabel 4F B'!F144<5,'Tabel 4(Br) B'!F144<0.5),\"-\",IFERROR('Tabel 4(Br) B'!F144/'Tabel 4F B'!F144*100,\"-\"))","v":"-"},{"$f":"IF(OR('Tabel 4F B'!G144<5,'Tabel 4(Br) B'!G144<0.5),\"-\",IFERROR('Tabel 4(Br) B'!G144/'Tabel 4F B'!G144*100,\"-\"))","v":"-"},null,{"$f":"IF(OR('Tabel 4F B'!I144<5,'Tabel 4(Br) B'!I144<0.5),\"-\",IFERROR('Tabel 4(Br) B'!I144/'Tabel 4F B'!I144*100,\"-\"))","v":"-"}]
["HD",null,{"$f":"IF(OR('Tabel 4F B'!C145<5,'Tabel 4(Br) B'!C145<0.5),\"-\",IFERROR('Tabel 4(Br) B'!C145/'Tabel 4F B'!C145*100,\"-\"))","v":"-"},{"$f":"IF(OR('Tabel 4F B'!D145<5,'Tabel 4(Br) B'!D145<0.5),\"-\",IFERROR('Tabel 4(Br) B'!D145/'Tabel 4F B'!D145*100,\"-\"))","v":"-"},{"$f":"IF(OR('Tabel 4F B'!E145<5,'Tabel 4(Br) B'!E145<0.5),\"-\",IFERROR('Tabel 4(Br) B'!E145/'Tabel 4F B'!E145*100,\"-\"))","v":"-"},{"$f":"IF(OR('Tabel 4F B'!F145<5,'Tabel 4(Br) B'!F145<0.5),\"-\",IFERROR('Tabel 4(Br) B'!F145/'Tabel 4F B'!F145*100,\"-\"))","v":"-"},{"$f":"IF(OR('Tabel 4F B'!G145<5,'Tabel 4(Br) B'!G145<0.5),\"-\",IFERROR('Tabel 4(Br) B'!G145/'Tabel 4F B'!G145*100,\"-\"))","v":"-"},null,{"$f":"IF(OR('Tabel 4F B'!I145<5,'Tabel 4(Br) B'!I145<0.5),\"-\",IFERROR('Tabel 4(Br) B'!I145/'Tabel 4F B'!I145*100,\"-\"))","v":"-"}]
["Komm. og Sprog",null,{"$f":"IF(OR('Tabel 4F B'!C146<5,'Tabel 4(Br) B'!C146<0.5),\"-\",IFERROR('Tabel 4(Br) B'!C146/'Tabel 4F B'!C146*100,\"-\"))","v":"-"},{"$f":"IF(OR('Tabel 4F B'!D146<5,'Tabel 4(Br) B'!D146<0.5),\"-\",IFERROR('Tabel 4(Br) B'!D146/'Tabel 4F B'!D146*100,\"-\"))","v":"-"},{"$f":"IF(OR('Tabel 4F B'!E146<5,'Tabel 4(Br) B'!E146<0.5),\"-\",IFERROR('Tabel 4(Br) B'!E146/'Tabel 4F B'!E146*100,\"-\"))","v":"-"},{"$f":"IF(OR('Tabel 4F B'!F146<5,'Tabel 4(Br) B'!F146<0.5),\"-\",IFERROR('Tabel 4(Br) B'!F146/'Tabel 4F B'!F146*100,\"-\"))","v":"-"},{"$f":"IF(OR('Tabel 4F B'!G146<5,'Tabel 4(Br) B'!G146<0.5),\"-\",IFERROR('Tabel 4(Br) B'!G146/'Tabel 4F B'!G146*100,\"-\"))","v":"-"},null,{"$f":"IF(OR('Tabel 4F B'!I146<5,'Tabel 4(Br) B'!I146<0.5),\"-\",IFERROR('Tabel 4(Br) B'!I146/'Tabel 4F B'!I146*100,\"-\"))","v":"-"}]
["Bygningskonst.",null,{"$f":"IF(OR('Tabel 4F B'!C147<5,'Tabel 4(Br) B'!C147<0.5),\"-\",IFERROR('Tabel 4(Br) B'!C147/'Tabel 4F B'!C147*100,\"-\"))","v":"-"},{"$f":"IF(OR('Tabel 4F B'!D147<5,'Tabel 4(Br) B'!D147<0.5),\"-\",IFERROR('Tabel 4(Br) B'!D147/'Tabel 4F B'!D147*100,\"-\"))","v":"-"},{"$f":"IF(OR('Tabel 4F B'!E147<5,'Tabel 4(Br) B'!E147<0.5),\"-\",IFERROR('Tabel 4(Br) B'!E147/'Tabel 4F B'!E147*100,\"-\"))","v":"-"},{"$f":"IF(OR('Tabel 4F B'!F147<5,'Tabel 4(Br) B'!F147<0.5),\"-\",IFERROR('Tabel 4(Br) B'!F147/'Tabel 4F B'!F147*100,\"-\"))","v":"-"},{"$f":"IF(OR('Tabel 4F B'!G147<5,'Tabel 4(Br) B'!G147<0.5),\"-\",IFERROR('Tabel 4(Br) B'!G147/'Tabel 4F B'!G147*100,\"-\"))","v":"-"},null,{"$f":"IF(OR('Tabel 4F B'!I147<5,'Tabel 4(Br) B'!I147<0.5),\"-\",IFERROR('Tabel 4(Br) B'!I147/'Tabel 4F B'!I147*100,\"-\"))","v":"-"}]
["Cand. IT.",null,{"$f":"IF(OR('Tabel 4F B'!C148<5,'Tabel 4(Br) B'!C148<0.5),\"-\",IFERROR('Tabel 4(Br) B'!C148/'Tabel 4F B'!C148*100,\"-\"))","v":"-"},{"$f":"IF(OR('Tabel 4F B'!D148<5,'Tabel 4(Br) B'!D148<0.5),\"-\",IFERROR('Tabel 4(Br) B'!D148/'Tabel 4F B'!D148*100,\"-\"))","v":"-"},{"$f":"IF(OR('Tabel 4F B'!E148<5,'Tabel 4(Br) B'!E148<0.5),\"-\",IFERROR('Tabel 4(Br) B'!E148/'Tabel 4F B'!E148*100,\"-\"))","v":"-"},{"$f":"IF(OR('Tabel 4F B'!F148<5,'Tabel 4(Br) B'!F148<0.5),\"-\",IFERROR('Tabel 4(Br) B'!F148/'Tabel 4F B'!F148*100,\"-\"))","v":"-"},{"$f":"IF(OR('Tabel 4F B'!G148<5,'Tabel 4(Br) B'!G148<0.5),\"-\",IFERROR('Tabel 4(Br) B'!G148/'Tabel 4F B'!G148*100,\"-\"))","v":"-"},null,{"$f":"IF(OR('Tabel 4F B'!I148<5,'Tabel 4(Br) B'!I148<0.5),\"-\",IFERROR('Tabel 4(Br) B'!I148/'Tabel 4F B'!I148*100,\"-\"))","v":"-"}]
["Bac. Samf.",null,{"$f":"IF(OR('Tabel 4F B'!C149<5,'Tabel 4(Br) B'!C149<0.5),\"-\",IFERROR('Tabel 4(Br) B'!C149/'Tabel 4F B'!C149*100,\"-\"))","v":"-"},{"$f":"IF(OR('Tabel 4F B'!D149<5,'Tabel 4(Br) B'!D149<0.5),\"-\",IFERROR('Tabel 4(Br) B'!D149/'Tabel 4F B'!D149*100,\"-\"))","v":"-"},{"$f":"IF(OR('Tabel 4F B'!E149<5,'Tabel 4(Br) B'!E149<0.5),\"-\",IFERROR('Tabel 4(Br) B'!E149/'Tabel 4F B'!E149*100,\"-\"))","v":"-"},{"$f":"IF(OR('Tabel 4F B'!F149<5,'Tabel 4(Br) B'!F149<0.5),\"-\",IFERROR('Tabel 4(Br) B'!F149/'Tabel 4F B'!F149*100,\"-\"))","v":"-"},{"$f":"IF(OR('Tabel 4F B'!G149<5,'Tabel 4(Br) B'!G149<0.5),\"-\",IFERROR('Tabel 4(Br) B'!G149/'Tabel 4F B'!G149*100,\"-\"))","v":"-"},null,{"$f":"IF(OR('Tabel 4F B'!I149<5,'Tabel 4(Br) B'!I149<0.5),\"-\",IFERROR('Tabel 4(Br) B'!I149/'Tabel 4F B'!I149*100,\"-\"))","v":"-"}]
["Bac. Hum.",null,{"$f":"IF(OR('Tabel 4F B'!C150<5,'Tabel 4(Br) B'!C150<0.5),\"-\",IFERROR('Tabel 4(Br) B'!C150/'Tabel 4F B'!C150*100,\"-\"))","v":"-"},{"$f":"IF(OR('Tabel 4F B'!D150<5,'Tabel 4(Br) B'!D150<0.5),\"-\",IFERROR('Tabel 4(Br) B'!D150/'Tabel 4F B'!D150*100,\"-\"))","v":"-"},{"$f":"IF(OR('Tabel 4F B'!E150<5,'Tabel 4(Br) B'!E150<0.5),\"-\",IFERROR('Tabel 4(Br) B'!E150/'Tabel 4F B'!E150*100,\"-\"))","v":"-"},{"$f":"IF(OR('Tabel 4F B'!F150<5,'Tabel 4(Br) B'!F150<0.5),\"-\",IFERROR('Tabel 4(Br) B'!F150/'Tabel 4F B'!F150*100,\"-\"))","v":"-"},{"$f":"IF(OR('Tabel 4F B'!G150<5,'Tabel 4(Br) B'!G150<0.5),\"-\",IFERROR('Tabel 4(Br) B'!G150/'Tabel 4F B'!G150*100,\"-\"))","v":"-"},null,{"$f":"IF(OR('Tabel 4F B'!I150<5,'Tabel 4(Br) B'!I150<0.5),\"-\",IFERROR('Tabel 4(Br) B'!I150/'Tabel 4F B'!I150*100,\"-\"))","v":"-"}]
["Bac. Nat.",null,{"$f":"IF(OR('Tabel 4F B'!C151<5,'Tabel 4(Br) B'!C151<0.5),\"-\",IFERROR('Tabel 4(Br) B'!C151/'Tabel 4F B'!C151*100,\"-\"))","v":"-"},{"$f":"IF(OR('Tabel 4F B'!D151<5,'Tabel 4(Br) B'!D151<0.5),\"-\",IFERROR('Tabel 4(Br) B'!D151/'Tabel 4F B'!D151*100,\"-\"))","v":"-"},{"$f":"IF(OR('Tabel 4F B'!E151<5,'Tabel 4(Br) B'!E151<0.5),\"-\",IFERROR('Tabel 4(Br) B'!E151/'Tabel 4F B'!E151*100,\"-\"))","v":"-"},{"$f":"IF(OR('Tabel 4F B'!F151<5,'Tabel 4(Br) B'!F151<0.5),\"-\",IFERROR('Tabel 4(Br) B'!F151/'Tabel 4F B'!F151*100,\"-\"))","v":"-"},{"$f":"IF(OR('Tabel 4F B'!G151<5,'Tabel 4(Br) B'!G151<0.5),\"-\",IFERROR('Tabel 4(Br) B'!G151/'Tabel 4F B'!G151*100,\"-\"))","v":"-"},null,{"$f":"IF(OR('Tabel 4F B'!I151<5,'Tabel 4(Br) B'!I151<0.5),\"-\",IFERROR('Tabel 4(Br) B'!I151/'Tabel 4F B'!I151*100,\"-\"))","v":"-"}]
["Andre",null,{"$f":"IF(OR('Tabel 4F B'!C152<5,'Tabel 4(Br) B'!C152<0.5),\"-\",IFERROR('Tabel 4(Br) B'!C152/'Tabel 4F B'!C152*100,\"-\"))","v":"-"},{"$f":"IF(OR('Tabel 4F B'!D152<5,'Tabel 4(Br) B'!D152<0.5),\"-\",IFERROR('Tabel 4(Br) B'!D152/'Tabel 4F B'!D152*100,\"-\"))","v":"-"},{"$f":"IF(OR('Tabel 4F B'!E152<5,'Tabel 4(Br) B'!E152<0.5),\"-\",IFERROR('Tabel 4(Br) B'!E152/'Tabel 4F B'!E152*100,\"-\"))","v":"-"},{"$f":"IF(OR('Tabel 4F B'!F152<5,'Tabel 4(Br) B'!F152<0.5),\"-\",IFERROR('Tabel 4(Br) B'!F152/'Tabel 4F B'!F152*100,\"-\"))","v":"-"},{"$f":"IF(OR('Tabel 4F B'!G152<5,'Tabel 4(Br) B'!G152<0.5),\"-\",IFERROR('Tabel 4(Br) B'!G152/'Tabel 4F B'!G152*100,\"-\"))","v":"-"},null,{"$f":"IF(OR('Tabel 4F B'!I152<5,'Tabel 4(Br) B'!I152<0.5),\"-\",IFERROR('Tabel 4(Br) B'!I152/'Tabel 4F B'!I152*100,\"-\"))","v":"-"}]
[]
["Total",null,{"$f":"IF(OR('Tabel 4F B'!C154<5,'Tabel 4(Br) B'!C154<0.5),\"-\",IFERROR('Tabel 4(Br) B'!C154/'Tabel 4F B'!C154*100,\"-\"))","v":"-"},{"$f":"IF(OR('Tabel 4F B'!D154<5,'Tabel 4(Br) B'!D154<0.5),\"-\",IFERROR('Tabel 4(Br) B'!D154/'Tabel 4F B'!D154*100,\"-\"))","v":"-"},{"$f":"IF(OR('Tabel 4F B'!E154<5,'Tabel 4(Br) B'!E154<0.5),\"-\",IFERROR('Tabel 4(Br) B'!E154/'Tabel 4F B'!E154*100,\"-\"))","v":"-"},{"$f":"IF(OR('Tabel 4F B'!F154<5,'Tabel 4(Br) B'!F154<0.5),\"-\",IFERROR('Tabel 4(Br) B'!F154/'Tabel 4F B'!F154*100,\"-\"))","v":"-"},{"$f":"IF(OR('Tabel 4F B'!G154<5,'Tabel 4(Br) B'!G154<0.5),\"-\",IFERROR('Tabel 4(Br) B'!G154/'Tabel 4F B'!G154*100,\"-\"))","v":"-"},null,{"$f":"IF(OR('Tabel 4F B'!I154<5,'Tabel 4(Br) B'!I154<0.5),\"-\",IFERROR('Tabel 4(Br) B'!I154/'Tabel 4F B'!I154*100,\"-\"))","v":"-"}]
[]
["Ingeniører i alt",null,{"$f":"IF(OR('Tabel 4F B'!C156<5,'Tabel 4(Br) B'!C156<0.5),\"-\",IFERROR('Tabel 4(Br) B'!C156/'Tabel 4F B'!C156*100,\"-\"))","v":"-"},{"$f":"IF(OR('Tabel 4F B'!D156<5,'Tabel 4(Br) B'!D156<0.5),\"-\",IFERROR('Tabel 4(Br) B'!D156/'Tabel 4F B'!D156*100,\"-\"))","v":"-"},{"$f":"IF(OR('Tabel 4F B'!E156<5,'Tabel 4(Br) B'!E156<0.5),\"-\",IFERROR('Tabel 4(Br) B'!E156/'Tabel 4F B'!E156*100,\"-\"))","v":"-"},{"$f":"IF(OR('Tabel 4F B'!F156<5,'Tabel 4(Br) B'!F156<0.5),\"-\",IFERROR('Tabel 4(Br) B'!F156/'Tabel 4F B'!F156*100,\"-\"))","v":"-"},{"$f":"IF(OR('Tabel 4F B'!G156<5,'Tabel 4(Br) B'!G156<0.5),\"-\",IFERROR('Tabel 4(Br) B'!G156/'Tabel 4F B'!G156*100,\"-\"))","v":"-"},null,{"$f":"IF(OR('Tabel 4F B'!I156<5,'Tabel 4(Br) B'!I156<0.5),\"-\",IFERROR('Tabel 4(Br) B'!I156/'Tabel 4F B'!I156*100,\"-\"))","v":"-"}]
["Magistre i alt",null,{"$f":"IF(OR('Tabel 4F B'!C157<5,'Tabel 4(Br) B'!C157<0.5),\"-\",IFERROR('Tabel 4(Br) B'!C157/'Tabel 4F B'!C157*100,\"-\"))","v":"-"},{"$f":"IF(OR('Tabel 4F B'!D157<5,'Tabel 4(Br) B'!D157<0.5),\"-\",IFERROR('Tabel 4(Br) B'!D157/'Tabel 4F B'!D157*100,\"-\"))","v":"-"},{"$f":"IF(OR('Tabel 4F B'!E157<5,'Tabel 4(Br) B'!E157<0.5),\"-\",IFERROR('Tabel 4(Br) B'!E157/'Tabel 4F B'!E157*100,\"-\"))","v":"-"},{"$f":"IF(OR('Tabel 4F B'!F157<5,'Tabel 4(Br) B'!F157<0.5),\"-\",IFERROR('Tabel 4(Br) B'!F157/'Tabel 4F B'!F157*100,\"-\"))","v":"-"},{"$f":"IF(OR('Tabel 4F B'!G157<5,'Tabel 4(Br) B'!G157<0.5),\"-\",IFERROR('Tabel 4(Br) B'!G157/'Tabel 4F B'!G157*100,\"-\"))","v":"-"},null,{"$f":"IF(OR('Tabel 4F B'!I157<5,'Tabel 4(Br) B'!I157<0.5),\"-\",IFERROR('Tabel 4(Br) B'!I157/'Tabel 4F B'!I157*100,\"-\"))","v":"-"}]
["DJØF'ere i alt",null,{"$f":"IF(OR('Tabel 4F B'!C158<5,'Tabel 4(Br) B'!C158<0.5),\"-\",IFERROR('Tabel 4(Br) B'!C158/'Tabel 4F B'!C158*100,\"-\"))","v":"-"},{"$f":"IF(OR('Tabel 4F B'!D158<5,'Tabel 4(Br) B'!D158<0.5),\"-\",IFERROR('Tabel 4(Br) B'!D158/'Tabel 4F B'!D158*100,\"-\"))","v":"-"},{"$f":"IF(OR('Tabel 4F B'!E158<5,'Tabel 4(Br) B'!E158<0.5),\"-\",IFERROR('Tabel 4(Br) B'!E158/'Tabel 4F B'!E158*100,\"-\"))","v":"-"},{"$f":"IF(OR('Tabel 4F B'!F158<5,'Tabel 4(Br) B'!F158<0.5),\"-\",IFERROR('Tabel 4(Br) B'!F158/'Tabel 4F B'!F158*100,\"-\"))","v":"-"},{"$f":"IF(OR('Tabel 4F B'!G158<5,'Tabel 4(Br) B'!G158<0.5),\"-\",IFERROR('Tabel 4(Br) B'!G158/'Tabel 4F B'!G158*100,\"-\"))","v":"-"},null,{"$f":"IF(OR('Tabel 4F B'!I158<5,'Tabel 4(Br) B'!I158<0.5),\"-\",IFERROR('Tabel 4(Br) B'!I158/'Tabel 4F B'!I158*100,\"-\"))","v":"-"}]

{"sheet":"Tabel 5F B","index":9,"n_rows":158,"n_cols":10,"rows_kept":158,"cut":false,"hidden":false,"merged":[]}
["Tabel 5. Antal forsikrede - kandidatalder"]
[]
["Bornholm"]
[]
[null,null,"Under 1 år"," 1 - 2 år","2 - 4 år","5 - 9 år","10 - 14 år","Over 15 år",null,"Uoplyst"]
[]
["Civ. ing.",null,1,1,1,10,4,16,null,1]
["Diplom ing.",null,1,1,5,8,6,40,null,2]
["Cand. Scient. Tek",null,1,2,10,7,3,2,null,4]
["MA. Hum.",null,3,3,14,33,16,46,null,9]
["MA. Nat.",null,0,0,0,4,4,35,null,3]
["MA. Ph.d.",null,0,1,0,1,2,3,null,0]
["MA. Samf.",null,1,2,3,3,1,6,null,0]
["Øvrige Mag.",null,1,1,3,4,2,6,null,0]
["Agronom",null,0,0,1,0,0,7,null,2]
["Landsk. Arkt.",null,0,0,0,0,0,3,null,0]
["Hortonom",null,0,0,0,0,1,1,null,0]
["Forstkand.",null,0,0,0,0,0,1,null,0]
["Jordbrugsakad.",null,0,0,1,0,1,12,null,2]
["Mejeriing.",null,0,0,0,0,0,0,null,0]
["Levn.m.kand.",null,0,0,0,1,0,0,null,0]
["Dyrlæge",null,0,1,0,6,0,7,null,0]
["Farmaceut",null,0,1,0,0,1,4,null,0]
["Læge",null,4,5,3,5,1,9,null,6]
["Tandlæge",null,0,0,0,2,3,2,null,3]
["Arkitekt",null,0,0,1,2,1,8,null,2]
["Landinspek.",null,0,0,0,1,0,0,null,0]
["Bibliotekar",null,0,1,0,3,1,6,null,4]
["Musikudd.",null,0,0,0,0,0,2,null,0]
["Teolog",null,0,0,1,0,2,9,null,1]
["Psykolog",null,3,4,6,4,3,8,null,2]
["Jurist",null,0,2,1,9,1,15,null,4]
["Økonom",null,0,0,1,2,1,3,null,2]
["Samf. Adm.",null,0,1,5,12,7,18,null,9]
["Cand. Merc.",null,0,0,2,3,3,15,null,6]
["HA",null,0,0,0,0,2,10,null,0]
["HD",null,0,0,0,2,1,6,null,0]
["Komm. og Sprog",null,0,1,0,3,4,6,null,1]
["Bygningskonst.",null,2,2,3,3,6,11,null,1]
["Cand. IT.",null,0,0,0,0,0,1,null,1]
["Bac. Samf.",null,0,0,0,1,0,0,null,4]
["Bac. Hum.",null,1,1,3,2,1,5,null,0]
["Bac. Nat.",null,3,1,0,1,0,2,null,3]
["Andre",null,9,2,7,6,8,51,null,24]
[]
["Total",null,30,33,70,138,85,364,null,94]
[]
["Ingeniører i alt",null,2,2,6,18,10,56,null,3]
["Magistre i alt",null,5,7,20,45,25,96,null,12]
["DJØF'ere i alt",null,0,3,9,26,14,61,null,21]
[]
[]
[]
[]
[]
[]
["Bornholm"]
[]
[null,null,"Under 1 år"," 1 - 2 år","2 - 4 år","5 - 9 år","10 - 14 år","Over 15 år",null,"Uoplyst"]
[]
["Civ. ing.",null,1,1,1,10,4,16,null,1]
["Diplom ing.",null,1,1,5,8,6,40,null,2]
["Cand. Scient. Tek",null,1,2,10,7,3,2,null,4]
["MA. Hum.",null,3,3,14,33,16,46,null,9]
["MA. Nat.",null,0,0,0,4,4,35,null,3]
["MA. Ph.d.",null,0,1,0,1,2,3,null,0]
["MA. Samf.",null,1,2,3,3,1,6,null,0]
["Øvrige Mag.",null,1,1,3,4,2,6,null,0]
["Agronom",null,0,0,1,0,0,7,null,2]
["Landsk. Arkt.",null,0,0,0,0,0,3,null,0]
["Hortonom",null,0,0,0,0,1,1,null,0]
["Forstkand.",null,0,0,0,0,0,1,null,0]
["Jordbrugsakad.",null,0,0,1,0,1,12,null,2]
["Mejeriing.",null,0,0,0,0,0,0,null,0]
["Levn.m.kand.",null,0,0,0,1,0,0,null,0]
["Dyrlæge",null,0,1,0,6,0,7,null,0]
["Farmaceut",null,0,1,0,0,1,4,null,0]
["Læge",null,4,5,3,5,1,8,null,6]
["Tandlæge",null,0,0,0,2,3,2,null,3]
["Arkitekt",null,0,0,1,2,1,8,null,2]
["Landinspek.",null,0,0,0,1,0,0,null,0]
["Bibliotekar",null,0,1,0,3,1,6,null,4]
["Musikudd.",null,0,0,0,0,0,2,null,0]
["Teolog",null,0,0,1,0,2,9,null,1]
["Psykolog",null,3,4,6,4,3,8,null,2]
["Jurist",null,0,2,1,9,1,15,null,4]
["Økonom",null,0,0,1,2,1,3,null,2]
["Samf. Adm.",null,0,1,5,12,7,18,null,9]
["Cand. Merc.",null,0,0,2,3,3,15,null,6]
["HA",null,0,0,0,0,2,10,null,0]
["HD",null,0,0,0,2,1,6,null,0]
["Komm. og Sprog",null,0,1,0,3,4,6,null,1]
["Bygningskonst.",null,2,2,3,3,6,11,null,1]
["Cand. IT.",null,0,0,0,0,0,1,null,1]
["Bac. Samf.",null,0,0,0,1,0,0,null,4]
["Bac. Hum.",null,1,1,3,2,1,5,null,0]
["Bac. Nat.",null,3,1,0,1,0,2,null,3]
["Andre",null,9,2,7,6,8,51,null,24]
[]
["Total",null,30,33,70,138,85,363,null,94]
[]
["Ingeniører i alt",null,2,2,6,18,10,56,null,3]
["Magistre i alt",null,5,7,20,45,25,96,null,12]
["DJØF'ere i alt",null,0,3,9,26,14,61,null,21]
[]
[]
[]
[]
[]
[]
["Christiansø"]
[]
[null,null,"Under 1 år"," 1 - 2 år","2 - 4 år","5 - 9 år","10 - 14 år","Over 15 år",null,"Uoplyst"]
[]
["Civ. ing.",null,0,0,0,0,0,0,null,0]
["Diplom ing.",null,0,0,0,0,0,0,null,0]
["Cand. Scient. Tek",null,0,0,0,0,0,0,null,0]
["MA. Hum.",null,0,0,0,0,0,0,null,0]
["MA. Nat.",null,0,0,0,0,0,0,null,0]
["MA. Ph.d.",null,0,0,0,0,0,0,null,0]
["MA. Samf.",null,0,0,0,0,0,0,null,0]
["Øvrige Mag.",null,0,0,0,0,0,0,null,0]
["Agronom",null,0,0,0,0,0,0,null,0]
["Landsk. Arkt.",null,0,0,0,0,0,0,null,0]
["Hortonom",null,0,0,0,0,0,0,null,0]
["Forstkand.",null,0,0,0,0,0,0,null,0]
["Jordbrugsakad.",null,0,0,0,0,0,0,null,0]
["Mejeriing.",null,0,0,0,0,0,0,null,0]
["Levn.m.kand.",null,0,0,0,0,0,0,null,0]
["Dyrlæge",null,0,0,0,0,0,0,null,0]
["Farmaceut",null,0,0,0,0,0,0,null,0]
["Læge",null,0,0,0,0,0,1,null,0]
["Tandlæge",null,0,0,0,0,0,0,null,0]
["Arkitekt",null,0,0,0,0,0,0,null,0]
["Landinspek.",null,0,0,0,0,0,0,null,0]
["Bibliotekar",null,0,0,0,0,0,0,null,0]
["Musikudd.",null,0,0,0,0,0,0,null,0]
["Teolog",null,0,0,0,0,0,0,null,0]
["Psykolog",null,0,0,0,0,0,0,null,0]
["Jurist",null,0,0,0,0,0,0,null,0]
["Økonom",null,0,0,0,0,0,0,null,0]
["Samf. Adm.",null,0,0,0,0,0,0,null,0]
["Cand. Merc.",null,0,0,0,0,0,0,null,0]
["HA",null,0,0,0,0,0,0,null,0]
["HD",null,0,0,0,0,0,0,null,0]
["Komm. og Sprog",null,0,0,0,0,0,0,null,0]
["Bygningskonst.",null,0,0,0,0,0,0,null,0]
["Cand. IT.",null,0,0,0,0,0,0,null,0]
["Bac. Samf.",null,0,0,0,0,0,0,null,0]
["Bac. Hum.",null,0,0,0,0,0,0,null,0]
["Bac. Nat.",null,0,0,0,0,0,0,null,0]
["Andre",null,0,0,0,0,0,0,null,0]
[]
["Total",null,0,0,0,0,0,1,null,0]
[]
["Ingeniører i alt",null,0,0,0,0,0,0,null,0]
["Magistre i alt",null,0,0,0,0,0,0,null,0]
["DJØF'ere i alt",null,0,0,0,0,0,0,null,0]

{"sheet":"Tabel 5 B","index":10,"n_rows":158,"n_cols":10,"rows_kept":158,"cut":false,"hidden":false,"merged":[]}
["Tabel 5. Antal ledighedsberørte - kandidatalder"]
[]
["Bornholm"]
[]
[null,null,"Under 1 år"," 1 - 2 år","2 - 4 år","5 - 9 år","10 - 14 år","Over 15 år",null,"Uoplyst"]
[]
["Civ. ing.",null,0,0,0,3,0,0,null,0]
["Diplom ing.",null,0,0,0,0,1,2,null,0]
["Cand. Scient. Tek",null,0,0,5,0,0,0,null,1]
["MA. Hum.",null,2,2,1,7,3,3,null,4]
["MA. Nat.",null,0,0,0,0,0,1,null,2]
["MA. Ph.d.",null,0,0,0,1,0,0,null,0]
["MA. Samf.",null,0,0,0,0,1,1,null,0]
["Øvrige Mag.",null,0,1,1,2,0,1,null,0]
["Agronom",null,0,0,0,0,0,0,null,0]
["Landsk. Arkt.",null,0,0,0,0,0,0,null,0]
["Hortonom",null,0,0,0,0,0,0,null,0]
["Forstkand.",null,0,0,0,0,0,0,null,0]
["Jordbrugsakad.",null,0,0,0,0,0,0,null,0]
["Mejeriing.",null,0,0,0,0,0,0,null,0]
["Levn.m.kand.",null,0,0,0,0,0,0,null,0]
["Dyrlæge",null,0,0,0,0,0,1,null,0]
["Farmaceut",null,0,0,0,0,0,0,null,0]
["Læge",null,1,0,0,0,0,0,null,0]
["Tandlæge",null,0,0,0,0,0,0,null,0]
["Arkitekt",null,0,0,0,0,0,1,null,0]
["Landinspek.",null,0,0,0,0,0,0,null,0]
["Bibliotekar",null,0,0,0,0,0,1,null,0]
["Musikudd.",null,0,0,0,0,0,1,null,0]
["Teolog",null,0,0,0,0,0,0,null,0]
["Psykolog",null,1,0,0,1,0,0,null,0]
["Jurist",null,0,0,0,0,0,0,null,0]
["Økonom",null,0,0,0,0,0,0,null,0]
["Samf. Adm.",null,0,0,0,0,0,1,null,2]
["Cand. Merc.",null,0,0,0,0,0,2,null,1]
["HA",null,0,0,0,0,0,0,null,0]
["HD",null,0,0,0,0,0,0,null,0]
["Komm. og Sprog",null,0,0,0,1,1,2,null,0]
["Bygningskonst.",null,0,0,0,0,0,0,null,0]
["Cand. IT.",null,0,0,0,0,0,0,null,0]
["Bac. Samf.",null,0,0,0,0,0,0,null,0]
["Bac. Hum.",null,0,0,1,0,0,1,null,0]
["Bac. Nat.",null,0,1,0,0,0,0,null,1]
["Andre",null,1,0,0,3,1,4,null,2]
[]
["Total",null,5,4,8,18,7,22,null,13]
[]
["Ingeniører i alt",null,0,0,0,3,1,2,null,0]
["Magistre i alt",null,2,3,2,10,4,6,null,6]
["DJØF'ere i alt",null,0,0,0,0,0,3,null,3]
[]
[]
[]
[]
[]
[]
["Bornholm"]
[]
[null,null,"Under 1 år"," 1 - 2 år","2 - 4 år","5 - 9 år","10 - 14 år","Over 15 år",null,"Uoplyst"]
[]
["Civ. ing.",null,0,0,0,3,0,0,null,0]
["Diplom ing.",null,0,0,0,0,1,2,null,0]
["Cand. Scient. Tek",null,0,0,5,0,0,0,null,1]
["MA. Hum.",null,2,2,1,7,3,3,null,4]
["MA. Nat.",null,0,0,0,0,0,1,null,2]
["MA. Ph.d.",null,0,0,0,1,0,0,null,0]
["MA. Samf.",null,0,0,0,0,1,1,null,0]
["Øvrige Mag.",null,0,1,1,2,0,1,null,0]
["Agronom",null,0,0,0,0,0,0,null,0]
["Landsk. Arkt.",null,0,0,0,0,0,0,null,0]
["Hortonom",null,0,0,0,0,0,0,null,0]
["Forstkand.",null,0,0,0,0,0,0,null,0]
["Jordbrugsakad.",null,0,0,0,0,0,0,null,0]
["Mejeriing.",null,0,0,0,0,0,0,null,0]
["Levn.m.kand.",null,0,0,0,0,0,0,null,0]
["Dyrlæge",null,0,0,0,0,0,1,null,0]
["Farmaceut",null,0,0,0,0,0,0,null,0]
["Læge",null,1,0,0,0,0,0,null,0]
["Tandlæge",null,0,0,0,0,0,0,null,0]
["Arkitekt",null,0,0,0,0,0,1,null,0]
["Landinspek.",null,0,0,0,0,0,0,null,0]
["Bibliotekar",null,0,0,0,0,0,1,null,0]
["Musikudd.",null,0,0,0,0,0,1,null,0]
["Teolog",null,0,0,0,0,0,0,null,0]
["Psykolog",null,1,0,0,1,0,0,null,0]
["Jurist",null,0,0,0,0,0,0,null,0]
["Økonom",null,0,0,0,0,0,0,null,0]
["Samf. Adm.",null,0,0,0,0,0,1,null,2]
["Cand. Merc.",null,0,0,0,0,0,2,null,1]
["HA",null,0,0,0,0,0,0,null,0]
["HD",null,0,0,0,0,0,0,null,0]
["Komm. og Sprog",null,0,0,0,1,1,2,null,0]
["Bygningskonst.",null,0,0,0,0,0,0,null,0]
["Cand. IT.",null,0,0,0,0,0,0,null,0]
["Bac. Samf.",null,0,0,0,0,0,0,null,0]
["Bac. Hum.",null,0,0,1,0,0,1,null,0]
["Bac. Nat.",null,0,1,0,0,0,0,null,1]
["Andre",null,1,0,0,3,1,4,null,2]
[]
["Total",null,5,4,8,18,7,22,null,13]
[]
["Ingeniører i alt",null,0,0,0,3,1,2,null,0]
["Magistre i alt",null,2,3,2,10,4,6,null,6]
["DJØF'ere i alt",null,0,0,0,0,0,3,null,3]
[]
[]
[]
[]
[]
[]
["Christiansø"]
[]
[null,null,"Under 1 år"," 1 - 2 år","2 - 4 år","5 - 9 år","10 - 14 år","Over 15 år",null,"Uoplyst"]
[]
["Civ. ing.",null,0,0,0,0,0,0,null,0]
["Diplom ing.",null,0,0,0,0,0,0,null,0]
["Cand. Scient. Tek",null,0,0,0,0,0,0,null,0]
["MA. Hum.",null,0,0,0,0,0,0,null,0]
["MA. Nat.",null,0,0,0,0,0,0,null,0]
["MA. Ph.d.",null,0,0,0,0,0,0,null,0]
["MA. Samf.",null,0,0,0,0,0,0,null,0]
["Øvrige Mag.",null,0,0,0,0,0,0,null,0]
["Agronom",null,0,0,0,0,0,0,null,0]
["Landsk. Arkt.",null,0,0,0,0,0,0,null,0]
["Hortonom",null,0,0,0,0,0,0,null,0]
["Forstkand.",null,0,0,0,0,0,0,null,0]
["Jordbrugsakad.",null,0,0,0,0,0,0,null,0]
["Mejeriing.",null,0,0,0,0,0,0,null,0]
["Levn.m.kand.",null,0,0,0,0,0,0,null,0]
["Dyrlæge",null,0,0,0,0,0,0,null,0]
["Farmaceut",null,0,0,0,0,0,0,null,0]
["Læge",null,0,0,0,0,0,0,null,0]
["Tandlæge",null,0,0,0,0,0,0,null,0]
["Arkitekt",null,0,0,0,0,0,0,null,0]
["Landinspek.",null,0,0,0,0,0,0,null,0]
["Bibliotekar",null,0,0,0,0,0,0,null,0]
["Musikudd.",null,0,0,0,0,0,0,null,0]
["Teolog",null,0,0,0,0,0,0,null,0]
["Psykolog",null,0,0,0,0,0,0,null,0]
["Jurist",null,0,0,0,0,0,0,null,0]
["Økonom",null,0,0,0,0,0,0,null,0]
["Samf. Adm.",null,0,0,0,0,0,0,null,0]
["Cand. Merc.",null,0,0,0,0,0,0,null,0]
["HA",null,0,0,0,0,0,0,null,0]
["HD",null,0,0,0,0,0,0,null,0]
["Komm. og Sprog",null,0,0,0,0,0,0,null,0]
["Bygningskonst.",null,0,0,0,0,0,0,null,0]
["Cand. IT.",null,0,0,0,0,0,0,null,0]
["Bac. Samf.",null,0,0,0,0,0,0,null,0]
["Bac. Hum.",null,0,0,0,0,0,0,null,0]
["Bac. Nat.",null,0,0,0,0,0,0,null,0]
["Andre",null,0,0,0,0,0,0,null,0]
[]
["Total",null,0,0,0,0,0,0,null,0]
[]
["Ingeniører i alt",null,0,0,0,0,0,0,null,0]
["Magistre i alt",null,0,0,0,0,0,0,null,0]
["DJØF'ere i alt",null,0,0,0,0,0,0,null,0]

{"sheet":"Tabel 5Br B","index":11,"n_rows":158,"n_cols":10,"rows_kept":158,"cut":false,"hidden":false,"merged":[]}
["Tabel 5. Gns. antal ledige - kandidatalder"]
[]
["Bornholm"]
[]
[null,null,"Under 1 år"," 1 - 2 år","2 - 4 år","5 - 9 år","10 - 14 år","Over 15 år",null,"Uoplyst"]
[]
["Civ. ing.",null,0,0,0,2.9994386577683478,0,0,null,0]
["Diplom ing.",null,0,0,0,0,0.71290463419197891,1.9996257718455723,null,0]
["Cand. Scient. Tek",null,0,0,4.2406287032994356,0,0,0,null,0.39730555728810657]
["MA. Hum.",null,0.65427555666445869,1.4919229090001807,0.99981288592272222,5.2753695503025142,2.8622216678101182,2.9994386577683372,null,3.5002806711158172]
["MA. Nat.",null,0,0,0,0,0,0.99981288592278617,null,1.9996257718455688]
["MA. Ph.d.",null,0,0,0,0.99981288592278439,0,0,null,0]
["MA. Samf.",null,0,0,0,0,0.99981288592278439,0.99981288592278261,null,0]
["Øvrige Mag.",null,0,0.90750327449635115,0.99981288592277906,1.9996257718455688,0,0.99981288592278617,null,0]
["Agronom",null,0,0,0,0,0,0,null,0]
["Landsk. Arkt.",null,0,0,0,0,0,0,null,0]
["Hortonom",null,0,0,0,0,0,0,null,0]
["Forstkand.",null,0,0,0,0,0,0,null,0]
["Jordbrugsakad.",null,0,0,0,0,0,0,null,0]
["Mejeriing.",null,0,0,0,0,0,0,null,0]
["Levn.m.kand.",null,0,0,0,0,0,0,null,0]
["Dyrlæge",null,0,0,0,0,0,0.53826482879061932,null,0]
["Farmaceut",null,0,0,0,0,0,0,null,0]
["Læge",null,0.30749080022452802,0,0,0,0,0,null,0]
["Tandlæge",null,0,0,0,0,0,0,null,0]
["Arkitekt",null,0,0,0,0,0,0.99981288592278617,null,0]
["Landinspek.",null,0,0,0,0,0,0,null,0]
["Bibliotekar",null,0,0,0,0,0,0.99981288592278439,null,0]
["Musikudd.",null,0,0,0,0,0,0.99981288592278417,null,0]
["Teolog",null,0,0,0,0,0,0,null,0]
["Psykolog",null,0.99981288592278617,0,0,0.58441963450383483,0,0,null,0]
["Jurist",null,0,0,0,0,0,0,null,0]
["Økonom",null,0,0,0,0,0,0,null,0]
["Samf. Adm.",null,0,0,0,0,0,0.99981288592278617,null,1.9996257718455723]
["Cand. Merc.",null,0,0,0,0,0,1.6004490737853132,null,0.99981288592279327]
["HA",null,0,0,0,0,0,0,null,0]
["HD",null,0,0,0,0,0,0,null,0]
["Komm. og Sprog",null,0,0,0,0.99981288592278261,0.99981288592278261,1.9996257718455652,null,0]
["Bygningskonst.",null,0,0,0,0,0,0,null,0]
["Cand. IT.",null,0,0,0,0,0,0,null,0]
["Bac. Samf.",null,0,0,0,0,0,0,null,0]
["Bac. Hum.",null,0,0,0.99981288592277906,0,0,0.99981288592278617,null,0]
["Bac. Nat.",null,0,0.99357575001559084,0,0,0,0,null,0.99981288592278439]
["Andre",null,0.95365808020957843,0,0,2.8085822990082931,0.99981288592276485,3.588848000997956,null,1.8380839518492991]
[]
["Total",null,2.9152373230213513,3.3930019335121226,7.240067361067716,15.667061685274126,6.574564959770429,20.724755192415646,null,11.734547495789942]
[]
["Ingeniører i alt",null,0,0,0,2.9994386577683478,0.71290463419197891,1.9996257718455723,null,0]
["Magistre i alt",null,0.65427555666445869,2.3994261834965318,1.9996257718455013,8.2748082080708674,3.8620345537329026,5.9988773155366921,null,5.499906442961386]
["DJØF'ere i alt",null,0,0,0,0,0,2.6002619597080994,null,2.9994386577683656]
[]
[]
[]
[]
[]
[]
["Bornholm"]
[]
[null,null,"Under 1 år"," 1 - 2 år","2 - 4 år","5 - 9 år","10 - 14 år","Over 15 år",null,"Uoplyst"]
[]
["Civ. ing.",null,0,0,0,2.9994386577683527,0,0,null,0]
["Diplom ing.",null,0,0,0,0,0.71290463419197903,1.9996257718455686,null,0]
["Cand. Scient. Tek",null,0,0,4.2406287032994445,0,0,0,null,0.3973055572880933]
["MA. Hum.",null,0.65427555666437964,1.4919229090001871,0.99981288592278428,5.2753695503025009,2.8622216678101413,2.9994386577683527,null,3.5002806711158239]
["MA. Nat.",null,0,0,0,0,0,0.99981288592278428,null,1.9996257718455686]
["MA. Ph.d.",null,0,0,0,0.99981288592278428,0,0,null,0]
["MA. Samf.",null,0,0,0,0,0.99981288592278428,0.99981288592278428,null,0]
["Øvrige Mag.",null,0,0.90750327449635115,0.99981288592278428,1.9996257718455686,0,0.99981288592278428,null,0]
["Agronom",null,0,0,0,0,0,0,null,0]
["Landsk. Arkt.",null,0,0,0,0,0,0,null,0]
["Hortonom",null,0,0,0,0,0,0,null,0]
["Forstkand.",null,0,0,0,0,0,0,null,0]
["Jordbrugsakad.",null,0,0,0,0,0,0,null,0]
["Mejeriing.",null,0,0,0,0,0,0,null,0]
["Levn.m.kand.",null,0,0,0,0,0,0,null,0]
["Dyrlæge",null,0,0,0,0,0,0.53826482879061932,null,0]
["Farmaceut",null,0,0,0,0,0,0,null,0]
["Læge",null,0.30749080022453684,0,0,0,0,0,null,0]
["Tandlæge",null,0,0,0,0,0,0,null,0]
["Arkitekt",null,0,0,0,0,0,0.99981288592278428,null,0]
["Landinspek.",null,0,0,0,0,0,0,null,0]
["Bibliotekar",null,0,0,0,0,0,0.99981288592278428,null,0]
["Musikudd.",null,0,0,0,0,0,0.99981288592278428,null,0]
["Teolog",null,0,0,0,0,0,0,null,0]
["Psykolog",null,0.99981288592278428,0,0,0.58441963450383583,0,0,null,0]
["Jurist",null,0,0,0,0,0,0,null,0]
["Økonom",null,0,0,0,0,0,0,null,0]
["Samf. Adm.",null,0,0,0,0,0,0.99981288592278428,null,1.9996257718455686]
["Cand. Merc.",null,0,0,0,0,0,1.6004490737853176,null,0.99981288592278428]
["HA",null,0,0,0,0,0,0,null,0]
["HD",null,0,0,0,0,0,0,null,0]
["Komm. og Sprog",null,0,0,0,0.99981288592278428,0.99981288592278428,1.9996257718455686,null,0]
["Bygningskonst.",null,0,0,0,0,0,0,null,0]
["Cand. IT.",null,0,0,0,0,0,0,null,0]
["Bac. Samf.",null,0,0,0,0,0,0,null,0]
["Bac. Hum.",null,0,0,0.99981288592278428,0,0,0.99981288592278428,null,0]
["Bac. Nat.",null,0,0.99357575001559284,0,0,0,0,null,0.99981288592278428]
["Andre",null,0.95365808020956777,0,0,2.8085822990082949,0.99981288592278428,3.5888480009979418,null,1.8380839518493108]
[]
["Total",null,2.9152373230212687,3.3930019335121306,7.2400673610677977,15.667061685274122,6.5745649597704734,20.724755192415643,null,11.734547495789935]
[]
["Ingeniører i alt",null,0,0,0,2.9994386577683527,0.71290463419197903,1.9996257718455686,null,0]
["Magistre i alt",null,0.65427555666437964,2.399426183496538,1.9996257718455686,8.2748082080708532,3.8620345537329257,5.9988773155367054,null,5.4999064429613922]
["DJØF'ere i alt",null,0,0,0,0,0,2.600261959708102,null,2.9994386577683527]
[]
[]
[]
[]
[]
[]
["Christiansø"]
[]
[null,null,"Under 1 år"," 1 - 2 år","2 - 4 år","5 - 9 år","10 - 14 år","Over 15 år",null,"Uoplyst"]
[]
["Civ. ing.",null,0,0,0,0,0,0,null,0]
["Diplom ing.",null,0,0,0,0,0,0,null,0]
["Cand. Scient. Tek",null,0,0,0,0,0,0,null,0]
["MA. Hum.",null,0,0,0,0,0,0,null,0]
["MA. Nat.",null,0,0,0,0,0,0,null,0]
["MA. Ph.d.",null,0,0,0,0,0,0,null,0]
["MA. Samf.",null,0,0,0,0,0,0,null,0]
["Øvrige Mag.",null,0,0,0,0,0,0,null,0]
["Agronom",null,0,0,0,0,0,0,null,0]
["Landsk. Arkt.",null,0,0,0,0,0,0,null,0]
["Hortonom",null,0,0,0,0,0,0,null,0]
["Forstkand.",null,0,0,0,0,0,0,null,0]
["Jordbrugsakad.",null,0,0,0,0,0,0,null,0]
["Mejeriing.",null,0,0,0,0,0,0,null,0]
["Levn.m.kand.",null,0,0,0,0,0,0,null,0]
["Dyrlæge",null,0,0,0,0,0,0,null,0]
["Farmaceut",null,0,0,0,0,0,0,null,0]
["Læge",null,0,0,0,0,0,0,null,0]
["Tandlæge",null,0,0,0,0,0,0,null,0]
["Arkitekt",null,0,0,0,0,0,0,null,0]
["Landinspek.",null,0,0,0,0,0,0,null,0]
["Bibliotekar",null,0,0,0,0,0,0,null,0]
["Musikudd.",null,0,0,0,0,0,0,null,0]
["Teolog",null,0,0,0,0,0,0,null,0]
["Psykolog",null,0,0,0,0,0,0,null,0]
["Jurist",null,0,0,0,0,0,0,null,0]
["Økonom",null,0,0,0,0,0,0,null,0]
["Samf. Adm.",null,0,0,0,0,0,0,null,0]
["Cand. Merc.",null,0,0,0,0,0,0,null,0]
["HA",null,0,0,0,0,0,0,null,0]
["HD",null,0,0,0,0,0,0,null,0]
["Komm. og Sprog",null,0,0,0,0,0,0,null,0]
["Bygningskonst.",null,0,0,0,0,0,0,null,0]
["Cand. IT.",null,0,0,0,0,0,0,null,0]
["Bac. Samf.",null,0,0,0,0,0,0,null,0]
["Bac. Hum.",null,0,0,0,0,0,0,null,0]
["Bac. Nat.",null,0,0,0,0,0,0,null,0]
["Andre",null,0,0,0,0,0,0,null,0]
[]
["Total",null,0,0,0,0,0,0,null,0]
[]
["Ingeniører i alt",null,0,0,0,0,0,0,null,0]
["Magistre i alt",null,0,0,0,0,0,0,null,0]
["DJØF'ere i alt",null,0,0,0,0,0,0,null,0]

{"sheet":"Tabel 5P B","index":12,"n_rows":158,"n_cols":10,"rows_kept":158,"cut":false,"hidden":false,"merged":[]}
["Tabel 5. Ledighedsberørte i pct. af forsikrede - kandidatalder"]
[]
["Bornholm"]
[]
[null,null,"Under 1 år"," 1 - 2 år","2 - 4 år","5 - 9 år","10 - 14 år","Over 15 år",null,"Uoplyst"]
[]
["Civ. ing.",null,{"$f":"IF(OR('Tabel 5F B'!C7<5,'Tabel 5 B'!C7<0.5),\"-\",IFERROR('Tabel 5 B'!C7/'Tabel 5F B'!C7*100,\"-\"))","v":"-"},{"$f":"IF(OR('Tabel 5F B'!D7<5,'Tabel 5 B'!D7<0.5),\"-\",IFERROR('Tabel 5 B'!D7/'Tabel 5F B'!D7*100,\"-\"))","v":"-"},{"$f":"IF(OR('Tabel 5F B'!E7<5,'Tabel 5 B'!E7<0.5),\"-\",IFERROR('Tabel 5 B'!E7/'Tabel 5F B'!E7*100,\"-\"))","v":"-"},{"$f":"IF(OR('Tabel 5F B'!F7<5,'Tabel 5 B'!F7<0.5),\"-\",IFERROR('Tabel 5 B'!F7/'Tabel 5F B'!F7*100,\"-\"))","v":30},{"$f":"IF(OR('Tabel 5F B'!G7<5,'Tabel 5 B'!G7<0.5),\"-\",IFERROR('Tabel 5 B'!G7/'Tabel 5F B'!G7*100,\"-\"))","v":"-"},{"$f":"IF(OR('Tabel 5F B'!H7<5,'Tabel 5 B'!H7<0.5),\"-\",IFERROR('Tabel 5 B'!H7/'Tabel 5F B'!H7*100,\"-\"))","v":"-"},null,{"$f":"IF(OR('Tabel 5F B'!J7<5,'Tabel 5 B'!J7<0.5),\"-\",IFERROR('Tabel 5 B'!J7/'Tabel 5F B'!J7*100,\"-\"))","v":"-"}]
["Diplom ing.",null,{"$f":"IF(OR('Tabel 5F B'!C8<5,'Tabel 5 B'!C8<0.5),\"-\",IFERROR('Tabel 5 B'!C8/'Tabel 5F B'!C8*100,\"-\"))","v":"-"},{"$f":"IF(OR('Tabel 5F B'!D8<5,'Tabel 5 B'!D8<0.5),\"-\",IFERROR('Tabel 5 B'!D8/'Tabel 5F B'!D8*100,\"-\"))","v":"-"},{"$f":"IF(OR('Tabel 5F B'!E8<5,'Tabel 5 B'!E8<0.5),\"-\",IFERROR('Tabel 5 B'!E8/'Tabel 5F B'!E8*100,\"-\"))","v":"-"},{"$f":"IF(OR('Tabel 5F B'!F8<5,'Tabel 5 B'!F8<0.5),\"-\",IFERROR('Tabel 5 B'!F8/'Tabel 5F B'!F8*100,\"-\"))","v":"-"},{"$f":"IF(OR('Tabel 5F B'!G8<5,'Tabel 5 B'!G8<0.5),\"-\",IFERROR('Tabel 5 B'!G8/'Tabel 5F B'!G8*100,\"-\"))","v":16.666666666666664},{"$f":"IF(OR('Tabel 5F B'!H8<5,'Tabel 5 B'!H8<0.5),\"-\",IFERROR('Tabel 5 B'!H8/'Tabel 5F B'!H8*100,\"-\"))","v":5},null,{"$f":"IF(OR('Tabel 5F B'!J8<5,'Tabel 5 B'!J8<0.5),\"-\",IFERROR('Tabel 5 B'!J8/'Tabel 5F B'!J8*100,\"-\"))","v":"-"}]
["Cand. Scient. Tek",null,{"$f":"IF(OR('Tabel 5F B'!C9<5,'Tabel 5 B'!C9<0.5),\"-\",IFERROR('Tabel 5 B'!C9/'Tabel 5F B'!C9*100,\"-\"))","v":"-"},{"$f":"IF(OR('Tabel 5F B'!D9<5,'Tabel 5 B'!D9<0.5),\"-\",IFERROR('Tabel 5 B'!D9/'Tabel 5F B'!D9*100,\"-\"))","v":"-"},{"$f":"IF(OR('Tabel 5F B'!E9<5,'Tabel 5 B'!E9<0.5),\"-\",IFERROR('Tabel 5 B'!E9/'Tabel 5F B'!E9*100,\"-\"))","v":50},{"$f":"IF(OR('Tabel 5F B'!F9<5,'Tabel 5 B'!F9<0.5),\"-\",IFERROR('Tabel 5 B'!F9/'Tabel 5F B'!F9*100,\"-\"))","v":"-"},{"$f":"IF(OR('Tabel 5F B'!G9<5,'Tabel 5 B'!G9<0.5),\"-\",IFERROR('Tabel 5 B'!G9/'Tabel 5F B'!G9*100,\"-\"))","v":"-"},{"$f":"IF(OR('Tabel 5F B'!H9<5,'Tabel 5 B'!H9<0.5),\"-\",IFERROR('Tabel 5 B'!H9/'Tabel 5F B'!H9*100,\"-\"))","v":"-"},null,{"$f":"IF(OR('Tabel 5F B'!J9<5,'Tabel 5 B'!J9<0.5),\"-\",IFERROR('Tabel 5 B'!J9/'Tabel 5F B'!J9*100,\"-\"))","v":"-"}]
["MA. Hum.",null,{"$f":"IF(OR('Tabel 5F B'!C10<5,'Tabel 5 B'!C10<0.5),\"-\",IFERROR('Tabel 5 B'!C10/'Tabel 5F B'!C10*100,\"-\"))","v":"-"},{"$f":"IF(OR('Tabel 5F B'!D10<5,'Tabel 5 B'!D10<0.5),\"-\",IFERROR('Tabel 5 B'!D10/'Tabel 5F B'!D10*100,\"-\"))","v":"-"},{"$f":"IF(OR('Tabel 5F B'!E10<5,'Tabel 5 B'!E10<0.5),\"-\",IFERROR('Tabel 5 B'!E10/'Tabel 5F B'!E10*100,\"-\"))","v":7.1428571428571423},{"$f":"IF(OR('Tabel 5F B'!F10<5,'Tabel 5 B'!F10<0.5),\"-\",IFERROR('Tabel 5 B'!F10/'Tabel 5F B'!F10*100,\"-\"))","v":21.212121212121211},{"$f":"IF(OR('Tabel 5F B'!G10<5,'Tabel 5 B'!G10<0.5),\"-\",IFERROR('Tabel 5 B'!G10/'Tabel 5F B'!G10*100,\"-\"))","v":18.75},{"$f":"IF(OR('Tabel 5F B'!H10<5,'Tabel 5 B'!H10<0.5),\"-\",IFERROR('Tabel 5 B'!H10/'Tabel 5F B'!H10*100,\"-\"))","v":6.5217391304347823},null,{"$f":"IF(OR('Tabel 5F B'!J10<5,'Tabel 5 B'!J10<0.5),\"-\",IFERROR('Tabel 5 B'!J10/'Tabel 5F B'!J10*100,\"-\"))","v":44.444444444444443}]
["MA. Nat.",null,{"$f":"IF(OR('Tabel 5F B'!C11<5,'Tabel 5 B'!C11<0.5),\"-\",IFERROR('Tabel 5 B'!C11/'Tabel 5F B'!C11*100,\"-\"))","v":"-"},{"$f":"IF(OR('Tabel 5F B'!D11<5,'Tabel 5 B'!D11<0.5),\"-\",IFERROR('Tabel 5 B'!D11/'Tabel 5F B'!D11*100,\"-\"))","v":"-"},{"$f":"IF(OR('Tabel 5F B'!E11<5,'Tabel 5 B'!E11<0.5),\"-\",IFERROR('Tabel 5 B'!E11/'Tabel 5F B'!E11*100,\"-\"))","v":"-"},{"$f":"IF(OR('Tabel 5F B'!F11<5,'Tabel 5 B'!F11<0.5),\"-\",IFERROR('Tabel 5 B'!F11/'Tabel 5F B'!F11*100,\"-\"))","v":"-"},{"$f":"IF(OR('Tabel 5F B'!G11<5,'Tabel 5 B'!G11<0.5),\"-\",IFERROR('Tabel 5 B'!G11/'Tabel 5F B'!G11*100,\"-\"))","v":"-"},{"$f":"IF(OR('Tabel 5F B'!H11<5,'Tabel 5 B'!H11<0.5),\"-\",IFERROR('Tabel 5 B'!H11/'Tabel 5F B'!H11*100,\"-\"))","v":2.8571428571428572},null,{"$f":"IF(OR('Tabel 5F B'!J11<5,'Tabel 5 B'!J11<0.5),\"-\",IFERROR('Tabel 5 B'!J11/'Tabel 5F B'!J11*100,\"-\"))","v":"-"}]
["MA. Ph.d.",null,{"$f":"IF(OR('Tabel 5F B'!C12<5,'Tabel 5 B'!C12<0.5),\"-\",IFERROR('Tabel 5 B'!C12/'Tabel 5F B'!C12*100,\"-\"))","v":"-"},{"$f":"IF(OR('Tabel 5F B'!D12<5,'Tabel 5 B'!D12<0.5),\"-\",IFERROR('Tabel 5 B'!D12/'Tabel 5F B'!D12*100,\"-\"))","v":"-"},{"$f":"IF(OR('Tabel 5F B'!E12<5,'Tabel 5 B'!E12<0.5),\"-\",IFERROR('Tabel 5 B'!E12/'Tabel 5F B'!E12*100,\"-\"))","v":"-"},{"$f":"IF(OR('Tabel 5F B'!F12<5,'Tabel 5 B'!F12<0.5),\"-\",IFERROR('Tabel 5 B'!F12/'Tabel 5F B'!F12*100,\"-\"))","v":"-"},{"$f":"IF(OR('Tabel 5F B'!G12<5,'Tabel 5 B'!G12<0.5),\"-\",IFERROR('Tabel 5 B'!G12/'Tabel 5F B'!G12*100,\"-\"))","v":"-"},{"$f":"IF(OR('Tabel 5F B'!H12<5,'Tabel 5 B'!H12<0.5),\"-\",IFERROR('Tabel 5 B'!H12/'Tabel 5F B'!H12*100,\"-\"))","v":"-"},null,{"$f":"IF(OR('Tabel 5F B'!J12<5,'Tabel 5 B'!J12<0.5),\"-\",IFERROR('Tabel 5 B'!J12/'Tabel 5F B'!J12*100,\"-\"))","v":"-"}]
["MA. Samf.",null,{"$f":"IF(OR('Tabel 5F B'!C13<5,'Tabel 5 B'!C13<0.5),\"-\",IFERROR('Tabel 5 B'!C13/'Tabel 5F B'!C13*100,\"-\"))","v":"-"},{"$f":"IF(OR('Tabel 5F B'!D13<5,'Tabel 5 B'!D13<0.5),\"-\",IFERROR('Tabel 5 B'!D13/'Tabel 5F B'!D13*100,\"-\"))","v":"-"},{"$f":"IF(OR('Tabel 5F B'!E13<5,'Tabel 5 B'!E13<0.5),\"-\",IFERROR('Tabel 5 B'!E13/'Tabel 5F B'!E13*100,\"-\"))","v":"-"},{"$f":"IF(OR('Tabel 5F B'!F13<5,'Tabel 5 B'!F13<0.5),\"-\",IFERROR('Tabel 5 B'!F13/'Tabel 5F B'!F13*100,\"-\"))","v":"-"},{"$f":"IF(OR('Tabel 5F B'!G13<5,'Tabel 5 B'!G13<0.5),\"-\",IFERROR('Tabel 5 B'!G13/'Tabel 5F B'!G13*100,\"-\"))","v":"-"},{"$f":"IF(OR('Tabel 5F B'!H13<5,'Tabel 5 B'!H13<0.5),\"-\",IFERROR('Tabel 5 B'!H13/'Tabel 5F B'!H13*100,\"-\"))","v":16.666666666666664},null,{"$f":"IF(OR('Tabel 5F B'!J13<5,'Tabel 5 B'!J13<0.5),\"-\",IFERROR('Tabel 5 B'!J13/'Tabel 5F B'!J13*100,\"-\"))","v":"-"}]
["Øvrige Mag.",null,{"$f":"IF(OR('Tabel 5F B'!C14<5,'Tabel 5 B'!C14<0.5),\"-\",IFERROR('Tabel 5 B'!C14/'Tabel 5F B'!C14*100,\"-\"))","v":"-"},{"$f":"IF(OR('Tabel 5F B'!D14<5,'Tabel 5 B'!D14<0.5),\"-\",IFERROR('Tabel 5 B'!D14/'Tabel 5F B'!D14*100,\"-\"))","v":"-"},{"$f":"IF(OR('Tabel 5F B'!E14<5,'Tabel 5 B'!E14<0.5),\"-\",IFERROR('Tabel 5 B'!E14/'Tabel 5F B'!E14*100,\"-\"))","v":"-"},{"$f":"IF(OR('Tabel 5F B'!F14<5,'Tabel 5 B'!F14<0.5),\"-\",IFERROR('Tabel 5 B'!F14/'Tabel 5F B'!F14*100,\"-\"))","v":"-"},{"$f":"IF(OR('Tabel 5F B'!G14<5,'Tabel 5 B'!G14<0.5),\"-\",IFERROR('Tabel 5 B'!G14/'Tabel 5F B'!G14*100,\"-\"))","v":"-"},{"$f":"IF(OR('Tabel 5F B'!H14<5,'Tabel 5 B'!H14<0.5),\"-\",IFERROR('Tabel 5 B'!H14/'Tabel 5F B'!H14*100,\"-\"))","v":16.666666666666664},null,{"$f":"IF(OR('Tabel 5F B'!J14<5,'Tabel 5 B'!J14<0.5),\"-\",IFERROR('Tabel 5 B'!J14/'Tabel 5F B'!J14*100,\"-\"))","v":"-"}]
["Agronom",null,{"$f":"IF(OR('Tabel 5F B'!C15<5,'Tabel 5 B'!C15<0.5),\"-\",IFERROR('Tabel 5 B'!C15/'Tabel 5F B'!C15*100,\"-\"))","v":"-"},{"$f":"IF(OR('Tabel 5F B'!D15<5,'Tabel 5 B'!D15<0.5),\"-\",IFERROR('Tabel 5 B'!D15/'Tabel 5F B'!D15*100,\"-\"))","v":"-"},{"$f":"IF(OR('Tabel 5F B'!E15<5,'Tabel 5 B'!E15<0.5),\"-\",IFERROR('Tabel 5 B'!E15/'Tabel 5F B'!E15*100,\"-\"))","v":"-"},{"$f":"IF(OR('Tabel 5F B'!F15<5,'Tabel 5 B'!F15<0.5),\"-\",IFERROR('Tabel 5 B'!F15/'Tabel 5F B'!F15*100,\"-\"))","v":"-"},{"$f":"IF(OR('Tabel 5F B'!G15<5,'Tabel 5 B'!G15<0.5),\"-\",IFERROR('Tabel 5 B'!G15/'Tabel 5F B'!G15*100,\"-\"))","v":"-"},{"$f":"IF(OR('Tabel 5F B'!H15<5,'Tabel 5 B'!H15<0.5),\"-\",IFERROR('Tabel 5 B'!H15/'Tabel 5F B'!H15*100,\"-\"))","v":"-"},null,{"$f":"IF(OR('Tabel 5F B'!J15<5,'Tabel 5 B'!J15<0.5),\"-\",IFERROR('Tabel 5 B'!J15/'Tabel 5F B'!J15*100,\"-\"))","v":"-"}]
["Landsk. Arkt.",null,{"$f":"IF(OR('Tabel 5F B'!C16<5,'Tabel 5 B'!C16<0.5),\"-\",IFERROR('Tabel 5 B'!C16/'Tabel 5F B'!C16*100,\"-\"))","v":"-"},{"$f":"IF(OR('Tabel 5F B'!D16<5,'Tabel 5 B'!D16<0.5),\"-\",IFERROR('Tabel 5 B'!D16/'Tabel 5F B'!D16*100,\"-\"))","v":"-"},{"$f":"IF(OR('Tabel 5F B'!E16<5,'Tabel 5 B'!E16<0.5),\"-\",IFERROR('Tabel 5 B'!E16/'Tabel 5F B'!E16*100,\"-\"))","v":"-"},{"$f":"IF(OR('Tabel 5F B'!F16<5,'Tabel 5 B'!F16<0.5),\"-\",IFERROR('Tabel 5 B'!F16/'Tabel 5F B'!F16*100,\"-\"))","v":"-"},{"$f":"IF(OR('Tabel 5F B'!G16<5,'Tabel 5 B'!G16<0.5),\"-\",IFERROR('Tabel 5 B'!G16/'Tabel 5F B'!G16*100,\"-\"))","v":"-"},{"$f":"IF(OR('Tabel 5F B'!H16<5,'Tabel 5 B'!H16<0.5),\"-\",IFERROR('Tabel 5 B'!H16/'Tabel 5F B'!H16*100,\"-\"))","v":"-"},null,{"$f":"IF(OR('Tabel 5F B'!J16<5,'Tabel 5 B'!J16<0.5),\"-\",IFERROR('Tabel 5 B'!J16/'Tabel 5F B'!J16*100,\"-\"))","v":"-"}]
["Hortonom",null,{"$f":"IF(OR('Tabel 5F B'!C17<5,'Tabel 5 B'!C17<0.5),\"-\",IFERROR('Tabel 5 B'!C17/'Tabel 5F B'!C17*100,\"-\"))","v":"-"},{"$f":"IF(OR('Tabel 5F B'!D17<5,'Tabel 5 B'!D17<0.5),\"-\",IFERROR('Tabel 5 B'!D17/'Tabel 5F B'!D17*100,\"-\"))","v":"-"},{"$f":"IF(OR('Tabel 5F B'!E17<5,'Tabel 5 B'!E17<0.5),\"-\",IFERROR('Tabel 5 B'!E17/'Tabel 5F B'!E17*100,\"-\"))","v":"-"},{"$f":"IF(OR('Tabel 5F B'!F17<5,'Tabel 5 B'!F17<0.5),\"-\",IFERROR('Tabel 5 B'!F17/'Tabel 5F B'!F17*100,\"-\"))","v":"-"},{"$f":"IF(OR('Tabel 5F B'!G17<5,'Tabel 5 B'!G17<0.5),\"-\",IFERROR('Tabel 5 B'!G17/'Tabel 5F B'!G17*100,\"-\"))","v":"-"},{"$f":"IF(OR('Tabel 5F B'!H17<5,'Tabel 5 B'!H17<0.5),\"-\",IFERROR('Tabel 5 B'!H17/'Tabel 5F B'!H17*100,\"-\"))","v":"-"},null,{"$f":"IF(OR('Tabel 5F B'!J17<5,'Tabel 5 B'!J17<0.5),\"-\",IFERROR('Tabel 5 B'!J17/'Tabel 5F B'!J17*100,\"-\"))","v":"-"}]
["Forstkand.",null,{"$f":"IF(OR('Tabel 5F B'!C18<5,'Tabel 5 B'!C18<0.5),\"-\",IFERROR('Tabel 5 B'!C18/'Tabel 5F B'!C18*100,\"-\"))","v":"-"},{"$f":"IF(OR('Tabel 5F B'!D18<5,'Tabel 5 B'!D18<0.5),\"-\",IFERROR('Tabel 5 B'!D18/'Tabel 5F B'!D18*100,\"-\"))","v":"-"},{"$f":"IF(OR('Tabel 5F B'!E18<5,'Tabel 5 B'!E18<0.5),\"-\",IFERROR('Tabel 5 B'!E18/'Tabel 5F B'!E18*100,\"-\"))","v":"-"},{"$f":"IF(OR('Tabel 5F B'!F18<5,'Tabel 5 B'!F18<0.5),\"-\",IFERROR('Tabel 5 B'!F18/'Tabel 5F B'!F18*100,\"-\"))","v":"-"},{"$f":"IF(OR('Tabel 5F B'!G18<5,'Tabel 5 B'!G18<0.5),\"-\",IFERROR('Tabel 5 B'!G18/'Tabel 5F B'!G18*100,\"-\"))","v":"-"},{"$f":"IF(OR('Tabel 5F B'!H18<5,'Tabel 5 B'!H18<0.5),\"-\",IFERROR('Tabel 5 B'!H18/'Tabel 5F B'!H18*100,\"-\"))","v":"-"},null,{"$f":"IF(OR('Tabel 5F B'!J18<5,'Tabel 5 B'!J18<0.5),\"-\",IFERROR('Tabel 5 B'!J18/'Tabel 5F B'!J18*100,\"-\"))","v":"-"}]
["Jordbrugsakad.",null,{"$f":"IF(OR('Tabel 5F B'!C19<5,'Tabel 5 B'!C19<0.5),\"-\",IFERROR('Tabel 5 B'!C19/'Tabel 5F B'!C19*100,\"-\"))","v":"-"},{"$f":"IF(OR('Tabel 5F B'!D19<5,'Tabel 5 B'!D19<0.5),\"-\",IFERROR('Tabel 5 B'!D19/'Tabel 5F B'!D19*100,\"-\"))","v":"-"},{"$f":"IF(OR('Tabel 5F B'!E19<5,'Tabel 5 B'!E19<0.5),\"-\",IFERROR('Tabel 5 B'!E19/'Tabel 5F B'!E19*100,\"-\"))","v":"-"},{"$f":"IF(OR('Tabel 5F B'!F19<5,'Tabel 5 B'!F19<0.5),\"-\",IFERROR('Tabel 5 B'!F19/'Tabel 5F B'!F19*100,\"-\"))","v":"-"},{"$f":"IF(OR('Tabel 5F B'!G19<5,'Tabel 5 B'!G19<0.5),\"-\",IFERROR('Tabel 5 B'!G19/'Tabel 5F B'!G19*100,\"-\"))","v":"-"},{"$f":"IF(OR('Tabel 5F B'!H19<5,'Tabel 5 B'!H19<0.5),\"-\",IFERROR('Tabel 5 B'!H19/'Tabel 5F B'!H19*100,\"-\"))","v":"-"},null,{"$f":"IF(OR('Tabel 5F B'!J19<5,'Tabel 5 B'!J19<0.5),\"-\",IFERROR('Tabel 5 B'!J19/'Tabel 5F B'!J19*100,\"-\"))","v":"-"}]
["Mejeriing.",null,{"$f":"IF(OR('Tabel 5F B'!C20<5,'Tabel 5 B'!C20<0.5),\"-\",IFERROR('Tabel 5 B'!C20/'Tabel 5F B'!C20*100,\"-\"))","v":"-"},{"$f":"IF(OR('Tabel 5F B'!D20<5,'Tabel 5 B'!D20<0.5),\"-\",IFERROR('Tabel 5 B'!D20/'Tabel 5F B'!D20*100,\"-\"))","v":"-"},{"$f":"IF(OR('Tabel 5F B'!E20<5,'Tabel 5 B'!E20<0.5),\"-\",IFERROR('Tabel 5 B'!E20/'Tabel 5F B'!E20*100,\"-\"))","v":"-"},{"$f":"IF(OR('Tabel 5F B'!F20<5,'Tabel 5 B'!F20<0.5),\"-\",IFERROR('Tabel 5 B'!F20/'Tabel 5F B'!F20*100,\"-\"))","v":"-"},{"$f":"IF(OR('Tabel 5F B'!G20<5,'Tabel 5 B'!G20<0.5),\"-\",IFERROR('Tabel 5 B'!G20/'Tabel 5F B'!G20*100,\"-\"))","v":"-"},{"$f":"IF(OR('Tabel 5F B'!H20<5,'Tabel 5 B'!H20<0.5),\"-\",IFERROR('Tabel 5 B'!H20/'Tabel 5F B'!H20*100,\"-\"))","v":"-"},null,{"$f":"IF(OR('Tabel 5F B'!J20<5,'Tabel 5 B'!J20<0.5),\"-\",IFERROR('Tabel 5 B'!J20/'Tabel 5F B'!J20*100,\"-\"))","v":"-"}]
["Levn.m.kand.",null,{"$f":"IF(OR('Tabel 5F B'!C21<5,'Tabel 5 B'!C21<0.5),\"-\",IFERROR('Tabel 5 B'!C21/'Tabel 5F B'!C21*100,\"-\"))","v":"-"},{"$f":"IF(OR('Tabel 5F B'!D21<5,'Tabel 5 B'!D21<0.5),\"-\",IFERROR('Tabel 5 B'!D21/'Tabel 5F B'!D21*100,\"-\"))","v":"-"},{"$f":"IF(OR('Tabel 5F B'!E21<5,'Tabel 5 B'!E21<0.5),\"-\",IFERROR('Tabel 5 B'!E21/'Tabel 5F B'!E21*100,\"-\"))","v":"-"},{"$f":"IF(OR('Tabel 5F B'!F21<5,'Tabel 5 B'!F21<0.5),\"-\",IFERROR('Tabel 5 B'!F21/'Tabel 5F B'!F21*100,\"-\"))","v":"-"},{"$f":"IF(OR('Tabel 5F B'!G21<5,'Tabel 5 B'!G21<0.5),\"-\",IFERROR('Tabel 5 B'!G21/'Tabel 5F B'!G21*100,\"-\"))","v":"-"},{"$f":"IF(OR('Tabel 5F B'!H21<5,'Tabel 5 B'!H21<0.5),\"-\",IFERROR('Tabel 5 B'!H21/'Tabel 5F B'!H21*100,\"-\"))","v":"-"},null,{"$f":"IF(OR('Tabel 5F B'!J21<5,'Tabel 5 B'!J21<0.5),\"-\",IFERROR('Tabel 5 B'!J21/'Tabel 5F B'!J21*100,\"-\"))","v":"-"}]
["Dyrlæge",null,{"$f":"IF(OR('Tabel 5F B'!C22<5,'Tabel 5 B'!C22<0.5),\"-\",IFERROR('Tabel 5 B'!C22/'Tabel 5F B'!C22*100,\"-\"))","v":"-"},{"$f":"IF(OR('Tabel 5F B'!D22<5,'Tabel 5 B'!D22<0.5),\"-\",IFERROR('Tabel 5 B'!D22/'Tabel 5F B'!D22*100,\"-\"))","v":"-"},{"$f":"IF(OR('Tabel 5F B'!E22<5,'Tabel 5 B'!E22<0.5),\"-\",IFERROR('Tabel 5 B'!E22/'Tabel 5F B'!E22*100,\"-\"))","v":"-"},{"$f":"IF(OR('Tabel 5F B'!F22<5,'Tabel 5 B'!F22<0.5),\"-\",IFERROR('Tabel 5 B'!F22/'Tabel 5F B'!F22*100,\"-\"))","v":"-"},{"$f":"IF(OR('Tabel 5F B'!G22<5,'Tabel 5 B'!G22<0.5),\"-\",IFERROR('Tabel 5 B'!G22/'Tabel 5F B'!G22*100,\"-\"))","v":"-"},{"$f":"IF(OR('Tabel 5F B'!H22<5,'Tabel 5 B'!H22<0.5),\"-\",IFERROR('Tabel 5 B'!H22/'Tabel 5F B'!H22*100,\"-\"))","v":14.285714285714285},null,{"$f":"IF(OR('Tabel 5F B'!J22<5,'Tabel 5 B'!J22<0.5),\"-\",IFERROR('Tabel 5 B'!J22/'Tabel 5F B'!J22*100,\"-\"))","v":"-"}]
["Farmaceut",null,{"$f":"IF(OR('Tabel 5F B'!C23<5,'Tabel 5 B'!C23<0.5),\"-\",IFERROR('Tabel 5 B'!C23/'Tabel 5F B'!C23*100,\"-\"))","v":"-"},{"$f":"IF(OR('Tabel 5F B'!D23<5,'Tabel 5 B'!D23<0.5),\"-\",IFERROR('Tabel 5 B'!D23/'Tabel 5F B'!D23*100,\"-\"))","v":"-"},{"$f":"IF(OR('Tabel 5F B'!E23<5,'Tabel 5 B'!E23<0.5),\"-\",IFERROR('Tabel 5 B'!E23/'Tabel 5F B'!E23*100,\"-\"))","v":"-"},{"$f":"IF(OR('Tabel 5F B'!F23<5,'Tabel 5 B'!F23<0.5),\"-\",IFERROR('Tabel 5 B'!F23/'Tabel 5F B'!F23*100,\"-\"))","v":"-"},{"$f":"IF(OR('Tabel 5F B'!G23<5,'Tabel 5 B'!G23<0.5),\"-\",IFERROR('Tabel 5 B'!G23/'Tabel 5F B'!G23*100,\"-\"))","v":"-"},{"$f":"IF(OR('Tabel 5F B'!H23<5,'Tabel 5 B'!H23<0.5),\"-\",IFERROR('Tabel 5 B'!H23/'Tabel 5F B'!H23*100,\"-\"))","v":"-"},null,{"$f":"IF(OR('Tabel 5F B'!J23<5,'Tabel 5 B'!J23<0.5),\"-\",IFERROR('Tabel 5 B'!J23/'Tabel 5F B'!J23*100,\"-\"))","v":"-"}]
["Læge",null,{"$f":"IF(OR('Tabel 5F B'!C24<5,'Tabel 5 B'!C24<0.5),\"-\",IFERROR('Tabel 5 B'!C24/'Tabel 5F B'!C24*100,\"-\"))","v":"-"},{"$f":"IF(OR('Tabel 5F B'!D24<5,'Tabel 5 B'!D24<0.5),\"-\",IFERROR('Tabel 5 B'!D24/'Tabel 5F B'!D24*100,\"-\"))","v":"-"},{"$f":"IF(OR('Tabel 5F B'!E24<5,'Tabel 5 B'!E24<0.5),\"-\",IFERROR('Tabel 5 B'!E24/'Tabel 5F B'!E24*100,\"-\"))","v":"-"},{"$f":"IF(OR('Tabel 5F B'!F24<5,'Tabel 5 B'!F24<0.5),\"-\",IFERROR('Tabel 5 B'!F24/'Tabel 5F B'!F24*100,\"-\"))","v":"-"},{"$f":"IF(OR('Tabel 5F B'!G24<5,'Tabel 5 B'!G24<0.5),\"-\",IFERROR('Tabel 5 B'!G24/'Tabel 5F B'!G24*100,\"-\"))","v":"-"},{"$f":"IF(OR('Tabel 5F B'!H24<5,'Tabel 5 B'!H24<0.5),\"-\",IFERROR('Tabel 5 B'!H24/'Tabel 5F B'!H24*100,\"-\"))","v":"-"},null,{"$f":"IF(OR('Tabel 5F B'!J24<5,'Tabel 5 B'!J24<0.5),\"-\",IFERROR('Tabel 5 B'!J24/'Tabel 5F B'!J24*100,\"-\"))","v":"-"}]
["Tandlæge",null,{"$f":"IF(OR('Tabel 5F B'!C25<5,'Tabel 5 B'!C25<0.5),\"-\",IFERROR('Tabel 5 B'!C25/'Tabel 5F B'!C25*100,\"-\"))","v":"-"},{"$f":"IF(OR('Tabel 5F B'!D25<5,'Tabel 5 B'!D25<0.5),\"-\",IFERROR('Tabel 5 B'!D25/'Tabel 5F B'!D25*100,\"-\"))","v":"-"},{"$f":"IF(OR('Tabel 5F B'!E25<5,'Tabel 5 B'!E25<0.5),\"-\",IFERROR('Tabel 5 B'!E25/'Tabel 5F B'!E25*100,\"-\"))","v":"-"},{"$f":"IF(OR('Tabel 5F B'!F25<5,'Tabel 5 B'!F25<0.5),\"-\",IFERROR('Tabel 5 B'!F25/'Tabel 5F B'!F25*100,\"-\"))","v":"-"},{"$f":"IF(OR('Tabel 5F B'!G25<5,'Tabel 5 B'!G25<0.5),\"-\",IFERROR('Tabel 5 B'!G25/'Tabel 5F B'!G25*100,\"-\"))","v":"-"},{"$f":"IF(OR('Tabel 5F B'!H25<5,'Tabel 5 B'!H25<0.5),\"-\",IFERROR('Tabel 5 B'!H25/'Tabel 5F B'!H25*100,\"-\"))","v":"-"},null,{"$f":"IF(OR('Tabel 5F B'!J25<5,'Tabel 5 B'!J25<0.5),\"-\",IFERROR('Tabel 5 B'!J25/'Tabel 5F B'!J25*100,\"-\"))","v":"-"}]
["Arkitekt",null,{"$f":"IF(OR('Tabel 5F B'!C26<5,'Tabel 5 B'!C26<0.5),\"-\",IFERROR('Tabel 5 B'!C26/'Tabel 5F B'!C26*100,\"-\"))","v":"-"},{"$f":"IF(OR('Tabel 5F B'!D26<5,'Tabel 5 B'!D26<0.5),\"-\",IFERROR('Tabel 5 B'!D26/'Tabel 5F B'!D26*100,\"-\"))","v":"-"},{"$f":"IF(OR('Tabel 5F B'!E26<5,'Tabel 5 B'!E26<0.5),\"-\",IFERROR('Tabel 5 B'!E26/'Tabel 5F B'!E26*100,\"-\"))","v":"-"},{"$f":"IF(OR('Tabel 5F B'!F26<5,'Tabel 5 B'!F26<0.5),\"-\",IFERROR('Tabel 5 B'!F26/'Tabel 5F B'!F26*100,\"-\"))","v":"-"},{"$f":"IF(OR('Tabel 5F B'!G26<5,'Tabel 5 B'!G26<0.5),\"-\",IFERROR('Tabel 5 B'!G26/'Tabel 5F B'!G26*100,\"-\"))","v":"-"},{"$f":"IF(OR('Tabel 5F B'!H26<5,'Tabel 5 B'!H26<0.5),\"-\",IFERROR('Tabel 5 B'!H26/'Tabel 5F B'!H26*100,\"-\"))","v":12.5},null,{"$f":"IF(OR('Tabel 5F B'!J26<5,'Tabel 5 B'!J26<0.5),\"-\",IFERROR('Tabel 5 B'!J26/'Tabel 5F B'!J26*100,\"-\"))","v":"-"}]
["Landinspek.",null,{"$f":"IF(OR('Tabel 5F B'!C27<5,'Tabel 5 B'!C27<0.5),\"-\",IFERROR('Tabel 5 B'!C27/'Tabel 5F B'!C27*100,\"-\"))","v":"-"},{"$f":"IF(OR('Tabel 5F B'!D27<5,'Tabel 5 B'!D27<0.5),\"-\",IFERROR('Tabel 5 B'!D27/'Tabel 5F B'!D27*100,\"-\"))","v":"-"},{"$f":"IF(OR('Tabel 5F B'!E27<5,'Tabel 5 B'!E27<0.5),\"-\",IFERROR('Tabel 5 B'!E27/'Tabel 5F B'!E27*100,\"-\"))","v":"-"},{"$f":"IF(OR('Tabel 5F B'!F27<5,'Tabel 5 B'!F27<0.5),\"-\",IFERROR('Tabel 5 B'!F27/'Tabel 5F B'!F27*100,\"-\"))","v":"-"},{"$f":"IF(OR('Tabel 5F B'!G27<5,'Tabel 5 B'!G27<0.5),\"-\",IFERROR('Tabel 5 B'!G27/'Tabel 5F B'!G27*100,\"-\"))","v":"-"},{"$f":"IF(OR('Tabel 5F B'!H27<5,'Tabel 5 B'!H27<0.5),\"-\",IFERROR('Tabel 5 B'!H27/'Tabel 5F B'!H27*100,\"-\"))","v":"-"},null,{"$f":"IF(OR('Tabel 5F B'!J27<5,'Tabel 5 B'!J27<0.5),\"-\",IFERROR('Tabel 5 B'!J27/'Tabel 5F B'!J27*100,\"-\"))","v":"-"}]
["Bibliotekar",null,{"$f":"IF(OR('Tabel 5F B'!C28<5,'Tabel 5 B'!C28<0.5),\"-\",IFERROR('Tabel 5 B'!C28/'Tabel 5F B'!C28*100,\"-\"))","v":"-"},{"$f":"IF(OR('Tabel 5F B'!D28<5,'Tabel 5 B'!D28<0.5),\"-\",IFERROR('Tabel 5 B'!D28/'Tabel 5F B'!D28*100,\"-\"))","v":"-"},{"$f":"IF(OR('Tabel 5F B'!E28<5,'Tabel 5 B'!E28<0.5),\"-\",IFERROR('Tabel 5 B'!E28/'Tabel 5F B'!E28*100,\"-\"))","v":"-"},{"$f":"IF(OR('Tabel 5F B'!F28<5,'Tabel 5 B'!F28<0.5),\"-\",IFERROR('Tabel 5 B'!F28/'Tabel 5F B'!F28*100,\"-\"))","v":"-"},{"$f":"IF(OR('Tabel 5F B'!G28<5,'Tabel 5 B'!G28<0.5),\"-\",IFERROR('Tabel 5 B'!G28/'Tabel 5F B'!G28*100,\"-\"))","v":"-"},{"$f":"IF(OR('Tabel 5F B'!H28<5,'Tabel 5 B'!H28<0.5),\"-\",IFERROR('Tabel 5 B'!H28/'Tabel 5F B'!H28*100,\"-\"))","v":16.666666666666664},null,{"$f":"IF(OR('Tabel 5F B'!J28<5,'Tabel 5 B'!J28<0.5),\"-\",IFERROR('Tabel 5 B'!J28/'Tabel 5F B'!J28*100,\"-\"))","v":"-"}]
["Musikudd.",null,{"$f":"IF(OR('Tabel 5F B'!C29<5,'Tabel 5 B'!C29<0.5),\"-\",IFERROR('Tabel 5 B'!C29/'Tabel 5F B'!C29*100,\"-\"))","v":"-"},{"$f":"IF(OR('Tabel 5F B'!D29<5,'Tabel 5 B'!D29<0.5),\"-\",IFERROR('Tabel 5 B'!D29/'Tabel 5F B'!D29*100,\"-\"))","v":"-"},{"$f":"IF(OR('Tabel 5F B'!E29<5,'Tabel 5 B'!E29<0.5),\"-\",IFERROR('Tabel 5 B'!E29/'Tabel 5F B'!E29*100,\"-\"))","v":"-"},{"$f":"IF(OR('Tabel 5F B'!F29<5,'Tabel 5 B'!F29<0.5),\"-\",IFERROR('Tabel 5 B'!F29/'Tabel 5F B'!F29*100,\"-\"))","v":"-"},{"$f":"IF(OR('Tabel 5F B'!G29<5,'Tabel 5 B'!G29<0.5),\"-\",IFERROR('Tabel 5 B'!G29/'Tabel 5F B'!G29*100,\"-\"))","v":"-"},{"$f":"IF(OR('Tabel 5F B'!H29<5,'Tabel 5 B'!H29<0.5),\"-\",IFERROR('Tabel 5 B'!H29/'Tabel 5F B'!H29*100,\"-\"))","v":"-"},null,{"$f":"IF(OR('Tabel 5F B'!J29<5,'Tabel 5 B'!J29<0.5),\"-\",IFERROR('Tabel 5 B'!J29/'Tabel 5F B'!J29*100,\"-\"))","v":"-"}]
["Teolog",null,{"$f":"IF(OR('Tabel 5F B'!C30<5,'Tabel 5 B'!C30<0.5),\"-\",IFERROR('Tabel 5 B'!C30/'Tabel 5F B'!C30*100,\"-\"))","v":"-"},{"$f":"IF(OR('Tabel 5F B'!D30<5,'Tabel 5 B'!D30<0.5),\"-\",IFERROR('Tabel 5 B'!D30/'Tabel 5F B'!D30*100,\"-\"))","v":"-"},{"$f":"IF(OR('Tabel 5F B'!E30<5,'Tabel 5 B'!E30<0.5),\"-\",IFERROR('Tabel 5 B'!E30/'Tabel 5F B'!E30*100,\"-\"))","v":"-"},{"$f":"IF(OR('Tabel 5F B'!F30<5,'Tabel 5 B'!F30<0.5),\"-\",IFERROR('Tabel 5 B'!F30/'Tabel 5F B'!F30*100,\"-\"))","v":"-"},{"$f":"IF(OR('Tabel 5F B'!G30<5,'Tabel 5 B'!G30<0.5),\"-\",IFERROR('Tabel 5 B'!G30/'Tabel 5F B'!G30*100,\"-\"))","v":"-"},{"$f":"IF(OR('Tabel 5F B'!H30<5,'Tabel 5 B'!H30<0.5),\"-\",IFERROR('Tabel 5 B'!H30/'Tabel 5F B'!H30*100,\"-\"))","v":"-"},null,{"$f":"IF(OR('Tabel 5F B'!J30<5,'Tabel 5 B'!J30<0.5),\"-\",IFERROR('Tabel 5 B'!J30/'Tabel 5F B'!J30*100,\"-\"))","v":"-"}]
["Psykolog",null,{"$f":"IF(OR('Tabel 5F B'!C31<5,'Tabel 5 B'!C31<0.5),\"-\",IFERROR('Tabel 5 B'!C31/'Tabel 5F B'!C31*100,\"-\"))","v":"-"},{"$f":"IF(OR('Tabel 5F B'!D31<5,'Tabel 5 B'!D31<0.5),\"-\",IFERROR('Tabel 5 B'!D31/'Tabel 5F B'!D31*100,\"-\"))","v":"-"},{"$f":"IF(OR('Tabel 5F B'!E31<5,'Tabel 5 B'!E31<0.5),\"-\",IFERROR('Tabel 5 B'!E31/'Tabel 5F B'!E31*100,\"-\"))","v":"-"},{"$f":"IF(OR('Tabel 5F B'!F31<5,'Tabel 5 B'!F31<0.5),\"-\",IFERROR('Tabel 5 B'!F31/'Tabel 5F B'!F31*100,\"-\"))","v":"-"},{"$f":"IF(OR('Tabel 5F B'!G31<5,'Tabel 5 B'!G31<0.5),\"-\",IFERROR('Tabel 5 B'!G31/'Tabel 5F B'!G31*100,\"-\"))","v":"-"},{"$f":"IF(OR('Tabel 5F B'!H31<5,'Tabel 5 B'!H31<0.5),\"-\",IFERROR('Tabel 5 B'!H31/'Tabel 5F B'!H31*100,\"-\"))","v":"-"},null,{"$f":"IF(OR('Tabel 5F B'!J31<5,'Tabel 5 B'!J31<0.5),\"-\",IFERROR('Tabel 5 B'!J31/'Tabel 5F B'!J31*100,\"-\"))","v":"-"}]
["Jurist",null,{"$f":"IF(OR('Tabel 5F B'!C32<5,'Tabel 5 B'!C32<0.5),\"-\",IFERROR('Tabel 5 B'!C32/'Tabel 5F B'!C32*100,\"-\"))","v":"-"},{"$f":"IF(OR('Tabel 5F B'!D32<5,'Tabel 5 B'!D32<0.5),\"-\",IFERROR('Tabel 5 B'!D32/'Tabel 5F B'!D32*100,\"-\"))","v":"-"},{"$f":"IF(OR('Tabel 5F B'!E32<5,'Tabel 5 B'!E32<0.5),\"-\",IFERROR('Tabel 5 B'!E32/'Tabel 5F B'!E32*100,\"-\"))","v":"-"},{"$f":"IF(OR('Tabel 5F B'!F32<5,'Tabel 5 B'!F32<0.5),\"-\",IFERROR('Tabel 5 B'!F32/'Tabel 5F B'!F32*100,\"-\"))","v":"-"},{"$f":"IF(OR('Tabel 5F B'!G32<5,'Tabel 5 B'!G32<0.5),\"-\",IFERROR('Tabel 5 B'!G32/'Tabel 5F B'!G32*100,\"-\"))","v":"-"},{"$f":"IF(OR('Tabel 5F B'!H32<5,'Tabel 5 B'!H32<0.5),\"-\",IFERROR('Tabel 5 B'!H32/'Tabel 5F B'!H32*100,\"-\"))","v":"-"},null,{"$f":"IF(OR('Tabel 5F B'!J32<5,'Tabel 5 B'!J32<0.5),\"-\",IFERROR('Tabel 5 B'!J32/'Tabel 5F B'!J32*100,\"-\"))","v":"-"}]
["Økonom",null,{"$f":"IF(OR('Tabel 5F B'!C33<5,'Tabel 5 B'!C33<0.5),\"-\",IFERROR('Tabel 5 B'!C33/'Tabel 5F B'!C33*100,\"-\"))","v":"-"},{"$f":"IF(OR('Tabel 5F B'!D33<5,'Tabel 5 B'!D33<0.5),\"-\",IFERROR('Tabel 5 B'!D33/'Tabel 5F B'!D33*100,\"-\"))","v":"-"},{"$f":"IF(OR('Tabel 5F B'!E33<5,'Tabel 5 B'!E33<0.5),\"-\",IFERROR('Tabel 5 B'!E33/'Tabel 5F B'!E33*100,\"-\"))","v":"-"},{"$f":"IF(OR('Tabel 5F B'!F33<5,'Tabel 5 B'!F33<0.5),\"-\",IFERROR('Tabel 5 B'!F33/'Tabel 5F B'!F33*100,\"-\"))","v":"-"},{"$f":"IF(OR('Tabel 5F B'!G33<5,'Tabel 5 B'!G33<0.5),\"-\",IFERROR('Tabel 5 B'!G33/'Tabel 5F B'!G33*100,\"-\"))","v":"-"},{"$f":"IF(OR('Tabel 5F B'!H33<5,'Tabel 5 B'!H33<0.5),\"-\",IFERROR('Tabel 5 B'!H33/'Tabel 5F B'!H33*100,\"-\"))","v":"-"},null,{"$f":"IF(OR('Tabel 5F B'!J33<5,'Tabel 5 B'!J33<0.5),\"-\",IFERROR('Tabel 5 B'!J33/'Tabel 5F B'!J33*100,\"-\"))","v":"-"}]
["Samf. Adm.",null,{"$f":"IF(OR('Tabel 5F B'!C34<5,'Tabel 5 B'!C34<0.5),\"-\",IFERROR('Tabel 5 B'!C34/'Tabel 5F B'!C34*100,\"-\"))","v":"-"},{"$f":"IF(OR('Tabel 5F B'!D34<5,'Tabel 5 B'!D34<0.5),\"-\",IFERROR('Tabel 5 B'!D34/'Tabel 5F B'!D34*100,\"-\"))","v":"-"},{"$f":"IF(OR('Tabel 5F B'!E34<5,'Tabel 5 B'!E34<0.5),\"-\",IFERROR('Tabel 5 B'!E34/'Tabel 5F B'!E34*100,\"-\"))","v":"-"},{"$f":"IF(OR('Tabel 5F B'!F34<5,'Tabel 5 B'!F34<0.5),\"-\",IFERROR('Tabel 5 B'!F34/'Tabel 5F B'!F34*100,\"-\"))","v":"-"},{"$f":"IF(OR('Tabel 5F B'!G34<5,'Tabel 5 B'!G34<0.5),\"-\",IFERROR('Tabel 5 B'!G34/'Tabel 5F B'!G34*100,\"-\"))","v":"-"},{"$f":"IF(OR('Tabel 5F B'!H34<5,'Tabel 5 B'!H34<0.5),\"-\",IFERROR('Tabel 5 B'!H34/'Tabel 5F B'!H34*100,\"-\"))","v":5.5555555555555554},null,{"$f":"IF(OR('Tabel 5F B'!J34<5,'Tabel 5 B'!J34<0.5),\"-\",IFERROR('Tabel 5 B'!J34/'Tabel 5F B'!J34*100,\"-\"))","v":22.222222222222221}]
["Cand. Merc.",null,{"$f":"IF(OR('Tabel 5F B'!C35<5,'Tabel 5 B'!C35<0.5),\"-\",IFERROR('Tabel 5 B'!C35/'Tabel 5F B'!C35*100,\"-\"))","v":"-"},{"$f":"IF(OR('Tabel 5F B'!D35<5,'Tabel 5 B'!D35<0.5),\"-\",IFERROR('Tabel 5 B'!D35/'Tabel 5F B'!D35*100,\"-\"))","v":"-"},{"$f":"IF(OR('Tabel 5F B'!E35<5,'Tabel 5 B'!E35<0.5),\"-\",IFERROR('Tabel 5 B'!E35/'Tabel 5F B'!E35*100,\"-\"))","v":"-"},{"$f":"IF(OR('Tabel 5F B'!F35<5,'Tabel 5 B'!F35<0.5),\"-\",IFERROR('Tabel 5 B'!F35/'Tabel 5F B'!F35*100,\"-\"))","v":"-"},{"$f":"IF(OR('Tabel 5F B'!G35<5,'Tabel 5 B'!G35<0.5),\"-\",IFERROR('Tabel 5 B'!G35/'Tabel 5F B'!G35*100,\"-\"))","v":"-"},{"$f":"IF(OR('Tabel 5F B'!H35<5,'Tabel 5 B'!H35<0.5),\"-\",IFERROR('Tabel 5 B'!H35/'Tabel 5F B'!H35*100,\"-\"))","v":13.333333333333334},null,{"$f":"IF(OR('Tabel 5F B'!J35<5,'Tabel 5 B'!J35<0.5),\"-\",IFERROR('Tabel 5 B'!J35/'Tabel 5F B'!J35*100,\"-\"))","v":16.666666666666664}]
["HA",null,{"$f":"IF(OR('Tabel 5F B'!C36<5,'Tabel 5 B'!C36<0.5),\"-\",IFERROR('Tabel 5 B'!C36/'Tabel 5F B'!C36*100,\"-\"))","v":"-"},{"$f":"IF(OR('Tabel 5F B'!D36<5,'Tabel 5 B'!D36<0.5),\"-\",IFERROR('Tabel 5 B'!D36/'Tabel 5F B'!D36*100,\"-\"))","v":"-"},{"$f":"IF(OR('Tabel 5F B'!E36<5,'Tabel 5 B'!E36<0.5),\"-\",IFERROR('Tabel 5 B'!E36/'Tabel 5F B'!E36*100,\"-\"))","v":"-"},{"$f":"IF(OR('Tabel 5F B'!F36<5,'Tabel 5 B'!F36<0.5),\"-\",IFERROR('Tabel 5 B'!F36/'Tabel 5F B'!F36*100,\"-\"))","v":"-"},{"$f":"IF(OR('Tabel 5F B'!G36<5,'Tabel 5 B'!G36<0.5),\"-\",IFERROR('Tabel 5 B'!G36/'Tabel 5F B'!G36*100,\"-\"))","v":"-"},{"$f":"IF(OR('Tabel 5F B'!H36<5,'Tabel 5 B'!H36<0.5),\"-\",IFERROR('Tabel 5 B'!H36/'Tabel 5F B'!H36*100,\"-\"))","v":"-"},null,{"$f":"IF(OR('Tabel 5F B'!J36<5,'Tabel 5 B'!J36<0.5),\"-\",IFERROR('Tabel 5 B'!J36/'Tabel 5F B'!J36*100,\"-\"))","v":"-"}]
["HD",null,{"$f":"IF(OR('Tabel 5F B'!C37<5,'Tabel 5 B'!C37<0.5),\"-\",IFERROR('Tabel 5 B'!C37/'Tabel 5F B'!C37*100,\"-\"))","v":"-"},{"$f":"IF(OR('Tabel 5F B'!D37<5,'Tabel 5 B'!D37<0.5),\"-\",IFERROR('Tabel 5 B'!D37/'Tabel 5F B'!D37*100,\"-\"))","v":"-"},{"$f":"IF(OR('Tabel 5F B'!E37<5,'Tabel 5 B'!E37<0.5),\"-\",IFERROR('Tabel 5 B'!E37/'Tabel 5F B'!E37*100,\"-\"))","v":"-"},{"$f":"IF(OR('Tabel 5F B'!F37<5,'Tabel 5 B'!F37<0.5),\"-\",IFERROR('Tabel 5 B'!F37/'Tabel 5F B'!F37*100,\"-\"))","v":"-"},{"$f":"IF(OR('Tabel 5F B'!G37<5,'Tabel 5 B'!G37<0.5),\"-\",IFERROR('Tabel 5 B'!G37/'Tabel 5F B'!G37*100,\"-\"))","v":"-"},{"$f":"IF(OR('Tabel 5F B'!H37<5,'Tabel 5 B'!H37<0.5),\"-\",IFERROR('Tabel 5 B'!H37/'Tabel 5F B'!H37*100,\"-\"))","v":"-"},null,{"$f":"IF(OR('Tabel 5F B'!J37<5,'Tabel 5 B'!J37<0.5),\"-\",IFERROR('Tabel 5 B'!J37/'Tabel 5F B'!J37*100,\"-\"))","v":"-"}]
["Komm. og Sprog",null,{"$f":"IF(OR('Tabel 5F B'!C38<5,'Tabel 5 B'!C38<0.5),\"-\",IFERROR('Tabel 5 B'!C38/'Tabel 5F B'!C38*100,\"-\"))","v":"-"},{"$f":"IF(OR('Tabel 5F B'!D38<5,'Tabel 5 B'!D38<0.5),\"-\",IFERROR('Tabel 5 B'!D38/'Tabel 5F B'!D38*100,\"-\"))","v":"-"},{"$f":"IF(OR('Tabel 5F B'!E38<5,'Tabel 5 B'!E38<0.5),\"-\",IFERROR('Tabel 5 B'!E38/'Tabel 5F B'!E38*100,\"-\"))","v":"-"},{"$f":"IF(OR('Tabel 5F B'!F38<5,'Tabel 5 B'!F38<0.5),\"-\",IFERROR('Tabel 5 B'!F38/'Tabel 5F B'!F38*100,\"-\"))","v":"-"},{"$f":"IF(OR('Tabel 5F B'!G38<5,'Tabel 5 B'!G38<0.5),\"-\",IFERROR('Tabel 5 B'!G38/'Tabel 5F B'!G38*100,\"-\"))","v":"-"},{"$f":"IF(OR('Tabel 5F B'!H38<5,'Tabel 5 B'!H38<0.5),\"-\",IFERROR('Tabel 5 B'!H38/'Tabel 5F B'!H38*100,\"-\"))","v":33.333333333333329},null,{"$f":"IF(OR('Tabel 5F B'!J38<5,'Tabel 5 B'!J38<0.5),\"-\",IFERROR('Tabel 5 B'!J38/'Tabel 5F B'!J38*100,\"-\"))","v":"-"}]
["Bygningskonst.",null,{"$f":"IF(OR('Tabel 5F B'!C39<5,'Tabel 5 B'!C39<0.5),\"-\",IFERROR('Tabel 5 B'!C39/'Tabel 5F B'!C39*100,\"-\"))","v":"-"},{"$f":"IF(OR('Tabel 5F B'!D39<5,'Tabel 5 B'!D39<0.5),\"-\",IFERROR('Tabel 5 B'!D39/'Tabel 5F B'!D39*100,\"-\"))","v":"-"},{"$f":"IF(OR('Tabel 5F B'!E39<5,'Tabel 5 B'!E39<0.5),\"-\",IFERROR('Tabel 5 B'!E39/'Tabel 5F B'!E39*100,\"-\"))","v":"-"},{"$f":"IF(OR('Tabel 5F B'!F39<5,'Tabel 5 B'!F39<0.5),\"-\",IFERROR('Tabel 5 B'!F39/'Tabel 5F B'!F39*100,\"-\"))","v":"-"},{"$f":"IF(OR('Tabel 5F B'!G39<5,'Tabel 5 B'!G39<0.5),\"-\",IFERROR('Tabel 5 B'!G39/'Tabel 5F B'!G39*100,\"-\"))","v":"-"},{"$f":"IF(OR('Tabel 5F B'!H39<5,'Tabel 5 B'!H39<0.5),\"-\",IFERROR('Tabel 5 B'!H39/'Tabel 5F B'!H39*100,\"-\"))","v":"-"},null,{"$f":"IF(OR('Tabel 5F B'!J39<5,'Tabel 5 B'!J39<0.5),\"-\",IFERROR('Tabel 5 B'!J39/'Tabel 5F B'!J39*100,\"-\"))","v":"-"}]
["Cand. IT.",null,{"$f":"IF(OR('Tabel 5F B'!C40<5,'Tabel 5 B'!C40<0.5),\"-\",IFERROR('Tabel 5 B'!C40/'Tabel 5F B'!C40*100,\"-\"))","v":"-"},{"$f":"IF(OR('Tabel 5F B'!D40<5,'Tabel 5 B'!D40<0.5),\"-\",IFERROR('Tabel 5 B'!D40/'Tabel 5F B'!D40*100,\"-\"))","v":"-"},{"$f":"IF(OR('Tabel 5F B'!E40<5,'Tabel 5 B'!E40<0.5),\"-\",IFERROR('Tabel 5 B'!E40/'Tabel 5F B'!E40*100,\"-\"))","v":"-"},{"$f":"IF(OR('Tabel 5F B'!F40<5,'Tabel 5 B'!F40<0.5),\"-\",IFERROR('Tabel 5 B'!F40/'Tabel 5F B'!F40*100,\"-\"))","v":"-"},{"$f":"IF(OR('Tabel 5F B'!G40<5,'Tabel 5 B'!G40<0.5),\"-\",IFERROR('Tabel 5 B'!G40/'Tabel 5F B'!G40*100,\"-\"))","v":"-"},{"$f":"IF(OR('Tabel 5F B'!H40<5,'Tabel 5 B'!H40<0.5),\"-\",IFERROR('Tabel 5 B'!H40/'Tabel 5F B'!H40*100,\"-\"))","v":"-"},null,{"$f":"IF(OR('Tabel 5F B'!J40<5,'Tabel 5 B'!J40<0.5),\"-\",IFERROR('Tabel 5 B'!J40/'Tabel 5F B'!J40*100,\"-\"))","v":"-"}]
["Bac. Samf.",null,{"$f":"IF(OR('Tabel 5F B'!C41<5,'Tabel 5 B'!C41<0.5),\"-\",IFERROR('Tabel 5 B'!C41/'Tabel 5F B'!C41*100,\"-\"))","v":"-"},{"$f":"IF(OR('Tabel 5F B'!D41<5,'Tabel 5 B'!D41<0.5),\"-\",IFERROR('Tabel 5 B'!D41/'Tabel 5F B'!D41*100,\"-\"))","v":"-"},{"$f":"IF(OR('Tabel 5F B'!E41<5,'Tabel 5 B'!E41<0.5),\"-\",IFERROR('Tabel 5 B'!E41/'Tabel 5F B'!E41*100,\"-\"))","v":"-"},{"$f":"IF(OR('Tabel 5F B'!F41<5,'Tabel 5 B'!F41<0.5),\"-\",IFERROR('Tabel 5 B'!F41/'Tabel 5F B'!F41*100,\"-\"))","v":"-"},{"$f":"IF(OR('Tabel 5F B'!G41<5,'Tabel 5 B'!G41<0.5),\"-\",IFERROR('Tabel 5 B'!G41/'Tabel 5F B'!G41*100,\"-\"))","v":"-"},{"$f":"IF(OR('Tabel 5F B'!H41<5,'Tabel 5 B'!H41<0.5),\"-\",IFERROR('Tabel 5 B'!H41/'Tabel 5F B'!H41*100,\"-\"))","v":"-"},null,{"$f":"IF(OR('Tabel 5F B'!J41<5,'Tabel 5 B'!J41<0.5),\"-\",IFERROR('Tabel 5 B'!J41/'Tabel 5F B'!J41*100,\"-\"))","v":"-"}]
["Bac. Hum.",null,{"$f":"IF(OR('Tabel 5F B'!C42<5,'Tabel 5 B'!C42<0.5),\"-\",IFERROR('Tabel 5 B'!C42/'Tabel 5F B'!C42*100,\"-\"))","v":"-"},{"$f":"IF(OR('Tabel 5F B'!D42<5,'Tabel 5 B'!D42<0.5),\"-\",IFERROR('Tabel 5 B'!D42/'Tabel 5F B'!D42*100,\"-\"))","v":"-"},{"$f":"IF(OR('Tabel 5F B'!E42<5,'Tabel 5 B'!E42<0.5),\"-\",IFERROR('Tabel 5 B'!E42/'Tabel 5F B'!E42*100,\"-\"))","v":"-"},{"$f":"IF(OR('Tabel 5F B'!F42<5,'Tabel 5 B'!F42<0.5),\"-\",IFERROR('Tabel 5 B'!F42/'Tabel 5F B'!F42*100,\"-\"))","v":"-"},{"$f":"IF(OR('Tabel 5F B'!G42<5,'Tabel 5 B'!G42<0.5),\"-\",IFERROR('Tabel 5 B'!G42/'Tabel 5F B'!G42*100,\"-\"))","v":"-"},{"$f":"IF(OR('Tabel 5F B'!H42<5,'Tabel 5 B'!H42<0.5),\"-\",IFERROR('Tabel 5 B'!H42/'Tabel 5F B'!H42*100,\"-\"))","v":20},null,{"$f":"IF(OR('Tabel 5F B'!J42<5,'Tabel 5 B'!J42<0.5),\"-\",IFERROR('Tabel 5 B'!J42/'Tabel 5F B'!J42*100,\"-\"))","v":"-"}]
["Bac. Nat.",null,{"$f":"IF(OR('Tabel 5F B'!C43<5,'Tabel 5 B'!C43<0.5),\"-\",IFERROR('Tabel 5 B'!C43/'Tabel 5F B'!C43*100,\"-\"))","v":"-"},{"$f":"IF(OR('Tabel 5F B'!D43<5,'Tabel 5 B'!D43<0.5),\"-\",IFERROR('Tabel 5 B'!D43/'Tabel 5F B'!D43*100,\"-\"))","v":"-"},{"$f":"IF(OR('Tabel 5F B'!E43<5,'Tabel 5 B'!E43<0.5),\"-\",IFERROR('Tabel 5 B'!E43/'Tabel 5F B'!E43*100,\"-\"))","v":"-"},{"$f":"IF(OR('Tabel 5F B'!F43<5,'Tabel 5 B'!F43<0.5),\"-\",IFERROR('Tabel 5 B'!F43/'Tabel 5F B'!F43*100,\"-\"))","v":"-"},{"$f":"IF(OR('Tabel 5F B'!G43<5,'Tabel 5 B'!G43<0.5),\"-\",IFERROR('Tabel 5 B'!G43/'Tabel 5F B'!G43*100,\"-\"))","v":"-"},{"$f":"IF(OR('Tabel 5F B'!H43<5,'Tabel 5 B'!H43<0.5),\"-\",IFERROR('Tabel 5 B'!H43/'Tabel 5F B'!H43*100,\"-\"))","v":"-"},null,{"$f":"IF(OR('Tabel 5F B'!J43<5,'Tabel 5 B'!J43<0.5),\"-\",IFERROR('Tabel 5 B'!J43/'Tabel 5F B'!J43*100,\"-\"))","v":"-"}]
["Andre",null,{"$f":"IF(OR('Tabel 5F B'!C44<5,'Tabel 5 B'!C44<0.5),\"-\",IFERROR('Tabel 5 B'!C44/'Tabel 5F B'!C44*100,\"-\"))","v":11.111111111111111},{"$f":"IF(OR('Tabel 5F B'!D44<5,'Tabel 5 B'!D44<0.5),\"-\",IFERROR('Tabel 5 B'!D44/'Tabel 5F B'!D44*100,\"-\"))","v":"-"},{"$f":"IF(OR('Tabel 5F B'!E44<5,'Tabel 5 B'!E44<0.5),\"-\",IFERROR('Tabel 5 B'!E44/'Tabel 5F B'!E44*100,\"-\"))","v":"-"},{"$f":"IF(OR('Tabel 5F B'!F44<5,'Tabel 5 B'!F44<0.5),\"-\",IFERROR('Tabel 5 B'!F44/'Tabel 5F B'!F44*100,\"-\"))","v":50},{"$f":"IF(OR('Tabel 5F B'!G44<5,'Tabel 5 B'!G44<0.5),\"-\",IFERROR('Tabel 5 B'!G44/'Tabel 5F B'!G44*100,\"-\"))","v":12.5},{"$f":"IF(OR('Tabel 5F B'!H44<5,'Tabel 5 B'!H44<0.5),\"-\",IFERROR('Tabel 5 B'!H44/'Tabel 5F B'!H44*100,\"-\"))","v":7.8431372549019605},null,{"$f":"IF(OR('Tabel 5F B'!J44<5,'Tabel 5 B'!J44<0.5),\"-\",IFERROR('Tabel 5 B'!J44/'Tabel 5F B'!J44*100,\"-\"))","v":8.3333333333333321}]
[]
["Total",null,{"$f":"IF(OR('Tabel 5F B'!C46<5,'Tabel 5 B'!C46<0.5),\"-\",IFERROR('Tabel 5 B'!C46/'Tabel 5F B'!C46*100,\"-\"))","v":16.666666666666664},{"$f":"IF(OR('Tabel 5F B'!D46<5,'Tabel 5 B'!D46<0.5),\"-\",IFERROR('Tabel 5 B'!D46/'Tabel 5F B'!D46*100,\"-\"))","v":12.121212121212121},{"$f":"IF(OR('Tabel 5F B'!E46<5,'Tabel 5 B'!E46<0.5),\"-\",IFERROR('Tabel 5 B'!E46/'Tabel 5F B'!E46*100,\"-\"))","v":11.428571428571429},{"$f":"IF(OR('Tabel 5F B'!F46<5,'Tabel 5 B'!F46<0.5),\"-\",IFERROR('Tabel 5 B'!F46/'Tabel 5F B'!F46*100,\"-\"))","v":13.043478260869565},{"$f":"IF(OR('Tabel 5F B'!G46<5,'Tabel 5 B'!G46<0.5),\"-\",IFERROR('Tabel 5 B'!G46/'Tabel 5F B'!G46*100,\"-\"))","v":8.235294117647058},{"$f":"IF(OR('Tabel 5F B'!H46<5,'Tabel 5 B'!H46<0.5),\"-\",IFERROR('Tabel 5 B'!H46/'Tabel 5F B'!H46*100,\"-\"))","v":6.0439560439560438},null,{"$f":"IF(OR('Tabel 5F B'!J46<5,'Tabel 5 B'!J46<0.5),\"-\",IFERROR('Tabel 5 B'!J46/'Tabel 5F B'!J46*100,\"-\"))","v":13.829787234042554}]
[]
["Ingeniører i alt",null,{"$f":"IF(OR('Tabel 5F B'!C48<5,'Tabel 5 B'!C48<0.5),\"-\",IFERROR('Tabel 5 B'!C48/'Tabel 5F B'!C48*100,\"-\"))","v":"-"},{"$f":"IF(OR('Tabel 5F B'!D48<5,'Tabel 5 B'!D48<0.5),\"-\",IFERROR('Tabel 5 B'!D48/'Tabel 5F B'!D48*100,\"-\"))","v":"-"},{"$f":"IF(OR('Tabel 5F B'!E48<5,'Tabel 5 B'!E48<0.5),\"-\",IFERROR('Tabel 5 B'!E48/'Tabel 5F B'!E48*100,\"-\"))","v":"-"},{"$f":"IF(OR('Tabel 5F B'!F48<5,'Tabel 5 B'!F48<0.5),\"-\",IFERROR('Tabel 5 B'!F48/'Tabel 5F B'!F48*100,\"-\"))","v":16.666666666666664},{"$f":"IF(OR('Tabel 5F B'!G48<5,'Tabel 5 B'!G48<0.5),\"-\",IFERROR('Tabel 5 B'!G48/'Tabel 5F B'!G48*100,\"-\"))","v":10},{"$f":"IF(OR('Tabel 5F B'!H48<5,'Tabel 5 B'!H48<0.5),\"-\",IFERROR('Tabel 5 B'!H48/'Tabel 5F B'!H48*100,\"-\"))","v":3.5714285714285712},null,{"$f":"IF(OR('Tabel 5F B'!J48<5,'Tabel 5 B'!J48<0.5),\"-\",IFERROR('Tabel 5 B'!J48/'Tabel 5F B'!J48*100,\"-\"))","v":"-"}]
["Magistre i alt",null,{"$f":"IF(OR('Tabel 5F B'!C49<5,'Tabel 5 B'!C49<0.5),\"-\",IFERROR('Tabel 5 B'!C49/'Tabel 5F B'!C49*100,\"-\"))","v":40},{"$f":"IF(OR('Tabel 5F B'!D49<5,'Tabel 5 B'!D49<0.5),\"-\",IFERROR('Tabel 5 B'!D49/'Tabel 5F B'!D49*100,\"-\"))","v":42.857142857142854},{"$f":"IF(OR('Tabel 5F B'!E49<5,'Tabel 5 B'!E49<0.5),\"-\",IFERROR('Tabel 5 B'!E49/'Tabel 5F B'!E49*100,\"-\"))","v":10},{"$f":"IF(OR('Tabel 5F B'!F49<5,'Tabel 5 B'!F49<0.5),\"-\",IFERROR('Tabel 5 B'!F49/'Tabel 5F B'!F49*100,\"-\"))","v":22.222222222222221},{"$f":"IF(OR('Tabel 5F B'!G49<5,'Tabel 5 B'!G49<0.5),\"-\",IFERROR('Tabel 5 B'!G49/'Tabel 5F B'!G49*100,\"-\"))","v":16},{"$f":"IF(OR('Tabel 5F B'!H49<5,'Tabel 5 B'!H49<0.5),\"-\",IFERROR('Tabel 5 B'!H49/'Tabel 5F B'!H49*100,\"-\"))","v":6.25},null,{"$f":"IF(OR('Tabel 5F B'!J49<5,'Tabel 5 B'!J49<0.5),\"-\",IFERROR('Tabel 5 B'!J49/'Tabel 5F B'!J49*100,\"-\"))","v":50}]
["DJØF'ere i alt",null,{"$f":"IF(OR('Tabel 5F B'!C50<5,'Tabel 5 B'!C50<0.5),\"-\",IFERROR('Tabel 5 B'!C50/'Tabel 5F B'!C50*100,\"-\"))","v":"-"},{"$f":"IF(OR('Tabel 5F B'!D50<5,'Tabel 5 B'!D50<0.5),\"-\",IFERROR('Tabel 5 B'!D50/'Tabel 5F B'!D50*100,\"-\"))","v":"-"},{"$f":"IF(OR('Tabel 5F B'!E50<5,'Tabel 5 B'!E50<0.5),\"-\",IFERROR('Tabel 5 B'!E50/'Tabel 5F B'!E50*100,\"-\"))","v":"-"},{"$f":"IF(OR('Tabel 5F B'!F50<5,'Tabel 5 B'!F50<0.5),\"-\",IFERROR('Tabel 5 B'!F50/'Tabel 5F B'!F50*100,\"-\"))","v":"-"},{"$f":"IF(OR('Tabel 5F B'!G50<5,'Tabel 5 B'!G50<0.5),\"-\",IFERROR('Tabel 5 B'!G50/'Tabel 5F B'!G50*100,\"-\"))","v":"-"},{"$f":"IF(OR('Tabel 5F B'!H50<5,'Tabel 5 B'!H50<0.5),\"-\",IFERROR('Tabel 5 B'!H50/'Tabel 5F B'!H50*100,\"-\"))","v":4.918032786885246},null,{"$f":"IF(OR('Tabel 5F B'!J50<5,'Tabel 5 B'!J50<0.5),\"-\",IFERROR('Tabel 5 B'!J50/'Tabel 5F B'!J50*100,\"-\"))","v":14.285714285714285}]
[]
[]
[]
[]
[]
[]
["Bornholm"]
[]
[null,null,"Under 1 år"," 1 - 2 år","2 - 4 år","5 - 9 år","10 - 14 år","Over 15 år",null,"Uoplyst"]
[]
["Civ. ing.",null,{"$f":"IF(OR('Tabel 5F B'!C61<5,'Tabel 5 B'!C61<0.5),\"-\",IFERROR('Tabel 5 B'!C61/'Tabel 5F B'!C61*100,\"-\"))","v":"-"},{"$f":"IF(OR('Tabel 5F B'!D61<5,'Tabel 5 B'!D61<0.5),\"-\",IFERROR('Tabel 5 B'!D61/'Tabel 5F B'!D61*100,\"-\"))","v":"-"},{"$f":"IF(OR('Tabel 5F B'!E61<5,'Tabel 5 B'!E61<0.5),\"-\",IFERROR('Tabel 5 B'!E61/'Tabel 5F B'!E61*100,\"-\"))","v":"-"},{"$f":"IF(OR('Tabel 5F B'!F61<5,'Tabel 5 B'!F61<0.5),\"-\",IFERROR('Tabel 5 B'!F61/'Tabel 5F B'!F61*100,\"-\"))","v":30},{"$f":"IF(OR('Tabel 5F B'!G61<5,'Tabel 5 B'!G61<0.5),\"-\",IFERROR('Tabel 5 B'!G61/'Tabel 5F B'!G61*100,\"-\"))","v":"-"},{"$f":"IF(OR('Tabel 5F B'!H61<5,'Tabel 5 B'!H61<0.5),\"-\",IFERROR('Tabel 5 B'!H61/'Tabel 5F B'!H61*100,\"-\"))","v":"-"},null,{"$f":"IF(OR('Tabel 5F B'!J61<5,'Tabel 5 B'!J61<0.5),\"-\",IFERROR('Tabel 5 B'!J61/'Tabel 5F B'!J61*100,\"-\"))","v":"-"}]
["Diplom ing.",null,{"$f":"IF(OR('Tabel 5F B'!C62<5,'Tabel 5 B'!C62<0.5),\"-\",IFERROR('Tabel 5 B'!C62/'Tabel 5F B'!C62*100,\"-\"))","v":"-"},{"$f":"IF(OR('Tabel 5F B'!D62<5,'Tabel 5 B'!D62<0.5),\"-\",IFERROR('Tabel 5 B'!D62/'Tabel 5F B'!D62*100,\"-\"))","v":"-"},{"$f":"IF(OR('Tabel 5F B'!E62<5,'Tabel 5 B'!E62<0.5),\"-\",IFERROR('Tabel 5 B'!E62/'Tabel 5F B'!E62*100,\"-\"))","v":"-"},{"$f":"IF(OR('Tabel 5F B'!F62<5,'Tabel 5 B'!F62<0.5),\"-\",IFERROR('Tabel 5 B'!F62/'Tabel 5F B'!F62*100,\"-\"))","v":"-"},{"$f":"IF(OR('Tabel 5F B'!G62<5,'Tabel 5 B'!G62<0.5),\"-\",IFERROR('Tabel 5 B'!G62/'Tabel 5F B'!G62*100,\"-\"))","v":16.666666666666664},{"$f":"IF(OR('Tabel 5F B'!H62<5,'Tabel 5 B'!H62<0.5),\"-\",IFERROR('Tabel 5 B'!H62/'Tabel 5F B'!H62*100,\"-\"))","v":5},null,{"$f":"IF(OR('Tabel 5F B'!J62<5,'Tabel 5 B'!J62<0.5),\"-\",IFERROR('Tabel 5 B'!J62/'Tabel 5F B'!J62*100,\"-\"))","v":"-"}]
["Cand. Scient. Tek",null,{"$f":"IF(OR('Tabel 5F B'!C63<5,'Tabel 5 B'!C63<0.5),\"-\",IFERROR('Tabel 5 B'!C63/'Tabel 5F B'!C63*100,\"-\"))","v":"-"},{"$f":"IF(OR('Tabel 5F B'!D63<5,'Tabel 5 B'!D63<0.5),\"-\",IFERROR('Tabel 5 B'!D63/'Tabel 5F B'!D63*100,\"-\"))","v":"-"},{"$f":"IF(OR('Tabel 5F B'!E63<5,'Tabel 5 B'!E63<0.5),\"-\",IFERROR('Tabel 5 B'!E63/'Tabel 5F B'!E63*100,\"-\"))","v":50},{"$f":"IF(OR('Tabel 5F B'!F63<5,'Tabel 5 B'!F63<0.5),\"-\",IFERROR('Tabel 5 B'!F63/'Tabel 5F B'!F63*100,\"-\"))","v":"-"},{"$f":"IF(OR('Tabel 5F B'!G63<5,'Tabel 5 B'!G63<0.5),\"-\",IFERROR('Tabel 5 B'!G63/'Tabel 5F B'!G63*100,\"-\"))","v":"-"},{"$f":"IF(OR('Tabel 5F B'!H63<5,'Tabel 5 B'!H63<0.5),\"-\",IFERROR('Tabel 5 B'!H63/'Tabel 5F B'!H63*100,\"-\"))","v":"-"},null,{"$f":"IF(OR('Tabel 5F B'!J63<5,'Tabel 5 B'!J63<0.5),\"-\",IFERROR('Tabel 5 B'!J63/'Tabel 5F B'!J63*100,\"-\"))","v":"-"}]
["MA. Hum.",null,{"$f":"IF(OR('Tabel 5F B'!C64<5,'Tabel 5 B'!C64<0.5),\"-\",IFERROR('Tabel 5 B'!C64/'Tabel 5F B'!C64*100,\"-\"))","v":"-"},{"$f":"IF(OR('Tabel 5F B'!D64<5,'Tabel 5 B'!D64<0.5),\"-\",IFERROR('Tabel 5 B'!D64/'Tabel 5F B'!D64*100,\"-\"))","v":"-"},{"$f":"IF(OR('Tabel 5F B'!E64<5,'Tabel 5 B'!E64<0.5),\"-\",IFERROR('Tabel 5 B'!E64/'Tabel 5F B'!E64*100,\"-\"))","v":7.1428571428571423},{"$f":"IF(OR('Tabel 5F B'!F64<5,'Tabel 5 B'!F64<0.5),\"-\",IFERROR('Tabel 5 B'!F64/'Tabel 5F B'!F64*100,\"-\"))","v":21.212121212121211},{"$f":"IF(OR('Tabel 5F B'!G64<5,'Tabel 5 B'!G64<0.5),\"-\",IFERROR('Tabel 5 B'!G64/'Tabel 5F B'!G64*100,\"-\"))","v":18.75},{"$f":"IF(OR('Tabel 5F B'!H64<5,'Tabel 5 B'!H64<0.5),\"-\",IFERROR('Tabel 5 B'!H64/'Tabel 5F B'!H64*100,\"-\"))","v":6.5217391304347823},null,{"$f":"IF(OR('Tabel 5F B'!J64<5,'Tabel 5 B'!J64<0.5),\"-\",IFERROR('Tabel 5 B'!J64/'Tabel 5F B'!J64*100,\"-\"))","v":44.444444444444443}]
["MA. Nat.",null,{"$f":"IF(OR('Tabel 5F B'!C65<5,'Tabel 5 B'!C65<0.5),\"-\",IFERROR('Tabel 5 B'!C65/'Tabel 5F B'!C65*100,\"-\"))","v":"-"},{"$f":"IF(OR('Tabel 5F B'!D65<5,'Tabel 5 B'!D65<0.5),\"-\",IFERROR('Tabel 5 B'!D65/'Tabel 5F B'!D65*100,\"-\"))","v":"-"},{"$f":"IF(OR('Tabel 5F B'!E65<5,'Tabel 5 B'!E65<0.5),\"-\",IFERROR('Tabel 5 B'!E65/'Tabel 5F B'!E65*100,\"-\"))","v":"-"},{"$f":"IF(OR('Tabel 5F B'!F65<5,'Tabel 5 B'!F65<0.5),\"-\",IFERROR('Tabel 5 B'!F65/'Tabel 5F B'!F65*100,\"-\"))","v":"-"},{"$f":"IF(OR('Tabel 5F B'!G65<5,'Tabel 5 B'!G65<0.5),\"-\",IFERROR('Tabel 5 B'!G65/'Tabel 5F B'!G65*100,\"-\"))","v":"-"},{"$f":"IF(OR('Tabel 5F B'!H65<5,'Tabel 5 B'!H65<0.5),\"-\",IFERROR('Tabel 5 B'!H65/'Tabel 5F B'!H65*100,\"-\"))","v":2.8571428571428572},null,{"$f":"IF(OR('Tabel 5F B'!J65<5,'Tabel 5 B'!J65<0.5),\"-\",IFERROR('Tabel 5 B'!J65/'Tabel 5F B'!J65*100,\"-\"))","v":"-"}]
["MA. Ph.d.",null,{"$f":"IF(OR('Tabel 5F B'!C66<5,'Tabel 5 B'!C66<0.5),\"-\",IFERROR('Tabel 5 B'!C66/'Tabel 5F B'!C66*100,\"-\"))","v":"-"},{"$f":"IF(OR('Tabel 5F B'!D66<5,'Tabel 5 B'!D66<0.5),\"-\",IFERROR('Tabel 5 B'!D66/'Tabel 5F B'!D66*100,\"-\"))","v":"-"},{"$f":"IF(OR('Tabel 5F B'!E66<5,'Tabel 5 B'!E66<0.5),\"-\",IFERROR('Tabel 5 B'!E66/'Tabel 5F B'!E66*100,\"-\"))","v":"-"},{"$f":"IF(OR('Tabel 5F B'!F66<5,'Tabel 5 B'!F66<0.5),\"-\",IFERROR('Tabel 5 B'!F66/'Tabel 5F B'!F66*100,\"-\"))","v":"-"},{"$f":"IF(OR('Tabel 5F B'!G66<5,'Tabel 5 B'!G66<0.5),\"-\",IFERROR('Tabel 5 B'!G66/'Tabel 5F B'!G66*100,\"-\"))","v":"-"},{"$f":"IF(OR('Tabel 5F B'!H66<5,'Tabel 5 B'!H66<0.5),\"-\",IFERROR('Tabel 5 B'!H66/'Tabel 5F B'!H66*100,\"-\"))","v":"-"},null,{"$f":"IF(OR('Tabel 5F B'!J66<5,'Tabel 5 B'!J66<0.5),\"-\",IFERROR('Tabel 5 B'!J66/'Tabel 5F B'!J66*100,\"-\"))","v":"-"}]
["MA. Samf.",null,{"$f":"IF(OR('Tabel 5F B'!C67<5,'Tabel 5 B'!C67<0.5),\"-\",IFERROR('Tabel 5 B'!C67/'Tabel 5F B'!C67*100,\"-\"))","v":"-"},{"$f":"IF(OR('Tabel 5F B'!D67<5,'Tabel 5 B'!D67<0.5),\"-\",IFERROR('Tabel 5 B'!D67/'Tabel 5F B'!D67*100,\"-\"))","v":"-"},{"$f":"IF(OR('Tabel 5F B'!E67<5,'Tabel 5 B'!E67<0.5),\"-\",IFERROR('Tabel 5 B'!E67/'Tabel 5F B'!E67*100,\"-\"))","v":"-"},{"$f":"IF(OR('Tabel 5F B'!F67<5,'Tabel 5 B'!F67<0.5),\"-\",IFERROR('Tabel 5 B'!F67/'Tabel 5F B'!F67*100,\"-\"))","v":"-"},{"$f":"IF(OR('Tabel 5F B'!G67<5,'Tabel 5 B'!G67<0.5),\"-\",IFERROR('Tabel 5 B'!G67/'Tabel 5F B'!G67*100,\"-\"))","v":"-"},{"$f":"IF(OR('Tabel 5F B'!H67<5,'Tabel 5 B'!H67<0.5),\"-\",IFERROR('Tabel 5 B'!H67/'Tabel 5F B'!H67*100,\"-\"))","v":16.666666666666664},null,{"$f":"IF(OR('Tabel 5F B'!J67<5,'Tabel 5 B'!J67<0.5),\"-\",IFERROR('Tabel 5 B'!J67/'Tabel 5F B'!J67*100,\"-\"))","v":"-"}]
["Øvrige Mag.",null,{"$f":"IF(OR('Tabel 5F B'!C68<5,'Tabel 5 B'!C68<0.5),\"-\",IFERROR('Tabel 5 B'!C68/'Tabel 5F B'!C68*100,\"-\"))","v":"-"},{"$f":"IF(OR('Tabel 5F B'!D68<5,'Tabel 5 B'!D68<0.5),\"-\",IFERROR('Tabel 5 B'!D68/'Tabel 5F B'!D68*100,\"-\"))","v":"-"},{"$f":"IF(OR('Tabel 5F B'!E68<5,'Tabel 5 B'!E68<0.5),\"-\",IFERROR('Tabel 5 B'!E68/'Tabel 5F B'!E68*100,\"-\"))","v":"-"},{"$f":"IF(OR('Tabel 5F B'!F68<5,'Tabel 5 B'!F68<0.5),\"-\",IFERROR('Tabel 5 B'!F68/'Tabel 5F B'!F68*100,\"-\"))","v":"-"},{"$f":"IF(OR('Tabel 5F B'!G68<5,'Tabel 5 B'!G68<0.5),\"-\",IFERROR('Tabel 5 B'!G68/'Tabel 5F B'!G68*100,\"-\"))","v":"-"},{"$f":"IF(OR('Tabel 5F B'!H68<5,'Tabel 5 B'!H68<0.5),\"-\",IFERROR('Tabel 5 B'!H68/'Tabel 5F B'!H68*100,\"-\"))","v":16.666666666666664},null,{"$f":"IF(OR('Tabel 5F B'!J68<5,'Tabel 5 B'!J68<0.5),\"-\",IFERROR('Tabel 5 B'!J68/'Tabel 5F B'!J68*100,\"-\"))","v":"-"}]
["Agronom",null,{"$f":"IF(OR('Tabel 5F B'!C69<5,'Tabel 5 B'!C69<0.5),\"-\",IFERROR('Tabel 5 B'!C69/'Tabel 5F B'!C69*100,\"-\"))","v":"-"},{"$f":"IF(OR('Tabel 5F B'!D69<5,'Tabel 5 B'!D69<0.5),\"-\",IFERROR('Tabel 5 B'!D69/'Tabel 5F B'!D69*100,\"-\"))","v":"-"},{"$f":"IF(OR('Tabel 5F B'!E69<5,'Tabel 5 B'!E69<0.5),\"-\",IFERROR('Tabel 5 B'!E69/'Tabel 5F B'!E69*100,\"-\"))","v":"-"},{"$f":"IF(OR('Tabel 5F B'!F69<5,'Tabel 5 B'!F69<0.5),\"-\",IFERROR('Tabel 5 B'!F69/'Tabel 5F B'!F69*100,\"-\"))","v":"-"},{"$f":"IF(OR('Tabel 5F B'!G69<5,'Tabel 5 B'!G69<0.5),\"-\",IFERROR('Tabel 5 B'!G69/'Tabel 5F B'!G69*100,\"-\"))","v":"-"},{"$f":"IF(OR('Tabel 5F B'!H69<5,'Tabel 5 B'!H69<0.5),\"-\",IFERROR('Tabel 5 B'!H69/'Tabel 5F B'!H69*100,\"-\"))","v":"-"},null,{"$f":"IF(OR('Tabel 5F B'!J69<5,'Tabel 5 B'!J69<0.5),\"-\",IFERROR('Tabel 5 B'!J69/'Tabel 5F B'!J69*100,\"-\"))","v":"-"}]
["Landsk. Arkt.",null,{"$f":"IF(OR('Tabel 5F B'!C70<5,'Tabel 5 B'!C70<0.5),\"-\",IFERROR('Tabel 5 B'!C70/'Tabel 5F B'!C70*100,\"-\"))","v":"-"},{"$f":"IF(OR('Tabel 5F B'!D70<5,'Tabel 5 B'!D70<0.5),\"-\",IFERROR('Tabel 5 B'!D70/'Tabel 5F B'!D70*100,\"-\"))","v":"-"},{"$f":"IF(OR('Tabel 5F B'!E70<5,'Tabel 5 B'!E70<0.5),\"-\",IFERROR('Tabel 5 B'!E70/'Tabel 5F B'!E70*100,\"-\"))","v":"-"},{"$f":"IF(OR('Tabel 5F B'!F70<5,'Tabel 5 B'!F70<0.5),\"-\",IFERROR('Tabel 5 B'!F70/'Tabel 5F B'!F70*100,\"-\"))","v":"-"},{"$f":"IF(OR('Tabel 5F B'!G70<5,'Tabel 5 B'!G70<0.5),\"-\",IFERROR('Tabel 5 B'!G70/'Tabel 5F B'!G70*100,\"-\"))","v":"-"},{"$f":"IF(OR('Tabel 5F B'!H70<5,'Tabel 5 B'!H70<0.5),\"-\",IFERROR('Tabel 5 B'!H70/'Tabel 5F B'!H70*100,\"-\"))","v":"-"},null,{"$f":"IF(OR('Tabel 5F B'!J70<5,'Tabel 5 B'!J70<0.5),\"-\",IFERROR('Tabel 5 B'!J70/'Tabel 5F B'!J70*100,\"-\"))","v":"-"}]
["Hortonom",null,{"$f":"IF(OR('Tabel 5F B'!C71<5,'Tabel 5 B'!C71<0.5),\"-\",IFERROR('Tabel 5 B'!C71/'Tabel 5F B'!C71*100,\"-\"))","v":"-"},{"$f":"IF(OR('Tabel 5F B'!D71<5,'Tabel 5 B'!D71<0.5),\"-\",IFERROR('Tabel 5 B'!D71/'Tabel 5F B'!D71*100,\"-\"))","v":"-"},{"$f":"IF(OR('Tabel 5F B'!E71<5,'Tabel 5 B'!E71<0.5),\"-\",IFERROR('Tabel 5 B'!E71/'Tabel 5F B'!E71*100,\"-\"))","v":"-"},{"$f":"IF(OR('Tabel 5F B'!F71<5,'Tabel 5 B'!F71<0.5),\"-\",IFERROR('Tabel 5 B'!F71/'Tabel 5F B'!F71*100,\"-\"))","v":"-"},{"$f":"IF(OR('Tabel 5F B'!G71<5,'Tabel 5 B'!G71<0.5),\"-\",IFERROR('Tabel 5 B'!G71/'Tabel 5F B'!G71*100,\"-\"))","v":"-"},{"$f":"IF(OR('Tabel 5F B'!H71<5,'Tabel 5 B'!H71<0.5),\"-\",IFERROR('Tabel 5 B'!H71/'Tabel 5F B'!H71*100,\"-\"))","v":"-"},null,{"$f":"IF(OR('Tabel 5F B'!J71<5,'Tabel 5 B'!J71<0.5),\"-\",IFERROR('Tabel 5 B'!J71/'Tabel 5F B'!J71*100,\"-\"))","v":"-"}]
["Forstkand.",null,{"$f":"IF(OR('Tabel 5F B'!C72<5,'Tabel 5 B'!C72<0.5),\"-\",IFERROR('Tabel 5 B'!C72/'Tabel 5F B'!C72*100,\"-\"))","v":"-"},{"$f":"IF(OR('Tabel 5F B'!D72<5,'Tabel 5 B'!D72<0.5),\"-\",IFERROR('Tabel 5 B'!D72/'Tabel 5F B'!D72*100,\"-\"))","v":"-"},{"$f":"IF(OR('Tabel 5F B'!E72<5,'Tabel 5 B'!E72<0.5),\"-\",IFERROR('Tabel 5 B'!E72/'Tabel 5F B'!E72*100,\"-\"))","v":"-"},{"$f":"IF(OR('Tabel 5F B'!F72<5,'Tabel 5 B'!F72<0.5),\"-\",IFERROR('Tabel 5 B'!F72/'Tabel 5F B'!F72*100,\"-\"))","v":"-"},{"$f":"IF(OR('Tabel 5F B'!G72<5,'Tabel 5 B'!G72<0.5),\"-\",IFERROR('Tabel 5 B'!G72/'Tabel 5F B'!G72*100,\"-\"))","v":"-"},{"$f":"IF(OR('Tabel 5F B'!H72<5,'Tabel 5 B'!H72<0.5),\"-\",IFERROR('Tabel 5 B'!H72/'Tabel 5F B'!H72*100,\"-\"))","v":"-"},null,{"$f":"IF(OR('Tabel 5F B'!J72<5,'Tabel 5 B'!J72<0.5),\"-\",IFERROR('Tabel 5 B'!J72/'Tabel 5F B'!J72*100,\"-\"))","v":"-"}]
["Jordbrugsakad.",null,{"$f":"IF(OR('Tabel 5F B'!C73<5,'Tabel 5 B'!C73<0.5),\"-\",IFERROR('Tabel 5 B'!C73/'Tabel 5F B'!C73*100,\"-\"))","v":"-"},{"$f":"IF(OR('Tabel 5F B'!D73<5,'Tabel 5 B'!D73<0.5),\"-\",IFERROR('Tabel 5 B'!D73/'Tabel 5F B'!D73*100,\"-\"))","v":"-"},{"$f":"IF(OR('Tabel 5F B'!E73<5,'Tabel 5 B'!E73<0.5),\"-\",IFERROR('Tabel 5 B'!E73/'Tabel 5F B'!E73*100,\"-\"))","v":"-"},{"$f":"IF(OR('Tabel 5F B'!F73<5,'Tabel 5 B'!F73<0.5),\"-\",IFERROR('Tabel 5 B'!F73/'Tabel 5F B'!F73*100,\"-\"))","v":"-"},{"$f":"IF(OR('Tabel 5F B'!G73<5,'Tabel 5 B'!G73<0.5),\"-\",IFERROR('Tabel 5 B'!G73/'Tabel 5F B'!G73*100,\"-\"))","v":"-"},{"$f":"IF(OR('Tabel 5F B'!H73<5,'Tabel 5 B'!H73<0.5),\"-\",IFERROR('Tabel 5 B'!H73/'Tabel 5F B'!H73*100,\"-\"))","v":"-"},null,{"$f":"IF(OR('Tabel 5F B'!J73<5,'Tabel 5 B'!J73<0.5),\"-\",IFERROR('Tabel 5 B'!J73/'Tabel 5F B'!J73*100,\"-\"))","v":"-"}]
["Mejeriing.",null,{"$f":"IF(OR('Tabel 5F B'!C74<5,'Tabel 5 B'!C74<0.5),\"-\",IFERROR('Tabel 5 B'!C74/'Tabel 5F B'!C74*100,\"-\"))","v":"-"},{"$f":"IF(OR('Tabel 5F B'!D74<5,'Tabel 5 B'!D74<0.5),\"-\",IFERROR('Tabel 5 B'!D74/'Tabel 5F B'!D74*100,\"-\"))","v":"-"},{"$f":"IF(OR('Tabel 5F B'!E74<5,'Tabel 5 B'!E74<0.5),\"-\",IFERROR('Tabel 5 B'!E74/'Tabel 5F B'!E74*100,\"-\"))","v":"-"},{"$f":"IF(OR('Tabel 5F B'!F74<5,'Tabel 5 B'!F74<0.5),\"-\",IFERROR('Tabel 5 B'!F74/'Tabel 5F B'!F74*100,\"-\"))","v":"-"},{"$f":"IF(OR('Tabel 5F B'!G74<5,'Tabel 5 B'!G74<0.5),\"-\",IFERROR('Tabel 5 B'!G74/'Tabel 5F B'!G74*100,\"-\"))","v":"-"},{"$f":"IF(OR('Tabel 5F B'!H74<5,'Tabel 5 B'!H74<0.5),\"-\",IFERROR('Tabel 5 B'!H74/'Tabel 5F B'!H74*100,\"-\"))","v":"-"},null,{"$f":"IF(OR('Tabel 5F B'!J74<5,'Tabel 5 B'!J74<0.5),\"-\",IFERROR('Tabel 5 B'!J74/'Tabel 5F B'!J74*100,\"-\"))","v":"-"}]
["Levn.m.kand.",null,{"$f":"IF(OR('Tabel 5F B'!C75<5,'Tabel 5 B'!C75<0.5),\"-\",IFERROR('Tabel 5 B'!C75/'Tabel 5F B'!C75*100,\"-\"))","v":"-"},{"$f":"IF(OR('Tabel 5F B'!D75<5,'Tabel 5 B'!D75<0.5),\"-\",IFERROR('Tabel 5 B'!D75/'Tabel 5F B'!D75*100,\"-\"))","v":"-"},{"$f":"IF(OR('Tabel 5F B'!E75<5,'Tabel 5 B'!E75<0.5),\"-\",IFERROR('Tabel 5 B'!E75/'Tabel 5F B'!E75*100,\"-\"))","v":"-"},{"$f":"IF(OR('Tabel 5F B'!F75<5,'Tabel 5 B'!F75<0.5),\"-\",IFERROR('Tabel 5 B'!F75/'Tabel 5F B'!F75*100,\"-\"))","v":"-"},{"$f":"IF(OR('Tabel 5F B'!G75<5,'Tabel 5 B'!G75<0.5),\"-\",IFERROR('Tabel 5 B'!G75/'Tabel 5F B'!G75*100,\"-\"))","v":"-"},{"$f":"IF(OR('Tabel 5F B'!H75<5,'Tabel 5 B'!H75<0.5),\"-\",IFERROR('Tabel 5 B'!H75/'Tabel 5F B'!H75*100,\"-\"))","v":"-"},null,{"$f":"IF(OR('Tabel 5F B'!J75<5,'Tabel 5 B'!J75<0.5),\"-\",IFERROR('Tabel 5 B'!J75/'Tabel 5F B'!J75*100,\"-\"))","v":"-"}]
["Dyrlæge",null,{"$f":"IF(OR('Tabel 5F B'!C76<5,'Tabel 5 B'!C76<0.5),\"-\",IFERROR('Tabel 5 B'!C76/'Tabel 5F B'!C76*100,\"-\"))","v":"-"},{"$f":"IF(OR('Tabel 5F B'!D76<5,'Tabel 5 B'!D76<0.5),\"-\",IFERROR('Tabel 5 B'!D76/'Tabel 5F B'!D76*100,\"-\"))","v":"-"},{"$f":"IF(OR('Tabel 5F B'!E76<5,'Tabel 5 B'!E76<0.5),\"-\",IFERROR('Tabel 5 B'!E76/'Tabel 5F B'!E76*100,\"-\"))","v":"-"},{"$f":"IF(OR('Tabel 5F B'!F76<5,'Tabel 5 B'!F76<0.5),\"-\",IFERROR('Tabel 5 B'!F76/'Tabel 5F B'!F76*100,\"-\"))","v":"-"},{"$f":"IF(OR('Tabel 5F B'!G76<5,'Tabel 5 B'!G76<0.5),\"-\",IFERROR('Tabel 5 B'!G76/'Tabel 5F B'!G76*100,\"-\"))","v":"-"},{"$f":"IF(OR('Tabel 5F B'!H76<5,'Tabel 5 B'!H76<0.5),\"-\",IFERROR('Tabel 5 B'!H76/'Tabel 5F B'!H76*100,\"-\"))","v":14.285714285714285},null,{"$f":"IF(OR('Tabel 5F B'!J76<5,'Tabel 5 B'!J76<0.5),\"-\",IFERROR('Tabel 5 B'!J76/'Tabel 5F B'!J76*100,\"-\"))","v":"-"}]
["Farmaceut",null,{"$f":"IF(OR('Tabel 5F B'!C77<5,'Tabel 5 B'!C77<0.5),\"-\",IFERROR('Tabel 5 B'!C77/'Tabel 5F B'!C77*100,\"-\"))","v":"-"},{"$f":"IF(OR('Tabel 5F B'!D77<5,'Tabel 5 B'!D77<0.5),\"-\",IFERROR('Tabel 5 B'!D77/'Tabel 5F B'!D77*100,\"-\"))","v":"-"},{"$f":"IF(OR('Tabel 5F B'!E77<5,'Tabel 5 B'!E77<0.5),\"-\",IFERROR('Tabel 5 B'!E77/'Tabel 5F B'!E77*100,\"-\"))","v":"-"},{"$f":"IF(OR('Tabel 5F B'!F77<5,'Tabel 5 B'!F77<0.5),\"-\",IFERROR('Tabel 5 B'!F77/'Tabel 5F B'!F77*100,\"-\"))","v":"-"},{"$f":"IF(OR('Tabel 5F B'!G77<5,'Tabel 5 B'!G77<0.5),\"-\",IFERROR('Tabel 5 B'!G77/'Tabel 5F B'!G77*100,\"-\"))","v":"-"},{"$f":"IF(OR('Tabel 5F B'!H77<5,'Tabel 5 B'!H77<0.5),\"-\",IFERROR('Tabel 5 B'!H77/'Tabel 5F B'!H77*100,\"-\"))","v":"-"},null,{"$f":"IF(OR('Tabel 5F B'!J77<5,'Tabel 5 B'!J77<0.5),\"-\",IFERROR('Tabel 5 B'!J77/'Tabel 5F B'!J77*100,\"-\"))","v":"-"}]
["Læge",null,{"$f":"IF(OR('Tabel 5F B'!C78<5,'Tabel 5 B'!C78<0.5),\"-\",IFERROR('Tabel 5 B'!C78/'Tabel 5F B'!C78*100,\"-\"))","v":"-"},{"$f":"IF(OR('Tabel 5F B'!D78<5,'Tabel 5 B'!D78<0.5),\"-\",IFERROR('Tabel 5 B'!D78/'Tabel 5F B'!D78*100,\"-\"))","v":"-"},{"$f":"IF(OR('Tabel 5F B'!E78<5,'Tabel 5 B'!E78<0.5),\"-\",IFERROR('Tabel 5 B'!E78/'Tabel 5F B'!E78*100,\"-\"))","v":"-"},{"$f":"IF(OR('Tabel 5F B'!F78<5,'Tabel 5 B'!F78<0.5),\"-\",IFERROR('Tabel 5 B'!F78/'Tabel 5F B'!F78*100,\"-\"))","v":"-"},{"$f":"IF(OR('Tabel 5F B'!G78<5,'Tabel 5 B'!G78<0.5),\"-\",IFERROR('Tabel 5 B'!G78/'Tabel 5F B'!G78*100,\"-\"))","v":"-"},{"$f":"IF(OR('Tabel 5F B'!H78<5,'Tabel 5 B'!H78<0.5),\"-\",IFERROR('Tabel 5 B'!H78/'Tabel 5F B'!H78*100,\"-\"))","v":"-"},null,{"$f":"IF(OR('Tabel 5F B'!J78<5,'Tabel 5 B'!J78<0.5),\"-\",IFERROR('Tabel 5 B'!J78/'Tabel 5F B'!J78*100,\"-\"))","v":"-"}]
["Tandlæge",null,{"$f":"IF(OR('Tabel 5F B'!C79<5,'Tabel 5 B'!C79<0.5),\"-\",IFERROR('Tabel 5 B'!C79/'Tabel 5F B'!C79*100,\"-\"))","v":"-"},{"$f":"IF(OR('Tabel 5F B'!D79<5,'Tabel 5 B'!D79<0.5),\"-\",IFERROR('Tabel 5 B'!D79/'Tabel 5F B'!D79*100,\"-\"))","v":"-"},{"$f":"IF(OR('Tabel 5F B'!E79<5,'Tabel 5 B'!E79<0.5),\"-\",IFERROR('Tabel 5 B'!E79/'Tabel 5F B'!E79*100,\"-\"))","v":"-"},{"$f":"IF(OR('Tabel 5F B'!F79<5,'Tabel 5 B'!F79<0.5),\"-\",IFERROR('Tabel 5 B'!F79/'Tabel 5F B'!F79*100,\"-\"))","v":"-"},{"$f":"IF(OR('Tabel 5F B'!G79<5,'Tabel 5 B'!G79<0.5),\"-\",IFERROR('Tabel 5 B'!G79/'Tabel 5F B'!G79*100,\"-\"))","v":"-"},{"$f":"IF(OR('Tabel 5F B'!H79<5,'Tabel 5 B'!H79<0.5),\"-\",IFERROR('Tabel 5 B'!H79/'Tabel 5F B'!H79*100,\"-\"))","v":"-"},null,{"$f":"IF(OR('Tabel 5F B'!J79<5,'Tabel 5 B'!J79<0.5),\"-\",IFERROR('Tabel 5 B'!J79/'Tabel 5F B'!J79*100,\"-\"))","v":"-"}]
["Arkitekt",null,{"$f":"IF(OR('Tabel 5F B'!C80<5,'Tabel 5 B'!C80<0.5),\"-\",IFERROR('Tabel 5 B'!C80/'Tabel 5F B'!C80*100,\"-\"))","v":"-"},{"$f":"IF(OR('Tabel 5F B'!D80<5,'Tabel 5 B'!D80<0.5),\"-\",IFERROR('Tabel 5 B'!D80/'Tabel 5F B'!D80*100,\"-\"))","v":"-"},{"$f":"IF(OR('Tabel 5F B'!E80<5,'Tabel 5 B'!E80<0.5),\"-\",IFERROR('Tabel 5 B'!E80/'Tabel 5F B'!E80*100,\"-\"))","v":"-"},{"$f":"IF(OR('Tabel 5F B'!F80<5,'Tabel 5 B'!F80<0.5),\"-\",IFERROR('Tabel 5 B'!F80/'Tabel 5F B'!F80*100,\"-\"))","v":"-"},{"$f":"IF(OR('Tabel 5F B'!G80<5,'Tabel 5 B'!G80<0.5),\"-\",IFERROR('Tabel 5 B'!G80/'Tabel 5F B'!G80*100,\"-\"))","v":"-"},{"$f":"IF(OR('Tabel 5F B'!H80<5,'Tabel 5 B'!H80<0.5),\"-\",IFERROR('Tabel 5 B'!H80/'Tabel 5F B'!H80*100,\"-\"))","v":12.5},null,{"$f":"IF(OR('Tabel 5F B'!J80<5,'Tabel 5 B'!J80<0.5),\"-\",IFERROR('Tabel 5 B'!J80/'Tabel 5F B'!J80*100,\"-\"))","v":"-"}]
["Landinspek.",null,{"$f":"IF(OR('Tabel 5F B'!C81<5,'Tabel 5 B'!C81<0.5),\"-\",IFERROR('Tabel 5 B'!C81/'Tabel 5F B'!C81*100,\"-\"))","v":"-"},{"$f":"IF(OR('Tabel 5F B'!D81<5,'Tabel 5 B'!D81<0.5),\"-\",IFERROR('Tabel 5 B'!D81/'Tabel 5F B'!D81*100,\"-\"))","v":"-"},{"$f":"IF(OR('Tabel 5F B'!E81<5,'Tabel 5 B'!E81<0.5),\"-\",IFERROR('Tabel 5 B'!E81/'Tabel 5F B'!E81*100,\"-\"))","v":"-"},{"$f":"IF(OR('Tabel 5F B'!F81<5,'Tabel 5 B'!F81<0.5),\"-\",IFERROR('Tabel 5 B'!F81/'Tabel 5F B'!F81*100,\"-\"))","v":"-"},{"$f":"IF(OR('Tabel 5F B'!G81<5,'Tabel 5 B'!G81<0.5),\"-\",IFERROR('Tabel 5 B'!G81/'Tabel 5F B'!G81*100,\"-\"))","v":"-"},{"$f":"IF(OR('Tabel 5F B'!H81<5,'Tabel 5 B'!H81<0.5),\"-\",IFERROR('Tabel 5 B'!H81/'Tabel 5F B'!H81*100,\"-\"))","v":"-"},null,{"$f":"IF(OR('Tabel 5F B'!J81<5,'Tabel 5 B'!J81<0.5),\"-\",IFERROR('Tabel 5 B'!J81/'Tabel 5F B'!J81*100,\"-\"))","v":"-"}]
["Bibliotekar",null,{"$f":"IF(OR('Tabel 5F B'!C82<5,'Tabel 5 B'!C82<0.5),\"-\",IFERROR('Tabel 5 B'!C82/'Tabel 5F B'!C82*100,\"-\"))","v":"-"},{"$f":"IF(OR('Tabel 5F B'!D82<5,'Tabel 5 B'!D82<0.5),\"-\",IFERROR('Tabel 5 B'!D82/'Tabel 5F B'!D82*100,\"-\"))","v":"-"},{"$f":"IF(OR('Tabel 5F B'!E82<5,'Tabel 5 B'!E82<0.5),\"-\",IFERROR('Tabel 5 B'!E82/'Tabel 5F B'!E82*100,\"-\"))","v":"-"},{"$f":"IF(OR('Tabel 5F B'!F82<5,'Tabel 5 B'!F82<0.5),\"-\",IFERROR('Tabel 5 B'!F82/'Tabel 5F B'!F82*100,\"-\"))","v":"-"},{"$f":"IF(OR('Tabel 5F B'!G82<5,'Tabel 5 B'!G82<0.5),\"-\",IFERROR('Tabel 5 B'!G82/'Tabel 5F B'!G82*100,\"-\"))","v":"-"},{"$f":"IF(OR('Tabel 5F B'!H82<5,'Tabel 5 B'!H82<0.5),\"-\",IFERROR('Tabel 5 B'!H82/'Tabel 5F B'!H82*100,\"-\"))","v":16.666666666666664},null,{"$f":"IF(OR('Tabel 5F B'!J82<5,'Tabel 5 B'!J82<0.5),\"-\",IFERROR('Tabel 5 B'!J82/'Tabel 5F B'!J82*100,\"-\"))","v":"-"}]
["Musikudd.",null,{"$f":"IF(OR('Tabel 5F B'!C83<5,'Tabel 5 B'!C83<0.5),\"-\",IFERROR('Tabel 5 B'!C83/'Tabel 5F B'!C83*100,\"-\"))","v":"-"},{"$f":"IF(OR('Tabel 5F B'!D83<5,'Tabel 5 B'!D83<0.5),\"-\",IFERROR('Tabel 5 B'!D83/'Tabel 5F B'!D83*100,\"-\"))","v":"-"},{"$f":"IF(OR('Tabel 5F B'!E83<5,'Tabel 5 B'!E83<0.5),\"-\",IFERROR('Tabel 5 B'!E83/'Tabel 5F B'!E83*100,\"-\"))","v":"-"},{"$f":"IF(OR('Tabel 5F B'!F83<5,'Tabel 5 B'!F83<0.5),\"-\",IFERROR('Tabel 5 B'!F83/'Tabel 5F B'!F83*100,\"-\"))","v":"-"},{"$f":"IF(OR('Tabel 5F B'!G83<5,'Tabel 5 B'!G83<0.5),\"-\",IFERROR('Tabel 5 B'!G83/'Tabel 5F B'!G83*100,\"-\"))","v":"-"},{"$f":"IF(OR('Tabel 5F B'!H83<5,'Tabel 5 B'!H83<0.5),\"-\",IFERROR('Tabel 5 B'!H83/'Tabel 5F B'!H83*100,\"-\"))","v":"-"},null,{"$f":"IF(OR('Tabel 5F B'!J83<5,'Tabel 5 B'!J83<0.5),\"-\",IFERROR('Tabel 5 B'!J83/'Tabel 5F B'!J83*100,\"-\"))","v":"-"}]
["Teolog",null,{"$f":"IF(OR('Tabel 5F B'!C84<5,'Tabel 5 B'!C84<0.5),\"-\",IFERROR('Tabel 5 B'!C84/'Tabel 5F B'!C84*100,\"-\"))","v":"-"},{"$f":"IF(OR('Tabel 5F B'!D84<5,'Tabel 5 B'!D84<0.5),\"-\",IFERROR('Tabel 5 B'!D84/'Tabel 5F B'!D84*100,\"-\"))","v":"-"},{"$f":"IF(OR('Tabel 5F B'!E84<5,'Tabel 5 B'!E84<0.5),\"-\",IFERROR('Tabel 5 B'!E84/'Tabel 5F B'!E84*100,\"-\"))","v":"-"},{"$f":"IF(OR('Tabel 5F B'!F84<5,'Tabel 5 B'!F84<0.5),\"-\",IFERROR('Tabel 5 B'!F84/'Tabel 5F B'!F84*100,\"-\"))","v":"-"},{"$f":"IF(OR('Tabel 5F B'!G84<5,'Tabel 5 B'!G84<0.5),\"-\",IFERROR('Tabel 5 B'!G84/'Tabel 5F B'!G84*100,\"-\"))","v":"-"},{"$f":"IF(OR('Tabel 5F B'!H84<5,'Tabel 5 B'!H84<0.5),\"-\",IFERROR('Tabel 5 B'!H84/'Tabel 5F B'!H84*100,\"-\"))","v":"-"},null,{"$f":"IF(OR('Tabel 5F B'!J84<5,'Tabel 5 B'!J84<0.5),\"-\",IFERROR('Tabel 5 B'!J84/'Tabel 5F B'!J84*100,\"-\"))","v":"-"}]
["Psykolog",null,{"$f":"IF(OR('Tabel 5F B'!C85<5,'Tabel 5 B'!C85<0.5),\"-\",IFERROR('Tabel 5 B'!C85/'Tabel 5F B'!C85*100,\"-\"))","v":"-"},{"$f":"IF(OR('Tabel 5F B'!D85<5,'Tabel 5 B'!D85<0.5),\"-\",IFERROR('Tabel 5 B'!D85/'Tabel 5F B'!D85*100,\"-\"))","v":"-"},{"$f":"IF(OR('Tabel 5F B'!E85<5,'Tabel 5 B'!E85<0.5),\"-\",IFERROR('Tabel 5 B'!E85/'Tabel 5F B'!E85*100,\"-\"))","v":"-"},{"$f":"IF(OR('Tabel 5F B'!F85<5,'Tabel 5 B'!F85<0.5),\"-\",IFERROR('Tabel 5 B'!F85/'Tabel 5F B'!F85*100,\"-\"))","v":"-"},{"$f":"IF(OR('Tabel 5F B'!G85<5,'Tabel 5 B'!G85<0.5),\"-\",IFERROR('Tabel 5 B'!G85/'Tabel 5F B'!G85*100,\"-\"))","v":"-"},{"$f":"IF(OR('Tabel 5F B'!H85<5,'Tabel 5 B'!H85<0.5),\"-\",IFERROR('Tabel 5 B'!H85/'Tabel 5F B'!H85*100,\"-\"))","v":"-"},null,{"$f":"IF(OR('Tabel 5F B'!J85<5,'Tabel 5 B'!J85<0.5),\"-\",IFERROR('Tabel 5 B'!J85/'Tabel 5F B'!J85*100,\"-\"))","v":"-"}]
["Jurist",null,{"$f":"IF(OR('Tabel 5F B'!C86<5,'Tabel 5 B'!C86<0.5),\"-\",IFERROR('Tabel 5 B'!C86/'Tabel 5F B'!C86*100,\"-\"))","v":"-"},{"$f":"IF(OR('Tabel 5F B'!D86<5,'Tabel 5 B'!D86<0.5),\"-\",IFERROR('Tabel 5 B'!D86/'Tabel 5F B'!D86*100,\"-\"))","v":"-"},{"$f":"IF(OR('Tabel 5F B'!E86<5,'Tabel 5 B'!E86<0.5),\"-\",IFERROR('Tabel 5 B'!E86/'Tabel 5F B'!E86*100,\"-\"))","v":"-"},{"$f":"IF(OR('Tabel 5F B'!F86<5,'Tabel 5 B'!F86<0.5),\"-\",IFERROR('Tabel 5 B'!F86/'Tabel 5F B'!F86*100,\"-\"))","v":"-"},{"$f":"IF(OR('Tabel 5F B'!G86<5,'Tabel 5 B'!G86<0.5),\"-\",IFERROR('Tabel 5 B'!G86/'Tabel 5F B'!G86*100,\"-\"))","v":"-"},{"$f":"IF(OR('Tabel 5F B'!H86<5,'Tabel 5 B'!H86<0.5),\"-\",IFERROR('Tabel 5 B'!H86/'Tabel 5F B'!H86*100,\"-\"))","v":"-"},null,{"$f":"IF(OR('Tabel 5F B'!J86<5,'Tabel 5 B'!J86<0.5),\"-\",IFERROR('Tabel 5 B'!J86/'Tabel 5F B'!J86*100,\"-\"))","v":"-"}]
["Økonom",null,{"$f":"IF(OR('Tabel 5F B'!C87<5,'Tabel 5 B'!C87<0.5),\"-\",IFERROR('Tabel 5 B'!C87/'Tabel 5F B'!C87*100,\"-\"))","v":"-"},{"$f":"IF(OR('Tabel 5F B'!D87<5,'Tabel 5 B'!D87<0.5),\"-\",IFERROR('Tabel 5 B'!D87/'Tabel 5F B'!D87*100,\"-\"))","v":"-"},{"$f":"IF(OR('Tabel 5F B'!E87<5,'Tabel 5 B'!E87<0.5),\"-\",IFERROR('Tabel 5 B'!E87/'Tabel 5F B'!E87*100,\"-\"))","v":"-"},{"$f":"IF(OR('Tabel 5F B'!F87<5,'Tabel 5 B'!F87<0.5),\"-\",IFERROR('Tabel 5 B'!F87/'Tabel 5F B'!F87*100,\"-\"))","v":"-"},{"$f":"IF(OR('Tabel 5F B'!G87<5,'Tabel 5 B'!G87<0.5),\"-\",IFERROR('Tabel 5 B'!G87/'Tabel 5F B'!G87*100,\"-\"))","v":"-"},{"$f":"IF(OR('Tabel 5F B'!H87<5,'Tabel 5 B'!H87<0.5),\"-\",IFERROR('Tabel 5 B'!H87/'Tabel 5F B'!H87*100,\"-\"))","v":"-"},null,{"$f":"IF(OR('Tabel 5F B'!J87<5,'Tabel 5 B'!J87<0.5),\"-\",IFERROR('Tabel 5 B'!J87/'Tabel 5F B'!J87*100,\"-\"))","v":"-"}]
["Samf. Adm.",null,{"$f":"IF(OR('Tabel 5F B'!C88<5,'Tabel 5 B'!C88<0.5),\"-\",IFERROR('Tabel 5 B'!C88/'Tabel 5F B'!C88*100,\"-\"))","v":"-"},{"$f":"IF(OR('Tabel 5F B'!D88<5,'Tabel 5 B'!D88<0.5),\"-\",IFERROR('Tabel 5 B'!D88/'Tabel 5F B'!D88*100,\"-\"))","v":"-"},{"$f":"IF(OR('Tabel 5F B'!E88<5,'Tabel 5 B'!E88<0.5),\"-\",IFERROR('Tabel 5 B'!E88/'Tabel 5F B'!E88*100,\"-\"))","v":"-"},{"$f":"IF(OR('Tabel 5F B'!F88<5,'Tabel 5 B'!F88<0.5),\"-\",IFERROR('Tabel 5 B'!F88/'Tabel 5F B'!F88*100,\"-\"))","v":"-"},{"$f":"IF(OR('Tabel 5F B'!G88<5,'Tabel 5 B'!G88<0.5),\"-\",IFERROR('Tabel 5 B'!G88/'Tabel 5F B'!G88*100,\"-\"))","v":"-"},{"$f":"IF(OR('Tabel 5F B'!H88<5,'Tabel 5 B'!H88<0.5),\"-\",IFERROR('Tabel 5 B'!H88/'Tabel 5F B'!H88*100,\"-\"))","v":5.5555555555555554},null,{"$f":"IF(OR('Tabel 5F B'!J88<5,'Tabel 5 B'!J88<0.5),\"-\",IFERROR('Tabel 5 B'!J88/'Tabel 5F B'!J88*100,\"-\"))","v":22.222222222222221}]
["Cand. Merc.",null,{"$f":"IF(OR('Tabel 5F B'!C89<5,'Tabel 5 B'!C89<0.5),\"-\",IFERROR('Tabel 5 B'!C89/'Tabel 5F B'!C89*100,\"-\"))","v":"-"},{"$f":"IF(OR('Tabel 5F B'!D89<5,'Tabel 5 B'!D89<0.5),\"-\",IFERROR('Tabel 5 B'!D89/'Tabel 5F B'!D89*100,\"-\"))","v":"-"},{"$f":"IF(OR('Tabel 5F B'!E89<5,'Tabel 5 B'!E89<0.5),\"-\",IFERROR('Tabel 5 B'!E89/'Tabel 5F B'!E89*100,\"-\"))","v":"-"},{"$f":"IF(OR('Tabel 5F B'!F89<5,'Tabel 5 B'!F89<0.5),\"-\",IFERROR('Tabel 5 B'!F89/'Tabel 5F B'!F89*100,\"-\"))","v":"-"},{"$f":"IF(OR('Tabel 5F B'!G89<5,'Tabel 5 B'!G89<0.5),\"-\",IFERROR('Tabel 5 B'!G89/'Tabel 5F B'!G89*100,\"-\"))","v":"-"},{"$f":"IF(OR('Tabel 5F B'!H89<5,'Tabel 5 B'!H89<0.5),\"-\",IFERROR('Tabel 5 B'!H89/'Tabel 5F B'!H89*100,\"-\"))","v":13.333333333333334},null,{"$f":"IF(OR('Tabel 5F B'!J89<5,'Tabel 5 B'!J89<0.5),\"-\",IFERROR('Tabel 5 B'!J89/'Tabel 5F B'!J89*100,\"-\"))","v":16.666666666666664}]
["HA",null,{"$f":"IF(OR('Tabel 5F B'!C90<5,'Tabel 5 B'!C90<0.5),\"-\",IFERROR('Tabel 5 B'!C90/'Tabel 5F B'!C90*100,\"-\"))","v":"-"},{"$f":"IF(OR('Tabel 5F B'!D90<5,'Tabel 5 B'!D90<0.5),\"-\",IFERROR('Tabel 5 B'!D90/'Tabel 5F B'!D90*100,\"-\"))","v":"-"},{"$f":"IF(OR('Tabel 5F B'!E90<5,'Tabel 5 B'!E90<0.5),\"-\",IFERROR('Tabel 5 B'!E90/'Tabel 5F B'!E90*100,\"-\"))","v":"-"},{"$f":"IF(OR('Tabel 5F B'!F90<5,'Tabel 5 B'!F90<0.5),\"-\",IFERROR('Tabel 5 B'!F90/'Tabel 5F B'!F90*100,\"-\"))","v":"-"},{"$f":"IF(OR('Tabel 5F B'!G90<5,'Tabel 5 B'!G90<0.5),\"-\",IFERROR('Tabel 5 B'!G90/'Tabel 5F B'!G90*100,\"-\"))","v":"-"},{"$f":"IF(OR('Tabel 5F B'!H90<5,'Tabel 5 B'!H90<0.5),\"-\",IFERROR('Tabel 5 B'!H90/'Tabel 5F B'!H90*100,\"-\"))","v":"-"},null,{"$f":"IF(OR('Tabel 5F B'!J90<5,'Tabel 5 B'!J90<0.5),\"-\",IFERROR('Tabel 5 B'!J90/'Tabel 5F B'!J90*100,\"-\"))","v":"-"}]
["HD",null,{"$f":"IF(OR('Tabel 5F B'!C91<5,'Tabel 5 B'!C91<0.5),\"-\",IFERROR('Tabel 5 B'!C91/'Tabel 5F B'!C91*100,\"-\"))","v":"-"},{"$f":"IF(OR('Tabel 5F B'!D91<5,'Tabel 5 B'!D91<0.5),\"-\",IFERROR('Tabel 5 B'!D91/'Tabel 5F B'!D91*100,\"-\"))","v":"-"},{"$f":"IF(OR('Tabel 5F B'!E91<5,'Tabel 5 B'!E91<0.5),\"-\",IFERROR('Tabel 5 B'!E91/'Tabel 5F B'!E91*100,\"-\"))","v":"-"},{"$f":"IF(OR('Tabel 5F B'!F91<5,'Tabel 5 B'!F91<0.5),\"-\",IFERROR('Tabel 5 B'!F91/'Tabel 5F B'!F91*100,\"-\"))","v":"-"},{"$f":"IF(OR('Tabel 5F B'!G91<5,'Tabel 5 B'!G91<0.5),\"-\",IFERROR('Tabel 5 B'!G91/'Tabel 5F B'!G91*100,\"-\"))","v":"-"},{"$f":"IF(OR('Tabel 5F B'!H91<5,'Tabel 5 B'!H91<0.5),\"-\",IFERROR('Tabel 5 B'!H91/'Tabel 5F B'!H91*100,\"-\"))","v":"-"},null,{"$f":"IF(OR('Tabel 5F B'!J91<5,'Tabel 5 B'!J91<0.5),\"-\",IFERROR('Tabel 5 B'!J91/'Tabel 5F B'!J91*100,\"-\"))","v":"-"}]
["Komm. og Sprog",null,{"$f":"IF(OR('Tabel 5F B'!C92<5,'Tabel 5 B'!C92<0.5),\"-\",IFERROR('Tabel 5 B'!C92/'Tabel 5F B'!C92*100,\"-\"))","v":"-"},{"$f":"IF(OR('Tabel 5F B'!D92<5,'Tabel 5 B'!D92<0.5),\"-\",IFERROR('Tabel 5 B'!D92/'Tabel 5F B'!D92*100,\"-\"))","v":"-"},{"$f":"IF(OR('Tabel 5F B'!E92<5,'Tabel 5 B'!E92<0.5),\"-\",IFERROR('Tabel 5 B'!E92/'Tabel 5F B'!E92*100,\"-\"))","v":"-"},{"$f":"IF(OR('Tabel 5F B'!F92<5,'Tabel 5 B'!F92<0.5),\"-\",IFERROR('Tabel 5 B'!F92/'Tabel 5F B'!F92*100,\"-\"))","v":"-"},{"$f":"IF(OR('Tabel 5F B'!G92<5,'Tabel 5 B'!G92<0.5),\"-\",IFERROR('Tabel 5 B'!G92/'Tabel 5F B'!G92*100,\"-\"))","v":"-"},{"$f":"IF(OR('Tabel 5F B'!H92<5,'Tabel 5 B'!H92<0.5),\"-\",IFERROR('Tabel 5 B'!H92/'Tabel 5F B'!H92*100,\"-\"))","v":33.333333333333329},null,{"$f":"IF(OR('Tabel 5F B'!J92<5,'Tabel 5 B'!J92<0.5),\"-\",IFERROR('Tabel 5 B'!J92/'Tabel 5F B'!J92*100,\"-\"))","v":"-"}]
["Bygningskonst.",null,{"$f":"IF(OR('Tabel 5F B'!C93<5,'Tabel 5 B'!C93<0.5),\"-\",IFERROR('Tabel 5 B'!C93/'Tabel 5F B'!C93*100,\"-\"))","v":"-"},{"$f":"IF(OR('Tabel 5F B'!D93<5,'Tabel 5 B'!D93<0.5),\"-\",IFERROR('Tabel 5 B'!D93/'Tabel 5F B'!D93*100,\"-\"))","v":"-"},{"$f":"IF(OR('Tabel 5F B'!E93<5,'Tabel 5 B'!E93<0.5),\"-\",IFERROR('Tabel 5 B'!E93/'Tabel 5F B'!E93*100,\"-\"))","v":"-"},{"$f":"IF(OR('Tabel 5F B'!F93<5,'Tabel 5 B'!F93<0.5),\"-\",IFERROR('Tabel 5 B'!F93/'Tabel 5F B'!F93*100,\"-\"))","v":"-"},{"$f":"IF(OR('Tabel 5F B'!G93<5,'Tabel 5 B'!G93<0.5),\"-\",IFERROR('Tabel 5 B'!G93/'Tabel 5F B'!G93*100,\"-\"))","v":"-"},{"$f":"IF(OR('Tabel 5F B'!H93<5,'Tabel 5 B'!H93<0.5),\"-\",IFERROR('Tabel 5 B'!H93/'Tabel 5F B'!H93*100,\"-\"))","v":"-"},null,{"$f":"IF(OR('Tabel 5F B'!J93<5,'Tabel 5 B'!J93<0.5),\"-\",IFERROR('Tabel 5 B'!J93/'Tabel 5F B'!J93*100,\"-\"))","v":"-"}]
["Cand. IT.",null,{"$f":"IF(OR('Tabel 5F B'!C94<5,'Tabel 5 B'!C94<0.5),\"-\",IFERROR('Tabel 5 B'!C94/'Tabel 5F B'!C94*100,\"-\"))","v":"-"},{"$f":"IF(OR('Tabel 5F B'!D94<5,'Tabel 5 B'!D94<0.5),\"-\",IFERROR('Tabel 5 B'!D94/'Tabel 5F B'!D94*100,\"-\"))","v":"-"},{"$f":"IF(OR('Tabel 5F B'!E94<5,'Tabel 5 B'!E94<0.5),\"-\",IFERROR('Tabel 5 B'!E94/'Tabel 5F B'!E94*100,\"-\"))","v":"-"},{"$f":"IF(OR('Tabel 5F B'!F94<5,'Tabel 5 B'!F94<0.5),\"-\",IFERROR('Tabel 5 B'!F94/'Tabel 5F B'!F94*100,\"-\"))","v":"-"},{"$f":"IF(OR('Tabel 5F B'!G94<5,'Tabel 5 B'!G94<0.5),\"-\",IFERROR('Tabel 5 B'!G94/'Tabel 5F B'!G94*100,\"-\"))","v":"-"},{"$f":"IF(OR('Tabel 5F B'!H94<5,'Tabel 5 B'!H94<0.5),\"-\",IFERROR('Tabel 5 B'!H94/'Tabel 5F B'!H94*100,\"-\"))","v":"-"},null,{"$f":"IF(OR('Tabel 5F B'!J94<5,'Tabel 5 B'!J94<0.5),\"-\",IFERROR('Tabel 5 B'!J94/'Tabel 5F B'!J94*100,\"-\"))","v":"-"}]
["Bac. Samf.",null,{"$f":"IF(OR('Tabel 5F B'!C95<5,'Tabel 5 B'!C95<0.5),\"-\",IFERROR('Tabel 5 B'!C95/'Tabel 5F B'!C95*100,\"-\"))","v":"-"},{"$f":"IF(OR('Tabel 5F B'!D95<5,'Tabel 5 B'!D95<0.5),\"-\",IFERROR('Tabel 5 B'!D95/'Tabel 5F B'!D95*100,\"-\"))","v":"-"},{"$f":"IF(OR('Tabel 5F B'!E95<5,'Tabel 5 B'!E95<0.5),\"-\",IFERROR('Tabel 5 B'!E95/'Tabel 5F B'!E95*100,\"-\"))","v":"-"},{"$f":"IF(OR('Tabel 5F B'!F95<5,'Tabel 5 B'!F95<0.5),\"-\",IFERROR('Tabel 5 B'!F95/'Tabel 5F B'!F95*100,\"-\"))","v":"-"},{"$f":"IF(OR('Tabel 5F B'!G95<5,'Tabel 5 B'!G95<0.5),\"-\",IFERROR('Tabel 5 B'!G95/'Tabel 5F B'!G95*100,\"-\"))","v":"-"},{"$f":"IF(OR('Tabel 5F B'!H95<5,'Tabel 5 B'!H95<0.5),\"-\",IFERROR('Tabel 5 B'!H95/'Tabel 5F B'!H95*100,\"-\"))","v":"-"},null,{"$f":"IF(OR('Tabel 5F B'!J95<5,'Tabel 5 B'!J95<0.5),\"-\",IFERROR('Tabel 5 B'!J95/'Tabel 5F B'!J95*100,\"-\"))","v":"-"}]
["Bac. Hum.",null,{"$f":"IF(OR('Tabel 5F B'!C96<5,'Tabel 5 B'!C96<0.5),\"-\",IFERROR('Tabel 5 B'!C96/'Tabel 5F B'!C96*100,\"-\"))","v":"-"},{"$f":"IF(OR('Tabel 5F B'!D96<5,'Tabel 5 B'!D96<0.5),\"-\",IFERROR('Tabel 5 B'!D96/'Tabel 5F B'!D96*100,\"-\"))","v":"-"},{"$f":"IF(OR('Tabel 5F B'!E96<5,'Tabel 5 B'!E96<0.5),\"-\",IFERROR('Tabel 5 B'!E96/'Tabel 5F B'!E96*100,\"-\"))","v":"-"},{"$f":"IF(OR('Tabel 5F B'!F96<5,'Tabel 5 B'!F96<0.5),\"-\",IFERROR('Tabel 5 B'!F96/'Tabel 5F B'!F96*100,\"-\"))","v":"-"},{"$f":"IF(OR('Tabel 5F B'!G96<5,'Tabel 5 B'!G96<0.5),\"-\",IFERROR('Tabel 5 B'!G96/'Tabel 5F B'!G96*100,\"-\"))","v":"-"},{"$f":"IF(OR('Tabel 5F B'!H96<5,'Tabel 5 B'!H96<0.5),\"-\",IFERROR('Tabel 5 B'!H96/'Tabel 5F B'!H96*100,\"-\"))","v":20},null,{"$f":"IF(OR('Tabel 5F B'!J96<5,'Tabel 5 B'!J96<0.5),\"-\",IFERROR('Tabel 5 B'!J96/'Tabel 5F B'!J96*100,\"-\"))","v":"-"}]
["Bac. Nat.",null,{"$f":"IF(OR('Tabel 5F B'!C97<5,'Tabel 5 B'!C97<0.5),\"-\",IFERROR('Tabel 5 B'!C97/'Tabel 5F B'!C97*100,\"-\"))","v":"-"},{"$f":"IF(OR('Tabel 5F B'!D97<5,'Tabel 5 B'!D97<0.5),\"-\",IFERROR('Tabel 5 B'!D97/'Tabel 5F B'!D97*100,\"-\"))","v":"-"},{"$f":"IF(OR('Tabel 5F B'!E97<5,'Tabel 5 B'!E97<0.5),\"-\",IFERROR('Tabel 5 B'!E97/'Tabel 5F B'!E97*100,\"-\"))","v":"-"},{"$f":"IF(OR('Tabel 5F B'!F97<5,'Tabel 5 B'!F97<0.5),\"-\",IFERROR('Tabel 5 B'!F97/'Tabel 5F B'!F97*100,\"-\"))","v":"-"},{"$f":"IF(OR('Tabel 5F B'!G97<5,'Tabel 5 B'!G97<0.5),\"-\",IFERROR('Tabel 5 B'!G97/'Tabel 5F B'!G97*100,\"-\"))","v":"-"},{"$f":"IF(OR('Tabel 5F B'!H97<5,'Tabel 5 B'!H97<0.5),\"-\",IFERROR('Tabel 5 B'!H97/'Tabel 5F B'!H97*100,\"-\"))","v":"-"},null,{"$f":"IF(OR('Tabel 5F B'!J97<5,'Tabel 5 B'!J97<0.5),\"-\",IFERROR('Tabel 5 B'!J97/'Tabel 5F B'!J97*100,\"-\"))","v":"-"}]
["Andre",null,{"$f":"IF(OR('Tabel 5F B'!C98<5,'Tabel 5 B'!C98<0.5),\"-\",IFERROR('Tabel 5 B'!C98/'Tabel 5F B'!C98*100,\"-\"))","v":11.111111111111111},{"$f":"IF(OR('Tabel 5F B'!D98<5,'Tabel 5 B'!D98<0.5),\"-\",IFERROR('Tabel 5 B'!D98/'Tabel 5F B'!D98*100,\"-\"))","v":"-"},{"$f":"IF(OR('Tabel 5F B'!E98<5,'Tabel 5 B'!E98<0.5),\"-\",IFERROR('Tabel 5 B'!E98/'Tabel 5F B'!E98*100,\"-\"))","v":"-"},{"$f":"IF(OR('Tabel 5F B'!F98<5,'Tabel 5 B'!F98<0.5),\"-\",IFERROR('Tabel 5 B'!F98/'Tabel 5F B'!F98*100,\"-\"))","v":50},{"$f":"IF(OR('Tabel 5F B'!G98<5,'Tabel 5 B'!G98<0.5),\"-\",IFERROR('Tabel 5 B'!G98/'Tabel 5F B'!G98*100,\"-\"))","v":12.5},{"$f":"IF(OR('Tabel 5F B'!H98<5,'Tabel 5 B'!H98<0.5),\"-\",IFERROR('Tabel 5 B'!H98/'Tabel 5F B'!H98*100,\"-\"))","v":7.8431372549019605},null,{"$f":"IF(OR('Tabel 5F B'!J98<5,'Tabel 5 B'!J98<0.5),\"-\",IFERROR('Tabel 5 B'!J98/'Tabel 5F B'!J98*100,\"-\"))","v":8.3333333333333321}]
[]
["Total",null,{"$f":"IF(OR('Tabel 5F B'!C100<5,'Tabel 5 B'!C100<0.5),\"-\",IFERROR('Tabel 5 B'!C100/'Tabel 5F B'!C100*100,\"-\"))","v":16.666666666666664},{"$f":"IF(OR('Tabel 5F B'!D100<5,'Tabel 5 B'!D100<0.5),\"-\",IFERROR('Tabel 5 B'!D100/'Tabel 5F B'!D100*100,\"-\"))","v":12.121212121212121},{"$f":"IF(OR('Tabel 5F B'!E100<5,'Tabel 5 B'!E100<0.5),\"-\",IFERROR('Tabel 5 B'!E100/'Tabel 5F B'!E100*100,\"-\"))","v":11.428571428571429},{"$f":"IF(OR('Tabel 5F B'!F100<5,'Tabel 5 B'!F100<0.5),\"-\",IFERROR('Tabel 5 B'!F100/'Tabel 5F B'!F100*100,\"-\"))","v":13.043478260869565},{"$f":"IF(OR('Tabel 5F B'!G100<5,'Tabel 5 B'!G100<0.5),\"-\",IFERROR('Tabel 5 B'!G100/'Tabel 5F B'!G100*100,\"-\"))","v":8.235294117647058},{"$f":"IF(OR('Tabel 5F B'!H100<5,'Tabel 5 B'!H100<0.5),\"-\",IFERROR('Tabel 5 B'!H100/'Tabel 5F B'!H100*100,\"-\"))","v":6.0606060606060606},null,{"$f":"IF(OR('Tabel 5F B'!J100<5,'Tabel 5 B'!J100<0.5),\"-\",IFERROR('Tabel 5 B'!J100/'Tabel 5F B'!J100*100,\"-\"))","v":13.829787234042554}]
[]
["Ingeniører i alt",null,{"$f":"IF(OR('Tabel 5F B'!C102<5,'Tabel 5 B'!C102<0.5),\"-\",IFERROR('Tabel 5 B'!C102/'Tabel 5F B'!C102*100,\"-\"))","v":"-"},{"$f":"IF(OR('Tabel 5F B'!D102<5,'Tabel 5 B'!D102<0.5),\"-\",IFERROR('Tabel 5 B'!D102/'Tabel 5F B'!D102*100,\"-\"))","v":"-"},{"$f":"IF(OR('Tabel 5F B'!E102<5,'Tabel 5 B'!E102<0.5),\"-\",IFERROR('Tabel 5 B'!E102/'Tabel 5F B'!E102*100,\"-\"))","v":"-"},{"$f":"IF(OR('Tabel 5F B'!F102<5,'Tabel 5 B'!F102<0.5),\"-\",IFERROR('Tabel 5 B'!F102/'Tabel 5F B'!F102*100,\"-\"))","v":16.666666666666664},{"$f":"IF(OR('Tabel 5F B'!G102<5,'Tabel 5 B'!G102<0.5),\"-\",IFERROR('Tabel 5 B'!G102/'Tabel 5F B'!G102*100,\"-\"))","v":10},{"$f":"IF(OR('Tabel 5F B'!H102<5,'Tabel 5 B'!H102<0.5),\"-\",IFERROR('Tabel 5 B'!H102/'Tabel 5F B'!H102*100,\"-\"))","v":3.5714285714285712},null,{"$f":"IF(OR('Tabel 5F B'!J102<5,'Tabel 5 B'!J102<0.5),\"-\",IFERROR('Tabel 5 B'!J102/'Tabel 5F B'!J102*100,\"-\"))","v":"-"}]
["Magistre i alt",null,{"$f":"IF(OR('Tabel 5F B'!C103<5,'Tabel 5 B'!C103<0.5),\"-\",IFERROR('Tabel 5 B'!C103/'Tabel 5F B'!C103*100,\"-\"))","v":40},{"$f":"IF(OR('Tabel 5F B'!D103<5,'Tabel 5 B'!D103<0.5),\"-\",IFERROR('Tabel 5 B'!D103/'Tabel 5F B'!D103*100,\"-\"))","v":42.857142857142854},{"$f":"IF(OR('Tabel 5F B'!E103<5,'Tabel 5 B'!E103<0.5),\"-\",IFERROR('Tabel 5 B'!E103/'Tabel 5F B'!E103*100,\"-\"))","v":10},{"$f":"IF(OR('Tabel 5F B'!F103<5,'Tabel 5 B'!F103<0.5),\"-\",IFERROR('Tabel 5 B'!F103/'Tabel 5F B'!F103*100,\"-\"))","v":22.222222222222221},{"$f":"IF(OR('Tabel 5F B'!G103<5,'Tabel 5 B'!G103<0.5),\"-\",IFERROR('Tabel 5 B'!G103/'Tabel 5F B'!G103*100,\"-\"))","v":16},{"$f":"IF(OR('Tabel 5F B'!H103<5,'Tabel 5 B'!H103<0.5),\"-\",IFERROR('Tabel 5 B'!H103/'Tabel 5F B'!H103*100,\"-\"))","v":6.25},null,{"$f":"IF(OR('Tabel 5F B'!J103<5,'Tabel 5 B'!J103<0.5),\"-\",IFERROR('Tabel 5 B'!J103/'Tabel 5F B'!J103*100,\"-\"))","v":50}]
["DJØF'ere i alt",null,{"$f":"IF(OR('Tabel 5F B'!C104<5,'Tabel 5 B'!C104<0.5),\"-\",IFERROR('Tabel 5 B'!C104/'Tabel 5F B'!C104*100,\"-\"))","v":"-"},{"$f":"IF(OR('Tabel 5F B'!D104<5,'Tabel 5 B'!D104<0.5),\"-\",IFERROR('Tabel 5 B'!D104/'Tabel 5F B'!D104*100,\"-\"))","v":"-"},{"$f":"IF(OR('Tabel 5F B'!E104<5,'Tabel 5 B'!E104<0.5),\"-\",IFERROR('Tabel 5 B'!E104/'Tabel 5F B'!E104*100,\"-\"))","v":"-"},{"$f":"IF(OR('Tabel 5F B'!F104<5,'Tabel 5 B'!F104<0.5),\"-\",IFERROR('Tabel 5 B'!F104/'Tabel 5F B'!F104*100,\"-\"))","v":"-"},{"$f":"IF(OR('Tabel 5F B'!G104<5,'Tabel 5 B'!G104<0.5),\"-\",IFERROR('Tabel 5 B'!G104/'Tabel 5F B'!G104*100,\"-\"))","v":"-"},{"$f":"IF(OR('Tabel 5F B'!H104<5,'Tabel 5 B'!H104<0.5),\"-\",IFERROR('Tabel 5 B'!H104/'Tabel 5F B'!H104*100,\"-\"))","v":4.918032786885246},null,{"$f":"IF(OR('Tabel 5F B'!J104<5,'Tabel 5 B'!J104<0.5),\"-\",IFERROR('Tabel 5 B'!J104/'Tabel 5F B'!J104*100,\"-\"))","v":14.285714285714285}]
[]
[]
[]
[]
[]
[]
["Christiansø"]
[]
[null,null,"Under 1 år"," 1 - 2 år","2 - 4 år","5 - 9 år","10 - 14 år","Over 15 år",null,"Uoplyst"]
[]
["Civ. ing.",null,{"$f":"IF(OR('Tabel 5F B'!C115<5,'Tabel 5 B'!C115<0.5),\"-\",IFERROR('Tabel 5 B'!C115/'Tabel 5F B'!C115*100,\"-\"))","v":"-"},{"$f":"IF(OR('Tabel 5F B'!D115<5,'Tabel 5 B'!D115<0.5),\"-\",IFERROR('Tabel 5 B'!D115/'Tabel 5F B'!D115*100,\"-\"))","v":"-"},{"$f":"IF(OR('Tabel 5F B'!E115<5,'Tabel 5 B'!E115<0.5),\"-\",IFERROR('Tabel 5 B'!E115/'Tabel 5F B'!E115*100,\"-\"))","v":"-"},{"$f":"IF(OR('Tabel 5F B'!F115<5,'Tabel 5 B'!F115<0.5),\"-\",IFERROR('Tabel 5 B'!F115/'Tabel 5F B'!F115*100,\"-\"))","v":"-"},{"$f":"IF(OR('Tabel 5F B'!G115<5,'Tabel 5 B'!G115<0.5),\"-\",IFERROR('Tabel 5 B'!G115/'Tabel 5F B'!G115*100,\"-\"))","v":"-"},{"$f":"IF(OR('Tabel 5F B'!H115<5,'Tabel 5 B'!H115<0.5),\"-\",IFERROR('Tabel 5 B'!H115/'Tabel 5F B'!H115*100,\"-\"))","v":"-"},null,{"$f":"IF(OR('Tabel 5F B'!J115<5,'Tabel 5 B'!J115<0.5),\"-\",IFERROR('Tabel 5 B'!J115/'Tabel 5F B'!J115*100,\"-\"))","v":"-"}]
["Diplom ing.",null,{"$f":"IF(OR('Tabel 5F B'!C116<5,'Tabel 5 B'!C116<0.5),\"-\",IFERROR('Tabel 5 B'!C116/'Tabel 5F B'!C116*100,\"-\"))","v":"-"},{"$f":"IF(OR('Tabel 5F B'!D116<5,'Tabel 5 B'!D116<0.5),\"-\",IFERROR('Tabel 5 B'!D116/'Tabel 5F B'!D116*100,\"-\"))","v":"-"},{"$f":"IF(OR('Tabel 5F B'!E116<5,'Tabel 5 B'!E116<0.5),\"-\",IFERROR('Tabel 5 B'!E116/'Tabel 5F B'!E116*100,\"-\"))","v":"-"},{"$f":"IF(OR('Tabel 5F B'!F116<5,'Tabel 5 B'!F116<0.5),\"-\",IFERROR('Tabel 5 B'!F116/'Tabel 5F B'!F116*100,\"-\"))","v":"-"},{"$f":"IF(OR('Tabel 5F B'!G116<5,'Tabel 5 B'!G116<0.5),\"-\",IFERROR('Tabel 5 B'!G116/'Tabel 5F B'!G116*100,\"-\"))","v":"-"},{"$f":"IF(OR('Tabel 5F B'!H116<5,'Tabel 5 B'!H116<0.5),\"-\",IFERROR('Tabel 5 B'!H116/'Tabel 5F B'!H116*100,\"-\"))","v":"-"},null,{"$f":"IF(OR('Tabel 5F B'!J116<5,'Tabel 5 B'!J116<0.5),\"-\",IFERROR('Tabel 5 B'!J116/'Tabel 5F B'!J116*100,\"-\"))","v":"-"}]
["Cand. Scient. Tek",null,{"$f":"IF(OR('Tabel 5F B'!C117<5,'Tabel 5 B'!C117<0.5),\"-\",IFERROR('Tabel 5 B'!C117/'Tabel 5F B'!C117*100,\"-\"))","v":"-"},{"$f":"IF(OR('Tabel 5F B'!D117<5,'Tabel 5 B'!D117<0.5),\"-\",IFERROR('Tabel 5 B'!D117/'Tabel 5F B'!D117*100,\"-\"))","v":"-"},{"$f":"IF(OR('Tabel 5F B'!E117<5,'Tabel 5 B'!E117<0.5),\"-\",IFERROR('Tabel 5 B'!E117/'Tabel 5F B'!E117*100,\"-\"))","v":"-"},{"$f":"IF(OR('Tabel 5F B'!F117<5,'Tabel 5 B'!F117<0.5),\"-\",IFERROR('Tabel 5 B'!F117/'Tabel 5F B'!F117*100,\"-\"))","v":"-"},{"$f":"IF(OR('Tabel 5F B'!G117<5,'Tabel 5 B'!G117<0.5),\"-\",IFERROR('Tabel 5 B'!G117/'Tabel 5F B'!G117*100,\"-\"))","v":"-"},{"$f":"IF(OR('Tabel 5F B'!H117<5,'Tabel 5 B'!H117<0.5),\"-\",IFERROR('Tabel 5 B'!H117/'Tabel 5F B'!H117*100,\"-\"))","v":"-"},null,{"$f":"IF(OR('Tabel 5F B'!J117<5,'Tabel 5 B'!J117<0.5),\"-\",IFERROR('Tabel 5 B'!J117/'Tabel 5F B'!J117*100,\"-\"))","v":"-"}]
["MA. Hum.",null,{"$f":"IF(OR('Tabel 5F B'!C118<5,'Tabel 5 B'!C118<0.5),\"-\",IFERROR('Tabel 5 B'!C118/'Tabel 5F B'!C118*100,\"-\"))","v":"-"},{"$f":"IF(OR('Tabel 5F B'!D118<5,'Tabel 5 B'!D118<0.5),\"-\",IFERROR('Tabel 5 B'!D118/'Tabel 5F B'!D118*100,\"-\"))","v":"-"},{"$f":"IF(OR('Tabel 5F B'!E118<5,'Tabel 5 B'!E118<0.5),\"-\",IFERROR('Tabel 5 B'!E118/'Tabel 5F B'!E118*100,\"-\"))","v":"-"},{"$f":"IF(OR('Tabel 5F B'!F118<5,'Tabel 5 B'!F118<0.5),\"-\",IFERROR('Tabel 5 B'!F118/'Tabel 5F B'!F118*100,\"-\"))","v":"-"},{"$f":"IF(OR('Tabel 5F B'!G118<5,'Tabel 5 B'!G118<0.5),\"-\",IFERROR('Tabel 5 B'!G118/'Tabel 5F B'!G118*100,\"-\"))","v":"-"},{"$f":"IF(OR('Tabel 5F B'!H118<5,'Tabel 5 B'!H118<0.5),\"-\",IFERROR('Tabel 5 B'!H118/'Tabel 5F B'!H118*100,\"-\"))","v":"-"},null,{"$f":"IF(OR('Tabel 5F B'!J118<5,'Tabel 5 B'!J118<0.5),\"-\",IFERROR('Tabel 5 B'!J118/'Tabel 5F B'!J118*100,\"-\"))","v":"-"}]
["MA. Nat.",null,{"$f":"IF(OR('Tabel 5F B'!C119<5,'Tabel 5 B'!C119<0.5),\"-\",IFERROR('Tabel 5 B'!C119/'Tabel 5F B'!C119*100,\"-\"))","v":"-"},{"$f":"IF(OR('Tabel 5F B'!D119<5,'Tabel 5 B'!D119<0.5),\"-\",IFERROR('Tabel 5 B'!D119/'Tabel 5F B'!D119*100,\"-\"))","v":"-"},{"$f":"IF(OR('Tabel 5F B'!E119<5,'Tabel 5 B'!E119<0.5),\"-\",IFERROR('Tabel 5 B'!E119/'Tabel 5F B'!E119*100,\"-\"))","v":"-"},{"$f":"IF(OR('Tabel 5F B'!F119<5,'Tabel 5 B'!F119<0.5),\"-\",IFERROR('Tabel 5 B'!F119/'Tabel 5F B'!F119*100,\"-\"))","v":"-"},{"$f":"IF(OR('Tabel 5F B'!G119<5,'Tabel 5 B'!G119<0.5),\"-\",IFERROR('Tabel 5 B'!G119/'Tabel 5F B'!G119*100,\"-\"))","v":"-"},{"$f":"IF(OR('Tabel 5F B'!H119<5,'Tabel 5 B'!H119<0.5),\"-\",IFERROR('Tabel 5 B'!H119/'Tabel 5F B'!H119*100,\"-\"))","v":"-"},null,{"$f":"IF(OR('Tabel 5F B'!J119<5,'Tabel 5 B'!J119<0.5),\"-\",IFERROR('Tabel 5 B'!J119/'Tabel 5F B'!J119*100,\"-\"))","v":"-"}]
["MA. Ph.d.",null,{"$f":"IF(OR('Tabel 5F B'!C120<5,'Tabel 5 B'!C120<0.5),\"-\",IFERROR('Tabel 5 B'!C120/'Tabel 5F B'!C120*100,\"-\"))","v":"-"},{"$f":"IF(OR('Tabel 5F B'!D120<5,'Tabel 5 B'!D120<0.5),\"-\",IFERROR('Tabel 5 B'!D120/'Tabel 5F B'!D120*100,\"-\"))","v":"-"},{"$f":"IF(OR('Tabel 5F B'!E120<5,'Tabel 5 B'!E120<0.5),\"-\",IFERROR('Tabel 5 B'!E120/'Tabel 5F B'!E120*100,\"-\"))","v":"-"},{"$f":"IF(OR('Tabel 5F B'!F120<5,'Tabel 5 B'!F120<0.5),\"-\",IFERROR('Tabel 5 B'!F120/'Tabel 5F B'!F120*100,\"-\"))","v":"-"},{"$f":"IF(OR('Tabel 5F B'!G120<5,'Tabel 5 B'!G120<0.5),\"-\",IFERROR('Tabel 5 B'!G120/'Tabel 5F B'!G120*100,\"-\"))","v":"-"},{"$f":"IF(OR('Tabel 5F B'!H120<5,'Tabel 5 B'!H120<0.5),\"-\",IFERROR('Tabel 5 B'!H120/'Tabel 5F B'!H120*100,\"-\"))","v":"-"},null,{"$f":"IF(OR('Tabel 5F B'!J120<5,'Tabel 5 B'!J120<0.5),\"-\",IFERROR('Tabel 5 B'!J120/'Tabel 5F B'!J120*100,\"-\"))","v":"-"}]
["MA. Samf.",null,{"$f":"IF(OR('Tabel 5F B'!C121<5,'Tabel 5 B'!C121<0.5),\"-\",IFERROR('Tabel 5 B'!C121/'Tabel 5F B'!C121*100,\"-\"))","v":"-"},{"$f":"IF(OR('Tabel 5F B'!D121<5,'Tabel 5 B'!D121<0.5),\"-\",IFERROR('Tabel 5 B'!D121/'Tabel 5F B'!D121*100,\"-\"))","v":"-"},{"$f":"IF(OR('Tabel 5F B'!E121<5,'Tabel 5 B'!E121<0.5),\"-\",IFERROR('Tabel 5 B'!E121/'Tabel 5F B'!E121*100,\"-\"))","v":"-"},{"$f":"IF(OR('Tabel 5F B'!F121<5,'Tabel 5 B'!F121<0.5),\"-\",IFERROR('Tabel 5 B'!F121/'Tabel 5F B'!F121*100,\"-\"))","v":"-"},{"$f":"IF(OR('Tabel 5F B'!G121<5,'Tabel 5 B'!G121<0.5),\"-\",IFERROR('Tabel 5 B'!G121/'Tabel 5F B'!G121*100,\"-\"))","v":"-"},{"$f":"IF(OR('Tabel 5F B'!H121<5,'Tabel 5 B'!H121<0.5),\"-\",IFERROR('Tabel 5 B'!H121/'Tabel 5F B'!H121*100,\"-\"))","v":"-"},null,{"$f":"IF(OR('Tabel 5F B'!J121<5,'Tabel 5 B'!J121<0.5),\"-\",IFERROR('Tabel 5 B'!J121/'Tabel 5F B'!J121*100,\"-\"))","v":"-"}]
["Øvrige Mag.",null,{"$f":"IF(OR('Tabel 5F B'!C122<5,'Tabel 5 B'!C122<0.5),\"-\",IFERROR('Tabel 5 B'!C122/'Tabel 5F B'!C122*100,\"-\"))","v":"-"},{"$f":"IF(OR('Tabel 5F B'!D122<5,'Tabel 5 B'!D122<0.5),\"-\",IFERROR('Tabel 5 B'!D122/'Tabel 5F B'!D122*100,\"-\"))","v":"-"},{"$f":"IF(OR('Tabel 5F B'!E122<5,'Tabel 5 B'!E122<0.5),\"-\",IFERROR('Tabel 5 B'!E122/'Tabel 5F B'!E122*100,\"-\"))","v":"-"},{"$f":"IF(OR('Tabel 5F B'!F122<5,'Tabel 5 B'!F122<0.5),\"-\",IFERROR('Tabel 5 B'!F122/'Tabel 5F B'!F122*100,\"-\"))","v":"-"},{"$f":"IF(OR('Tabel 5F B'!G122<5,'Tabel 5 B'!G122<0.5),\"-\",IFERROR('Tabel 5 B'!G122/'Tabel 5F B'!G122*100,\"-\"))","v":"-"},{"$f":"IF(OR('Tabel 5F B'!H122<5,'Tabel 5 B'!H122<0.5),\"-\",IFERROR('Tabel 5 B'!H122/'Tabel 5F B'!H122*100,\"-\"))","v":"-"},null,{"$f":"IF(OR('Tabel 5F B'!J122<5,'Tabel 5 B'!J122<0.5),\"-\",IFERROR('Tabel 5 B'!J122/'Tabel 5F B'!J122*100,\"-\"))","v":"-"}]
["Agronom",null,{"$f":"IF(OR('Tabel 5F B'!C123<5,'Tabel 5 B'!C123<0.5),\"-\",IFERROR('Tabel 5 B'!C123/'Tabel 5F B'!C123*100,\"-\"))","v":"-"},{"$f":"IF(OR('Tabel 5F B'!D123<5,'Tabel 5 B'!D123<0.5),\"-\",IFERROR('Tabel 5 B'!D123/'Tabel 5F B'!D123*100,\"-\"))","v":"-"},{"$f":"IF(OR('Tabel 5F B'!E123<5,'Tabel 5 B'!E123<0.5),\"-\",IFERROR('Tabel 5 B'!E123/'Tabel 5F B'!E123*100,\"-\"))","v":"-"},{"$f":"IF(OR('Tabel 5F B'!F123<5,'Tabel 5 B'!F123<0.5),\"-\",IFERROR('Tabel 5 B'!F123/'Tabel 5F B'!F123*100,\"-\"))","v":"-"},{"$f":"IF(OR('Tabel 5F B'!G123<5,'Tabel 5 B'!G123<0.5),\"-\",IFERROR('Tabel 5 B'!G123/'Tabel 5F B'!G123*100,\"-\"))","v":"-"},{"$f":"IF(OR('Tabel 5F B'!H123<5,'Tabel 5 B'!H123<0.5),\"-\",IFERROR('Tabel 5 B'!H123/'Tabel 5F B'!H123*100,\"-\"))","v":"-"},null,{"$f":"IF(OR('Tabel 5F B'!J123<5,'Tabel 5 B'!J123<0.5),\"-\",IFERROR('Tabel 5 B'!J123/'Tabel 5F B'!J123*100,\"-\"))","v":"-"}]
["Landsk. Arkt.",null,{"$f":"IF(OR('Tabel 5F B'!C124<5,'Tabel 5 B'!C124<0.5),\"-\",IFERROR('Tabel 5 B'!C124/'Tabel 5F B'!C124*100,\"-\"))","v":"-"},{"$f":"IF(OR('Tabel 5F B'!D124<5,'Tabel 5 B'!D124<0.5),\"-\",IFERROR('Tabel 5 B'!D124/'Tabel 5F B'!D124*100,\"-\"))","v":"-"},{"$f":"IF(OR('Tabel 5F B'!E124<5,'Tabel 5 B'!E124<0.5),\"-\",IFERROR('Tabel 5 B'!E124/'Tabel 5F B'!E124*100,\"-\"))","v":"-"},{"$f":"IF(OR('Tabel 5F B'!F124<5,'Tabel 5 B'!F124<0.5),\"-\",IFERROR('Tabel 5 B'!F124/'Tabel 5F B'!F124*100,\"-\"))","v":"-"},{"$f":"IF(OR('Tabel 5F B'!G124<5,'Tabel 5 B'!G124<0.5),\"-\",IFERROR('Tabel 5 B'!G124/'Tabel 5F B'!G124*100,\"-\"))","v":"-"},{"$f":"IF(OR('Tabel 5F B'!H124<5,'Tabel 5 B'!H124<0.5),\"-\",IFERROR('Tabel 5 B'!H124/'Tabel 5F B'!H124*100,\"-\"))","v":"-"},null,{"$f":"IF(OR('Tabel 5F B'!J124<5,'Tabel 5 B'!J124<0.5),\"-\",IFERROR('Tabel 5 B'!J124/'Tabel 5F B'!J124*100,\"-\"))","v":"-"}]
["Hortonom",null,{"$f":"IF(OR('Tabel 5F B'!C125<5,'Tabel 5 B'!C125<0.5),\"-\",IFERROR('Tabel 5 B'!C125/'Tabel 5F B'!C125*100,\"-\"))","v":"-"},{"$f":"IF(OR('Tabel 5F B'!D125<5,'Tabel 5 B'!D125<0.5),\"-\",IFERROR('Tabel 5 B'!D125/'Tabel 5F B'!D125*100,\"-\"))","v":"-"},{"$f":"IF(OR('Tabel 5F B'!E125<5,'Tabel 5 B'!E125<0.5),\"-\",IFERROR('Tabel 5 B'!E125/'Tabel 5F B'!E125*100,\"-\"))","v":"-"},{"$f":"IF(OR('Tabel 5F B'!F125<5,'Tabel 5 B'!F125<0.5),\"-\",IFERROR('Tabel 5 B'!F125/'Tabel 5F B'!F125*100,\"-\"))","v":"-"},{"$f":"IF(OR('Tabel 5F B'!G125<5,'Tabel 5 B'!G125<0.5),\"-\",IFERROR('Tabel 5 B'!G125/'Tabel 5F B'!G125*100,\"-\"))","v":"-"},{"$f":"IF(OR('Tabel 5F B'!H125<5,'Tabel 5 B'!H125<0.5),\"-\",IFERROR('Tabel 5 B'!H125/'Tabel 5F B'!H125*100,\"-\"))","v":"-"},null,{"$f":"IF(OR('Tabel 5F B'!J125<5,'Tabel 5 B'!J125<0.5),\"-\",IFERROR('Tabel 5 B'!J125/'Tabel 5F B'!J125*100,\"-\"))","v":"-"}]
["Forstkand.",null,{"$f":"IF(OR('Tabel 5F B'!C126<5,'Tabel 5 B'!C126<0.5),\"-\",IFERROR('Tabel 5 B'!C126/'Tabel 5F B'!C126*100,\"-\"))","v":"-"},{"$f":"IF(OR('Tabel 5F B'!D126<5,'Tabel 5 B'!D126<0.5),\"-\",IFERROR('Tabel 5 B'!D126/'Tabel 5F B'!D126*100,\"-\"))","v":"-"},{"$f":"IF(OR('Tabel 5F B'!E126<5,'Tabel 5 B'!E126<0.5),\"-\",IFERROR('Tabel 5 B'!E126/'Tabel 5F B'!E126*100,\"-\"))","v":"-"},{"$f":"IF(OR('Tabel 5F B'!F126<5,'Tabel 5 B'!F126<0.5),\"-\",IFERROR('Tabel 5 B'!F126/'Tabel 5F B'!F126*100,\"-\"))","v":"-"},{"$f":"IF(OR('Tabel 5F B'!G126<5,'Tabel 5 B'!G126<0.5),\"-\",IFERROR('Tabel 5 B'!G126/'Tabel 5F B'!G126*100,\"-\"))","v":"-"},{"$f":"IF(OR('Tabel 5F B'!H126<5,'Tabel 5 B'!H126<0.5),\"-\",IFERROR('Tabel 5 B'!H126/'Tabel 5F B'!H126*100,\"-\"))","v":"-"},null,{"$f":"IF(OR('Tabel 5F B'!J126<5,'Tabel 5 B'!J126<0.5),\"-\",IFERROR('Tabel 5 B'!J126/'Tabel 5F B'!J126*100,\"-\"))","v":"-"}]
["Jordbrugsakad.",null,{"$f":"IF(OR('Tabel 5F B'!C127<5,'Tabel 5 B'!C127<0.5),\"-\",IFERROR('Tabel 5 B'!C127/'Tabel 5F B'!C127*100,\"-\"))","v":"-"},{"$f":"IF(OR('Tabel 5F B'!D127<5,'Tabel 5 B'!D127<0.5),\"-\",IFERROR('Tabel 5 B'!D127/'Tabel 5F B'!D127*100,\"-\"))","v":"-"},{"$f":"IF(OR('Tabel 5F B'!E127<5,'Tabel 5 B'!E127<0.5),\"-\",IFERROR('Tabel 5 B'!E127/'Tabel 5F B'!E127*100,\"-\"))","v":"-"},{"$f":"IF(OR('Tabel 5F B'!F127<5,'Tabel 5 B'!F127<0.5),\"-\",IFERROR('Tabel 5 B'!F127/'Tabel 5F B'!F127*100,\"-\"))","v":"-"},{"$f":"IF(OR('Tabel 5F B'!G127<5,'Tabel 5 B'!G127<0.5),\"-\",IFERROR('Tabel 5 B'!G127/'Tabel 5F B'!G127*100,\"-\"))","v":"-"},{"$f":"IF(OR('Tabel 5F B'!H127<5,'Tabel 5 B'!H127<0.5),\"-\",IFERROR('Tabel 5 B'!H127/'Tabel 5F B'!H127*100,\"-\"))","v":"-"},null,{"$f":"IF(OR('Tabel 5F B'!J127<5,'Tabel 5 B'!J127<0.5),\"-\",IFERROR('Tabel 5 B'!J127/'Tabel 5F B'!J127*100,\"-\"))","v":"-"}]
["Mejeriing.",null,{"$f":"IF(OR('Tabel 5F B'!C128<5,'Tabel 5 B'!C128<0.5),\"-\",IFERROR('Tabel 5 B'!C128/'Tabel 5F B'!C128*100,\"-\"))","v":"-"},{"$f":"IF(OR('Tabel 5F B'!D128<5,'Tabel 5 B'!D128<0.5),\"-\",IFERROR('Tabel 5 B'!D128/'Tabel 5F B'!D128*100,\"-\"))","v":"-"},{"$f":"IF(OR('Tabel 5F B'!E128<5,'Tabel 5 B'!E128<0.5),\"-\",IFERROR('Tabel 5 B'!E128/'Tabel 5F B'!E128*100,\"-\"))","v":"-"},{"$f":"IF(OR('Tabel 5F B'!F128<5,'Tabel 5 B'!F128<0.5),\"-\",IFERROR('Tabel 5 B'!F128/'Tabel 5F B'!F128*100,\"-\"))","v":"-"},{"$f":"IF(OR('Tabel 5F B'!G128<5,'Tabel 5 B'!G128<0.5),\"-\",IFERROR('Tabel 5 B'!G128/'Tabel 5F B'!G128*100,\"-\"))","v":"-"},{"$f":"IF(OR('Tabel 5F B'!H128<5,'Tabel 5 B'!H128<0.5),\"-\",IFERROR('Tabel 5 B'!H128/'Tabel 5F B'!H128*100,\"-\"))","v":"-"},null,{"$f":"IF(OR('Tabel 5F B'!J128<5,'Tabel 5 B'!J128<0.5),\"-\",IFERROR('Tabel 5 B'!J128/'Tabel 5F B'!J128*100,\"-\"))","v":"-"}]
["Levn.m.kand.",null,{"$f":"IF(OR('Tabel 5F B'!C129<5,'Tabel 5 B'!C129<0.5),\"-\",IFERROR('Tabel 5 B'!C129/'Tabel 5F B'!C129*100,\"-\"))","v":"-"},{"$f":"IF(OR('Tabel 5F B'!D129<5,'Tabel 5 B'!D129<0.5),\"-\",IFERROR('Tabel 5 B'!D129/'Tabel 5F B'!D129*100,\"-\"))","v":"-"},{"$f":"IF(OR('Tabel 5F B'!E129<5,'Tabel 5 B'!E129<0.5),\"-\",IFERROR('Tabel 5 B'!E129/'Tabel 5F B'!E129*100,\"-\"))","v":"-"},{"$f":"IF(OR('Tabel 5F B'!F129<5,'Tabel 5 B'!F129<0.5),\"-\",IFERROR('Tabel 5 B'!F129/'Tabel 5F B'!F129*100,\"-\"))","v":"-"},{"$f":"IF(OR('Tabel 5F B'!G129<5,'Tabel 5 B'!G129<0.5),\"-\",IFERROR('Tabel 5 B'!G129/'Tabel 5F B'!G129*100,\"-\"))","v":"-"},{"$f":"IF(OR('Tabel 5F B'!H129<5,'Tabel 5 B'!H129<0.5),\"-\",IFERROR('Tabel 5 B'!H129/'Tabel 5F B'!H129*100,\"-\"))","v":"-"},null,{"$f":"IF(OR('Tabel 5F B'!J129<5,'Tabel 5 B'!J129<0.5),\"-\",IFERROR('Tabel 5 B'!J129/'Tabel 5F B'!J129*100,\"-\"))","v":"-"}]
["Dyrlæge",null,{"$f":"IF(OR('Tabel 5F B'!C130<5,'Tabel 5 B'!C130<0.5),\"-\",IFERROR('Tabel 5 B'!C130/'Tabel 5F B'!C130*100,\"-\"))","v":"-"},{"$f":"IF(OR('Tabel 5F B'!D130<5,'Tabel 5 B'!D130<0.5),\"-\",IFERROR('Tabel 5 B'!D130/'Tabel 5F B'!D130*100,\"-\"))","v":"-"},{"$f":"IF(OR('Tabel 5F B'!E130<5,'Tabel 5 B'!E130<0.5),\"-\",IFERROR('Tabel 5 B'!E130/'Tabel 5F B'!E130*100,\"-\"))","v":"-"},{"$f":"IF(OR('Tabel 5F B'!F130<5,'Tabel 5 B'!F130<0.5),\"-\",IFERROR('Tabel 5 B'!F130/'Tabel 5F B'!F130*100,\"-\"))","v":"-"},{"$f":"IF(OR('Tabel 5F B'!G130<5,'Tabel 5 B'!G130<0.5),\"-\",IFERROR('Tabel 5 B'!G130/'Tabel 5F B'!G130*100,\"-\"))","v":"-"},{"$f":"IF(OR('Tabel 5F B'!H130<5,'Tabel 5 B'!H130<0.5),\"-\",IFERROR('Tabel 5 B'!H130/'Tabel 5F B'!H130*100,\"-\"))","v":"-"},null,{"$f":"IF(OR('Tabel 5F B'!J130<5,'Tabel 5 B'!J130<0.5),\"-\",IFERROR('Tabel 5 B'!J130/'Tabel 5F B'!J130*100,\"-\"))","v":"-"}]
["Farmaceut",null,{"$f":"IF(OR('Tabel 5F B'!C131<5,'Tabel 5 B'!C131<0.5),\"-\",IFERROR('Tabel 5 B'!C131/'Tabel 5F B'!C131*100,\"-\"))","v":"-"},{"$f":"IF(OR('Tabel 5F B'!D131<5,'Tabel 5 B'!D131<0.5),\"-\",IFERROR('Tabel 5 B'!D131/'Tabel 5F B'!D131*100,\"-\"))","v":"-"},{"$f":"IF(OR('Tabel 5F B'!E131<5,'Tabel 5 B'!E131<0.5),\"-\",IFERROR('Tabel 5 B'!E131/'Tabel 5F B'!E131*100,\"-\"))","v":"-"},{"$f":"IF(OR('Tabel 5F B'!F131<5,'Tabel 5 B'!F131<0.5),\"-\",IFERROR('Tabel 5 B'!F131/'Tabel 5F B'!F131*100,\"-\"))","v":"-"},{"$f":"IF(OR('Tabel 5F B'!G131<5,'Tabel 5 B'!G131<0.5),\"-\",IFERROR('Tabel 5 B'!G131/'Tabel 5F B'!G131*100,\"-\"))","v":"-"},{"$f":"IF(OR('Tabel 5F B'!H131<5,'Tabel 5 B'!H131<0.5),\"-\",IFERROR('Tabel 5 B'!H131/'Tabel 5F B'!H131*100,\"-\"))","v":"-"},null,{"$f":"IF(OR('Tabel 5F B'!J131<5,'Tabel 5 B'!J131<0.5),\"-\",IFERROR('Tabel 5 B'!J131/'Tabel 5F B'!J131*100,\"-\"))","v":"-"}]
["Læge",null,{"$f":"IF(OR('Tabel 5F B'!C132<5,'Tabel 5 B'!C132<0.5),\"-\",IFERROR('Tabel 5 B'!C132/'Tabel 5F B'!C132*100,\"-\"))","v":"-"},{"$f":"IF(OR('Tabel 5F B'!D132<5,'Tabel 5 B'!D132<0.5),\"-\",IFERROR('Tabel 5 B'!D132/'Tabel 5F B'!D132*100,\"-\"))","v":"-"},{"$f":"IF(OR('Tabel 5F B'!E132<5,'Tabel 5 B'!E132<0.5),\"-\",IFERROR('Tabel 5 B'!E132/'Tabel 5F B'!E132*100,\"-\"))","v":"-"},{"$f":"IF(OR('Tabel 5F B'!F132<5,'Tabel 5 B'!F132<0.5),\"-\",IFERROR('Tabel 5 B'!F132/'Tabel 5F B'!F132*100,\"-\"))","v":"-"},{"$f":"IF(OR('Tabel 5F B'!G132<5,'Tabel 5 B'!G132<0.5),\"-\",IFERROR('Tabel 5 B'!G132/'Tabel 5F B'!G132*100,\"-\"))","v":"-"},{"$f":"IF(OR('Tabel 5F B'!H132<5,'Tabel 5 B'!H132<0.5),\"-\",IFERROR('Tabel 5 B'!H132/'Tabel 5F B'!H132*100,\"-\"))","v":"-"},null,{"$f":"IF(OR('Tabel 5F B'!J132<5,'Tabel 5 B'!J132<0.5),\"-\",IFERROR('Tabel 5 B'!J132/'Tabel 5F B'!J132*100,\"-\"))","v":"-"}]
["Tandlæge",null,{"$f":"IF(OR('Tabel 5F B'!C133<5,'Tabel 5 B'!C133<0.5),\"-\",IFERROR('Tabel 5 B'!C133/'Tabel 5F B'!C133*100,\"-\"))","v":"-"},{"$f":"IF(OR('Tabel 5F B'!D133<5,'Tabel 5 B'!D133<0.5),\"-\",IFERROR('Tabel 5 B'!D133/'Tabel 5F B'!D133*100,\"-\"))","v":"-"},{"$f":"IF(OR('Tabel 5F B'!E133<5,'Tabel 5 B'!E133<0.5),\"-\",IFERROR('Tabel 5 B'!E133/'Tabel 5F B'!E133*100,\"-\"))","v":"-"},{"$f":"IF(OR('Tabel 5F B'!F133<5,'Tabel 5 B'!F133<0.5),\"-\",IFERROR('Tabel 5 B'!F133/'Tabel 5F B'!F133*100,\"-\"))","v":"-"},{"$f":"IF(OR('Tabel 5F B'!G133<5,'Tabel 5 B'!G133<0.5),\"-\",IFERROR('Tabel 5 B'!G133/'Tabel 5F B'!G133*100,\"-\"))","v":"-"},{"$f":"IF(OR('Tabel 5F B'!H133<5,'Tabel 5 B'!H133<0.5),\"-\",IFERROR('Tabel 5 B'!H133/'Tabel 5F B'!H133*100,\"-\"))","v":"-"},null,{"$f":"IF(OR('Tabel 5F B'!J133<5,'Tabel 5 B'!J133<0.5),\"-\",IFERROR('Tabel 5 B'!J133/'Tabel 5F B'!J133*100,\"-\"))","v":"-"}]
["Arkitekt",null,{"$f":"IF(OR('Tabel 5F B'!C134<5,'Tabel 5 B'!C134<0.5),\"-\",IFERROR('Tabel 5 B'!C134/'Tabel 5F B'!C134*100,\"-\"))","v":"-"},{"$f":"IF(OR('Tabel 5F B'!D134<5,'Tabel 5 B'!D134<0.5),\"-\",IFERROR('Tabel 5 B'!D134/'Tabel 5F B'!D134*100,\"-\"))","v":"-"},{"$f":"IF(OR('Tabel 5F B'!E134<5,'Tabel 5 B'!E134<0.5),\"-\",IFERROR('Tabel 5 B'!E134/'Tabel 5F B'!E134*100,\"-\"))","v":"-"},{"$f":"IF(OR('Tabel 5F B'!F134<5,'Tabel 5 B'!F134<0.5),\"-\",IFERROR('Tabel 5 B'!F134/'Tabel 5F B'!F134*100,\"-\"))","v":"-"},{"$f":"IF(OR('Tabel 5F B'!G134<5,'Tabel 5 B'!G134<0.5),\"-\",IFERROR('Tabel 5 B'!G134/'Tabel 5F B'!G134*100,\"-\"))","v":"-"},{"$f":"IF(OR('Tabel 5F B'!H134<5,'Tabel 5 B'!H134<0.5),\"-\",IFERROR('Tabel 5 B'!H134/'Tabel 5F B'!H134*100,\"-\"))","v":"-"},null,{"$f":"IF(OR('Tabel 5F B'!J134<5,'Tabel 5 B'!J134<0.5),\"-\",IFERROR('Tabel 5 B'!J134/'Tabel 5F B'!J134*100,\"-\"))","v":"-"}]
["Landinspek.",null,{"$f":"IF(OR('Tabel 5F B'!C135<5,'Tabel 5 B'!C135<0.5),\"-\",IFERROR('Tabel 5 B'!C135/'Tabel 5F B'!C135*100,\"-\"))","v":"-"},{"$f":"IF(OR('Tabel 5F B'!D135<5,'Tabel 5 B'!D135<0.5),\"-\",IFERROR('Tabel 5 B'!D135/'Tabel 5F B'!D135*100,\"-\"))","v":"-"},{"$f":"IF(OR('Tabel 5F B'!E135<5,'Tabel 5 B'!E135<0.5),\"-\",IFERROR('Tabel 5 B'!E135/'Tabel 5F B'!E135*100,\"-\"))","v":"-"},{"$f":"IF(OR('Tabel 5F B'!F135<5,'Tabel 5 B'!F135<0.5),\"-\",IFERROR('Tabel 5 B'!F135/'Tabel 5F B'!F135*100,\"-\"))","v":"-"},{"$f":"IF(OR('Tabel 5F B'!G135<5,'Tabel 5 B'!G135<0.5),\"-\",IFERROR('Tabel 5 B'!G135/'Tabel 5F B'!G135*100,\"-\"))","v":"-"},{"$f":"IF(OR('Tabel 5F B'!H135<5,'Tabel 5 B'!H135<0.5),\"-\",IFERROR('Tabel 5 B'!H135/'Tabel 5F B'!H135*100,\"-\"))","v":"-"},null,{"$f":"IF(OR('Tabel 5F B'!J135<5,'Tabel 5 B'!J135<0.5),\"-\",IFERROR('Tabel 5 B'!J135/'Tabel 5F B'!J135*100,\"-\"))","v":"-"}]
["Bibliotekar",null,{"$f":"IF(OR('Tabel 5F B'!C136<5,'Tabel 5 B'!C136<0.5),\"-\",IFERROR('Tabel 5 B'!C136/'Tabel 5F B'!C136*100,\"-\"))","v":"-"},{"$f":"IF(OR('Tabel 5F B'!D136<5,'Tabel 5 B'!D136<0.5),\"-\",IFERROR('Tabel 5 B'!D136/'Tabel 5F B'!D136*100,\"-\"))","v":"-"},{"$f":"IF(OR('Tabel 5F B'!E136<5,'Tabel 5 B'!E136<0.5),\"-\",IFERROR('Tabel 5 B'!E136/'Tabel 5F B'!E136*100,\"-\"))","v":"-"},{"$f":"IF(OR('Tabel 5F B'!F136<5,'Tabel 5 B'!F136<0.5),\"-\",IFERROR('Tabel 5 B'!F136/'Tabel 5F B'!F136*100,\"-\"))","v":"-"},{"$f":"IF(OR('Tabel 5F B'!G136<5,'Tabel 5 B'!G136<0.5),\"-\",IFERROR('Tabel 5 B'!G136/'Tabel 5F B'!G136*100,\"-\"))","v":"-"},{"$f":"IF(OR('Tabel 5F B'!H136<5,'Tabel 5 B'!H136<0.5),\"-\",IFERROR('Tabel 5 B'!H136/'Tabel 5F B'!H136*100,\"-\"))","v":"-"},null,{"$f":"IF(OR('Tabel 5F B'!J136<5,'Tabel 5 B'!J136<0.5),\"-\",IFERROR('Tabel 5 B'!J136/'Tabel 5F B'!J136*100,\"-\"))","v":"-"}]
["Musikudd.",null,{"$f":"IF(OR('Tabel 5F B'!C137<5,'Tabel 5 B'!C137<0.5),\"-\",IFERROR('Tabel 5 B'!C137/'Tabel 5F B'!C137*100,\"-\"))","v":"-"},{"$f":"IF(OR('Tabel 5F B'!D137<5,'Tabel 5 B'!D137<0.5),\"-\",IFERROR('Tabel 5 B'!D137/'Tabel 5F B'!D137*100,\"-\"))","v":"-"},{"$f":"IF(OR('Tabel 5F B'!E137<5,'Tabel 5 B'!E137<0.5),\"-\",IFERROR('Tabel 5 B'!E137/'Tabel 5F B'!E137*100,\"-\"))","v":"-"},{"$f":"IF(OR('Tabel 5F B'!F137<5,'Tabel 5 B'!F137<0.5),\"-\",IFERROR('Tabel 5 B'!F137/'Tabel 5F B'!F137*100,\"-\"))","v":"-"},{"$f":"IF(OR('Tabel 5F B'!G137<5,'Tabel 5 B'!G137<0.5),\"-\",IFERROR('Tabel 5 B'!G137/'Tabel 5F B'!G137*100,\"-\"))","v":"-"},{"$f":"IF(OR('Tabel 5F B'!H137<5,'Tabel 5 B'!H137<0.5),\"-\",IFERROR('Tabel 5 B'!H137/'Tabel 5F B'!H137*100,\"-\"))","v":"-"},null,{"$f":"IF(OR('Tabel 5F B'!J137<5,'Tabel 5 B'!J137<0.5),\"-\",IFERROR('Tabel 5 B'!J137/'Tabel 5F B'!J137*100,\"-\"))","v":"-"}]
["Teolog",null,{"$f":"IF(OR('Tabel 5F B'!C138<5,'Tabel 5 B'!C138<0.5),\"-\",IFERROR('Tabel 5 B'!C138/'Tabel 5F B'!C138*100,\"-\"))","v":"-"},{"$f":"IF(OR('Tabel 5F B'!D138<5,'Tabel 5 B'!D138<0.5),\"-\",IFERROR('Tabel 5 B'!D138/'Tabel 5F B'!D138*100,\"-\"))","v":"-"},{"$f":"IF(OR('Tabel 5F B'!E138<5,'Tabel 5 B'!E138<0.5),\"-\",IFERROR('Tabel 5 B'!E138/'Tabel 5F B'!E138*100,\"-\"))","v":"-"},{"$f":"IF(OR('Tabel 5F B'!F138<5,'Tabel 5 B'!F138<0.5),\"-\",IFERROR('Tabel 5 B'!F138/'Tabel 5F B'!F138*100,\"-\"))","v":"-"},{"$f":"IF(OR('Tabel 5F B'!G138<5,'Tabel 5 B'!G138<0.5),\"-\",IFERROR('Tabel 5 B'!G138/'Tabel 5F B'!G138*100,\"-\"))","v":"-"},{"$f":"IF(OR('Tabel 5F B'!H138<5,'Tabel 5 B'!H138<0.5),\"-\",IFERROR('Tabel 5 B'!H138/'Tabel 5F B'!H138*100,\"-\"))","v":"-"},null,{"$f":"IF(OR('Tabel 5F B'!J138<5,'Tabel 5 B'!J138<0.5),\"-\",IFERROR('Tabel 5 B'!J138/'Tabel 5F B'!J138*100,\"-\"))","v":"-"}]
["Psykolog",null,{"$f":"IF(OR('Tabel 5F B'!C139<5,'Tabel 5 B'!C139<0.5),\"-\",IFERROR('Tabel 5 B'!C139/'Tabel 5F B'!C139*100,\"-\"))","v":"-"},{"$f":"IF(OR('Tabel 5F B'!D139<5,'Tabel 5 B'!D139<0.5),\"-\",IFERROR('Tabel 5 B'!D139/'Tabel 5F B'!D139*100,\"-\"))","v":"-"},{"$f":"IF(OR('Tabel 5F B'!E139<5,'Tabel 5 B'!E139<0.5),\"-\",IFERROR('Tabel 5 B'!E139/'Tabel 5F B'!E139*100,\"-\"))","v":"-"},{"$f":"IF(OR('Tabel 5F B'!F139<5,'Tabel 5 B'!F139<0.5),\"-\",IFERROR('Tabel 5 B'!F139/'Tabel 5F B'!F139*100,\"-\"))","v":"-"},{"$f":"IF(OR('Tabel 5F B'!G139<5,'Tabel 5 B'!G139<0.5),\"-\",IFERROR('Tabel 5 B'!G139/'Tabel 5F B'!G139*100,\"-\"))","v":"-"},{"$f":"IF(OR('Tabel 5F B'!H139<5,'Tabel 5 B'!H139<0.5),\"-\",IFERROR('Tabel 5 B'!H139/'Tabel 5F B'!H139*100,\"-\"))","v":"-"},null,{"$f":"IF(OR('Tabel 5F B'!J139<5,'Tabel 5 B'!J139<0.5),\"-\",IFERROR('Tabel 5 B'!J139/'Tabel 5F B'!J139*100,\"-\"))","v":"-"}]
["Jurist",null,{"$f":"IF(OR('Tabel 5F B'!C140<5,'Tabel 5 B'!C140<0.5),\"-\",IFERROR('Tabel 5 B'!C140/'Tabel 5F B'!C140*100,\"-\"))","v":"-"},{"$f":"IF(OR('Tabel 5F B'!D140<5,'Tabel 5 B'!D140<0.5),\"-\",IFERROR('Tabel 5 B'!D140/'Tabel 5F B'!D140*100,\"-\"))","v":"-"},{"$f":"IF(OR('Tabel 5F B'!E140<5,'Tabel 5 B'!E140<0.5),\"-\",IFERROR('Tabel 5 B'!E140/'Tabel 5F B'!E140*100,\"-\"))","v":"-"},{"$f":"IF(OR('Tabel 5F B'!F140<5,'Tabel 5 B'!F140<0.5),\"-\",IFERROR('Tabel 5 B'!F140/'Tabel 5F B'!F140*100,\"-\"))","v":"-"},{"$f":"IF(OR('Tabel 5F B'!G140<5,'Tabel 5 B'!G140<0.5),\"-\",IFERROR('Tabel 5 B'!G140/'Tabel 5F B'!G140*100,\"-\"))","v":"-"},{"$f":"IF(OR('Tabel 5F B'!H140<5,'Tabel 5 B'!H140<0.5),\"-\",IFERROR('Tabel 5 B'!H140/'Tabel 5F B'!H140*100,\"-\"))","v":"-"},null,{"$f":"IF(OR('Tabel 5F B'!J140<5,'Tabel 5 B'!J140<0.5),\"-\",IFERROR('Tabel 5 B'!J140/'Tabel 5F B'!J140*100,\"-\"))","v":"-"}]
["Økonom",null,{"$f":"IF(OR('Tabel 5F B'!C141<5,'Tabel 5 B'!C141<0.5),\"-\",IFERROR('Tabel 5 B'!C141/'Tabel 5F B'!C141*100,\"-\"))","v":"-"},{"$f":"IF(OR('Tabel 5F B'!D141<5,'Tabel 5 B'!D141<0.5),\"-\",IFERROR('Tabel 5 B'!D141/'Tabel 5F B'!D141*100,\"-\"))","v":"-"},{"$f":"IF(OR('Tabel 5F B'!E141<5,'Tabel 5 B'!E141<0.5),\"-\",IFERROR('Tabel 5 B'!E141/'Tabel 5F B'!E141*100,\"-\"))","v":"-"},{"$f":"IF(OR('Tabel 5F B'!F141<5,'Tabel 5 B'!F141<0.5),\"-\",IFERROR('Tabel 5 B'!F141/'Tabel 5F B'!F141*100,\"-\"))","v":"-"},{"$f":"IF(OR('Tabel 5F B'!G141<5,'Tabel 5 B'!G141<0.5),\"-\",IFERROR('Tabel 5 B'!G141/'Tabel 5F B'!G141*100,\"-\"))","v":"-"},{"$f":"IF(OR('Tabel 5F B'!H141<5,'Tabel 5 B'!H141<0.5),\"-\",IFERROR('Tabel 5 B'!H141/'Tabel 5F B'!H141*100,\"-\"))","v":"-"},null,{"$f":"IF(OR('Tabel 5F B'!J141<5,'Tabel 5 B'!J141<0.5),\"-\",IFERROR('Tabel 5 B'!J141/'Tabel 5F B'!J141*100,\"-\"))","v":"-"}]
["Samf. Adm.",null,{"$f":"IF(OR('Tabel 5F B'!C142<5,'Tabel 5 B'!C142<0.5),\"-\",IFERROR('Tabel 5 B'!C142/'Tabel 5F B'!C142*100,\"-\"))","v":"-"},{"$f":"IF(OR('Tabel 5F B'!D142<5,'Tabel 5 B'!D142<0.5),\"-\",IFERROR('Tabel 5 B'!D142/'Tabel 5F B'!D142*100,\"-\"))","v":"-"},{"$f":"IF(OR('Tabel 5F B'!E142<5,'Tabel 5 B'!E142<0.5),\"-\",IFERROR('Tabel 5 B'!E142/'Tabel 5F B'!E142*100,\"-\"))","v":"-"},{"$f":"IF(OR('Tabel 5F B'!F142<5,'Tabel 5 B'!F142<0.5),\"-\",IFERROR('Tabel 5 B'!F142/'Tabel 5F B'!F142*100,\"-\"))","v":"-"},{"$f":"IF(OR('Tabel 5F B'!G142<5,'Tabel 5 B'!G142<0.5),\"-\",IFERROR('Tabel 5 B'!G142/'Tabel 5F B'!G142*100,\"-\"))","v":"-"},{"$f":"IF(OR('Tabel 5F B'!H142<5,'Tabel 5 B'!H142<0.5),\"-\",IFERROR('Tabel 5 B'!H142/'Tabel 5F B'!H142*100,\"-\"))","v":"-"},null,{"$f":"IF(OR('Tabel 5F B'!J142<5,'Tabel 5 B'!J142<0.5),\"-\",IFERROR('Tabel 5 B'!J142/'Tabel 5F B'!J142*100,\"-\"))","v":"-"}]
["Cand. Merc.",null,{"$f":"IF(OR('Tabel 5F B'!C143<5,'Tabel 5 B'!C143<0.5),\"-\",IFERROR('Tabel 5 B'!C143/'Tabel 5F B'!C143*100,\"-\"))","v":"-"},{"$f":"IF(OR('Tabel 5F B'!D143<5,'Tabel 5 B'!D143<0.5),\"-\",IFERROR('Tabel 5 B'!D143/'Tabel 5F B'!D143*100,\"-\"))","v":"-"},{"$f":"IF(OR('Tabel 5F B'!E143<5,'Tabel 5 B'!E143<0.5),\"-\",IFERROR('Tabel 5 B'!E143/'Tabel 5F B'!E143*100,\"-\"))","v":"-"},{"$f":"IF(OR('Tabel 5F B'!F143<5,'Tabel 5 B'!F143<0.5),\"-\",IFERROR('Tabel 5 B'!F143/'Tabel 5F B'!F143*100,\"-\"))","v":"-"},{"$f":"IF(OR('Tabel 5F B'!G143<5,'Tabel 5 B'!G143<0.5),\"-\",IFERROR('Tabel 5 B'!G143/'Tabel 5F B'!G143*100,\"-\"))","v":"-"},{"$f":"IF(OR('Tabel 5F B'!H143<5,'Tabel 5 B'!H143<0.5),\"-\",IFERROR('Tabel 5 B'!H143/'Tabel 5F B'!H143*100,\"-\"))","v":"-"},null,{"$f":"IF(OR('Tabel 5F B'!J143<5,'Tabel 5 B'!J143<0.5),\"-\",IFERROR('Tabel 5 B'!J143/'Tabel 5F B'!J143*100,\"-\"))","v":"-"}]
["HA",null,{"$f":"IF(OR('Tabel 5F B'!C144<5,'Tabel 5 B'!C144<0.5),\"-\",IFERROR('Tabel 5 B'!C144/'Tabel 5F B'!C144*100,\"-\"))","v":"-"},{"$f":"IF(OR('Tabel 5F B'!D144<5,'Tabel 5 B'!D144<0.5),\"-\",IFERROR('Tabel 5 B'!D144/'Tabel 5F B'!D144*100,\"-\"))","v":"-"},{"$f":"IF(OR('Tabel 5F B'!E144<5,'Tabel 5 B'!E144<0.5),\"-\",IFERROR('Tabel 5 B'!E144/'Tabel 5F B'!E144*100,\"-\"))","v":"-"},{"$f":"IF(OR('Tabel 5F B'!F144<5,'Tabel 5 B'!F144<0.5),\"-\",IFERROR('Tabel 5 B'!F144/'Tabel 5F B'!F144*100,\"-\"))","v":"-"},{"$f":"IF(OR('Tabel 5F B'!G144<5,'Tabel 5 B'!G144<0.5),\"-\",IFERROR('Tabel 5 B'!G144/'Tabel 5F B'!G144*100,\"-\"))","v":"-"},{"$f":"IF(OR('Tabel 5F B'!H144<5,'Tabel 5 B'!H144<0.5),\"-\",IFERROR('Tabel 5 B'!H144/'Tabel 5F B'!H144*100,\"-\"))","v":"-"},null,{"$f":"IF(OR('Tabel 5F B'!J144<5,'Tabel 5 B'!J144<0.5),\"-\",IFERROR('Tabel 5 B'!J144/'Tabel 5F B'!J144*100,\"-\"))","v":"-"}]
["HD",null,{"$f":"IF(OR('Tabel 5F B'!C145<5,'Tabel 5 B'!C145<0.5),\"-\",IFERROR('Tabel 5 B'!C145/'Tabel 5F B'!C145*100,\"-\"))","v":"-"},{"$f":"IF(OR('Tabel 5F B'!D145<5,'Tabel 5 B'!D145<0.5),\"-\",IFERROR('Tabel 5 B'!D145/'Tabel 5F B'!D145*100,\"-\"))","v":"-"},{"$f":"IF(OR('Tabel 5F B'!E145<5,'Tabel 5 B'!E145<0.5),\"-\",IFERROR('Tabel 5 B'!E145/'Tabel 5F B'!E145*100,\"-\"))","v":"-"},{"$f":"IF(OR('Tabel 5F B'!F145<5,'Tabel 5 B'!F145<0.5),\"-\",IFERROR('Tabel 5 B'!F145/'Tabel 5F B'!F145*100,\"-\"))","v":"-"},{"$f":"IF(OR('Tabel 5F B'!G145<5,'Tabel 5 B'!G145<0.5),\"-\",IFERROR('Tabel 5 B'!G145/'Tabel 5F B'!G145*100,\"-\"))","v":"-"},{"$f":"IF(OR('Tabel 5F B'!H145<5,'Tabel 5 B'!H145<0.5),\"-\",IFERROR('Tabel 5 B'!H145/'Tabel 5F B'!H145*100,\"-\"))","v":"-"},null,{"$f":"IF(OR('Tabel 5F B'!J145<5,'Tabel 5 B'!J145<0.5),\"-\",IFERROR('Tabel 5 B'!J145/'Tabel 5F B'!J145*100,\"-\"))","v":"-"}]
["Komm. og Sprog",null,{"$f":"IF(OR('Tabel 5F B'!C146<5,'Tabel 5 B'!C146<0.5),\"-\",IFERROR('Tabel 5 B'!C146/'Tabel 5F B'!C146*100,\"-\"))","v":"-"},{"$f":"IF(OR('Tabel 5F B'!D146<5,'Tabel 5 B'!D146<0.5),\"-\",IFERROR('Tabel 5 B'!D146/'Tabel 5F B'!D146*100,\"-\"))","v":"-"},{"$f":"IF(OR('Tabel 5F B'!E146<5,'Tabel 5 B'!E146<0.5),\"-\",IFERROR('Tabel 5 B'!E146/'Tabel 5F B'!E146*100,\"-\"))","v":"-"},{"$f":"IF(OR('Tabel 5F B'!F146<5,'Tabel 5 B'!F146<0.5),\"-\",IFERROR('Tabel 5 B'!F146/'Tabel 5F B'!F146*100,\"-\"))","v":"-"},{"$f":"IF(OR('Tabel 5F B'!G146<5,'Tabel 5 B'!G146<0.5),\"-\",IFERROR('Tabel 5 B'!G146/'Tabel 5F B'!G146*100,\"-\"))","v":"-"},{"$f":"IF(OR('Tabel 5F B'!H146<5,'Tabel 5 B'!H146<0.5),\"-\",IFERROR('Tabel 5 B'!H146/'Tabel 5F B'!H146*100,\"-\"))","v":"-"},null,{"$f":"IF(OR('Tabel 5F B'!J146<5,'Tabel 5 B'!J146<0.5),\"-\",IFERROR('Tabel 5 B'!J146/'Tabel 5F B'!J146*100,\"-\"))","v":"-"}]
["Bygningskonst.",null,{"$f":"IF(OR('Tabel 5F B'!C147<5,'Tabel 5 B'!C147<0.5),\"-\",IFERROR('Tabel 5 B'!C147/'Tabel 5F B'!C147*100,\"-\"))","v":"-"},{"$f":"IF(OR('Tabel 5F B'!D147<5,'Tabel 5 B'!D147<0.5),\"-\",IFERROR('Tabel 5 B'!D147/'Tabel 5F B'!D147*100,\"-\"))","v":"-"},{"$f":"IF(OR('Tabel 5F B'!E147<5,'Tabel 5 B'!E147<0.5),\"-\",IFERROR('Tabel 5 B'!E147/'Tabel 5F B'!E147*100,\"-\"))","v":"-"},{"$f":"IF(OR('Tabel 5F B'!F147<5,'Tabel 5 B'!F147<0.5),\"-\",IFERROR('Tabel 5 B'!F147/'Tabel 5F B'!F147*100,\"-\"))","v":"-"},{"$f":"IF(OR('Tabel 5F B'!G147<5,'Tabel 5 B'!G147<0.5),\"-\",IFERROR('Tabel 5 B'!G147/'Tabel 5F B'!G147*100,\"-\"))","v":"-"},{"$f":"IF(OR('Tabel 5F B'!H147<5,'Tabel 5 B'!H147<0.5),\"-\",IFERROR('Tabel 5 B'!H147/'Tabel 5F B'!H147*100,\"-\"))","v":"-"},null,{"$f":"IF(OR('Tabel 5F B'!J147<5,'Tabel 5 B'!J147<0.5),\"-\",IFERROR('Tabel 5 B'!J147/'Tabel 5F B'!J147*100,\"-\"))","v":"-"}]
["Cand. IT.",null,{"$f":"IF(OR('Tabel 5F B'!C148<5,'Tabel 5 B'!C148<0.5),\"-\",IFERROR('Tabel 5 B'!C148/'Tabel 5F B'!C148*100,\"-\"))","v":"-"},{"$f":"IF(OR('Tabel 5F B'!D148<5,'Tabel 5 B'!D148<0.5),\"-\",IFERROR('Tabel 5 B'!D148/'Tabel 5F B'!D148*100,\"-\"))","v":"-"},{"$f":"IF(OR('Tabel 5F B'!E148<5,'Tabel 5 B'!E148<0.5),\"-\",IFERROR('Tabel 5 B'!E148/'Tabel 5F B'!E148*100,\"-\"))","v":"-"},{"$f":"IF(OR('Tabel 5F B'!F148<5,'Tabel 5 B'!F148<0.5),\"-\",IFERROR('Tabel 5 B'!F148/'Tabel 5F B'!F148*100,\"-\"))","v":"-"},{"$f":"IF(OR('Tabel 5F B'!G148<5,'Tabel 5 B'!G148<0.5),\"-\",IFERROR('Tabel 5 B'!G148/'Tabel 5F B'!G148*100,\"-\"))","v":"-"},{"$f":"IF(OR('Tabel 5F B'!H148<5,'Tabel 5 B'!H148<0.5),\"-\",IFERROR('Tabel 5 B'!H148/'Tabel 5F B'!H148*100,\"-\"))","v":"-"},null,{"$f":"IF(OR('Tabel 5F B'!J148<5,'Tabel 5 B'!J148<0.5),\"-\",IFERROR('Tabel 5 B'!J148/'Tabel 5F B'!J148*100,\"-\"))","v":"-"}]
["Bac. Samf.",null,{"$f":"IF(OR('Tabel 5F B'!C149<5,'Tabel 5 B'!C149<0.5),\"-\",IFERROR('Tabel 5 B'!C149/'Tabel 5F B'!C149*100,\"-\"))","v":"-"},{"$f":"IF(OR('Tabel 5F B'!D149<5,'Tabel 5 B'!D149<0.5),\"-\",IFERROR('Tabel 5 B'!D149/'Tabel 5F B'!D149*100,\"-\"))","v":"-"},{"$f":"IF(OR('Tabel 5F B'!E149<5,'Tabel 5 B'!E149<0.5),\"-\",IFERROR('Tabel 5 B'!E149/'Tabel 5F B'!E149*100,\"-\"))","v":"-"},{"$f":"IF(OR('Tabel 5F B'!F149<5,'Tabel 5 B'!F149<0.5),\"-\",IFERROR('Tabel 5 B'!F149/'Tabel 5F B'!F149*100,\"-\"))","v":"-"},{"$f":"IF(OR('Tabel 5F B'!G149<5,'Tabel 5 B'!G149<0.5),\"-\",IFERROR('Tabel 5 B'!G149/'Tabel 5F B'!G149*100,\"-\"))","v":"-"},{"$f":"IF(OR('Tabel 5F B'!H149<5,'Tabel 5 B'!H149<0.5),\"-\",IFERROR('Tabel 5 B'!H149/'Tabel 5F B'!H149*100,\"-\"))","v":"-"},null,{"$f":"IF(OR('Tabel 5F B'!J149<5,'Tabel 5 B'!J149<0.5),\"-\",IFERROR('Tabel 5 B'!J149/'Tabel 5F B'!J149*100,\"-\"))","v":"-"}]
["Bac. Hum.",null,{"$f":"IF(OR('Tabel 5F B'!C150<5,'Tabel 5 B'!C150<0.5),\"-\",IFERROR('Tabel 5 B'!C150/'Tabel 5F B'!C150*100,\"-\"))","v":"-"},{"$f":"IF(OR('Tabel 5F B'!D150<5,'Tabel 5 B'!D150<0.5),\"-\",IFERROR('Tabel 5 B'!D150/'Tabel 5F B'!D150*100,\"-\"))","v":"-"},{"$f":"IF(OR('Tabel 5F B'!E150<5,'Tabel 5 B'!E150<0.5),\"-\",IFERROR('Tabel 5 B'!E150/'Tabel 5F B'!E150*100,\"-\"))","v":"-"},{"$f":"IF(OR('Tabel 5F B'!F150<5,'Tabel 5 B'!F150<0.5),\"-\",IFERROR('Tabel 5 B'!F150/'Tabel 5F B'!F150*100,\"-\"))","v":"-"},{"$f":"IF(OR('Tabel 5F B'!G150<5,'Tabel 5 B'!G150<0.5),\"-\",IFERROR('Tabel 5 B'!G150/'Tabel 5F B'!G150*100,\"-\"))","v":"-"},{"$f":"IF(OR('Tabel 5F B'!H150<5,'Tabel 5 B'!H150<0.5),\"-\",IFERROR('Tabel 5 B'!H150/'Tabel 5F B'!H150*100,\"-\"))","v":"-"},null,{"$f":"IF(OR('Tabel 5F B'!J150<5,'Tabel 5 B'!J150<0.5),\"-\",IFERROR('Tabel 5 B'!J150/'Tabel 5F B'!J150*100,\"-\"))","v":"-"}]
["Bac. Nat.",null,{"$f":"IF(OR('Tabel 5F B'!C151<5,'Tabel 5 B'!C151<0.5),\"-\",IFERROR('Tabel 5 B'!C151/'Tabel 5F B'!C151*100,\"-\"))","v":"-"},{"$f":"IF(OR('Tabel 5F B'!D151<5,'Tabel 5 B'!D151<0.5),\"-\",IFERROR('Tabel 5 B'!D151/'Tabel 5F B'!D151*100,\"-\"))","v":"-"},{"$f":"IF(OR('Tabel 5F B'!E151<5,'Tabel 5 B'!E151<0.5),\"-\",IFERROR('Tabel 5 B'!E151/'Tabel 5F B'!E151*100,\"-\"))","v":"-"},{"$f":"IF(OR('Tabel 5F B'!F151<5,'Tabel 5 B'!F151<0.5),\"-\",IFERROR('Tabel 5 B'!F151/'Tabel 5F B'!F151*100,\"-\"))","v":"-"},{"$f":"IF(OR('Tabel 5F B'!G151<5,'Tabel 5 B'!G151<0.5),\"-\",IFERROR('Tabel 5 B'!G151/'Tabel 5F B'!G151*100,\"-\"))","v":"-"},{"$f":"IF(OR('Tabel 5F B'!H151<5,'Tabel 5 B'!H151<0.5),\"-\",IFERROR('Tabel 5 B'!H151/'Tabel 5F B'!H151*100,\"-\"))","v":"-"},null,{"$f":"IF(OR('Tabel 5F B'!J151<5,'Tabel 5 B'!J151<0.5),\"-\",IFERROR('Tabel 5 B'!J151/'Tabel 5F B'!J151*100,\"-\"))","v":"-"}]
["Andre",null,{"$f":"IF(OR('Tabel 5F B'!C152<5,'Tabel 5 B'!C152<0.5),\"-\",IFERROR('Tabel 5 B'!C152/'Tabel 5F B'!C152*100,\"-\"))","v":"-"},{"$f":"IF(OR('Tabel 5F B'!D152<5,'Tabel 5 B'!D152<0.5),\"-\",IFERROR('Tabel 5 B'!D152/'Tabel 5F B'!D152*100,\"-\"))","v":"-"},{"$f":"IF(OR('Tabel 5F B'!E152<5,'Tabel 5 B'!E152<0.5),\"-\",IFERROR('Tabel 5 B'!E152/'Tabel 5F B'!E152*100,\"-\"))","v":"-"},{"$f":"IF(OR('Tabel 5F B'!F152<5,'Tabel 5 B'!F152<0.5),\"-\",IFERROR('Tabel 5 B'!F152/'Tabel 5F B'!F152*100,\"-\"))","v":"-"},{"$f":"IF(OR('Tabel 5F B'!G152<5,'Tabel 5 B'!G152<0.5),\"-\",IFERROR('Tabel 5 B'!G152/'Tabel 5F B'!G152*100,\"-\"))","v":"-"},{"$f":"IF(OR('Tabel 5F B'!H152<5,'Tabel 5 B'!H152<0.5),\"-\",IFERROR('Tabel 5 B'!H152/'Tabel 5F B'!H152*100,\"-\"))","v":"-"},null,{"$f":"IF(OR('Tabel 5F B'!J152<5,'Tabel 5 B'!J152<0.5),\"-\",IFERROR('Tabel 5 B'!J152/'Tabel 5F B'!J152*100,\"-\"))","v":"-"}]
[]
["Total",null,{"$f":"IF(OR('Tabel 5F B'!C154<5,'Tabel 5 B'!C154<0.5),\"-\",IFERROR('Tabel 5 B'!C154/'Tabel 5F B'!C154*100,\"-\"))","v":"-"},{"$f":"IF(OR('Tabel 5F B'!D154<5,'Tabel 5 B'!D154<0.5),\"-\",IFERROR('Tabel 5 B'!D154/'Tabel 5F B'!D154*100,\"-\"))","v":"-"},{"$f":"IF(OR('Tabel 5F B'!E154<5,'Tabel 5 B'!E154<0.5),\"-\",IFERROR('Tabel 5 B'!E154/'Tabel 5F B'!E154*100,\"-\"))","v":"-"},{"$f":"IF(OR('Tabel 5F B'!F154<5,'Tabel 5 B'!F154<0.5),\"-\",IFERROR('Tabel 5 B'!F154/'Tabel 5F B'!F154*100,\"-\"))","v":"-"},{"$f":"IF(OR('Tabel 5F B'!G154<5,'Tabel 5 B'!G154<0.5),\"-\",IFERROR('Tabel 5 B'!G154/'Tabel 5F B'!G154*100,\"-\"))","v":"-"},{"$f":"IF(OR('Tabel 5F B'!H154<5,'Tabel 5 B'!H154<0.5),\"-\",IFERROR('Tabel 5 B'!H154/'Tabel 5F B'!H154*100,\"-\"))","v":"-"},null,{"$f":"IF(OR('Tabel 5F B'!J154<5,'Tabel 5 B'!J154<0.5),\"-\",IFERROR('Tabel 5 B'!J154/'Tabel 5F B'!J154*100,\"-\"))","v":"-"}]
[]
["Ingeniører i alt",null,{"$f":"IF(OR('Tabel 5F B'!C156<5,'Tabel 5 B'!C156<0.5),\"-\",IFERROR('Tabel 5 B'!C156/'Tabel 5F B'!C156*100,\"-\"))","v":"-"},{"$f":"IF(OR('Tabel 5F B'!D156<5,'Tabel 5 B'!D156<0.5),\"-\",IFERROR('Tabel 5 B'!D156/'Tabel 5F B'!D156*100,\"-\"))","v":"-"},{"$f":"IF(OR('Tabel 5F B'!E156<5,'Tabel 5 B'!E156<0.5),\"-\",IFERROR('Tabel 5 B'!E156/'Tabel 5F B'!E156*100,\"-\"))","v":"-"},{"$f":"IF(OR('Tabel 5F B'!F156<5,'Tabel 5 B'!F156<0.5),\"-\",IFERROR('Tabel 5 B'!F156/'Tabel 5F B'!F156*100,\"-\"))","v":"-"},{"$f":"IF(OR('Tabel 5F B'!G156<5,'Tabel 5 B'!G156<0.5),\"-\",IFERROR('Tabel 5 B'!G156/'Tabel 5F B'!G156*100,\"-\"))","v":"-"},{"$f":"IF(OR('Tabel 5F B'!H156<5,'Tabel 5 B'!H156<0.5),\"-\",IFERROR('Tabel 5 B'!H156/'Tabel 5F B'!H156*100,\"-\"))","v":"-"},null,{"$f":"IF(OR('Tabel 5F B'!J156<5,'Tabel 5 B'!J156<0.5),\"-\",IFERROR('Tabel 5 B'!J156/'Tabel 5F B'!J156*100,\"-\"))","v":"-"}]
["Magistre i alt",null,{"$f":"IF(OR('Tabel 5F B'!C157<5,'Tabel 5 B'!C157<0.5),\"-\",IFERROR('Tabel 5 B'!C157/'Tabel 5F B'!C157*100,\"-\"))","v":"-"},{"$f":"IF(OR('Tabel 5F B'!D157<5,'Tabel 5 B'!D157<0.5),\"-\",IFERROR('Tabel 5 B'!D157/'Tabel 5F B'!D157*100,\"-\"))","v":"-"},{"$f":"IF(OR('Tabel 5F B'!E157<5,'Tabel 5 B'!E157<0.5),\"-\",IFERROR('Tabel 5 B'!E157/'Tabel 5F B'!E157*100,\"-\"))","v":"-"},{"$f":"IF(OR('Tabel 5F B'!F157<5,'Tabel 5 B'!F157<0.5),\"-\",IFERROR('Tabel 5 B'!F157/'Tabel 5F B'!F157*100,\"-\"))","v":"-"},{"$f":"IF(OR('Tabel 5F B'!G157<5,'Tabel 5 B'!G157<0.5),\"-\",IFERROR('Tabel 5 B'!G157/'Tabel 5F B'!G157*100,\"-\"))","v":"-"},{"$f":"IF(OR('Tabel 5F B'!H157<5,'Tabel 5 B'!H157<0.5),\"-\",IFERROR('Tabel 5 B'!H157/'Tabel 5F B'!H157*100,\"-\"))","v":"-"},null,{"$f":"IF(OR('Tabel 5F B'!J157<5,'Tabel 5 B'!J157<0.5),\"-\",IFERROR('Tabel 5 B'!J157/'Tabel 5F B'!J157*100,\"-\"))","v":"-"}]
["DJØF'ere i alt",null,{"$f":"IF(OR('Tabel 5F B'!C158<5,'Tabel 5 B'!C158<0.5),\"-\",IFERROR('Tabel 5 B'!C158/'Tabel 5F B'!C158*100,\"-\"))","v":"-"},{"$f":"IF(OR('Tabel 5F B'!D158<5,'Tabel 5 B'!D158<0.5),\"-\",IFERROR('Tabel 5 B'!D158/'Tabel 5F B'!D158*100,\"-\"))","v":"-"},{"$f":"IF(OR('Tabel 5F B'!E158<5,'Tabel 5 B'!E158<0.5),\"-\",IFERROR('Tabel 5 B'!E158/'Tabel 5F B'!E158*100,\"-\"))","v":"-"},{"$f":"IF(OR('Tabel 5F B'!F158<5,'Tabel 5 B'!F158<0.5),\"-\",IFERROR('Tabel 5 B'!F158/'Tabel 5F B'!F158*100,\"-\"))","v":"-"},{"$f":"IF(OR('Tabel 5F B'!G158<5,'Tabel 5 B'!G158<0.5),\"-\",IFERROR('Tabel 5 B'!G158/'Tabel 5F B'!G158*100,\"-\"))","v":"-"},{"$f":"IF(OR('Tabel 5F B'!H158<5,'Tabel 5 B'!H158<0.5),\"-\",IFERROR('Tabel 5 B'!H158/'Tabel 5F B'!H158*100,\"-\"))","v":"-"},null,{"$f":"IF(OR('Tabel 5F B'!J158<5,'Tabel 5 B'!J158<0.5),\"-\",IFERROR('Tabel 5 B'!J158/'Tabel 5F B'!J158*100,\"-\"))","v":"-"}]

{"sheet":"Tabel 5(Br) P B","index":13,"n_rows":158,"n_cols":10,"rows_kept":158,"cut":false,"hidden":false,"merged":[]}
["Tabel 5. Gns. antal ledige - kandidatalder"]
[]
["Bornholm"]
[]
[null,null,"Under 1 år"," 1 - 2 år","2 - 4 år","5 - 9 år","10 - 14 år","Over 15 år",null,"Uoplyst"]
[]
["Civ. ing.",null,{"$f":"IF(OR('Tabel 5F B'!C7<5,'Tabel 5Br B'!C7<0.5),\"-\",IFERROR('Tabel 5Br B'!C7/'Tabel 5F B'!C7*100,\"-\"))","v":"-"},{"$f":"IF(OR('Tabel 5F B'!D7<5,'Tabel 5Br B'!D7<0.5),\"-\",IFERROR('Tabel 5Br B'!D7/'Tabel 5F B'!D7*100,\"-\"))","v":"-"},{"$f":"IF(OR('Tabel 5F B'!E7<5,'Tabel 5Br B'!E7<0.5),\"-\",IFERROR('Tabel 5Br B'!E7/'Tabel 5F B'!E7*100,\"-\"))","v":"-"},{"$f":"IF(OR('Tabel 5F B'!F7<5,'Tabel 5Br B'!F7<0.5),\"-\",IFERROR('Tabel 5Br B'!F7/'Tabel 5F B'!F7*100,\"-\"))","v":29.994386577683478},{"$f":"IF(OR('Tabel 5F B'!G7<5,'Tabel 5Br B'!G7<0.5),\"-\",IFERROR('Tabel 5Br B'!G7/'Tabel 5F B'!G7*100,\"-\"))","v":"-"},{"$f":"IF(OR('Tabel 5F B'!H7<5,'Tabel 5Br B'!H7<0.5),\"-\",IFERROR('Tabel 5Br B'!H7/'Tabel 5F B'!H7*100,\"-\"))","v":"-"},null,{"$f":"IF(OR('Tabel 5F B'!J7<5,'Tabel 5Br B'!J7<0.5),\"-\",IFERROR('Tabel 5Br B'!J7/'Tabel 5F B'!J7*100,\"-\"))","v":"-"}]
["Diplom ing.",null,{"$f":"IF(OR('Tabel 5F B'!C8<5,'Tabel 5Br B'!C8<0.5),\"-\",IFERROR('Tabel 5Br B'!C8/'Tabel 5F B'!C8*100,\"-\"))","v":"-"},{"$f":"IF(OR('Tabel 5F B'!D8<5,'Tabel 5Br B'!D8<0.5),\"-\",IFERROR('Tabel 5Br B'!D8/'Tabel 5F B'!D8*100,\"-\"))","v":"-"},{"$f":"IF(OR('Tabel 5F B'!E8<5,'Tabel 5Br B'!E8<0.5),\"-\",IFERROR('Tabel 5Br B'!E8/'Tabel 5F B'!E8*100,\"-\"))","v":"-"},{"$f":"IF(OR('Tabel 5F B'!F8<5,'Tabel 5Br B'!F8<0.5),\"-\",IFERROR('Tabel 5Br B'!F8/'Tabel 5F B'!F8*100,\"-\"))","v":"-"},{"$f":"IF(OR('Tabel 5F B'!G8<5,'Tabel 5Br B'!G8<0.5),\"-\",IFERROR('Tabel 5Br B'!G8/'Tabel 5F B'!G8*100,\"-\"))","v":11.881743903199649},{"$f":"IF(OR('Tabel 5F B'!H8<5,'Tabel 5Br B'!H8<0.5),\"-\",IFERROR('Tabel 5Br B'!H8/'Tabel 5F B'!H8*100,\"-\"))","v":4.9990644296139308},null,{"$f":"IF(OR('Tabel 5F B'!J8<5,'Tabel 5Br B'!J8<0.5),\"-\",IFERROR('Tabel 5Br B'!J8/'Tabel 5F B'!J8*100,\"-\"))","v":"-"}]
["Cand. Scient. Tek",null,{"$f":"IF(OR('Tabel 5F B'!C9<5,'Tabel 5Br B'!C9<0.5),\"-\",IFERROR('Tabel 5Br B'!C9/'Tabel 5F B'!C9*100,\"-\"))","v":"-"},{"$f":"IF(OR('Tabel 5F B'!D9<5,'Tabel 5Br B'!D9<0.5),\"-\",IFERROR('Tabel 5Br B'!D9/'Tabel 5F B'!D9*100,\"-\"))","v":"-"},{"$f":"IF(OR('Tabel 5F B'!E9<5,'Tabel 5Br B'!E9<0.5),\"-\",IFERROR('Tabel 5Br B'!E9/'Tabel 5F B'!E9*100,\"-\"))","v":42.406287032994356},{"$f":"IF(OR('Tabel 5F B'!F9<5,'Tabel 5Br B'!F9<0.5),\"-\",IFERROR('Tabel 5Br B'!F9/'Tabel 5F B'!F9*100,\"-\"))","v":"-"},{"$f":"IF(OR('Tabel 5F B'!G9<5,'Tabel 5Br B'!G9<0.5),\"-\",IFERROR('Tabel 5Br B'!G9/'Tabel 5F B'!G9*100,\"-\"))","v":"-"},{"$f":"IF(OR('Tabel 5F B'!H9<5,'Tabel 5Br B'!H9<0.5),\"-\",IFERROR('Tabel 5Br B'!H9/'Tabel 5F B'!H9*100,\"-\"))","v":"-"},null,{"$f":"IF(OR('Tabel 5F B'!J9<5,'Tabel 5Br B'!J9<0.5),\"-\",IFERROR('Tabel 5Br B'!J9/'Tabel 5F B'!J9*100,\"-\"))","v":"-"}]
["MA. Hum.",null,{"$f":"IF(OR('Tabel 5F B'!C10<5,'Tabel 5Br B'!C10<0.5),\"-\",IFERROR('Tabel 5Br B'!C10/'Tabel 5F B'!C10*100,\"-\"))","v":"-"},{"$f":"IF(OR('Tabel 5F B'!D10<5,'Tabel 5Br B'!D10<0.5),\"-\",IFERROR('Tabel 5Br B'!D10/'Tabel 5F B'!D10*100,\"-\"))","v":"-"},{"$f":"IF(OR('Tabel 5F B'!E10<5,'Tabel 5Br B'!E10<0.5),\"-\",IFERROR('Tabel 5Br B'!E10/'Tabel 5F B'!E10*100,\"-\"))","v":7.1415206137337304},{"$f":"IF(OR('Tabel 5F B'!F10<5,'Tabel 5Br B'!F10<0.5),\"-\",IFERROR('Tabel 5Br B'!F10/'Tabel 5F B'!F10*100,\"-\"))","v":15.985968334250042},{"$f":"IF(OR('Tabel 5F B'!G10<5,'Tabel 5Br B'!G10<0.5),\"-\",IFERROR('Tabel 5Br B'!G10/'Tabel 5F B'!G10*100,\"-\"))","v":17.888885423813239},{"$f":"IF(OR('Tabel 5F B'!H10<5,'Tabel 5Br B'!H10<0.5),\"-\",IFERROR('Tabel 5Br B'!H10/'Tabel 5F B'!H10*100,\"-\"))","v":6.5205188212355161},null,{"$f":"IF(OR('Tabel 5F B'!J10<5,'Tabel 5Br B'!J10<0.5),\"-\",IFERROR('Tabel 5Br B'!J10/'Tabel 5F B'!J10*100,\"-\"))","v":38.892007456842414}]
["MA. Nat.",null,{"$f":"IF(OR('Tabel 5F B'!C11<5,'Tabel 5Br B'!C11<0.5),\"-\",IFERROR('Tabel 5Br B'!C11/'Tabel 5F B'!C11*100,\"-\"))","v":"-"},{"$f":"IF(OR('Tabel 5F B'!D11<5,'Tabel 5Br B'!D11<0.5),\"-\",IFERROR('Tabel 5Br B'!D11/'Tabel 5F B'!D11*100,\"-\"))","v":"-"},{"$f":"IF(OR('Tabel 5F B'!E11<5,'Tabel 5Br B'!E11<0.5),\"-\",IFERROR('Tabel 5Br B'!E11/'Tabel 5F B'!E11*100,\"-\"))","v":"-"},{"$f":"IF(OR('Tabel 5F B'!F11<5,'Tabel 5Br B'!F11<0.5),\"-\",IFERROR('Tabel 5Br B'!F11/'Tabel 5F B'!F11*100,\"-\"))","v":"-"},{"$f":"IF(OR('Tabel 5F B'!G11<5,'Tabel 5Br B'!G11<0.5),\"-\",IFERROR('Tabel 5Br B'!G11/'Tabel 5F B'!G11*100,\"-\"))","v":"-"},{"$f":"IF(OR('Tabel 5F B'!H11<5,'Tabel 5Br B'!H11<0.5),\"-\",IFERROR('Tabel 5Br B'!H11/'Tabel 5F B'!H11*100,\"-\"))","v":2.8566082454936748},null,{"$f":"IF(OR('Tabel 5F B'!J11<5,'Tabel 5Br B'!J11<0.5),\"-\",IFERROR('Tabel 5Br B'!J11/'Tabel 5F B'!J11*100,\"-\"))","v":"-"}]
["MA. Ph.d.",null,{"$f":"IF(OR('Tabel 5F B'!C12<5,'Tabel 5Br B'!C12<0.5),\"-\",IFERROR('Tabel 5Br B'!C12/'Tabel 5F B'!C12*100,\"-\"))","v":"-"},{"$f":"IF(OR('Tabel 5F B'!D12<5,'Tabel 5Br B'!D12<0.5),\"-\",IFERROR('Tabel 5Br B'!D12/'Tabel 5F B'!D12*100,\"-\"))","v":"-"},{"$f":"IF(OR('Tabel 5F B'!E12<5,'Tabel 5Br B'!E12<0.5),\"-\",IFERROR('Tabel 5Br B'!E12/'Tabel 5F B'!E12*100,\"-\"))","v":"-"},{"$f":"IF(OR('Tabel 5F B'!F12<5,'Tabel 5Br B'!F12<0.5),\"-\",IFERROR('Tabel 5Br B'!F12/'Tabel 5F B'!F12*100,\"-\"))","v":"-"},{"$f":"IF(OR('Tabel 5F B'!G12<5,'Tabel 5Br B'!G12<0.5),\"-\",IFERROR('Tabel 5Br B'!G12/'Tabel 5F B'!G12*100,\"-\"))","v":"-"},{"$f":"IF(OR('Tabel 5F B'!H12<5,'Tabel 5Br B'!H12<0.5),\"-\",IFERROR('Tabel 5Br B'!H12/'Tabel 5F B'!H12*100,\"-\"))","v":"-"},null,{"$f":"IF(OR('Tabel 5F B'!J12<5,'Tabel 5Br B'!J12<0.5),\"-\",IFERROR('Tabel 5Br B'!J12/'Tabel 5F B'!J12*100,\"-\"))","v":"-"}]
["MA. Samf.",null,{"$f":"IF(OR('Tabel 5F B'!C13<5,'Tabel 5Br B'!C13<0.5),\"-\",IFERROR('Tabel 5Br B'!C13/'Tabel 5F B'!C13*100,\"-\"))","v":"-"},{"$f":"IF(OR('Tabel 5F B'!D13<5,'Tabel 5Br B'!D13<0.5),\"-\",IFERROR('Tabel 5Br B'!D13/'Tabel 5F B'!D13*100,\"-\"))","v":"-"},{"$f":"IF(OR('Tabel 5F B'!E13<5,'Tabel 5Br B'!E13<0.5),\"-\",IFERROR('Tabel 5Br B'!E13/'Tabel 5F B'!E13*100,\"-\"))","v":"-"},{"$f":"IF(OR('Tabel 5F B'!F13<5,'Tabel 5Br B'!F13<0.5),\"-\",IFERROR('Tabel 5Br B'!F13/'Tabel 5F B'!F13*100,\"-\"))","v":"-"},{"$f":"IF(OR('Tabel 5F B'!G13<5,'Tabel 5Br B'!G13<0.5),\"-\",IFERROR('Tabel 5Br B'!G13/'Tabel 5F B'!G13*100,\"-\"))","v":"-"},{"$f":"IF(OR('Tabel 5F B'!H13<5,'Tabel 5Br B'!H13<0.5),\"-\",IFERROR('Tabel 5Br B'!H13/'Tabel 5F B'!H13*100,\"-\"))","v":16.663548098713044},null,{"$f":"IF(OR('Tabel 5F B'!J13<5,'Tabel 5Br B'!J13<0.5),\"-\",IFERROR('Tabel 5Br B'!J13/'Tabel 5F B'!J13*100,\"-\"))","v":"-"}]
["Øvrige Mag.",null,{"$f":"IF(OR('Tabel 5F B'!C14<5,'Tabel 5Br B'!C14<0.5),\"-\",IFERROR('Tabel 5Br B'!C14/'Tabel 5F B'!C14*100,\"-\"))","v":"-"},{"$f":"IF(OR('Tabel 5F B'!D14<5,'Tabel 5Br B'!D14<0.5),\"-\",IFERROR('Tabel 5Br B'!D14/'Tabel 5F B'!D14*100,\"-\"))","v":"-"},{"$f":"IF(OR('Tabel 5F B'!E14<5,'Tabel 5Br B'!E14<0.5),\"-\",IFERROR('Tabel 5Br B'!E14/'Tabel 5F B'!E14*100,\"-\"))","v":"-"},{"$f":"IF(OR('Tabel 5F B'!F14<5,'Tabel 5Br B'!F14<0.5),\"-\",IFERROR('Tabel 5Br B'!F14/'Tabel 5F B'!F14*100,\"-\"))","v":"-"},{"$f":"IF(OR('Tabel 5F B'!G14<5,'Tabel 5Br B'!G14<0.5),\"-\",IFERROR('Tabel 5Br B'!G14/'Tabel 5F B'!G14*100,\"-\"))","v":"-"},{"$f":"IF(OR('Tabel 5F B'!H14<5,'Tabel 5Br B'!H14<0.5),\"-\",IFERROR('Tabel 5Br B'!H14/'Tabel 5F B'!H14*100,\"-\"))","v":16.6635480987131},null,{"$f":"IF(OR('Tabel 5F B'!J14<5,'Tabel 5Br B'!J14<0.5),\"-\",IFERROR('Tabel 5Br B'!J14/'Tabel 5F B'!J14*100,\"-\"))","v":"-"}]
["Agronom",null,{"$f":"IF(OR('Tabel 5F B'!C15<5,'Tabel 5Br B'!C15<0.5),\"-\",IFERROR('Tabel 5Br B'!C15/'Tabel 5F B'!C15*100,\"-\"))","v":"-"},{"$f":"IF(OR('Tabel 5F B'!D15<5,'Tabel 5Br B'!D15<0.5),\"-\",IFERROR('Tabel 5Br B'!D15/'Tabel 5F B'!D15*100,\"-\"))","v":"-"},{"$f":"IF(OR('Tabel 5F B'!E15<5,'Tabel 5Br B'!E15<0.5),\"-\",IFERROR('Tabel 5Br B'!E15/'Tabel 5F B'!E15*100,\"-\"))","v":"-"},{"$f":"IF(OR('Tabel 5F B'!F15<5,'Tabel 5Br B'!F15<0.5),\"-\",IFERROR('Tabel 5Br B'!F15/'Tabel 5F B'!F15*100,\"-\"))","v":"-"},{"$f":"IF(OR('Tabel 5F B'!G15<5,'Tabel 5Br B'!G15<0.5),\"-\",IFERROR('Tabel 5Br B'!G15/'Tabel 5F B'!G15*100,\"-\"))","v":"-"},{"$f":"IF(OR('Tabel 5F B'!H15<5,'Tabel 5Br B'!H15<0.5),\"-\",IFERROR('Tabel 5Br B'!H15/'Tabel 5F B'!H15*100,\"-\"))","v":"-"},null,{"$f":"IF(OR('Tabel 5F B'!J15<5,'Tabel 5Br B'!J15<0.5),\"-\",IFERROR('Tabel 5Br B'!J15/'Tabel 5F B'!J15*100,\"-\"))","v":"-"}]
["Landsk. Arkt.",null,{"$f":"IF(OR('Tabel 5F B'!C16<5,'Tabel 5Br B'!C16<0.5),\"-\",IFERROR('Tabel 5Br B'!C16/'Tabel 5F B'!C16*100,\"-\"))","v":"-"},{"$f":"IF(OR('Tabel 5F B'!D16<5,'Tabel 5Br B'!D16<0.5),\"-\",IFERROR('Tabel 5Br B'!D16/'Tabel 5F B'!D16*100,\"-\"))","v":"-"},{"$f":"IF(OR('Tabel 5F B'!E16<5,'Tabel 5Br B'!E16<0.5),\"-\",IFERROR('Tabel 5Br B'!E16/'Tabel 5F B'!E16*100,\"-\"))","v":"-"},{"$f":"IF(OR('Tabel 5F B'!F16<5,'Tabel 5Br B'!F16<0.5),\"-\",IFERROR('Tabel 5Br B'!F16/'Tabel 5F B'!F16*100,\"-\"))","v":"-"},{"$f":"IF(OR('Tabel 5F B'!G16<5,'Tabel 5Br B'!G16<0.5),\"-\",IFERROR('Tabel 5Br B'!G16/'Tabel 5F B'!G16*100,\"-\"))","v":"-"},{"$f":"IF(OR('Tabel 5F B'!H16<5,'Tabel 5Br B'!H16<0.5),\"-\",IFERROR('Tabel 5Br B'!H16/'Tabel 5F B'!H16*100,\"-\"))","v":"-"},null,{"$f":"IF(OR('Tabel 5F B'!J16<5,'Tabel 5Br B'!J16<0.5),\"-\",IFERROR('Tabel 5Br B'!J16/'Tabel 5F B'!J16*100,\"-\"))","v":"-"}]
["Hortonom",null,{"$f":"IF(OR('Tabel 5F B'!C17<5,'Tabel 5Br B'!C17<0.5),\"-\",IFERROR('Tabel 5Br B'!C17/'Tabel 5F B'!C17*100,\"-\"))","v":"-"},{"$f":"IF(OR('Tabel 5F B'!D17<5,'Tabel 5Br B'!D17<0.5),\"-\",IFERROR('Tabel 5Br B'!D17/'Tabel 5F B'!D17*100,\"-\"))","v":"-"},{"$f":"IF(OR('Tabel 5F B'!E17<5,'Tabel 5Br B'!E17<0.5),\"-\",IFERROR('Tabel 5Br B'!E17/'Tabel 5F B'!E17*100,\"-\"))","v":"-"},{"$f":"IF(OR('Tabel 5F B'!F17<5,'Tabel 5Br B'!F17<0.5),\"-\",IFERROR('Tabel 5Br B'!F17/'Tabel 5F B'!F17*100,\"-\"))","v":"-"},{"$f":"IF(OR('Tabel 5F B'!G17<5,'Tabel 5Br B'!G17<0.5),\"-\",IFERROR('Tabel 5Br B'!G17/'Tabel 5F B'!G17*100,\"-\"))","v":"-"},{"$f":"IF(OR('Tabel 5F B'!H17<5,'Tabel 5Br B'!H17<0.5),\"-\",IFERROR('Tabel 5Br B'!H17/'Tabel 5F B'!H17*100,\"-\"))","v":"-"},null,{"$f":"IF(OR('Tabel 5F B'!J17<5,'Tabel 5Br B'!J17<0.5),\"-\",IFERROR('Tabel 5Br B'!J17/'Tabel 5F B'!J17*100,\"-\"))","v":"-"}]
["Forstkand.",null,{"$f":"IF(OR('Tabel 5F B'!C18<5,'Tabel 5Br B'!C18<0.5),\"-\",IFERROR('Tabel 5Br B'!C18/'Tabel 5F B'!C18*100,\"-\"))","v":"-"},{"$f":"IF(OR('Tabel 5F B'!D18<5,'Tabel 5Br B'!D18<0.5),\"-\",IFERROR('Tabel 5Br B'!D18/'Tabel 5F B'!D18*100,\"-\"))","v":"-"},{"$f":"IF(OR('Tabel 5F B'!E18<5,'Tabel 5Br B'!E18<0.5),\"-\",IFERROR('Tabel 5Br B'!E18/'Tabel 5F B'!E18*100,\"-\"))","v":"-"},{"$f":"IF(OR('Tabel 5F B'!F18<5,'Tabel 5Br B'!F18<0.5),\"-\",IFERROR('Tabel 5Br B'!F18/'Tabel 5F B'!F18*100,\"-\"))","v":"-"},{"$f":"IF(OR('Tabel 5F B'!G18<5,'Tabel 5Br B'!G18<0.5),\"-\",IFERROR('Tabel 5Br B'!G18/'Tabel 5F B'!G18*100,\"-\"))","v":"-"},{"$f":"IF(OR('Tabel 5F B'!H18<5,'Tabel 5Br B'!H18<0.5),\"-\",IFERROR('Tabel 5Br B'!H18/'Tabel 5F B'!H18*100,\"-\"))","v":"-"},null,{"$f":"IF(OR('Tabel 5F B'!J18<5,'Tabel 5Br B'!J18<0.5),\"-\",IFERROR('Tabel 5Br B'!J18/'Tabel 5F B'!J18*100,\"-\"))","v":"-"}]
["Jordbrugsakad.",null,{"$f":"IF(OR('Tabel 5F B'!C19<5,'Tabel 5Br B'!C19<0.5),\"-\",IFERROR('Tabel 5Br B'!C19/'Tabel 5F B'!C19*100,\"-\"))","v":"-"},{"$f":"IF(OR('Tabel 5F B'!D19<5,'Tabel 5Br B'!D19<0.5),\"-\",IFERROR('Tabel 5Br B'!D19/'Tabel 5F B'!D19*100,\"-\"))","v":"-"},{"$f":"IF(OR('Tabel 5F B'!E19<5,'Tabel 5Br B'!E19<0.5),\"-\",IFERROR('Tabel 5Br B'!E19/'Tabel 5F B'!E19*100,\"-\"))","v":"-"},{"$f":"IF(OR('Tabel 5F B'!F19<5,'Tabel 5Br B'!F19<0.5),\"-\",IFERROR('Tabel 5Br B'!F19/'Tabel 5F B'!F19*100,\"-\"))","v":"-"},{"$f":"IF(OR('Tabel 5F B'!G19<5,'Tabel 5Br B'!G19<0.5),\"-\",IFERROR('Tabel 5Br B'!G19/'Tabel 5F B'!G19*100,\"-\"))","v":"-"},{"$f":"IF(OR('Tabel 5F B'!H19<5,'Tabel 5Br B'!H19<0.5),\"-\",IFERROR('Tabel 5Br B'!H19/'Tabel 5F B'!H19*100,\"-\"))","v":"-"},null,{"$f":"IF(OR('Tabel 5F B'!J19<5,'Tabel 5Br B'!J19<0.5),\"-\",IFERROR('Tabel 5Br B'!J19/'Tabel 5F B'!J19*100,\"-\"))","v":"-"}]
["Mejeriing.",null,{"$f":"IF(OR('Tabel 5F B'!C20<5,'Tabel 5Br B'!C20<0.5),\"-\",IFERROR('Tabel 5Br B'!C20/'Tabel 5F B'!C20*100,\"-\"))","v":"-"},{"$f":"IF(OR('Tabel 5F B'!D20<5,'Tabel 5Br B'!D20<0.5),\"-\",IFERROR('Tabel 5Br B'!D20/'Tabel 5F B'!D20*100,\"-\"))","v":"-"},{"$f":"IF(OR('Tabel 5F B'!E20<5,'Tabel 5Br B'!E20<0.5),\"-\",IFERROR('Tabel 5Br B'!E20/'Tabel 5F B'!E20*100,\"-\"))","v":"-"},{"$f":"IF(OR('Tabel 5F B'!F20<5,'Tabel 5Br B'!F20<0.5),\"-\",IFERROR('Tabel 5Br B'!F20/'Tabel 5F B'!F20*100,\"-\"))","v":"-"},{"$f":"IF(OR('Tabel 5F B'!G20<5,'Tabel 5Br B'!G20<0.5),\"-\",IFERROR('Tabel 5Br B'!G20/'Tabel 5F B'!G20*100,\"-\"))","v":"-"},{"$f":"IF(OR('Tabel 5F B'!H20<5,'Tabel 5Br B'!H20<0.5),\"-\",IFERROR('Tabel 5Br B'!H20/'Tabel 5F B'!H20*100,\"-\"))","v":"-"},null,{"$f":"IF(OR('Tabel 5F B'!J20<5,'Tabel 5Br B'!J20<0.5),\"-\",IFERROR('Tabel 5Br B'!J20/'Tabel 5F B'!J20*100,\"-\"))","v":"-"}]
["Levn.m.kand.",null,{"$f":"IF(OR('Tabel 5F B'!C21<5,'Tabel 5Br B'!C21<0.5),\"-\",IFERROR('Tabel 5Br B'!C21/'Tabel 5F B'!C21*100,\"-\"))","v":"-"},{"$f":"IF(OR('Tabel 5F B'!D21<5,'Tabel 5Br B'!D21<0.5),\"-\",IFERROR('Tabel 5Br B'!D21/'Tabel 5F B'!D21*100,\"-\"))","v":"-"},{"$f":"IF(OR('Tabel 5F B'!E21<5,'Tabel 5Br B'!E21<0.5),\"-\",IFERROR('Tabel 5Br B'!E21/'Tabel 5F B'!E21*100,\"-\"))","v":"-"},{"$f":"IF(OR('Tabel 5F B'!F21<5,'Tabel 5Br B'!F21<0.5),\"-\",IFERROR('Tabel 5Br B'!F21/'Tabel 5F B'!F21*100,\"-\"))","v":"-"},{"$f":"IF(OR('Tabel 5F B'!G21<5,'Tabel 5Br B'!G21<0.5),\"-\",IFERROR('Tabel 5Br B'!G21/'Tabel 5F B'!G21*100,\"-\"))","v":"-"},{"$f":"IF(OR('Tabel 5F B'!H21<5,'Tabel 5Br B'!H21<0.5),\"-\",IFERROR('Tabel 5Br B'!H21/'Tabel 5F B'!H21*100,\"-\"))","v":"-"},null,{"$f":"IF(OR('Tabel 5F B'!J21<5,'Tabel 5Br B'!J21<0.5),\"-\",IFERROR('Tabel 5Br B'!J21/'Tabel 5F B'!J21*100,\"-\"))","v":"-"}]
["Dyrlæge",null,{"$f":"IF(OR('Tabel 5F B'!C22<5,'Tabel 5Br B'!C22<0.5),\"-\",IFERROR('Tabel 5Br B'!C22/'Tabel 5F B'!C22*100,\"-\"))","v":"-"},{"$f":"IF(OR('Tabel 5F B'!D22<5,'Tabel 5Br B'!D22<0.5),\"-\",IFERROR('Tabel 5Br B'!D22/'Tabel 5F B'!D22*100,\"-\"))","v":"-"},{"$f":"IF(OR('Tabel 5F B'!E22<5,'Tabel 5Br B'!E22<0.5),\"-\",IFERROR('Tabel 5Br B'!E22/'Tabel 5F B'!E22*100,\"-\"))","v":"-"},{"$f":"IF(OR('Tabel 5F B'!F22<5,'Tabel 5Br B'!F22<0.5),\"-\",IFERROR('Tabel 5Br B'!F22/'Tabel 5F B'!F22*100,\"-\"))","v":"-"},{"$f":"IF(OR('Tabel 5F B'!G22<5,'Tabel 5Br B'!G22<0.5),\"-\",IFERROR('Tabel 5Br B'!G22/'Tabel 5F B'!G22*100,\"-\"))","v":"-"},{"$f":"IF(OR('Tabel 5F B'!H22<5,'Tabel 5Br B'!H22<0.5),\"-\",IFERROR('Tabel 5Br B'!H22/'Tabel 5F B'!H22*100,\"-\"))","v":7.6894975541517043},null,{"$f":"IF(OR('Tabel 5F B'!J22<5,'Tabel 5Br B'!J22<0.5),\"-\",IFERROR('Tabel 5Br B'!J22/'Tabel 5F B'!J22*100,\"-\"))","v":"-"}]
["Farmaceut",null,{"$f":"IF(OR('Tabel 5F B'!C23<5,'Tabel 5Br B'!C23<0.5),\"-\",IFERROR('Tabel 5Br B'!C23/'Tabel 5F B'!C23*100,\"-\"))","v":"-"},{"$f":"IF(OR('Tabel 5F B'!D23<5,'Tabel 5Br B'!D23<0.5),\"-\",IFERROR('Tabel 5Br B'!D23/'Tabel 5F B'!D23*100,\"-\"))","v":"-"},{"$f":"IF(OR('Tabel 5F B'!E23<5,'Tabel 5Br B'!E23<0.5),\"-\",IFERROR('Tabel 5Br B'!E23/'Tabel 5F B'!E23*100,\"-\"))","v":"-"},{"$f":"IF(OR('Tabel 5F B'!F23<5,'Tabel 5Br B'!F23<0.5),\"-\",IFERROR('Tabel 5Br B'!F23/'Tabel 5F B'!F23*100,\"-\"))","v":"-"},{"$f":"IF(OR('Tabel 5F B'!G23<5,'Tabel 5Br B'!G23<0.5),\"-\",IFERROR('Tabel 5Br B'!G23/'Tabel 5F B'!G23*100,\"-\"))","v":"-"},{"$f":"IF(OR('Tabel 5F B'!H23<5,'Tabel 5Br B'!H23<0.5),\"-\",IFERROR('Tabel 5Br B'!H23/'Tabel 5F B'!H23*100,\"-\"))","v":"-"},null,{"$f":"IF(OR('Tabel 5F B'!J23<5,'Tabel 5Br B'!J23<0.5),\"-\",IFERROR('Tabel 5Br B'!J23/'Tabel 5F B'!J23*100,\"-\"))","v":"-"}]
["Læge",null,{"$f":"IF(OR('Tabel 5F B'!C24<5,'Tabel 5Br B'!C24<0.5),\"-\",IFERROR('Tabel 5Br B'!C24/'Tabel 5F B'!C24*100,\"-\"))","v":"-"},{"$f":"IF(OR('Tabel 5F B'!D24<5,'Tabel 5Br B'!D24<0.5),\"-\",IFERROR('Tabel 5Br B'!D24/'Tabel 5F B'!D24*100,\"-\"))","v":"-"},{"$f":"IF(OR('Tabel 5F B'!E24<5,'Tabel 5Br B'!E24<0.5),\"-\",IFERROR('Tabel 5Br B'!E24/'Tabel 5F B'!E24*100,\"-\"))","v":"-"},{"$f":"IF(OR('Tabel 5F B'!F24<5,'Tabel 5Br B'!F24<0.5),\"-\",IFERROR('Tabel 5Br B'!F24/'Tabel 5F B'!F24*100,\"-\"))","v":"-"},{"$f":"IF(OR('Tabel 5F B'!G24<5,'Tabel 5Br B'!G24<0.5),\"-\",IFERROR('Tabel 5Br B'!G24/'Tabel 5F B'!G24*100,\"-\"))","v":"-"},{"$f":"IF(OR('Tabel 5F B'!H24<5,'Tabel 5Br B'!H24<0.5),\"-\",IFERROR('Tabel 5Br B'!H24/'Tabel 5F B'!H24*100,\"-\"))","v":"-"},null,{"$f":"IF(OR('Tabel 5F B'!J24<5,'Tabel 5Br B'!J24<0.5),\"-\",IFERROR('Tabel 5Br B'!J24/'Tabel 5F B'!J24*100,\"-\"))","v":"-"}]
["Tandlæge",null,{"$f":"IF(OR('Tabel 5F B'!C25<5,'Tabel 5Br B'!C25<0.5),\"-\",IFERROR('Tabel 5Br B'!C25/'Tabel 5F B'!C25*100,\"-\"))","v":"-"},{"$f":"IF(OR('Tabel 5F B'!D25<5,'Tabel 5Br B'!D25<0.5),\"-\",IFERROR('Tabel 5Br B'!D25/'Tabel 5F B'!D25*100,\"-\"))","v":"-"},{"$f":"IF(OR('Tabel 5F B'!E25<5,'Tabel 5Br B'!E25<0.5),\"-\",IFERROR('Tabel 5Br B'!E25/'Tabel 5F B'!E25*100,\"-\"))","v":"-"},{"$f":"IF(OR('Tabel 5F B'!F25<5,'Tabel 5Br B'!F25<0.5),\"-\",IFERROR('Tabel 5Br B'!F25/'Tabel 5F B'!F25*100,\"-\"))","v":"-"},{"$f":"IF(OR('Tabel 5F B'!G25<5,'Tabel 5Br B'!G25<0.5),\"-\",IFERROR('Tabel 5Br B'!G25/'Tabel 5F B'!G25*100,\"-\"))","v":"-"},{"$f":"IF(OR('Tabel 5F B'!H25<5,'Tabel 5Br B'!H25<0.5),\"-\",IFERROR('Tabel 5Br B'!H25/'Tabel 5F B'!H25*100,\"-\"))","v":"-"},null,{"$f":"IF(OR('Tabel 5F B'!J25<5,'Tabel 5Br B'!J25<0.5),\"-\",IFERROR('Tabel 5Br B'!J25/'Tabel 5F B'!J25*100,\"-\"))","v":"-"}]
["Arkitekt",null,{"$f":"IF(OR('Tabel 5F B'!C26<5,'Tabel 5Br B'!C26<0.5),\"-\",IFERROR('Tabel 5Br B'!C26/'Tabel 5F B'!C26*100,\"-\"))","v":"-"},{"$f":"IF(OR('Tabel 5F B'!D26<5,'Tabel 5Br B'!D26<0.5),\"-\",IFERROR('Tabel 5Br B'!D26/'Tabel 5F B'!D26*100,\"-\"))","v":"-"},{"$f":"IF(OR('Tabel 5F B'!E26<5,'Tabel 5Br B'!E26<0.5),\"-\",IFERROR('Tabel 5Br B'!E26/'Tabel 5F B'!E26*100,\"-\"))","v":"-"},{"$f":"IF(OR('Tabel 5F B'!F26<5,'Tabel 5Br B'!F26<0.5),\"-\",IFERROR('Tabel 5Br B'!F26/'Tabel 5F B'!F26*100,\"-\"))","v":"-"},{"$f":"IF(OR('Tabel 5F B'!G26<5,'Tabel 5Br B'!G26<0.5),\"-\",IFERROR('Tabel 5Br B'!G26/'Tabel 5F B'!G26*100,\"-\"))","v":"-"},{"$f":"IF(OR('Tabel 5F B'!H26<5,'Tabel 5Br B'!H26<0.5),\"-\",IFERROR('Tabel 5Br B'!H26/'Tabel 5F B'!H26*100,\"-\"))","v":12.497661074034827},null,{"$f":"IF(OR('Tabel 5F B'!J26<5,'Tabel 5Br B'!J26<0.5),\"-\",IFERROR('Tabel 5Br B'!J26/'Tabel 5F B'!J26*100,\"-\"))","v":"-"}]
["Landinspek.",null,{"$f":"IF(OR('Tabel 5F B'!C27<5,'Tabel 5Br B'!C27<0.5),\"-\",IFERROR('Tabel 5Br B'!C27/'Tabel 5F B'!C27*100,\"-\"))","v":"-"},{"$f":"IF(OR('Tabel 5F B'!D27<5,'Tabel 5Br B'!D27<0.5),\"-\",IFERROR('Tabel 5Br B'!D27/'Tabel 5F B'!D27*100,\"-\"))","v":"-"},{"$f":"IF(OR('Tabel 5F B'!E27<5,'Tabel 5Br B'!E27<0.5),\"-\",IFERROR('Tabel 5Br B'!E27/'Tabel 5F B'!E27*100,\"-\"))","v":"-"},{"$f":"IF(OR('Tabel 5F B'!F27<5,'Tabel 5Br B'!F27<0.5),\"-\",IFERROR('Tabel 5Br B'!F27/'Tabel 5F B'!F27*100,\"-\"))","v":"-"},{"$f":"IF(OR('Tabel 5F B'!G27<5,'Tabel 5Br B'!G27<0.5),\"-\",IFERROR('Tabel 5Br B'!G27/'Tabel 5F B'!G27*100,\"-\"))","v":"-"},{"$f":"IF(OR('Tabel 5F B'!H27<5,'Tabel 5Br B'!H27<0.5),\"-\",IFERROR('Tabel 5Br B'!H27/'Tabel 5F B'!H27*100,\"-\"))","v":"-"},null,{"$f":"IF(OR('Tabel 5F B'!J27<5,'Tabel 5Br B'!J27<0.5),\"-\",IFERROR('Tabel 5Br B'!J27/'Tabel 5F B'!J27*100,\"-\"))","v":"-"}]
["Bibliotekar",null,{"$f":"IF(OR('Tabel 5F B'!C28<5,'Tabel 5Br B'!C28<0.5),\"-\",IFERROR('Tabel 5Br B'!C28/'Tabel 5F B'!C28*100,\"-\"))","v":"-"},{"$f":"IF(OR('Tabel 5F B'!D28<5,'Tabel 5Br B'!D28<0.5),\"-\",IFERROR('Tabel 5Br B'!D28/'Tabel 5F B'!D28*100,\"-\"))","v":"-"},{"$f":"IF(OR('Tabel 5F B'!E28<5,'Tabel 5Br B'!E28<0.5),\"-\",IFERROR('Tabel 5Br B'!E28/'Tabel 5F B'!E28*100,\"-\"))","v":"-"},{"$f":"IF(OR('Tabel 5F B'!F28<5,'Tabel 5Br B'!F28<0.5),\"-\",IFERROR('Tabel 5Br B'!F28/'Tabel 5F B'!F28*100,\"-\"))","v":"-"},{"$f":"IF(OR('Tabel 5F B'!G28<5,'Tabel 5Br B'!G28<0.5),\"-\",IFERROR('Tabel 5Br B'!G28/'Tabel 5F B'!G28*100,\"-\"))","v":"-"},{"$f":"IF(OR('Tabel 5F B'!H28<5,'Tabel 5Br B'!H28<0.5),\"-\",IFERROR('Tabel 5Br B'!H28/'Tabel 5F B'!H28*100,\"-\"))","v":16.663548098713076},null,{"$f":"IF(OR('Tabel 5F B'!J28<5,'Tabel 5Br B'!J28<0.5),\"-\",IFERROR('Tabel 5Br B'!J28/'Tabel 5F B'!J28*100,\"-\"))","v":"-"}]
["Musikudd.",null,{"$f":"IF(OR('Tabel 5F B'!C29<5,'Tabel 5Br B'!C29<0.5),\"-\",IFERROR('Tabel 5Br B'!C29/'Tabel 5F B'!C29*100,\"-\"))","v":"-"},{"$f":"IF(OR('Tabel 5F B'!D29<5,'Tabel 5Br B'!D29<0.5),\"-\",IFERROR('Tabel 5Br B'!D29/'Tabel 5F B'!D29*100,\"-\"))","v":"-"},{"$f":"IF(OR('Tabel 5F B'!E29<5,'Tabel 5Br B'!E29<0.5),\"-\",IFERROR('Tabel 5Br B'!E29/'Tabel 5F B'!E29*100,\"-\"))","v":"-"},{"$f":"IF(OR('Tabel 5F B'!F29<5,'Tabel 5Br B'!F29<0.5),\"-\",IFERROR('Tabel 5Br B'!F29/'Tabel 5F B'!F29*100,\"-\"))","v":"-"},{"$f":"IF(OR('Tabel 5F B'!G29<5,'Tabel 5Br B'!G29<0.5),\"-\",IFERROR('Tabel 5Br B'!G29/'Tabel 5F B'!G29*100,\"-\"))","v":"-"},{"$f":"IF(OR('Tabel 5F B'!H29<5,'Tabel 5Br B'!H29<0.5),\"-\",IFERROR('Tabel 5Br B'!H29/'Tabel 5F B'!H29*100,\"-\"))","v":"-"},null,{"$f":"IF(OR('Tabel 5F B'!J29<5,'Tabel 5Br B'!J29<0.5),\"-\",IFERROR('Tabel 5Br B'!J29/'Tabel 5F B'!J29*100,\"-\"))","v":"-"}]
["Teolog",null,{"$f":"IF(OR('Tabel 5F B'!C30<5,'Tabel 5Br B'!C30<0.5),\"-\",IFERROR('Tabel 5Br B'!C30/'Tabel 5F B'!C30*100,\"-\"))","v":"-"},{"$f":"IF(OR('Tabel 5F B'!D30<5,'Tabel 5Br B'!D30<0.5),\"-\",IFERROR('Tabel 5Br B'!D30/'Tabel 5F B'!D30*100,\"-\"))","v":"-"},{"$f":"IF(OR('Tabel 5F B'!E30<5,'Tabel 5Br B'!E30<0.5),\"-\",IFERROR('Tabel 5Br B'!E30/'Tabel 5F B'!E30*100,\"-\"))","v":"-"},{"$f":"IF(OR('Tabel 5F B'!F30<5,'Tabel 5Br B'!F30<0.5),\"-\",IFERROR('Tabel 5Br B'!F30/'Tabel 5F B'!F30*100,\"-\"))","v":"-"},{"$f":"IF(OR('Tabel 5F B'!G30<5,'Tabel 5Br B'!G30<0.5),\"-\",IFERROR('Tabel 5Br B'!G30/'Tabel 5F B'!G30*100,\"-\"))","v":"-"},{"$f":"IF(OR('Tabel 5F B'!H30<5,'Tabel 5Br B'!H30<0.5),\"-\",IFERROR('Tabel 5Br B'!H30/'Tabel 5F B'!H30*100,\"-\"))","v":"-"},null,{"$f":"IF(OR('Tabel 5F B'!J30<5,'Tabel 5Br B'!J30<0.5),\"-\",IFERROR('Tabel 5Br B'!J30/'Tabel 5F B'!J30*100,\"-\"))","v":"-"}]
["Psykolog",null,{"$f":"IF(OR('Tabel 5F B'!C31<5,'Tabel 5Br B'!C31<0.5),\"-\",IFERROR('Tabel 5Br B'!C31/'Tabel 5F B'!C31*100,\"-\"))","v":"-"},{"$f":"IF(OR('Tabel 5F B'!D31<5,'Tabel 5Br B'!D31<0.5),\"-\",IFERROR('Tabel 5Br B'!D31/'Tabel 5F B'!D31*100,\"-\"))","v":"-"},{"$f":"IF(OR('Tabel 5F B'!E31<5,'Tabel 5Br B'!E31<0.5),\"-\",IFERROR('Tabel 5Br B'!E31/'Tabel 5F B'!E31*100,\"-\"))","v":"-"},{"$f":"IF(OR('Tabel 5F B'!F31<5,'Tabel 5Br B'!F31<0.5),\"-\",IFERROR('Tabel 5Br B'!F31/'Tabel 5F B'!F31*100,\"-\"))","v":"-"},{"$f":"IF(OR('Tabel 5F B'!G31<5,'Tabel 5Br B'!G31<0.5),\"-\",IFERROR('Tabel 5Br B'!G31/'Tabel 5F B'!G31*100,\"-\"))","v":"-"},{"$f":"IF(OR('Tabel 5F B'!H31<5,'Tabel 5Br B'!H31<0.5),\"-\",IFERROR('Tabel 5Br B'!H31/'Tabel 5F B'!H31*100,\"-\"))","v":"-"},null,{"$f":"IF(OR('Tabel 5F B'!J31<5,'Tabel 5Br B'!J31<0.5),\"-\",IFERROR('Tabel 5Br B'!J31/'Tabel 5F B'!J31*100,\"-\"))","v":"-"}]
["Jurist",null,{"$f":"IF(OR('Tabel 5F B'!C32<5,'Tabel 5Br B'!C32<0.5),\"-\",IFERROR('Tabel 5Br B'!C32/'Tabel 5F B'!C32*100,\"-\"))","v":"-"},{"$f":"IF(OR('Tabel 5F B'!D32<5,'Tabel 5Br B'!D32<0.5),\"-\",IFERROR('Tabel 5Br B'!D32/'Tabel 5F B'!D32*100,\"-\"))","v":"-"},{"$f":"IF(OR('Tabel 5F B'!E32<5,'Tabel 5Br B'!E32<0.5),\"-\",IFERROR('Tabel 5Br B'!E32/'Tabel 5F B'!E32*100,\"-\"))","v":"-"},{"$f":"IF(OR('Tabel 5F B'!F32<5,'Tabel 5Br B'!F32<0.5),\"-\",IFERROR('Tabel 5Br B'!F32/'Tabel 5F B'!F32*100,\"-\"))","v":"-"},{"$f":"IF(OR('Tabel 5F B'!G32<5,'Tabel 5Br B'!G32<0.5),\"-\",IFERROR('Tabel 5Br B'!G32/'Tabel 5F B'!G32*100,\"-\"))","v":"-"},{"$f":"IF(OR('Tabel 5F B'!H32<5,'Tabel 5Br B'!H32<0.5),\"-\",IFERROR('Tabel 5Br B'!H32/'Tabel 5F B'!H32*100,\"-\"))","v":"-"},null,{"$f":"IF(OR('Tabel 5F B'!J32<5,'Tabel 5Br B'!J32<0.5),\"-\",IFERROR('Tabel 5Br B'!J32/'Tabel 5F B'!J32*100,\"-\"))","v":"-"}]
["Økonom",null,{"$f":"IF(OR('Tabel 5F B'!C33<5,'Tabel 5Br B'!C33<0.5),\"-\",IFERROR('Tabel 5Br B'!C33/'Tabel 5F B'!C33*100,\"-\"))","v":"-"},{"$f":"IF(OR('Tabel 5F B'!D33<5,'Tabel 5Br B'!D33<0.5),\"-\",IFERROR('Tabel 5Br B'!D33/'Tabel 5F B'!D33*100,\"-\"))","v":"-"},{"$f":"IF(OR('Tabel 5F B'!E33<5,'Tabel 5Br B'!E33<0.5),\"-\",IFERROR('Tabel 5Br B'!E33/'Tabel 5F B'!E33*100,\"-\"))","v":"-"},{"$f":"IF(OR('Tabel 5F B'!F33<5,'Tabel 5Br B'!F33<0.5),\"-\",IFERROR('Tabel 5Br B'!F33/'Tabel 5F B'!F33*100,\"-\"))","v":"-"},{"$f":"IF(OR('Tabel 5F B'!G33<5,'Tabel 5Br B'!G33<0.5),\"-\",IFERROR('Tabel 5Br B'!G33/'Tabel 5F B'!G33*100,\"-\"))","v":"-"},{"$f":"IF(OR('Tabel 5F B'!H33<5,'Tabel 5Br B'!H33<0.5),\"-\",IFERROR('Tabel 5Br B'!H33/'Tabel 5F B'!H33*100,\"-\"))","v":"-"},null,{"$f":"IF(OR('Tabel 5F B'!J33<5,'Tabel 5Br B'!J33<0.5),\"-\",IFERROR('Tabel 5Br B'!J33/'Tabel 5F B'!J33*100,\"-\"))","v":"-"}]
["Samf. Adm.",null,{"$f":"IF(OR('Tabel 5F B'!C34<5,'Tabel 5Br B'!C34<0.5),\"-\",IFERROR('Tabel 5Br B'!C34/'Tabel 5F B'!C34*100,\"-\"))","v":"-"},{"$f":"IF(OR('Tabel 5F B'!D34<5,'Tabel 5Br B'!D34<0.5),\"-\",IFERROR('Tabel 5Br B'!D34/'Tabel 5F B'!D34*100,\"-\"))","v":"-"},{"$f":"IF(OR('Tabel 5F B'!E34<5,'Tabel 5Br B'!E34<0.5),\"-\",IFERROR('Tabel 5Br B'!E34/'Tabel 5F B'!E34*100,\"-\"))","v":"-"},{"$f":"IF(OR('Tabel 5F B'!F34<5,'Tabel 5Br B'!F34<0.5),\"-\",IFERROR('Tabel 5Br B'!F34/'Tabel 5F B'!F34*100,\"-\"))","v":"-"},{"$f":"IF(OR('Tabel 5F B'!G34<5,'Tabel 5Br B'!G34<0.5),\"-\",IFERROR('Tabel 5Br B'!G34/'Tabel 5F B'!G34*100,\"-\"))","v":"-"},{"$f":"IF(OR('Tabel 5F B'!H34<5,'Tabel 5Br B'!H34<0.5),\"-\",IFERROR('Tabel 5Br B'!H34/'Tabel 5F B'!H34*100,\"-\"))","v":5.5545160329043677},null,{"$f":"IF(OR('Tabel 5F B'!J34<5,'Tabel 5Br B'!J34<0.5),\"-\",IFERROR('Tabel 5Br B'!J34/'Tabel 5F B'!J34*100,\"-\"))","v":22.218064131617471}]
["Cand. Merc.",null,{"$f":"IF(OR('Tabel 5F B'!C35<5,'Tabel 5Br B'!C35<0.5),\"-\",IFERROR('Tabel 5Br B'!C35/'Tabel 5F B'!C35*100,\"-\"))","v":"-"},{"$f":"IF(OR('Tabel 5F B'!D35<5,'Tabel 5Br B'!D35<0.5),\"-\",IFERROR('Tabel 5Br B'!D35/'Tabel 5F B'!D35*100,\"-\"))","v":"-"},{"$f":"IF(OR('Tabel 5F B'!E35<5,'Tabel 5Br B'!E35<0.5),\"-\",IFERROR('Tabel 5Br B'!E35/'Tabel 5F B'!E35*100,\"-\"))","v":"-"},{"$f":"IF(OR('Tabel 5F B'!F35<5,'Tabel 5Br B'!F35<0.5),\"-\",IFERROR('Tabel 5Br B'!F35/'Tabel 5F B'!F35*100,\"-\"))","v":"-"},{"$f":"IF(OR('Tabel 5F B'!G35<5,'Tabel 5Br B'!G35<0.5),\"-\",IFERROR('Tabel 5Br B'!G35/'Tabel 5F B'!G35*100,\"-\"))","v":"-"},{"$f":"IF(OR('Tabel 5F B'!H35<5,'Tabel 5Br B'!H35<0.5),\"-\",IFERROR('Tabel 5Br B'!H35/'Tabel 5F B'!H35*100,\"-\"))","v":10.669660491902087},null,{"$f":"IF(OR('Tabel 5F B'!J35<5,'Tabel 5Br B'!J35<0.5),\"-\",IFERROR('Tabel 5Br B'!J35/'Tabel 5F B'!J35*100,\"-\"))","v":16.663548098713221}]
["HA",null,{"$f":"IF(OR('Tabel 5F B'!C36<5,'Tabel 5Br B'!C36<0.5),\"-\",IFERROR('Tabel 5Br B'!C36/'Tabel 5F B'!C36*100,\"-\"))","v":"-"},{"$f":"IF(OR('Tabel 5F B'!D36<5,'Tabel 5Br B'!D36<0.5),\"-\",IFERROR('Tabel 5Br B'!D36/'Tabel 5F B'!D36*100,\"-\"))","v":"-"},{"$f":"IF(OR('Tabel 5F B'!E36<5,'Tabel 5Br B'!E36<0.5),\"-\",IFERROR('Tabel 5Br B'!E36/'Tabel 5F B'!E36*100,\"-\"))","v":"-"},{"$f":"IF(OR('Tabel 5F B'!F36<5,'Tabel 5Br B'!F36<0.5),\"-\",IFERROR('Tabel 5Br B'!F36/'Tabel 5F B'!F36*100,\"-\"))","v":"-"},{"$f":"IF(OR('Tabel 5F B'!G36<5,'Tabel 5Br B'!G36<0.5),\"-\",IFERROR('Tabel 5Br B'!G36/'Tabel 5F B'!G36*100,\"-\"))","v":"-"},{"$f":"IF(OR('Tabel 5F B'!H36<5,'Tabel 5Br B'!H36<0.5),\"-\",IFERROR('Tabel 5Br B'!H36/'Tabel 5F B'!H36*100,\"-\"))","v":"-"},null,{"$f":"IF(OR('Tabel 5F B'!J36<5,'Tabel 5Br B'!J36<0.5),\"-\",IFERROR('Tabel 5Br B'!J36/'Tabel 5F B'!J36*100,\"-\"))","v":"-"}]
["HD",null,{"$f":"IF(OR('Tabel 5F B'!C37<5,'Tabel 5Br B'!C37<0.5),\"-\",IFERROR('Tabel 5Br B'!C37/'Tabel 5F B'!C37*100,\"-\"))","v":"-"},{"$f":"IF(OR('Tabel 5F B'!D37<5,'Tabel 5Br B'!D37<0.5),\"-\",IFERROR('Tabel 5Br B'!D37/'Tabel 5F B'!D37*100,\"-\"))","v":"-"},{"$f":"IF(OR('Tabel 5F B'!E37<5,'Tabel 5Br B'!E37<0.5),\"-\",IFERROR('Tabel 5Br B'!E37/'Tabel 5F B'!E37*100,\"-\"))","v":"-"},{"$f":"IF(OR('Tabel 5F B'!F37<5,'Tabel 5Br B'!F37<0.5),\"-\",IFERROR('Tabel 5Br B'!F37/'Tabel 5F B'!F37*100,\"-\"))","v":"-"},{"$f":"IF(OR('Tabel 5F B'!G37<5,'Tabel 5Br B'!G37<0.5),\"-\",IFERROR('Tabel 5Br B'!G37/'Tabel 5F B'!G37*100,\"-\"))","v":"-"},{"$f":"IF(OR('Tabel 5F B'!H37<5,'Tabel 5Br B'!H37<0.5),\"-\",IFERROR('Tabel 5Br B'!H37/'Tabel 5F B'!H37*100,\"-\"))","v":"-"},null,{"$f":"IF(OR('Tabel 5F B'!J37<5,'Tabel 5Br B'!J37<0.5),\"-\",IFERROR('Tabel 5Br B'!J37/'Tabel 5F B'!J37*100,\"-\"))","v":"-"}]
["Komm. og Sprog",null,{"$f":"IF(OR('Tabel 5F B'!C38<5,'Tabel 5Br B'!C38<0.5),\"-\",IFERROR('Tabel 5Br B'!C38/'Tabel 5F B'!C38*100,\"-\"))","v":"-"},{"$f":"IF(OR('Tabel 5F B'!D38<5,'Tabel 5Br B'!D38<0.5),\"-\",IFERROR('Tabel 5Br B'!D38/'Tabel 5F B'!D38*100,\"-\"))","v":"-"},{"$f":"IF(OR('Tabel 5F B'!E38<5,'Tabel 5Br B'!E38<0.5),\"-\",IFERROR('Tabel 5Br B'!E38/'Tabel 5F B'!E38*100,\"-\"))","v":"-"},{"$f":"IF(OR('Tabel 5F B'!F38<5,'Tabel 5Br B'!F38<0.5),\"-\",IFERROR('Tabel 5Br B'!F38/'Tabel 5F B'!F38*100,\"-\"))","v":"-"},{"$f":"IF(OR('Tabel 5F B'!G38<5,'Tabel 5Br B'!G38<0.5),\"-\",IFERROR('Tabel 5Br B'!G38/'Tabel 5F B'!G38*100,\"-\"))","v":"-"},{"$f":"IF(OR('Tabel 5F B'!H38<5,'Tabel 5Br B'!H38<0.5),\"-\",IFERROR('Tabel 5Br B'!H38/'Tabel 5F B'!H38*100,\"-\"))","v":33.327096197426087},null,{"$f":"IF(OR('Tabel 5F B'!J38<5,'Tabel 5Br B'!J38<0.5),\"-\",IFERROR('Tabel 5Br B'!J38/'Tabel 5F B'!J38*100,\"-\"))","v":"-"}]
["Bygningskonst.",null,{"$f":"IF(OR('Tabel 5F B'!C39<5,'Tabel 5Br B'!C39<0.5),\"-\",IFERROR('Tabel 5Br B'!C39/'Tabel 5F B'!C39*100,\"-\"))","v":"-"},{"$f":"IF(OR('Tabel 5F B'!D39<5,'Tabel 5Br B'!D39<0.5),\"-\",IFERROR('Tabel 5Br B'!D39/'Tabel 5F B'!D39*100,\"-\"))","v":"-"},{"$f":"IF(OR('Tabel 5F B'!E39<5,'Tabel 5Br B'!E39<0.5),\"-\",IFERROR('Tabel 5Br B'!E39/'Tabel 5F B'!E39*100,\"-\"))","v":"-"},{"$f":"IF(OR('Tabel 5F B'!F39<5,'Tabel 5Br B'!F39<0.5),\"-\",IFERROR('Tabel 5Br B'!F39/'Tabel 5F B'!F39*100,\"-\"))","v":"-"},{"$f":"IF(OR('Tabel 5F B'!G39<5,'Tabel 5Br B'!G39<0.5),\"-\",IFERROR('Tabel 5Br B'!G39/'Tabel 5F B'!G39*100,\"-\"))","v":"-"},{"$f":"IF(OR('Tabel 5F B'!H39<5,'Tabel 5Br B'!H39<0.5),\"-\",IFERROR('Tabel 5Br B'!H39/'Tabel 5F B'!H39*100,\"-\"))","v":"-"},null,{"$f":"IF(OR('Tabel 5F B'!J39<5,'Tabel 5Br B'!J39<0.5),\"-\",IFERROR('Tabel 5Br B'!J39/'Tabel 5F B'!J39*100,\"-\"))","v":"-"}]
["Cand. IT.",null,{"$f":"IF(OR('Tabel 5F B'!C40<5,'Tabel 5Br B'!C40<0.5),\"-\",IFERROR('Tabel 5Br B'!C40/'Tabel 5F B'!C40*100,\"-\"))","v":"-"},{"$f":"IF(OR('Tabel 5F B'!D40<5,'Tabel 5Br B'!D40<0.5),\"-\",IFERROR('Tabel 5Br B'!D40/'Tabel 5F B'!D40*100,\"-\"))","v":"-"},{"$f":"IF(OR('Tabel 5F B'!E40<5,'Tabel 5Br B'!E40<0.5),\"-\",IFERROR('Tabel 5Br B'!E40/'Tabel 5F B'!E40*100,\"-\"))","v":"-"},{"$f":"IF(OR('Tabel 5F B'!F40<5,'Tabel 5Br B'!F40<0.5),\"-\",IFERROR('Tabel 5Br B'!F40/'Tabel 5F B'!F40*100,\"-\"))","v":"-"},{"$f":"IF(OR('Tabel 5F B'!G40<5,'Tabel 5Br B'!G40<0.5),\"-\",IFERROR('Tabel 5Br B'!G40/'Tabel 5F B'!G40*100,\"-\"))","v":"-"},{"$f":"IF(OR('Tabel 5F B'!H40<5,'Tabel 5Br B'!H40<0.5),\"-\",IFERROR('Tabel 5Br B'!H40/'Tabel 5F B'!H40*100,\"-\"))","v":"-"},null,{"$f":"IF(OR('Tabel 5F B'!J40<5,'Tabel 5Br B'!J40<0.5),\"-\",IFERROR('Tabel 5Br B'!J40/'Tabel 5F B'!J40*100,\"-\"))","v":"-"}]
["Bac. Samf.",null,{"$f":"IF(OR('Tabel 5F B'!C41<5,'Tabel 5Br B'!C41<0.5),\"-\",IFERROR('Tabel 5Br B'!C41/'Tabel 5F B'!C41*100,\"-\"))","v":"-"},{"$f":"IF(OR('Tabel 5F B'!D41<5,'Tabel 5Br B'!D41<0.5),\"-\",IFERROR('Tabel 5Br B'!D41/'Tabel 5F B'!D41*100,\"-\"))","v":"-"},{"$f":"IF(OR('Tabel 5F B'!E41<5,'Tabel 5Br B'!E41<0.5),\"-\",IFERROR('Tabel 5Br B'!E41/'Tabel 5F B'!E41*100,\"-\"))","v":"-"},{"$f":"IF(OR('Tabel 5F B'!F41<5,'Tabel 5Br B'!F41<0.5),\"-\",IFERROR('Tabel 5Br B'!F41/'Tabel 5F B'!F41*100,\"-\"))","v":"-"},{"$f":"IF(OR('Tabel 5F B'!G41<5,'Tabel 5Br B'!G41<0.5),\"-\",IFERROR('Tabel 5Br B'!G41/'Tabel 5F B'!G41*100,\"-\"))","v":"-"},{"$f":"IF(OR('Tabel 5F B'!H41<5,'Tabel 5Br B'!H41<0.5),\"-\",IFERROR('Tabel 5Br B'!H41/'Tabel 5F B'!H41*100,\"-\"))","v":"-"},null,{"$f":"IF(OR('Tabel 5F B'!J41<5,'Tabel 5Br B'!J41<0.5),\"-\",IFERROR('Tabel 5Br B'!J41/'Tabel 5F B'!J41*100,\"-\"))","v":"-"}]
["Bac. Hum.",null,{"$f":"IF(OR('Tabel 5F B'!C42<5,'Tabel 5Br B'!C42<0.5),\"-\",IFERROR('Tabel 5Br B'!C42/'Tabel 5F B'!C42*100,\"-\"))","v":"-"},{"$f":"IF(OR('Tabel 5F B'!D42<5,'Tabel 5Br B'!D42<0.5),\"-\",IFERROR('Tabel 5Br B'!D42/'Tabel 5F B'!D42*100,\"-\"))","v":"-"},{"$f":"IF(OR('Tabel 5F B'!E42<5,'Tabel 5Br B'!E42<0.5),\"-\",IFERROR('Tabel 5Br B'!E42/'Tabel 5F B'!E42*100,\"-\"))","v":"-"},{"$f":"IF(OR('Tabel 5F B'!F42<5,'Tabel 5Br B'!F42<0.5),\"-\",IFERROR('Tabel 5Br B'!F42/'Tabel 5F B'!F42*100,\"-\"))","v":"-"},{"$f":"IF(OR('Tabel 5F B'!G42<5,'Tabel 5Br B'!G42<0.5),\"-\",IFERROR('Tabel 5Br B'!G42/'Tabel 5F B'!G42*100,\"-\"))","v":"-"},{"$f":"IF(OR('Tabel 5F B'!H42<5,'Tabel 5Br B'!H42<0.5),\"-\",IFERROR('Tabel 5Br B'!H42/'Tabel 5F B'!H42*100,\"-\"))","v":19.996257718455723},null,{"$f":"IF(OR('Tabel 5F B'!J42<5,'Tabel 5Br B'!J42<0.5),\"-\",IFERROR('Tabel 5Br B'!J42/'Tabel 5F B'!J42*100,\"-\"))","v":"-"}]
["Bac. Nat.",null,{"$f":"IF(OR('Tabel 5F B'!C43<5,'Tabel 5Br B'!C43<0.5),\"-\",IFERROR('Tabel 5Br B'!C43/'Tabel 5F B'!C43*100,\"-\"))","v":"-"},{"$f":"IF(OR('Tabel 5F B'!D43<5,'Tabel 5Br B'!D43<0.5),\"-\",IFERROR('Tabel 5Br B'!D43/'Tabel 5F B'!D43*100,\"-\"))","v":"-"},{"$f":"IF(OR('Tabel 5F B'!E43<5,'Tabel 5Br B'!E43<0.5),\"-\",IFERROR('Tabel 5Br B'!E43/'Tabel 5F B'!E43*100,\"-\"))","v":"-"},{"$f":"IF(OR('Tabel 5F B'!F43<5,'Tabel 5Br B'!F43<0.5),\"-\",IFERROR('Tabel 5Br B'!F43/'Tabel 5F B'!F43*100,\"-\"))","v":"-"},{"$f":"IF(OR('Tabel 5F B'!G43<5,'Tabel 5Br B'!G43<0.5),\"-\",IFERROR('Tabel 5Br B'!G43/'Tabel 5F B'!G43*100,\"-\"))","v":"-"},{"$f":"IF(OR('Tabel 5F B'!H43<5,'Tabel 5Br B'!H43<0.5),\"-\",IFERROR('Tabel 5Br B'!H43/'Tabel 5F B'!H43*100,\"-\"))","v":"-"},null,{"$f":"IF(OR('Tabel 5F B'!J43<5,'Tabel 5Br B'!J43<0.5),\"-\",IFERROR('Tabel 5Br B'!J43/'Tabel 5F B'!J43*100,\"-\"))","v":"-"}]
["Andre",null,{"$f":"IF(OR('Tabel 5F B'!C44<5,'Tabel 5Br B'!C44<0.5),\"-\",IFERROR('Tabel 5Br B'!C44/'Tabel 5F B'!C44*100,\"-\"))","v":10.596200891217538},{"$f":"IF(OR('Tabel 5F B'!D44<5,'Tabel 5Br B'!D44<0.5),\"-\",IFERROR('Tabel 5Br B'!D44/'Tabel 5F B'!D44*100,\"-\"))","v":"-"},{"$f":"IF(OR('Tabel 5F B'!E44<5,'Tabel 5Br B'!E44<0.5),\"-\",IFERROR('Tabel 5Br B'!E44/'Tabel 5F B'!E44*100,\"-\"))","v":"-"},{"$f":"IF(OR('Tabel 5F B'!F44<5,'Tabel 5Br B'!F44<0.5),\"-\",IFERROR('Tabel 5Br B'!F44/'Tabel 5F B'!F44*100,\"-\"))","v":46.809704983471548},{"$f":"IF(OR('Tabel 5F B'!G44<5,'Tabel 5Br B'!G44<0.5),\"-\",IFERROR('Tabel 5Br B'!G44/'Tabel 5F B'!G44*100,\"-\"))","v":12.497661074034561},{"$f":"IF(OR('Tabel 5F B'!H44<5,'Tabel 5Br B'!H44<0.5),\"-\",IFERROR('Tabel 5Br B'!H44/'Tabel 5F B'!H44*100,\"-\"))","v":7.0369568647018754},null,{"$f":"IF(OR('Tabel 5F B'!J44<5,'Tabel 5Br B'!J44<0.5),\"-\",IFERROR('Tabel 5Br B'!J44/'Tabel 5F B'!J44*100,\"-\"))","v":7.6586831327054128}]
[]
["Total",null,{"$f":"IF(OR('Tabel 5F B'!C46<5,'Tabel 5Br B'!C46<0.5),\"-\",IFERROR('Tabel 5Br B'!C46/'Tabel 5F B'!C46*100,\"-\"))","v":9.7174577434045055},{"$f":"IF(OR('Tabel 5F B'!D46<5,'Tabel 5Br B'!D46<0.5),\"-\",IFERROR('Tabel 5Br B'!D46/'Tabel 5F B'!D46*100,\"-\"))","v":10.281824040945827},{"$f":"IF(OR('Tabel 5F B'!E46<5,'Tabel 5Br B'!E46<0.5),\"-\",IFERROR('Tabel 5Br B'!E46/'Tabel 5F B'!E46*100,\"-\"))","v":10.342953372953879},{"$f":"IF(OR('Tabel 5F B'!F46<5,'Tabel 5Br B'!F46<0.5),\"-\",IFERROR('Tabel 5Br B'!F46/'Tabel 5F B'!F46*100,\"-\"))","v":11.352943250198642},{"$f":"IF(OR('Tabel 5F B'!G46<5,'Tabel 5Br B'!G46<0.5),\"-\",IFERROR('Tabel 5Br B'!G46/'Tabel 5F B'!G46*100,\"-\"))","v":7.7347823056122698},{"$f":"IF(OR('Tabel 5F B'!H46<5,'Tabel 5Br B'!H46<0.5),\"-\",IFERROR('Tabel 5Br B'!H46/'Tabel 5F B'!H46*100,\"-\"))","v":5.6936140638504522},null,{"$f":"IF(OR('Tabel 5F B'!J46<5,'Tabel 5Br B'!J46<0.5),\"-\",IFERROR('Tabel 5Br B'!J46/'Tabel 5F B'!J46*100,\"-\"))","v":12.483561165733981}]
[]
["Ingeniører i alt",null,{"$f":"IF(OR('Tabel 5F B'!C48<5,'Tabel 5Br B'!C48<0.5),\"-\",IFERROR('Tabel 5Br B'!C48/'Tabel 5F B'!C48*100,\"-\"))","v":"-"},{"$f":"IF(OR('Tabel 5F B'!D48<5,'Tabel 5Br B'!D48<0.5),\"-\",IFERROR('Tabel 5Br B'!D48/'Tabel 5F B'!D48*100,\"-\"))","v":"-"},{"$f":"IF(OR('Tabel 5F B'!E48<5,'Tabel 5Br B'!E48<0.5),\"-\",IFERROR('Tabel 5Br B'!E48/'Tabel 5F B'!E48*100,\"-\"))","v":"-"},{"$f":"IF(OR('Tabel 5F B'!F48<5,'Tabel 5Br B'!F48<0.5),\"-\",IFERROR('Tabel 5Br B'!F48/'Tabel 5F B'!F48*100,\"-\"))","v":16.663548098713044},{"$f":"IF(OR('Tabel 5F B'!G48<5,'Tabel 5Br B'!G48<0.5),\"-\",IFERROR('Tabel 5Br B'!G48/'Tabel 5F B'!G48*100,\"-\"))","v":7.12904634191979},{"$f":"IF(OR('Tabel 5F B'!H48<5,'Tabel 5Br B'!H48<0.5),\"-\",IFERROR('Tabel 5Br B'!H48/'Tabel 5F B'!H48*100,\"-\"))","v":3.5707603068670934},null,{"$f":"IF(OR('Tabel 5F B'!J48<5,'Tabel 5Br B'!J48<0.5),\"-\",IFERROR('Tabel 5Br B'!J48/'Tabel 5F B'!J48*100,\"-\"))","v":"-"}]
["Magistre i alt",null,{"$f":"IF(OR('Tabel 5F B'!C49<5,'Tabel 5Br B'!C49<0.5),\"-\",IFERROR('Tabel 5Br B'!C49/'Tabel 5F B'!C49*100,\"-\"))","v":13.085511133289174},{"$f":"IF(OR('Tabel 5F B'!D49<5,'Tabel 5Br B'!D49<0.5),\"-\",IFERROR('Tabel 5Br B'!D49/'Tabel 5F B'!D49*100,\"-\"))","v":34.277516907093315},{"$f":"IF(OR('Tabel 5F B'!E49<5,'Tabel 5Br B'!E49<0.5),\"-\",IFERROR('Tabel 5Br B'!E49/'Tabel 5F B'!E49*100,\"-\"))","v":9.9981288592275064},{"$f":"IF(OR('Tabel 5F B'!F49<5,'Tabel 5Br B'!F49<0.5),\"-\",IFERROR('Tabel 5Br B'!F49/'Tabel 5F B'!F49*100,\"-\"))","v":18.388462684601929},{"$f":"IF(OR('Tabel 5F B'!G49<5,'Tabel 5Br B'!G49<0.5),\"-\",IFERROR('Tabel 5Br B'!G49/'Tabel 5F B'!G49*100,\"-\"))","v":15.448138214931612},{"$f":"IF(OR('Tabel 5F B'!H49<5,'Tabel 5Br B'!H49<0.5),\"-\",IFERROR('Tabel 5Br B'!H49/'Tabel 5F B'!H49*100,\"-\"))","v":6.2488305370173878},null,{"$f":"IF(OR('Tabel 5F B'!J49<5,'Tabel 5Br B'!J49<0.5),\"-\",IFERROR('Tabel 5Br B'!J49/'Tabel 5F B'!J49*100,\"-\"))","v":45.832553691344884}]
["DJØF'ere i alt",null,{"$f":"IF(OR('Tabel 5F B'!C50<5,'Tabel 5Br B'!C50<0.5),\"-\",IFERROR('Tabel 5Br B'!C50/'Tabel 5F B'!C50*100,\"-\"))","v":"-"},{"$f":"IF(OR('Tabel 5F B'!D50<5,'Tabel 5Br B'!D50<0.5),\"-\",IFERROR('Tabel 5Br B'!D50/'Tabel 5F B'!D50*100,\"-\"))","v":"-"},{"$f":"IF(OR('Tabel 5F B'!E50<5,'Tabel 5Br B'!E50<0.5),\"-\",IFERROR('Tabel 5Br B'!E50/'Tabel 5F B'!E50*100,\"-\"))","v":"-"},{"$f":"IF(OR('Tabel 5F B'!F50<5,'Tabel 5Br B'!F50<0.5),\"-\",IFERROR('Tabel 5Br B'!F50/'Tabel 5F B'!F50*100,\"-\"))","v":"-"},{"$f":"IF(OR('Tabel 5F B'!G50<5,'Tabel 5Br B'!G50<0.5),\"-\",IFERROR('Tabel 5Br B'!G50/'Tabel 5F B'!G50*100,\"-\"))","v":"-"},{"$f":"IF(OR('Tabel 5F B'!H50<5,'Tabel 5Br B'!H50<0.5),\"-\",IFERROR('Tabel 5Br B'!H50/'Tabel 5F B'!H50*100,\"-\"))","v":4.262724524111638},null,{"$f":"IF(OR('Tabel 5F B'!J50<5,'Tabel 5Br B'!J50<0.5),\"-\",IFERROR('Tabel 5Br B'!J50/'Tabel 5F B'!J50*100,\"-\"))","v":14.283041227468408}]
[]
[]
[]
[]
[]
[]
["Bornholm"]
[]
[null,null,"Under 1 år"," 1 - 2 år","2 - 4 år","5 - 9 år","10 - 14 år","Over 15 år",null,"Uoplyst"]
[]
["Civ. ing.",null,{"$f":"IF(OR('Tabel 5F B'!C61<5,'Tabel 5Br B'!C61<0.5),\"-\",IFERROR('Tabel 5Br B'!C61/'Tabel 5F B'!C61*100,\"-\"))","v":"-"},{"$f":"IF(OR('Tabel 5F B'!D61<5,'Tabel 5Br B'!D61<0.5),\"-\",IFERROR('Tabel 5Br B'!D61/'Tabel 5F B'!D61*100,\"-\"))","v":"-"},{"$f":"IF(OR('Tabel 5F B'!E61<5,'Tabel 5Br B'!E61<0.5),\"-\",IFERROR('Tabel 5Br B'!E61/'Tabel 5F B'!E61*100,\"-\"))","v":"-"},{"$f":"IF(OR('Tabel 5F B'!F61<5,'Tabel 5Br B'!F61<0.5),\"-\",IFERROR('Tabel 5Br B'!F61/'Tabel 5F B'!F61*100,\"-\"))","v":29.994386577683528},{"$f":"IF(OR('Tabel 5F B'!G61<5,'Tabel 5Br B'!G61<0.5),\"-\",IFERROR('Tabel 5Br B'!G61/'Tabel 5F B'!G61*100,\"-\"))","v":"-"},{"$f":"IF(OR('Tabel 5F B'!H61<5,'Tabel 5Br B'!H61<0.5),\"-\",IFERROR('Tabel 5Br B'!H61/'Tabel 5F B'!H61*100,\"-\"))","v":"-"},null,{"$f":"IF(OR('Tabel 5F B'!J61<5,'Tabel 5Br B'!J61<0.5),\"-\",IFERROR('Tabel 5Br B'!J61/'Tabel 5F B'!J61*100,\"-\"))","v":"-"}]
["Diplom ing.",null,{"$f":"IF(OR('Tabel 5F B'!C62<5,'Tabel 5Br B'!C62<0.5),\"-\",IFERROR('Tabel 5Br B'!C62/'Tabel 5F B'!C62*100,\"-\"))","v":"-"},{"$f":"IF(OR('Tabel 5F B'!D62<5,'Tabel 5Br B'!D62<0.5),\"-\",IFERROR('Tabel 5Br B'!D62/'Tabel 5F B'!D62*100,\"-\"))","v":"-"},{"$f":"IF(OR('Tabel 5F B'!E62<5,'Tabel 5Br B'!E62<0.5),\"-\",IFERROR('Tabel 5Br B'!E62/'Tabel 5F B'!E62*100,\"-\"))","v":"-"},{"$f":"IF(OR('Tabel 5F B'!F62<5,'Tabel 5Br B'!F62<0.5),\"-\",IFERROR('Tabel 5Br B'!F62/'Tabel 5F B'!F62*100,\"-\"))","v":"-"},{"$f":"IF(OR('Tabel 5F B'!G62<5,'Tabel 5Br B'!G62<0.5),\"-\",IFERROR('Tabel 5Br B'!G62/'Tabel 5F B'!G62*100,\"-\"))","v":11.88174390319965},{"$f":"IF(OR('Tabel 5F B'!H62<5,'Tabel 5Br B'!H62<0.5),\"-\",IFERROR('Tabel 5Br B'!H62/'Tabel 5F B'!H62*100,\"-\"))","v":4.9990644296139211},null,{"$f":"IF(OR('Tabel 5F B'!J62<5,'Tabel 5Br B'!J62<0.5),\"-\",IFERROR('Tabel 5Br B'!J62/'Tabel 5F B'!J62*100,\"-\"))","v":"-"}]
["Cand. Scient. Tek",null,{"$f":"IF(OR('Tabel 5F B'!C63<5,'Tabel 5Br B'!C63<0.5),\"-\",IFERROR('Tabel 5Br B'!C63/'Tabel 5F B'!C63*100,\"-\"))","v":"-"},{"$f":"IF(OR('Tabel 5F B'!D63<5,'Tabel 5Br B'!D63<0.5),\"-\",IFERROR('Tabel 5Br B'!D63/'Tabel 5F B'!D63*100,\"-\"))","v":"-"},{"$f":"IF(OR('Tabel 5F B'!E63<5,'Tabel 5Br B'!E63<0.5),\"-\",IFERROR('Tabel 5Br B'!E63/'Tabel 5F B'!E63*100,\"-\"))","v":42.406287032994442},{"$f":"IF(OR('Tabel 5F B'!F63<5,'Tabel 5Br B'!F63<0.5),\"-\",IFERROR('Tabel 5Br B'!F63/'Tabel 5F B'!F63*100,\"-\"))","v":"-"},{"$f":"IF(OR('Tabel 5F B'!G63<5,'Tabel 5Br B'!G63<0.5),\"-\",IFERROR('Tabel 5Br B'!G63/'Tabel 5F B'!G63*100,\"-\"))","v":"-"},{"$f":"IF(OR('Tabel 5F B'!H63<5,'Tabel 5Br B'!H63<0.5),\"-\",IFERROR('Tabel 5Br B'!H63/'Tabel 5F B'!H63*100,\"-\"))","v":"-"},null,{"$f":"IF(OR('Tabel 5F B'!J63<5,'Tabel 5Br B'!J63<0.5),\"-\",IFERROR('Tabel 5Br B'!J63/'Tabel 5F B'!J63*100,\"-\"))","v":"-"}]
["MA. Hum.",null,{"$f":"IF(OR('Tabel 5F B'!C64<5,'Tabel 5Br B'!C64<0.5),\"-\",IFERROR('Tabel 5Br B'!C64/'Tabel 5F B'!C64*100,\"-\"))","v":"-"},{"$f":"IF(OR('Tabel 5F B'!D64<5,'Tabel 5Br B'!D64<0.5),\"-\",IFERROR('Tabel 5Br B'!D64/'Tabel 5F B'!D64*100,\"-\"))","v":"-"},{"$f":"IF(OR('Tabel 5F B'!E64<5,'Tabel 5Br B'!E64<0.5),\"-\",IFERROR('Tabel 5Br B'!E64/'Tabel 5F B'!E64*100,\"-\"))","v":7.1415206137341727},{"$f":"IF(OR('Tabel 5F B'!F64<5,'Tabel 5Br B'!F64<0.5),\"-\",IFERROR('Tabel 5Br B'!F64/'Tabel 5F B'!F64*100,\"-\"))","v":15.985968334250003},{"$f":"IF(OR('Tabel 5F B'!G64<5,'Tabel 5Br B'!G64<0.5),\"-\",IFERROR('Tabel 5Br B'!G64/'Tabel 5F B'!G64*100,\"-\"))","v":17.888885423813385},{"$f":"IF(OR('Tabel 5F B'!H64<5,'Tabel 5Br B'!H64<0.5),\"-\",IFERROR('Tabel 5Br B'!H64/'Tabel 5F B'!H64*100,\"-\"))","v":6.5205188212355489},null,{"$f":"IF(OR('Tabel 5F B'!J64<5,'Tabel 5Br B'!J64<0.5),\"-\",IFERROR('Tabel 5Br B'!J64/'Tabel 5F B'!J64*100,\"-\"))","v":38.892007456842485}]
["MA. Nat.",null,{"$f":"IF(OR('Tabel 5F B'!C65<5,'Tabel 5Br B'!C65<0.5),\"-\",IFERROR('Tabel 5Br B'!C65/'Tabel 5F B'!C65*100,\"-\"))","v":"-"},{"$f":"IF(OR('Tabel 5F B'!D65<5,'Tabel 5Br B'!D65<0.5),\"-\",IFERROR('Tabel 5Br B'!D65/'Tabel 5F B'!D65*100,\"-\"))","v":"-"},{"$f":"IF(OR('Tabel 5F B'!E65<5,'Tabel 5Br B'!E65<0.5),\"-\",IFERROR('Tabel 5Br B'!E65/'Tabel 5F B'!E65*100,\"-\"))","v":"-"},{"$f":"IF(OR('Tabel 5F B'!F65<5,'Tabel 5Br B'!F65<0.5),\"-\",IFERROR('Tabel 5Br B'!F65/'Tabel 5F B'!F65*100,\"-\"))","v":"-"},{"$f":"IF(OR('Tabel 5F B'!G65<5,'Tabel 5Br B'!G65<0.5),\"-\",IFERROR('Tabel 5Br B'!G65/'Tabel 5F B'!G65*100,\"-\"))","v":"-"},{"$f":"IF(OR('Tabel 5F B'!H65<5,'Tabel 5Br B'!H65<0.5),\"-\",IFERROR('Tabel 5Br B'!H65/'Tabel 5F B'!H65*100,\"-\"))","v":2.8566082454936694},null,{"$f":"IF(OR('Tabel 5F B'!J65<5,'Tabel 5Br B'!J65<0.5),\"-\",IFERROR('Tabel 5Br B'!J65/'Tabel 5F B'!J65*100,\"-\"))","v":"-"}]
["MA. Ph.d.",null,{"$f":"IF(OR('Tabel 5F B'!C66<5,'Tabel 5Br B'!C66<0.5),\"-\",IFERROR('Tabel 5Br B'!C66/'Tabel 5F B'!C66*100,\"-\"))","v":"-"},{"$f":"IF(OR('Tabel 5F B'!D66<5,'Tabel 5Br B'!D66<0.5),\"-\",IFERROR('Tabel 5Br B'!D66/'Tabel 5F B'!D66*100,\"-\"))","v":"-"},{"$f":"IF(OR('Tabel 5F B'!E66<5,'Tabel 5Br B'!E66<0.5),\"-\",IFERROR('Tabel 5Br B'!E66/'Tabel 5F B'!E66*100,\"-\"))","v":"-"},{"$f":"IF(OR('Tabel 5F B'!F66<5,'Tabel 5Br B'!F66<0.5),\"-\",IFERROR('Tabel 5Br B'!F66/'Tabel 5F B'!F66*100,\"-\"))","v":"-"},{"$f":"IF(OR('Tabel 5F B'!G66<5,'Tabel 5Br B'!G66<0.5),\"-\",IFERROR('Tabel 5Br B'!G66/'Tabel 5F B'!G66*100,\"-\"))","v":"-"},{"$f":"IF(OR('Tabel 5F B'!H66<5,'Tabel 5Br B'!H66<0.5),\"-\",IFERROR('Tabel 5Br B'!H66/'Tabel 5F B'!H66*100,\"-\"))","v":"-"},null,{"$f":"IF(OR('Tabel 5F B'!J66<5,'Tabel 5Br B'!J66<0.5),\"-\",IFERROR('Tabel 5Br B'!J66/'Tabel 5F B'!J66*100,\"-\"))","v":"-"}]
["MA. Samf.",null,{"$f":"IF(OR('Tabel 5F B'!C67<5,'Tabel 5Br B'!C67<0.5),\"-\",IFERROR('Tabel 5Br B'!C67/'Tabel 5F B'!C67*100,\"-\"))","v":"-"},{"$f":"IF(OR('Tabel 5F B'!D67<5,'Tabel 5Br B'!D67<0.5),\"-\",IFERROR('Tabel 5Br B'!D67/'Tabel 5F B'!D67*100,\"-\"))","v":"-"},{"$f":"IF(OR('Tabel 5F B'!E67<5,'Tabel 5Br B'!E67<0.5),\"-\",IFERROR('Tabel 5Br B'!E67/'Tabel 5F B'!E67*100,\"-\"))","v":"-"},{"$f":"IF(OR('Tabel 5F B'!F67<5,'Tabel 5Br B'!F67<0.5),\"-\",IFERROR('Tabel 5Br B'!F67/'Tabel 5F B'!F67*100,\"-\"))","v":"-"},{"$f":"IF(OR('Tabel 5F B'!G67<5,'Tabel 5Br B'!G67<0.5),\"-\",IFERROR('Tabel 5Br B'!G67/'Tabel 5F B'!G67*100,\"-\"))","v":"-"},{"$f":"IF(OR('Tabel 5F B'!H67<5,'Tabel 5Br B'!H67<0.5),\"-\",IFERROR('Tabel 5Br B'!H67/'Tabel 5F B'!H67*100,\"-\"))","v":16.663548098713072},null,{"$f":"IF(OR('Tabel 5F B'!J67<5,'Tabel 5Br B'!J67<0.5),\"-\",IFERROR('Tabel 5Br B'!J67/'Tabel 5F B'!J67*100,\"-\"))","v":"-"}]
["Øvrige Mag.",null,{"$f":"IF(OR('Tabel 5F B'!C68<5,'Tabel 5Br B'!C68<0.5),\"-\",IFERROR('Tabel 5Br B'!C68/'Tabel 5F B'!C68*100,\"-\"))","v":"-"},{"$f":"IF(OR('Tabel 5F B'!D68<5,'Tabel 5Br B'!D68<0.5),\"-\",IFERROR('Tabel 5Br B'!D68/'Tabel 5F B'!D68*100,\"-\"))","v":"-"},{"$f":"IF(OR('Tabel 5F B'!E68<5,'Tabel 5Br B'!E68<0.5),\"-\",IFERROR('Tabel 5Br B'!E68/'Tabel 5F B'!E68*100,\"-\"))","v":"-"},{"$f":"IF(OR('Tabel 5F B'!F68<5,'Tabel 5Br B'!F68<0.5),\"-\",IFERROR('Tabel 5Br B'!F68/'Tabel 5F B'!F68*100,\"-\"))","v":"-"},{"$f":"IF(OR('Tabel 5F B'!G68<5,'Tabel 5Br B'!G68<0.5),\"-\",IFERROR('Tabel 5Br B'!G68/'Tabel 5F B'!G68*100,\"-\"))","v":"-"},{"$f":"IF(OR('Tabel 5F B'!H68<5,'Tabel 5Br B'!H68<0.5),\"-\",IFERROR('Tabel 5Br B'!H68/'Tabel 5F B'!H68*100,\"-\"))","v":16.663548098713072},null,{"$f":"IF(OR('Tabel 5F B'!J68<5,'Tabel 5Br B'!J68<0.5),\"-\",IFERROR('Tabel 5Br B'!J68/'Tabel 5F B'!J68*100,\"-\"))","v":"-"}]
["Agronom",null,{"$f":"IF(OR('Tabel 5F B'!C69<5,'Tabel 5Br B'!C69<0.5),\"-\",IFERROR('Tabel 5Br B'!C69/'Tabel 5F B'!C69*100,\"-\"))","v":"-"},{"$f":"IF(OR('Tabel 5F B'!D69<5,'Tabel 5Br B'!D69<0.5),\"-\",IFERROR('Tabel 5Br B'!D69/'Tabel 5F B'!D69*100,\"-\"))","v":"-"},{"$f":"IF(OR('Tabel 5F B'!E69<5,'Tabel 5Br B'!E69<0.5),\"-\",IFERROR('Tabel 5Br B'!E69/'Tabel 5F B'!E69*100,\"-\"))","v":"-"},{"$f":"IF(OR('Tabel 5F B'!F69<5,'Tabel 5Br B'!F69<0.5),\"-\",IFERROR('Tabel 5Br B'!F69/'Tabel 5F B'!F69*100,\"-\"))","v":"-"},{"$f":"IF(OR('Tabel 5F B'!G69<5,'Tabel 5Br B'!G69<0.5),\"-\",IFERROR('Tabel 5Br B'!G69/'Tabel 5F B'!G69*100,\"-\"))","v":"-"},{"$f":"IF(OR('Tabel 5F B'!H69<5,'Tabel 5Br B'!H69<0.5),\"-\",IFERROR('Tabel 5Br B'!H69/'Tabel 5F B'!H69*100,\"-\"))","v":"-"},null,{"$f":"IF(OR('Tabel 5F B'!J69<5,'Tabel 5Br B'!J69<0.5),\"-\",IFERROR('Tabel 5Br B'!J69/'Tabel 5F B'!J69*100,\"-\"))","v":"-"}]
["Landsk. Arkt.",null,{"$f":"IF(OR('Tabel 5F B'!C70<5,'Tabel 5Br B'!C70<0.5),\"-\",IFERROR('Tabel 5Br B'!C70/'Tabel 5F B'!C70*100,\"-\"))","v":"-"},{"$f":"IF(OR('Tabel 5F B'!D70<5,'Tabel 5Br B'!D70<0.5),\"-\",IFERROR('Tabel 5Br B'!D70/'Tabel 5F B'!D70*100,\"-\"))","v":"-"},{"$f":"IF(OR('Tabel 5F B'!E70<5,'Tabel 5Br B'!E70<0.5),\"-\",IFERROR('Tabel 5Br B'!E70/'Tabel 5F B'!E70*100,\"-\"))","v":"-"},{"$f":"IF(OR('Tabel 5F B'!F70<5,'Tabel 5Br B'!F70<0.5),\"-\",IFERROR('Tabel 5Br B'!F70/'Tabel 5F B'!F70*100,\"-\"))","v":"-"},{"$f":"IF(OR('Tabel 5F B'!G70<5,'Tabel 5Br B'!G70<0.5),\"-\",IFERROR('Tabel 5Br B'!G70/'Tabel 5F B'!G70*100,\"-\"))","v":"-"},{"$f":"IF(OR('Tabel 5F B'!H70<5,'Tabel 5Br B'!H70<0.5),\"-\",IFERROR('Tabel 5Br B'!H70/'Tabel 5F B'!H70*100,\"-\"))","v":"-"},null,{"$f":"IF(OR('Tabel 5F B'!J70<5,'Tabel 5Br B'!J70<0.5),\"-\",IFERROR('Tabel 5Br B'!J70/'Tabel 5F B'!J70*100,\"-\"))","v":"-"}]
["Hortonom",null,{"$f":"IF(OR('Tabel 5F B'!C71<5,'Tabel 5Br B'!C71<0.5),\"-\",IFERROR('Tabel 5Br B'!C71/'Tabel 5F B'!C71*100,\"-\"))","v":"-"},{"$f":"IF(OR('Tabel 5F B'!D71<5,'Tabel 5Br B'!D71<0.5),\"-\",IFERROR('Tabel 5Br B'!D71/'Tabel 5F B'!D71*100,\"-\"))","v":"-"},{"$f":"IF(OR('Tabel 5F B'!E71<5,'Tabel 5Br B'!E71<0.5),\"-\",IFERROR('Tabel 5Br B'!E71/'Tabel 5F B'!E71*100,\"-\"))","v":"-"},{"$f":"IF(OR('Tabel 5F B'!F71<5,'Tabel 5Br B'!F71<0.5),\"-\",IFERROR('Tabel 5Br B'!F71/'Tabel 5F B'!F71*100,\"-\"))","v":"-"},{"$f":"IF(OR('Tabel 5F B'!G71<5,'Tabel 5Br B'!G71<0.5),\"-\",IFERROR('Tabel 5Br B'!G71/'Tabel 5F B'!G71*100,\"-\"))","v":"-"},{"$f":"IF(OR('Tabel 5F B'!H71<5,'Tabel 5Br B'!H71<0.5),\"-\",IFERROR('Tabel 5Br B'!H71/'Tabel 5F B'!H71*100,\"-\"))","v":"-"},null,{"$f":"IF(OR('Tabel 5F B'!J71<5,'Tabel 5Br B'!J71<0.5),\"-\",IFERROR('Tabel 5Br B'!J71/'Tabel 5F B'!J71*100,\"-\"))","v":"-"}]
["Forstkand.",null,{"$f":"IF(OR('Tabel 5F B'!C72<5,'Tabel 5Br B'!C72<0.5),\"-\",IFERROR('Tabel 5Br B'!C72/'Tabel 5F B'!C72*100,\"-\"))","v":"-"},{"$f":"IF(OR('Tabel 5F B'!D72<5,'Tabel 5Br B'!D72<0.5),\"-\",IFERROR('Tabel 5Br B'!D72/'Tabel 5F B'!D72*100,\"-\"))","v":"-"},{"$f":"IF(OR('Tabel 5F B'!E72<5,'Tabel 5Br B'!E72<0.5),\"-\",IFERROR('Tabel 5Br B'!E72/'Tabel 5F B'!E72*100,\"-\"))","v":"-"},{"$f":"IF(OR('Tabel 5F B'!F72<5,'Tabel 5Br B'!F72<0.5),\"-\",IFERROR('Tabel 5Br B'!F72/'Tabel 5F B'!F72*100,\"-\"))","v":"-"},{"$f":"IF(OR('Tabel 5F B'!G72<5,'Tabel 5Br B'!G72<0.5),\"-\",IFERROR('Tabel 5Br B'!G72/'Tabel 5F B'!G72*100,\"-\"))","v":"-"},{"$f":"IF(OR('Tabel 5F B'!H72<5,'Tabel 5Br B'!H72<0.5),\"-\",IFERROR('Tabel 5Br B'!H72/'Tabel 5F B'!H72*100,\"-\"))","v":"-"},null,{"$f":"IF(OR('Tabel 5F B'!J72<5,'Tabel 5Br B'!J72<0.5),\"-\",IFERROR('Tabel 5Br B'!J72/'Tabel 5F B'!J72*100,\"-\"))","v":"-"}]
["Jordbrugsakad.",null,{"$f":"IF(OR('Tabel 5F B'!C73<5,'Tabel 5Br B'!C73<0.5),\"-\",IFERROR('Tabel 5Br B'!C73/'Tabel 5F B'!C73*100,\"-\"))","v":"-"},{"$f":"IF(OR('Tabel 5F B'!D73<5,'Tabel 5Br B'!D73<0.5),\"-\",IFERROR('Tabel 5Br B'!D73/'Tabel 5F B'!D73*100,\"-\"))","v":"-"},{"$f":"IF(OR('Tabel 5F B'!E73<5,'Tabel 5Br B'!E73<0.5),\"-\",IFERROR('Tabel 5Br B'!E73/'Tabel 5F B'!E73*100,\"-\"))","v":"-"},{"$f":"IF(OR('Tabel 5F B'!F73<5,'Tabel 5Br B'!F73<0.5),\"-\",IFERROR('Tabel 5Br B'!F73/'Tabel 5F B'!F73*100,\"-\"))","v":"-"},{"$f":"IF(OR('Tabel 5F B'!G73<5,'Tabel 5Br B'!G73<0.5),\"-\",IFERROR('Tabel 5Br B'!G73/'Tabel 5F B'!G73*100,\"-\"))","v":"-"},{"$f":"IF(OR('Tabel 5F B'!H73<5,'Tabel 5Br B'!H73<0.5),\"-\",IFERROR('Tabel 5Br B'!H73/'Tabel 5F B'!H73*100,\"-\"))","v":"-"},null,{"$f":"IF(OR('Tabel 5F B'!J73<5,'Tabel 5Br B'!J73<0.5),\"-\",IFERROR('Tabel 5Br B'!J73/'Tabel 5F B'!J73*100,\"-\"))","v":"-"}]
["Mejeriing.",null,{"$f":"IF(OR('Tabel 5F B'!C74<5,'Tabel 5Br B'!C74<0.5),\"-\",IFERROR('Tabel 5Br B'!C74/'Tabel 5F B'!C74*100,\"-\"))","v":"-"},{"$f":"IF(OR('Tabel 5F B'!D74<5,'Tabel 5Br B'!D74<0.5),\"-\",IFERROR('Tabel 5Br B'!D74/'Tabel 5F B'!D74*100,\"-\"))","v":"-"},{"$f":"IF(OR('Tabel 5F B'!E74<5,'Tabel 5Br B'!E74<0.5),\"-\",IFERROR('Tabel 5Br B'!E74/'Tabel 5F B'!E74*100,\"-\"))","v":"-"},{"$f":"IF(OR('Tabel 5F B'!F74<5,'Tabel 5Br B'!F74<0.5),\"-\",IFERROR('Tabel 5Br B'!F74/'Tabel 5F B'!F74*100,\"-\"))","v":"-"},{"$f":"IF(OR('Tabel 5F B'!G74<5,'Tabel 5Br B'!G74<0.5),\"-\",IFERROR('Tabel 5Br B'!G74/'Tabel 5F B'!G74*100,\"-\"))","v":"-"},{"$f":"IF(OR('Tabel 5F B'!H74<5,'Tabel 5Br B'!H74<0.5),\"-\",IFERROR('Tabel 5Br B'!H74/'Tabel 5F B'!H74*100,\"-\"))","v":"-"},null,{"$f":"IF(OR('Tabel 5F B'!J74<5,'Tabel 5Br B'!J74<0.5),\"-\",IFERROR('Tabel 5Br B'!J74/'Tabel 5F B'!J74*100,\"-\"))","v":"-"}]
["Levn.m.kand.",null,{"$f":"IF(OR('Tabel 5F B'!C75<5,'Tabel 5Br B'!C75<0.5),\"-\",IFERROR('Tabel 5Br B'!C75/'Tabel 5F B'!C75*100,\"-\"))","v":"-"},{"$f":"IF(OR('Tabel 5F B'!D75<5,'Tabel 5Br B'!D75<0.5),\"-\",IFERROR('Tabel 5Br B'!D75/'Tabel 5F B'!D75*100,\"-\"))","v":"-"},{"$f":"IF(OR('Tabel 5F B'!E75<5,'Tabel 5Br B'!E75<0.5),\"-\",IFERROR('Tabel 5Br B'!E75/'Tabel 5F B'!E75*100,\"-\"))","v":"-"},{"$f":"IF(OR('Tabel 5F B'!F75<5,'Tabel 5Br B'!F75<0.5),\"-\",IFERROR('Tabel 5Br B'!F75/'Tabel 5F B'!F75*100,\"-\"))","v":"-"},{"$f":"IF(OR('Tabel 5F B'!G75<5,'Tabel 5Br B'!G75<0.5),\"-\",IFERROR('Tabel 5Br B'!G75/'Tabel 5F B'!G75*100,\"-\"))","v":"-"},{"$f":"IF(OR('Tabel 5F B'!H75<5,'Tabel 5Br B'!H75<0.5),\"-\",IFERROR('Tabel 5Br B'!H75/'Tabel 5F B'!H75*100,\"-\"))","v":"-"},null,{"$f":"IF(OR('Tabel 5F B'!J75<5,'Tabel 5Br B'!J75<0.5),\"-\",IFERROR('Tabel 5Br B'!J75/'Tabel 5F B'!J75*100,\"-\"))","v":"-"}]
["Dyrlæge",null,{"$f":"IF(OR('Tabel 5F B'!C76<5,'Tabel 5Br B'!C76<0.5),\"-\",IFERROR('Tabel 5Br B'!C76/'Tabel 5F B'!C76*100,\"-\"))","v":"-"},{"$f":"IF(OR('Tabel 5F B'!D76<5,'Tabel 5Br B'!D76<0.5),\"-\",IFERROR('Tabel 5Br B'!D76/'Tabel 5F B'!D76*100,\"-\"))","v":"-"},{"$f":"IF(OR('Tabel 5F B'!E76<5,'Tabel 5Br B'!E76<0.5),\"-\",IFERROR('Tabel 5Br B'!E76/'Tabel 5F B'!E76*100,\"-\"))","v":"-"},{"$f":"IF(OR('Tabel 5F B'!F76<5,'Tabel 5Br B'!F76<0.5),\"-\",IFERROR('Tabel 5Br B'!F76/'Tabel 5F B'!F76*100,\"-\"))","v":"-"},{"$f":"IF(OR('Tabel 5F B'!G76<5,'Tabel 5Br B'!G76<0.5),\"-\",IFERROR('Tabel 5Br B'!G76/'Tabel 5F B'!G76*100,\"-\"))","v":"-"},{"$f":"IF(OR('Tabel 5F B'!H76<5,'Tabel 5Br B'!H76<0.5),\"-\",IFERROR('Tabel 5Br B'!H76/'Tabel 5F B'!H76*100,\"-\"))","v":7.6894975541517043},null,{"$f":"IF(OR('Tabel 5F B'!J76<5,'Tabel 5Br B'!J76<0.5),\"-\",IFERROR('Tabel 5Br B'!J76/'Tabel 5F B'!J76*100,\"-\"))","v":"-"}]
["Farmaceut",null,{"$f":"IF(OR('Tabel 5F B'!C77<5,'Tabel 5Br B'!C77<0.5),\"-\",IFERROR('Tabel 5Br B'!C77/'Tabel 5F B'!C77*100,\"-\"))","v":"-"},{"$f":"IF(OR('Tabel 5F B'!D77<5,'Tabel 5Br B'!D77<0.5),\"-\",IFERROR('Tabel 5Br B'!D77/'Tabel 5F B'!D77*100,\"-\"))","v":"-"},{"$f":"IF(OR('Tabel 5F B'!E77<5,'Tabel 5Br B'!E77<0.5),\"-\",IFERROR('Tabel 5Br B'!E77/'Tabel 5F B'!E77*100,\"-\"))","v":"-"},{"$f":"IF(OR('Tabel 5F B'!F77<5,'Tabel 5Br B'!F77<0.5),\"-\",IFERROR('Tabel 5Br B'!F77/'Tabel 5F B'!F77*100,\"-\"))","v":"-"},{"$f":"IF(OR('Tabel 5F B'!G77<5,'Tabel 5Br B'!G77<0.5),\"-\",IFERROR('Tabel 5Br B'!G77/'Tabel 5F B'!G77*100,\"-\"))","v":"-"},{"$f":"IF(OR('Tabel 5F B'!H77<5,'Tabel 5Br B'!H77<0.5),\"-\",IFERROR('Tabel 5Br B'!H77/'Tabel 5F B'!H77*100,\"-\"))","v":"-"},null,{"$f":"IF(OR('Tabel 5F B'!J77<5,'Tabel 5Br B'!J77<0.5),\"-\",IFERROR('Tabel 5Br B'!J77/'Tabel 5F B'!J77*100,\"-\"))","v":"-"}]
["Læge",null,{"$f":"IF(OR('Tabel 5F B'!C78<5,'Tabel 5Br B'!C78<0.5),\"-\",IFERROR('Tabel 5Br B'!C78/'Tabel 5F B'!C78*100,\"-\"))","v":"-"},{"$f":"IF(OR('Tabel 5F B'!D78<5,'Tabel 5Br B'!D78<0.5),\"-\",IFERROR('Tabel 5Br B'!D78/'Tabel 5F B'!D78*100,\"-\"))","v":"-"},{"$f":"IF(OR('Tabel 5F B'!E78<5,'Tabel 5Br B'!E78<0.5),\"-\",IFERROR('Tabel 5Br B'!E78/'Tabel 5F B'!E78*100,\"-\"))","v":"-"},{"$f":"IF(OR('Tabel 5F B'!F78<5,'Tabel 5Br B'!F78<0.5),\"-\",IFERROR('Tabel 5Br B'!F78/'Tabel 5F B'!F78*100,\"-\"))","v":"-"},{"$f":"IF(OR('Tabel 5F B'!G78<5,'Tabel 5Br B'!G78<0.5),\"-\",IFERROR('Tabel 5Br B'!G78/'Tabel 5F B'!G78*100,\"-\"))","v":"-"},{"$f":"IF(OR('Tabel 5F B'!H78<5,'Tabel 5Br B'!H78<0.5),\"-\",IFERROR('Tabel 5Br B'!H78/'Tabel 5F B'!H78*100,\"-\"))","v":"-"},null,{"$f":"IF(OR('Tabel 5F B'!J78<5,'Tabel 5Br B'!J78<0.5),\"-\",IFERROR('Tabel 5Br B'!J78/'Tabel 5F B'!J78*100,\"-\"))","v":"-"}]
["Tandlæge",null,{"$f":"IF(OR('Tabel 5F B'!C79<5,'Tabel 5Br B'!C79<0.5),\"-\",IFERROR('Tabel 5Br B'!C79/'Tabel 5F B'!C79*100,\"-\"))","v":"-"},{"$f":"IF(OR('Tabel 5F B'!D79<5,'Tabel 5Br B'!D79<0.5),\"-\",IFERROR('Tabel 5Br B'!D79/'Tabel 5F B'!D79*100,\"-\"))","v":"-"},{"$f":"IF(OR('Tabel 5F B'!E79<5,'Tabel 5Br B'!E79<0.5),\"-\",IFERROR('Tabel 5Br B'!E79/'Tabel 5F B'!E79*100,\"-\"))","v":"-"},{"$f":"IF(OR('Tabel 5F B'!F79<5,'Tabel 5Br B'!F79<0.5),\"-\",IFERROR('Tabel 5Br B'!F79/'Tabel 5F B'!F79*100,\"-\"))","v":"-"},{"$f":"IF(OR('Tabel 5F B'!G79<5,'Tabel 5Br B'!G79<0.5),\"-\",IFERROR('Tabel 5Br B'!G79/'Tabel 5F B'!G79*100,\"-\"))","v":"-"},{"$f":"IF(OR('Tabel 5F B'!H79<5,'Tabel 5Br B'!H79<0.5),\"-\",IFERROR('Tabel 5Br B'!H79/'Tabel 5F B'!H79*100,\"-\"))","v":"-"},null,{"$f":"IF(OR('Tabel 5F B'!J79<5,'Tabel 5Br B'!J79<0.5),\"-\",IFERROR('Tabel 5Br B'!J79/'Tabel 5F B'!J79*100,\"-\"))","v":"-"}]
["Arkitekt",null,{"$f":"IF(OR('Tabel 5F B'!C80<5,'Tabel 5Br B'!C80<0.5),\"-\",IFERROR('Tabel 5Br B'!C80/'Tabel 5F B'!C80*100,\"-\"))","v":"-"},{"$f":"IF(OR('Tabel 5F B'!D80<5,'Tabel 5Br B'!D80<0.5),\"-\",IFERROR('Tabel 5Br B'!D80/'Tabel 5F B'!D80*100,\"-\"))","v":"-"},{"$f":"IF(OR('Tabel 5F B'!E80<5,'Tabel 5Br B'!E80<0.5),\"-\",IFERROR('Tabel 5Br B'!E80/'Tabel 5F B'!E80*100,\"-\"))","v":"-"},{"$f":"IF(OR('Tabel 5F B'!F80<5,'Tabel 5Br B'!F80<0.5),\"-\",IFERROR('Tabel 5Br B'!F80/'Tabel 5F B'!F80*100,\"-\"))","v":"-"},{"$f":"IF(OR('Tabel 5F B'!G80<5,'Tabel 5Br B'!G80<0.5),\"-\",IFERROR('Tabel 5Br B'!G80/'Tabel 5F B'!G80*100,\"-\"))","v":"-"},{"$f":"IF(OR('Tabel 5F B'!H80<5,'Tabel 5Br B'!H80<0.5),\"-\",IFERROR('Tabel 5Br B'!H80/'Tabel 5F B'!H80*100,\"-\"))","v":12.497661074034804},null,{"$f":"IF(OR('Tabel 5F B'!J80<5,'Tabel 5Br B'!J80<0.5),\"-\",IFERROR('Tabel 5Br B'!J80/'Tabel 5F B'!J80*100,\"-\"))","v":"-"}]
["Landinspek.",null,{"$f":"IF(OR('Tabel 5F B'!C81<5,'Tabel 5Br B'!C81<0.5),\"-\",IFERROR('Tabel 5Br B'!C81/'Tabel 5F B'!C81*100,\"-\"))","v":"-"},{"$f":"IF(OR('Tabel 5F B'!D81<5,'Tabel 5Br B'!D81<0.5),\"-\",IFERROR('Tabel 5Br B'!D81/'Tabel 5F B'!D81*100,\"-\"))","v":"-"},{"$f":"IF(OR('Tabel 5F B'!E81<5,'Tabel 5Br B'!E81<0.5),\"-\",IFERROR('Tabel 5Br B'!E81/'Tabel 5F B'!E81*100,\"-\"))","v":"-"},{"$f":"IF(OR('Tabel 5F B'!F81<5,'Tabel 5Br B'!F81<0.5),\"-\",IFERROR('Tabel 5Br B'!F81/'Tabel 5F B'!F81*100,\"-\"))","v":"-"},{"$f":"IF(OR('Tabel 5F B'!G81<5,'Tabel 5Br B'!G81<0.5),\"-\",IFERROR('Tabel 5Br B'!G81/'Tabel 5F B'!G81*100,\"-\"))","v":"-"},{"$f":"IF(OR('Tabel 5F B'!H81<5,'Tabel 5Br B'!H81<0.5),\"-\",IFERROR('Tabel 5Br B'!H81/'Tabel 5F B'!H81*100,\"-\"))","v":"-"},null,{"$f":"IF(OR('Tabel 5F B'!J81<5,'Tabel 5Br B'!J81<0.5),\"-\",IFERROR('Tabel 5Br B'!J81/'Tabel 5F B'!J81*100,\"-\"))","v":"-"}]
["Bibliotekar",null,{"$f":"IF(OR('Tabel 5F B'!C82<5,'Tabel 5Br B'!C82<0.5),\"-\",IFERROR('Tabel 5Br B'!C82/'Tabel 5F B'!C82*100,\"-\"))","v":"-"},{"$f":"IF(OR('Tabel 5F B'!D82<5,'Tabel 5Br B'!D82<0.5),\"-\",IFERROR('Tabel 5Br B'!D82/'Tabel 5F B'!D82*100,\"-\"))","v":"-"},{"$f":"IF(OR('Tabel 5F B'!E82<5,'Tabel 5Br B'!E82<0.5),\"-\",IFERROR('Tabel 5Br B'!E82/'Tabel 5F B'!E82*100,\"-\"))","v":"-"},{"$f":"IF(OR('Tabel 5F B'!F82<5,'Tabel 5Br B'!F82<0.5),\"-\",IFERROR('Tabel 5Br B'!F82/'Tabel 5F B'!F82*100,\"-\"))","v":"-"},{"$f":"IF(OR('Tabel 5F B'!G82<5,'Tabel 5Br B'!G82<0.5),\"-\",IFERROR('Tabel 5Br B'!G82/'Tabel 5F B'!G82*100,\"-\"))","v":"-"},{"$f":"IF(OR('Tabel 5F B'!H82<5,'Tabel 5Br B'!H82<0.5),\"-\",IFERROR('Tabel 5Br B'!H82/'Tabel 5F B'!H82*100,\"-\"))","v":16.663548098713072},null,{"$f":"IF(OR('Tabel 5F B'!J82<5,'Tabel 5Br B'!J82<0.5),\"-\",IFERROR('Tabel 5Br B'!J82/'Tabel 5F B'!J82*100,\"-\"))","v":"-"}]
["Musikudd.",null,{"$f":"IF(OR('Tabel 5F B'!C83<5,'Tabel 5Br B'!C83<0.5),\"-\",IFERROR('Tabel 5Br B'!C83/'Tabel 5F B'!C83*100,\"-\"))","v":"-"},{"$f":"IF(OR('Tabel 5F B'!D83<5,'Tabel 5Br B'!D83<0.5),\"-\",IFERROR('Tabel 5Br B'!D83/'Tabel 5F B'!D83*100,\"-\"))","v":"-"},{"$f":"IF(OR('Tabel 5F B'!E83<5,'Tabel 5Br B'!E83<0.5),\"-\",IFERROR('Tabel 5Br B'!E83/'Tabel 5F B'!E83*100,\"-\"))","v":"-"},{"$f":"IF(OR('Tabel 5F B'!F83<5,'Tabel 5Br B'!F83<0.5),\"-\",IFERROR('Tabel 5Br B'!F83/'Tabel 5F B'!F83*100,\"-\"))","v":"-"},{"$f":"IF(OR('Tabel 5F B'!G83<5,'Tabel 5Br B'!G83<0.5),\"-\",IFERROR('Tabel 5Br B'!G83/'Tabel 5F B'!G83*100,\"-\"))","v":"-"},{"$f":"IF(OR('Tabel 5F B'!H83<5,'Tabel 5Br B'!H83<0.5),\"-\",IFERROR('Tabel 5Br B'!H83/'Tabel 5F B'!H83*100,\"-\"))","v":"-"},null,{"$f":"IF(OR('Tabel 5F B'!J83<5,'Tabel 5Br B'!J83<0.5),\"-\",IFERROR('Tabel 5Br B'!J83/'Tabel 5F B'!J83*100,\"-\"))","v":"-"}]
["Teolog",null,{"$f":"IF(OR('Tabel 5F B'!C84<5,'Tabel 5Br B'!C84<0.5),\"-\",IFERROR('Tabel 5Br B'!C84/'Tabel 5F B'!C84*100,\"-\"))","v":"-"},{"$f":"IF(OR('Tabel 5F B'!D84<5,'Tabel 5Br B'!D84<0.5),\"-\",IFERROR('Tabel 5Br B'!D84/'Tabel 5F B'!D84*100,\"-\"))","v":"-"},{"$f":"IF(OR('Tabel 5F B'!E84<5,'Tabel 5Br B'!E84<0.5),\"-\",IFERROR('Tabel 5Br B'!E84/'Tabel 5F B'!E84*100,\"-\"))","v":"-"},{"$f":"IF(OR('Tabel 5F B'!F84<5,'Tabel 5Br B'!F84<0.5),\"-\",IFERROR('Tabel 5Br B'!F84/'Tabel 5F B'!F84*100,\"-\"))","v":"-"},{"$f":"IF(OR('Tabel 5F B'!G84<5,'Tabel 5Br B'!G84<0.5),\"-\",IFERROR('Tabel 5Br B'!G84/'Tabel 5F B'!G84*100,\"-\"))","v":"-"},{"$f":"IF(OR('Tabel 5F B'!H84<5,'Tabel 5Br B'!H84<0.5),\"-\",IFERROR('Tabel 5Br B'!H84/'Tabel 5F B'!H84*100,\"-\"))","v":"-"},null,{"$f":"IF(OR('Tabel 5F B'!J84<5,'Tabel 5Br B'!J84<0.5),\"-\",IFERROR('Tabel 5Br B'!J84/'Tabel 5F B'!J84*100,\"-\"))","v":"-"}]
["Psykolog",null,{"$f":"IF(OR('Tabel 5F B'!C85<5,'Tabel 5Br B'!C85<0.5),\"-\",IFERROR('Tabel 5Br B'!C85/'Tabel 5F B'!C85*100,\"-\"))","v":"-"},{"$f":"IF(OR('Tabel 5F B'!D85<5,'Tabel 5Br B'!D85<0.5),\"-\",IFERROR('Tabel 5Br B'!D85/'Tabel 5F B'!D85*100,\"-\"))","v":"-"},{"$f":"IF(OR('Tabel 5F B'!E85<5,'Tabel 5Br B'!E85<0.5),\"-\",IFERROR('Tabel 5Br B'!E85/'Tabel 5F B'!E85*100,\"-\"))","v":"-"},{"$f":"IF(OR('Tabel 5F B'!F85<5,'Tabel 5Br B'!F85<0.5),\"-\",IFERROR('Tabel 5Br B'!F85/'Tabel 5F B'!F85*100,\"-\"))","v":"-"},{"$f":"IF(OR('Tabel 5F B'!G85<5,'Tabel 5Br B'!G85<0.5),\"-\",IFERROR('Tabel 5Br B'!G85/'Tabel 5F B'!G85*100,\"-\"))","v":"-"},{"$f":"IF(OR('Tabel 5F B'!H85<5,'Tabel 5Br B'!H85<0.5),\"-\",IFERROR('Tabel 5Br B'!H85/'Tabel 5F B'!H85*100,\"-\"))","v":"-"},null,{"$f":"IF(OR('Tabel 5F B'!J85<5,'Tabel 5Br B'!J85<0.5),\"-\",IFERROR('Tabel 5Br B'!J85/'Tabel 5F B'!J85*100,\"-\"))","v":"-"}]
["Jurist",null,{"$f":"IF(OR('Tabel 5F B'!C86<5,'Tabel 5Br B'!C86<0.5),\"-\",IFERROR('Tabel 5Br B'!C86/'Tabel 5F B'!C86*100,\"-\"))","v":"-"},{"$f":"IF(OR('Tabel 5F B'!D86<5,'Tabel 5Br B'!D86<0.5),\"-\",IFERROR('Tabel 5Br B'!D86/'Tabel 5F B'!D86*100,\"-\"))","v":"-"},{"$f":"IF(OR('Tabel 5F B'!E86<5,'Tabel 5Br B'!E86<0.5),\"-\",IFERROR('Tabel 5Br B'!E86/'Tabel 5F B'!E86*100,\"-\"))","v":"-"},{"$f":"IF(OR('Tabel 5F B'!F86<5,'Tabel 5Br B'!F86<0.5),\"-\",IFERROR('Tabel 5Br B'!F86/'Tabel 5F B'!F86*100,\"-\"))","v":"-"},{"$f":"IF(OR('Tabel 5F B'!G86<5,'Tabel 5Br B'!G86<0.5),\"-\",IFERROR('Tabel 5Br B'!G86/'Tabel 5F B'!G86*100,\"-\"))","v":"-"},{"$f":"IF(OR('Tabel 5F B'!H86<5,'Tabel 5Br B'!H86<0.5),\"-\",IFERROR('Tabel 5Br B'!H86/'Tabel 5F B'!H86*100,\"-\"))","v":"-"},null,{"$f":"IF(OR('Tabel 5F B'!J86<5,'Tabel 5Br B'!J86<0.5),\"-\",IFERROR('Tabel 5Br B'!J86/'Tabel 5F B'!J86*100,\"-\"))","v":"-"}]
["Økonom",null,{"$f":"IF(OR('Tabel 5F B'!C87<5,'Tabel 5Br B'!C87<0.5),\"-\",IFERROR('Tabel 5Br B'!C87/'Tabel 5F B'!C87*100,\"-\"))","v":"-"},{"$f":"IF(OR('Tabel 5F B'!D87<5,'Tabel 5Br B'!D87<0.5),\"-\",IFERROR('Tabel 5Br B'!D87/'Tabel 5F B'!D87*100,\"-\"))","v":"-"},{"$f":"IF(OR('Tabel 5F B'!E87<5,'Tabel 5Br B'!E87<0.5),\"-\",IFERROR('Tabel 5Br B'!E87/'Tabel 5F B'!E87*100,\"-\"))","v":"-"},{"$f":"IF(OR('Tabel 5F B'!F87<5,'Tabel 5Br B'!F87<0.5),\"-\",IFERROR('Tabel 5Br B'!F87/'Tabel 5F B'!F87*100,\"-\"))","v":"-"},{"$f":"IF(OR('Tabel 5F B'!G87<5,'Tabel 5Br B'!G87<0.5),\"-\",IFERROR('Tabel 5Br B'!G87/'Tabel 5F B'!G87*100,\"-\"))","v":"-"},{"$f":"IF(OR('Tabel 5F B'!H87<5,'Tabel 5Br B'!H87<0.5),\"-\",IFERROR('Tabel 5Br B'!H87/'Tabel 5F B'!H87*100,\"-\"))","v":"-"},null,{"$f":"IF(OR('Tabel 5F B'!J87<5,'Tabel 5Br B'!J87<0.5),\"-\",IFERROR('Tabel 5Br B'!J87/'Tabel 5F B'!J87*100,\"-\"))","v":"-"}]
["Samf. Adm.",null,{"$f":"IF(OR('Tabel 5F B'!C88<5,'Tabel 5Br B'!C88<0.5),\"-\",IFERROR('Tabel 5Br B'!C88/'Tabel 5F B'!C88*100,\"-\"))","v":"-"},{"$f":"IF(OR('Tabel 5F B'!D88<5,'Tabel 5Br B'!D88<0.5),\"-\",IFERROR('Tabel 5Br B'!D88/'Tabel 5F B'!D88*100,\"-\"))","v":"-"},{"$f":"IF(OR('Tabel 5F B'!E88<5,'Tabel 5Br B'!E88<0.5),\"-\",IFERROR('Tabel 5Br B'!E88/'Tabel 5F B'!E88*100,\"-\"))","v":"-"},{"$f":"IF(OR('Tabel 5F B'!F88<5,'Tabel 5Br B'!F88<0.5),\"-\",IFERROR('Tabel 5Br B'!F88/'Tabel 5F B'!F88*100,\"-\"))","v":"-"},{"$f":"IF(OR('Tabel 5F B'!G88<5,'Tabel 5Br B'!G88<0.5),\"-\",IFERROR('Tabel 5Br B'!G88/'Tabel 5F B'!G88*100,\"-\"))","v":"-"},{"$f":"IF(OR('Tabel 5F B'!H88<5,'Tabel 5Br B'!H88<0.5),\"-\",IFERROR('Tabel 5Br B'!H88/'Tabel 5F B'!H88*100,\"-\"))","v":5.554516032904357},null,{"$f":"IF(OR('Tabel 5F B'!J88<5,'Tabel 5Br B'!J88<0.5),\"-\",IFERROR('Tabel 5Br B'!J88/'Tabel 5F B'!J88*100,\"-\"))","v":22.218064131617428}]
["Cand. Merc.",null,{"$f":"IF(OR('Tabel 5F B'!C89<5,'Tabel 5Br B'!C89<0.5),\"-\",IFERROR('Tabel 5Br B'!C89/'Tabel 5F B'!C89*100,\"-\"))","v":"-"},{"$f":"IF(OR('Tabel 5F B'!D89<5,'Tabel 5Br B'!D89<0.5),\"-\",IFERROR('Tabel 5Br B'!D89/'Tabel 5F B'!D89*100,\"-\"))","v":"-"},{"$f":"IF(OR('Tabel 5F B'!E89<5,'Tabel 5Br B'!E89<0.5),\"-\",IFERROR('Tabel 5Br B'!E89/'Tabel 5F B'!E89*100,\"-\"))","v":"-"},{"$f":"IF(OR('Tabel 5F B'!F89<5,'Tabel 5Br B'!F89<0.5),\"-\",IFERROR('Tabel 5Br B'!F89/'Tabel 5F B'!F89*100,\"-\"))","v":"-"},{"$f":"IF(OR('Tabel 5F B'!G89<5,'Tabel 5Br B'!G89<0.5),\"-\",IFERROR('Tabel 5Br B'!G89/'Tabel 5F B'!G89*100,\"-\"))","v":"-"},{"$f":"IF(OR('Tabel 5F B'!H89<5,'Tabel 5Br B'!H89<0.5),\"-\",IFERROR('Tabel 5Br B'!H89/'Tabel 5F B'!H89*100,\"-\"))","v":10.669660491902118},null,{"$f":"IF(OR('Tabel 5F B'!J89<5,'Tabel 5Br B'!J89<0.5),\"-\",IFERROR('Tabel 5Br B'!J89/'Tabel 5F B'!J89*100,\"-\"))","v":16.663548098713072}]
["HA",null,{"$f":"IF(OR('Tabel 5F B'!C90<5,'Tabel 5Br B'!C90<0.5),\"-\",IFERROR('Tabel 5Br B'!C90/'Tabel 5F B'!C90*100,\"-\"))","v":"-"},{"$f":"IF(OR('Tabel 5F B'!D90<5,'Tabel 5Br B'!D90<0.5),\"-\",IFERROR('Tabel 5Br B'!D90/'Tabel 5F B'!D90*100,\"-\"))","v":"-"},{"$f":"IF(OR('Tabel 5F B'!E90<5,'Tabel 5Br B'!E90<0.5),\"-\",IFERROR('Tabel 5Br B'!E90/'Tabel 5F B'!E90*100,\"-\"))","v":"-"},{"$f":"IF(OR('Tabel 5F B'!F90<5,'Tabel 5Br B'!F90<0.5),\"-\",IFERROR('Tabel 5Br B'!F90/'Tabel 5F B'!F90*100,\"-\"))","v":"-"},{"$f":"IF(OR('Tabel 5F B'!G90<5,'Tabel 5Br B'!G90<0.5),\"-\",IFERROR('Tabel 5Br B'!G90/'Tabel 5F B'!G90*100,\"-\"))","v":"-"},{"$f":"IF(OR('Tabel 5F B'!H90<5,'Tabel 5Br B'!H90<0.5),\"-\",IFERROR('Tabel 5Br B'!H90/'Tabel 5F B'!H90*100,\"-\"))","v":"-"},null,{"$f":"IF(OR('Tabel 5F B'!J90<5,'Tabel 5Br B'!J90<0.5),\"-\",IFERROR('Tabel 5Br B'!J90/'Tabel 5F B'!J90*100,\"-\"))","v":"-"}]
["HD",null,{"$f":"IF(OR('Tabel 5F B'!C91<5,'Tabel 5Br B'!C91<0.5),\"-\",IFERROR('Tabel 5Br B'!C91/'Tabel 5F B'!C91*100,\"-\"))","v":"-"},{"$f":"IF(OR('Tabel 5F B'!D91<5,'Tabel 5Br B'!D91<0.5),\"-\",IFERROR('Tabel 5Br B'!D91/'Tabel 5F B'!D91*100,\"-\"))","v":"-"},{"$f":"IF(OR('Tabel 5F B'!E91<5,'Tabel 5Br B'!E91<0.5),\"-\",IFERROR('Tabel 5Br B'!E91/'Tabel 5F B'!E91*100,\"-\"))","v":"-"},{"$f":"IF(OR('Tabel 5F B'!F91<5,'Tabel 5Br B'!F91<0.5),\"-\",IFERROR('Tabel 5Br B'!F91/'Tabel 5F B'!F91*100,\"-\"))","v":"-"},{"$f":"IF(OR('Tabel 5F B'!G91<5,'Tabel 5Br B'!G91<0.5),\"-\",IFERROR('Tabel 5Br B'!G91/'Tabel 5F B'!G91*100,\"-\"))","v":"-"},{"$f":"IF(OR('Tabel 5F B'!H91<5,'Tabel 5Br B'!H91<0.5),\"-\",IFERROR('Tabel 5Br B'!H91/'Tabel 5F B'!H91*100,\"-\"))","v":"-"},null,{"$f":"IF(OR('Tabel 5F B'!J91<5,'Tabel 5Br B'!J91<0.5),\"-\",IFERROR('Tabel 5Br B'!J91/'Tabel 5F B'!J91*100,\"-\"))","v":"-"}]
["Komm. og Sprog",null,{"$f":"IF(OR('Tabel 5F B'!C92<5,'Tabel 5Br B'!C92<0.5),\"-\",IFERROR('Tabel 5Br B'!C92/'Tabel 5F B'!C92*100,\"-\"))","v":"-"},{"$f":"IF(OR('Tabel 5F B'!D92<5,'Tabel 5Br B'!D92<0.5),\"-\",IFERROR('Tabel 5Br B'!D92/'Tabel 5F B'!D92*100,\"-\"))","v":"-"},{"$f":"IF(OR('Tabel 5F B'!E92<5,'Tabel 5Br B'!E92<0.5),\"-\",IFERROR('Tabel 5Br B'!E92/'Tabel 5F B'!E92*100,\"-\"))","v":"-"},{"$f":"IF(OR('Tabel 5F B'!F92<5,'Tabel 5Br B'!F92<0.5),\"-\",IFERROR('Tabel 5Br B'!F92/'Tabel 5F B'!F92*100,\"-\"))","v":"-"},{"$f":"IF(OR('Tabel 5F B'!G92<5,'Tabel 5Br B'!G92<0.5),\"-\",IFERROR('Tabel 5Br B'!G92/'Tabel 5F B'!G92*100,\"-\"))","v":"-"},{"$f":"IF(OR('Tabel 5F B'!H92<5,'Tabel 5Br B'!H92<0.5),\"-\",IFERROR('Tabel 5Br B'!H92/'Tabel 5F B'!H92*100,\"-\"))","v":33.327096197426144},null,{"$f":"IF(OR('Tabel 5F B'!J92<5,'Tabel 5Br B'!J92<0.5),\"-\",IFERROR('Tabel 5Br B'!J92/'Tabel 5F B'!J92*100,\"-\"))","v":"-"}]
["Bygningskonst.",null,{"$f":"IF(OR('Tabel 5F B'!C93<5,'Tabel 5Br B'!C93<0.5),\"-\",IFERROR('Tabel 5Br B'!C93/'Tabel 5F B'!C93*100,\"-\"))","v":"-"},{"$f":"IF(OR('Tabel 5F B'!D93<5,'Tabel 5Br B'!D93<0.5),\"-\",IFERROR('Tabel 5Br B'!D93/'Tabel 5F B'!D93*100,\"-\"))","v":"-"},{"$f":"IF(OR('Tabel 5F B'!E93<5,'Tabel 5Br B'!E93<0.5),\"-\",IFERROR('Tabel 5Br B'!E93/'Tabel 5F B'!E93*100,\"-\"))","v":"-"},{"$f":"IF(OR('Tabel 5F B'!F93<5,'Tabel 5Br B'!F93<0.5),\"-\",IFERROR('Tabel 5Br B'!F93/'Tabel 5F B'!F93*100,\"-\"))","v":"-"},{"$f":"IF(OR('Tabel 5F B'!G93<5,'Tabel 5Br B'!G93<0.5),\"-\",IFERROR('Tabel 5Br B'!G93/'Tabel 5F B'!G93*100,\"-\"))","v":"-"},{"$f":"IF(OR('Tabel 5F B'!H93<5,'Tabel 5Br B'!H93<0.5),\"-\",IFERROR('Tabel 5Br B'!H93/'Tabel 5F B'!H93*100,\"-\"))","v":"-"},null,{"$f":"IF(OR('Tabel 5F B'!J93<5,'Tabel 5Br B'!J93<0.5),\"-\",IFERROR('Tabel 5Br B'!J93/'Tabel 5F B'!J93*100,\"-\"))","v":"-"}]
["Cand. IT.",null,{"$f":"IF(OR('Tabel 5F B'!C94<5,'Tabel 5Br B'!C94<0.5),\"-\",IFERROR('Tabel 5Br B'!C94/'Tabel 5F B'!C94*100,\"-\"))","v":"-"},{"$f":"IF(OR('Tabel 5F B'!D94<5,'Tabel 5Br B'!D94<0.5),\"-\",IFERROR('Tabel 5Br B'!D94/'Tabel 5F B'!D94*100,\"-\"))","v":"-"},{"$f":"IF(OR('Tabel 5F B'!E94<5,'Tabel 5Br B'!E94<0.5),\"-\",IFERROR('Tabel 5Br B'!E94/'Tabel 5F B'!E94*100,\"-\"))","v":"-"},{"$f":"IF(OR('Tabel 5F B'!F94<5,'Tabel 5Br B'!F94<0.5),\"-\",IFERROR('Tabel 5Br B'!F94/'Tabel 5F B'!F94*100,\"-\"))","v":"-"},{"$f":"IF(OR('Tabel 5F B'!G94<5,'Tabel 5Br B'!G94<0.5),\"-\",IFERROR('Tabel 5Br B'!G94/'Tabel 5F B'!G94*100,\"-\"))","v":"-"},{"$f":"IF(OR('Tabel 5F B'!H94<5,'Tabel 5Br B'!H94<0.5),\"-\",IFERROR('Tabel 5Br B'!H94/'Tabel 5F B'!H94*100,\"-\"))","v":"-"},null,{"$f":"IF(OR('Tabel 5F B'!J94<5,'Tabel 5Br B'!J94<0.5),\"-\",IFERROR('Tabel 5Br B'!J94/'Tabel 5F B'!J94*100,\"-\"))","v":"-"}]
["Bac. Samf.",null,{"$f":"IF(OR('Tabel 5F B'!C95<5,'Tabel 5Br B'!C95<0.5),\"-\",IFERROR('Tabel 5Br B'!C95/'Tabel 5F B'!C95*100,\"-\"))","v":"-"},{"$f":"IF(OR('Tabel 5F B'!D95<5,'Tabel 5Br B'!D95<0.5),\"-\",IFERROR('Tabel 5Br B'!D95/'Tabel 5F B'!D95*100,\"-\"))","v":"-"},{"$f":"IF(OR('Tabel 5F B'!E95<5,'Tabel 5Br B'!E95<0.5),\"-\",IFERROR('Tabel 5Br B'!E95/'Tabel 5F B'!E95*100,\"-\"))","v":"-"},{"$f":"IF(OR('Tabel 5F B'!F95<5,'Tabel 5Br B'!F95<0.5),\"-\",IFERROR('Tabel 5Br B'!F95/'Tabel 5F B'!F95*100,\"-\"))","v":"-"},{"$f":"IF(OR('Tabel 5F B'!G95<5,'Tabel 5Br B'!G95<0.5),\"-\",IFERROR('Tabel 5Br B'!G95/'Tabel 5F B'!G95*100,\"-\"))","v":"-"},{"$f":"IF(OR('Tabel 5F B'!H95<5,'Tabel 5Br B'!H95<0.5),\"-\",IFERROR('Tabel 5Br B'!H95/'Tabel 5F B'!H95*100,\"-\"))","v":"-"},null,{"$f":"IF(OR('Tabel 5F B'!J95<5,'Tabel 5Br B'!J95<0.5),\"-\",IFERROR('Tabel 5Br B'!J95/'Tabel 5F B'!J95*100,\"-\"))","v":"-"}]
["Bac. Hum.",null,{"$f":"IF(OR('Tabel 5F B'!C96<5,'Tabel 5Br B'!C96<0.5),\"-\",IFERROR('Tabel 5Br B'!C96/'Tabel 5F B'!C96*100,\"-\"))","v":"-"},{"$f":"IF(OR('Tabel 5F B'!D96<5,'Tabel 5Br B'!D96<0.5),\"-\",IFERROR('Tabel 5Br B'!D96/'Tabel 5F B'!D96*100,\"-\"))","v":"-"},{"$f":"IF(OR('Tabel 5F B'!E96<5,'Tabel 5Br B'!E96<0.5),\"-\",IFERROR('Tabel 5Br B'!E96/'Tabel 5F B'!E96*100,\"-\"))","v":"-"},{"$f":"IF(OR('Tabel 5F B'!F96<5,'Tabel 5Br B'!F96<0.5),\"-\",IFERROR('Tabel 5Br B'!F96/'Tabel 5F B'!F96*100,\"-\"))","v":"-"},{"$f":"IF(OR('Tabel 5F B'!G96<5,'Tabel 5Br B'!G96<0.5),\"-\",IFERROR('Tabel 5Br B'!G96/'Tabel 5F B'!G96*100,\"-\"))","v":"-"},{"$f":"IF(OR('Tabel 5F B'!H96<5,'Tabel 5Br B'!H96<0.5),\"-\",IFERROR('Tabel 5Br B'!H96/'Tabel 5F B'!H96*100,\"-\"))","v":19.996257718455684},null,{"$f":"IF(OR('Tabel 5F B'!J96<5,'Tabel 5Br B'!J96<0.5),\"-\",IFERROR('Tabel 5Br B'!J96/'Tabel 5F B'!J96*100,\"-\"))","v":"-"}]
["Bac. Nat.",null,{"$f":"IF(OR('Tabel 5F B'!C97<5,'Tabel 5Br B'!C97<0.5),\"-\",IFERROR('Tabel 5Br B'!C97/'Tabel 5F B'!C97*100,\"-\"))","v":"-"},{"$f":"IF(OR('Tabel 5F B'!D97<5,'Tabel 5Br B'!D97<0.5),\"-\",IFERROR('Tabel 5Br B'!D97/'Tabel 5F B'!D97*100,\"-\"))","v":"-"},{"$f":"IF(OR('Tabel 5F B'!E97<5,'Tabel 5Br B'!E97<0.5),\"-\",IFERROR('Tabel 5Br B'!E97/'Tabel 5F B'!E97*100,\"-\"))","v":"-"},{"$f":"IF(OR('Tabel 5F B'!F97<5,'Tabel 5Br B'!F97<0.5),\"-\",IFERROR('Tabel 5Br B'!F97/'Tabel 5F B'!F97*100,\"-\"))","v":"-"},{"$f":"IF(OR('Tabel 5F B'!G97<5,'Tabel 5Br B'!G97<0.5),\"-\",IFERROR('Tabel 5Br B'!G97/'Tabel 5F B'!G97*100,\"-\"))","v":"-"},{"$f":"IF(OR('Tabel 5F B'!H97<5,'Tabel 5Br B'!H97<0.5),\"-\",IFERROR('Tabel 5Br B'!H97/'Tabel 5F B'!H97*100,\"-\"))","v":"-"},null,{"$f":"IF(OR('Tabel 5F B'!J97<5,'Tabel 5Br B'!J97<0.5),\"-\",IFERROR('Tabel 5Br B'!J97/'Tabel 5F B'!J97*100,\"-\"))","v":"-"}]
["Andre",null,{"$f":"IF(OR('Tabel 5F B'!C98<5,'Tabel 5Br B'!C98<0.5),\"-\",IFERROR('Tabel 5Br B'!C98/'Tabel 5F B'!C98*100,\"-\"))","v":10.596200891217419},{"$f":"IF(OR('Tabel 5F B'!D98<5,'Tabel 5Br B'!D98<0.5),\"-\",IFERROR('Tabel 5Br B'!D98/'Tabel 5F B'!D98*100,\"-\"))","v":"-"},{"$f":"IF(OR('Tabel 5F B'!E98<5,'Tabel 5Br B'!E98<0.5),\"-\",IFERROR('Tabel 5Br B'!E98/'Tabel 5F B'!E98*100,\"-\"))","v":"-"},{"$f":"IF(OR('Tabel 5F B'!F98<5,'Tabel 5Br B'!F98<0.5),\"-\",IFERROR('Tabel 5Br B'!F98/'Tabel 5F B'!F98*100,\"-\"))","v":46.809704983471583},{"$f":"IF(OR('Tabel 5F B'!G98<5,'Tabel 5Br B'!G98<0.5),\"-\",IFERROR('Tabel 5Br B'!G98/'Tabel 5F B'!G98*100,\"-\"))","v":12.497661074034804},{"$f":"IF(OR('Tabel 5F B'!H98<5,'Tabel 5Br B'!H98<0.5),\"-\",IFERROR('Tabel 5Br B'!H98/'Tabel 5F B'!H98*100,\"-\"))","v":7.0369568647018461},null,{"$f":"IF(OR('Tabel 5F B'!J98<5,'Tabel 5Br B'!J98<0.5),\"-\",IFERROR('Tabel 5Br B'!J98/'Tabel 5F B'!J98*100,\"-\"))","v":7.6586831327054616}]
[]
["Total",null,{"$f":"IF(OR('Tabel 5F B'!C100<5,'Tabel 5Br B'!C100<0.5),\"-\",IFERROR('Tabel 5Br B'!C100/'Tabel 5F B'!C100*100,\"-\"))","v":9.7174577434042284},{"$f":"IF(OR('Tabel 5F B'!D100<5,'Tabel 5Br B'!D100<0.5),\"-\",IFERROR('Tabel 5Br B'!D100/'Tabel 5F B'!D100*100,\"-\"))","v":10.28182404094585},{"$f":"IF(OR('Tabel 5F B'!E100<5,'Tabel 5Br B'!E100<0.5),\"-\",IFERROR('Tabel 5Br B'!E100/'Tabel 5F B'!E100*100,\"-\"))","v":10.342953372953996},{"$f":"IF(OR('Tabel 5F B'!F100<5,'Tabel 5Br B'!F100<0.5),\"-\",IFERROR('Tabel 5Br B'!F100/'Tabel 5F B'!F100*100,\"-\"))","v":11.35294325019864},{"$f":"IF(OR('Tabel 5F B'!G100<5,'Tabel 5Br B'!G100<0.5),\"-\",IFERROR('Tabel 5Br B'!G100/'Tabel 5F B'!G100*100,\"-\"))","v":7.7347823056123213},{"$f":"IF(OR('Tabel 5F B'!H100<5,'Tabel 5Br B'!H100<0.5),\"-\",IFERROR('Tabel 5Br B'!H100/'Tabel 5F B'!H100*100,\"-\"))","v":5.70929895107869},null,{"$f":"IF(OR('Tabel 5F B'!J100<5,'Tabel 5Br B'!J100<0.5),\"-\",IFERROR('Tabel 5Br B'!J100/'Tabel 5F B'!J100*100,\"-\"))","v":12.483561165733972}]
[]
["Ingeniører i alt",null,{"$f":"IF(OR('Tabel 5F B'!C102<5,'Tabel 5Br B'!C102<0.5),\"-\",IFERROR('Tabel 5Br B'!C102/'Tabel 5F B'!C102*100,\"-\"))","v":"-"},{"$f":"IF(OR('Tabel 5F B'!D102<5,'Tabel 5Br B'!D102<0.5),\"-\",IFERROR('Tabel 5Br B'!D102/'Tabel 5F B'!D102*100,\"-\"))","v":"-"},{"$f":"IF(OR('Tabel 5F B'!E102<5,'Tabel 5Br B'!E102<0.5),\"-\",IFERROR('Tabel 5Br B'!E102/'Tabel 5F B'!E102*100,\"-\"))","v":"-"},{"$f":"IF(OR('Tabel 5F B'!F102<5,'Tabel 5Br B'!F102<0.5),\"-\",IFERROR('Tabel 5Br B'!F102/'Tabel 5F B'!F102*100,\"-\"))","v":16.663548098713072},{"$f":"IF(OR('Tabel 5F B'!G102<5,'Tabel 5Br B'!G102<0.5),\"-\",IFERROR('Tabel 5Br B'!G102/'Tabel 5F B'!G102*100,\"-\"))","v":7.12904634191979},{"$f":"IF(OR('Tabel 5F B'!H102<5,'Tabel 5Br B'!H102<0.5),\"-\",IFERROR('Tabel 5Br B'!H102/'Tabel 5F B'!H102*100,\"-\"))","v":3.5707603068670863},null,{"$f":"IF(OR('Tabel 5F B'!J102<5,'Tabel 5Br B'!J102<0.5),\"-\",IFERROR('Tabel 5Br B'!J102/'Tabel 5F B'!J102*100,\"-\"))","v":"-"}]
["Magistre i alt",null,{"$f":"IF(OR('Tabel 5F B'!C103<5,'Tabel 5Br B'!C103<0.5),\"-\",IFERROR('Tabel 5Br B'!C103/'Tabel 5F B'!C103*100,\"-\"))","v":13.085511133287591},{"$f":"IF(OR('Tabel 5F B'!D103<5,'Tabel 5Br B'!D103<0.5),\"-\",IFERROR('Tabel 5Br B'!D103/'Tabel 5F B'!D103*100,\"-\"))","v":34.2775169070934},{"$f":"IF(OR('Tabel 5F B'!E103<5,'Tabel 5Br B'!E103<0.5),\"-\",IFERROR('Tabel 5Br B'!E103/'Tabel 5F B'!E103*100,\"-\"))","v":9.9981288592278421},{"$f":"IF(OR('Tabel 5F B'!F103<5,'Tabel 5Br B'!F103<0.5),\"-\",IFERROR('Tabel 5Br B'!F103/'Tabel 5F B'!F103*100,\"-\"))","v":18.388462684601897},{"$f":"IF(OR('Tabel 5F B'!G103<5,'Tabel 5Br B'!G103<0.5),\"-\",IFERROR('Tabel 5Br B'!G103/'Tabel 5F B'!G103*100,\"-\"))","v":15.448138214931703},{"$f":"IF(OR('Tabel 5F B'!H103<5,'Tabel 5Br B'!H103<0.5),\"-\",IFERROR('Tabel 5Br B'!H103/'Tabel 5F B'!H103*100,\"-\"))","v":6.248830537017402},null,{"$f":"IF(OR('Tabel 5F B'!J103<5,'Tabel 5Br B'!J103<0.5),\"-\",IFERROR('Tabel 5Br B'!J103/'Tabel 5F B'!J103*100,\"-\"))","v":45.832553691344934}]
["DJØF'ere i alt",null,{"$f":"IF(OR('Tabel 5F B'!C104<5,'Tabel 5Br B'!C104<0.5),\"-\",IFERROR('Tabel 5Br B'!C104/'Tabel 5F B'!C104*100,\"-\"))","v":"-"},{"$f":"IF(OR('Tabel 5F B'!D104<5,'Tabel 5Br B'!D104<0.5),\"-\",IFERROR('Tabel 5Br B'!D104/'Tabel 5F B'!D104*100,\"-\"))","v":"-"},{"$f":"IF(OR('Tabel 5F B'!E104<5,'Tabel 5Br B'!E104<0.5),\"-\",IFERROR('Tabel 5Br B'!E104/'Tabel 5F B'!E104*100,\"-\"))","v":"-"},{"$f":"IF(OR('Tabel 5F B'!F104<5,'Tabel 5Br B'!F104<0.5),\"-\",IFERROR('Tabel 5Br B'!F104/'Tabel 5F B'!F104*100,\"-\"))","v":"-"},{"$f":"IF(OR('Tabel 5F B'!G104<5,'Tabel 5Br B'!G104<0.5),\"-\",IFERROR('Tabel 5Br B'!G104/'Tabel 5F B'!G104*100,\"-\"))","v":"-"},{"$f":"IF(OR('Tabel 5F B'!H104<5,'Tabel 5Br B'!H104<0.5),\"-\",IFERROR('Tabel 5Br B'!H104/'Tabel 5F B'!H104*100,\"-\"))","v":4.2627245241116425},null,{"$f":"IF(OR('Tabel 5F B'!J104<5,'Tabel 5Br B'!J104<0.5),\"-\",IFERROR('Tabel 5Br B'!J104/'Tabel 5F B'!J104*100,\"-\"))","v":14.283041227468345}]
[]
[]
[]
[]
[]
[]
["Christiansø"]
[]
[null,null,"Under 1 år"," 1 - 2 år","2 - 4 år","5 - 9 år","10 - 14 år","Over 15 år",null,"Uoplyst"]
[]
["Civ. ing.",null,{"$f":"IF(OR('Tabel 5F B'!C115<5,'Tabel 5Br B'!C115<0.5),\"-\",IFERROR('Tabel 5Br B'!C115/'Tabel 5F B'!C115*100,\"-\"))","v":"-"},{"$f":"IF(OR('Tabel 5F B'!D115<5,'Tabel 5Br B'!D115<0.5),\"-\",IFERROR('Tabel 5Br B'!D115/'Tabel 5F B'!D115*100,\"-\"))","v":"-"},{"$f":"IF(OR('Tabel 5F B'!E115<5,'Tabel 5Br B'!E115<0.5),\"-\",IFERROR('Tabel 5Br B'!E115/'Tabel 5F B'!E115*100,\"-\"))","v":"-"},{"$f":"IF(OR('Tabel 5F B'!F115<5,'Tabel 5Br B'!F115<0.5),\"-\",IFERROR('Tabel 5Br B'!F115/'Tabel 5F B'!F115*100,\"-\"))","v":"-"},{"$f":"IF(OR('Tabel 5F B'!G115<5,'Tabel 5Br B'!G115<0.5),\"-\",IFERROR('Tabel 5Br B'!G115/'Tabel 5F B'!G115*100,\"-\"))","v":"-"},{"$f":"IF(OR('Tabel 5F B'!H115<5,'Tabel 5Br B'!H115<0.5),\"-\",IFERROR('Tabel 5Br B'!H115/'Tabel 5F B'!H115*100,\"-\"))","v":"-"},null,{"$f":"IF(OR('Tabel 5F B'!J115<5,'Tabel 5Br B'!J115<0.5),\"-\",IFERROR('Tabel 5Br B'!J115/'Tabel 5F B'!J115*100,\"-\"))","v":"-"}]
["Diplom ing.",null,{"$f":"IF(OR('Tabel 5F B'!C116<5,'Tabel 5Br B'!C116<0.5),\"-\",IFERROR('Tabel 5Br B'!C116/'Tabel 5F B'!C116*100,\"-\"))","v":"-"},{"$f":"IF(OR('Tabel 5F B'!D116<5,'Tabel 5Br B'!D116<0.5),\"-\",IFERROR('Tabel 5Br B'!D116/'Tabel 5F B'!D116*100,\"-\"))","v":"-"},{"$f":"IF(OR('Tabel 5F B'!E116<5,'Tabel 5Br B'!E116<0.5),\"-\",IFERROR('Tabel 5Br B'!E116/'Tabel 5F B'!E116*100,\"-\"))","v":"-"},{"$f":"IF(OR('Tabel 5F B'!F116<5,'Tabel 5Br B'!F116<0.5),\"-\",IFERROR('Tabel 5Br B'!F116/'Tabel 5F B'!F116*100,\"-\"))","v":"-"},{"$f":"IF(OR('Tabel 5F B'!G116<5,'Tabel 5Br B'!G116<0.5),\"-\",IFERROR('Tabel 5Br B'!G116/'Tabel 5F B'!G116*100,\"-\"))","v":"-"},{"$f":"IF(OR('Tabel 5F B'!H116<5,'Tabel 5Br B'!H116<0.5),\"-\",IFERROR('Tabel 5Br B'!H116/'Tabel 5F B'!H116*100,\"-\"))","v":"-"},null,{"$f":"IF(OR('Tabel 5F B'!J116<5,'Tabel 5Br B'!J116<0.5),\"-\",IFERROR('Tabel 5Br B'!J116/'Tabel 5F B'!J116*100,\"-\"))","v":"-"}]
["Cand. Scient. Tek",null,{"$f":"IF(OR('Tabel 5F B'!C117<5,'Tabel 5Br B'!C117<0.5),\"-\",IFERROR('Tabel 5Br B'!C117/'Tabel 5F B'!C117*100,\"-\"))","v":"-"},{"$f":"IF(OR('Tabel 5F B'!D117<5,'Tabel 5Br B'!D117<0.5),\"-\",IFERROR('Tabel 5Br B'!D117/'Tabel 5F B'!D117*100,\"-\"))","v":"-"},{"$f":"IF(OR('Tabel 5F B'!E117<5,'Tabel 5Br B'!E117<0.5),\"-\",IFERROR('Tabel 5Br B'!E117/'Tabel 5F B'!E117*100,\"-\"))","v":"-"},{"$f":"IF(OR('Tabel 5F B'!F117<5,'Tabel 5Br B'!F117<0.5),\"-\",IFERROR('Tabel 5Br B'!F117/'Tabel 5F B'!F117*100,\"-\"))","v":"-"},{"$f":"IF(OR('Tabel 5F B'!G117<5,'Tabel 5Br B'!G117<0.5),\"-\",IFERROR('Tabel 5Br B'!G117/'Tabel 5F B'!G117*100,\"-\"))","v":"-"},{"$f":"IF(OR('Tabel 5F B'!H117<5,'Tabel 5Br B'!H117<0.5),\"-\",IFERROR('Tabel 5Br B'!H117/'Tabel 5F B'!H117*100,\"-\"))","v":"-"},null,{"$f":"IF(OR('Tabel 5F B'!J117<5,'Tabel 5Br B'!J117<0.5),\"-\",IFERROR('Tabel 5Br B'!J117/'Tabel 5F B'!J117*100,\"-\"))","v":"-"}]
["MA. Hum.",null,{"$f":"IF(OR('Tabel 5F B'!C118<5,'Tabel 5Br B'!C118<0.5),\"-\",IFERROR('Tabel 5Br B'!C118/'Tabel 5F B'!C118*100,\"-\"))","v":"-"},{"$f":"IF(OR('Tabel 5F B'!D118<5,'Tabel 5Br B'!D118<0.5),\"-\",IFERROR('Tabel 5Br B'!D118/'Tabel 5F B'!D118*100,\"-\"))","v":"-"},{"$f":"IF(OR('Tabel 5F B'!E118<5,'Tabel 5Br B'!E118<0.5),\"-\",IFERROR('Tabel 5Br B'!E118/'Tabel 5F B'!E118*100,\"-\"))","v":"-"},{"$f":"IF(OR('Tabel 5F B'!F118<5,'Tabel 5Br B'!F118<0.5),\"-\",IFERROR('Tabel 5Br B'!F118/'Tabel 5F B'!F118*100,\"-\"))","v":"-"},{"$f":"IF(OR('Tabel 5F B'!G118<5,'Tabel 5Br B'!G118<0.5),\"-\",IFERROR('Tabel 5Br B'!G118/'Tabel 5F B'!G118*100,\"-\"))","v":"-"},{"$f":"IF(OR('Tabel 5F B'!H118<5,'Tabel 5Br B'!H118<0.5),\"-\",IFERROR('Tabel 5Br B'!H118/'Tabel 5F B'!H118*100,\"-\"))","v":"-"},null,{"$f":"IF(OR('Tabel 5F B'!J118<5,'Tabel 5Br B'!J118<0.5),\"-\",IFERROR('Tabel 5Br B'!J118/'Tabel 5F B'!J118*100,\"-\"))","v":"-"}]
["MA. Nat.",null,{"$f":"IF(OR('Tabel 5F B'!C119<5,'Tabel 5Br B'!C119<0.5),\"-\",IFERROR('Tabel 5Br B'!C119/'Tabel 5F B'!C119*100,\"-\"))","v":"-"},{"$f":"IF(OR('Tabel 5F B'!D119<5,'Tabel 5Br B'!D119<0.5),\"-\",IFERROR('Tabel 5Br B'!D119/'Tabel 5F B'!D119*100,\"-\"))","v":"-"},{"$f":"IF(OR('Tabel 5F B'!E119<5,'Tabel 5Br B'!E119<0.5),\"-\",IFERROR('Tabel 5Br B'!E119/'Tabel 5F B'!E119*100,\"-\"))","v":"-"},{"$f":"IF(OR('Tabel 5F B'!F119<5,'Tabel 5Br B'!F119<0.5),\"-\",IFERROR('Tabel 5Br B'!F119/'Tabel 5F B'!F119*100,\"-\"))","v":"-"},{"$f":"IF(OR('Tabel 5F B'!G119<5,'Tabel 5Br B'!G119<0.5),\"-\",IFERROR('Tabel 5Br B'!G119/'Tabel 5F B'!G119*100,\"-\"))","v":"-"},{"$f":"IF(OR('Tabel 5F B'!H119<5,'Tabel 5Br B'!H119<0.5),\"-\",IFERROR('Tabel 5Br B'!H119/'Tabel 5F B'!H119*100,\"-\"))","v":"-"},null,{"$f":"IF(OR('Tabel 5F B'!J119<5,'Tabel 5Br B'!J119<0.5),\"-\",IFERROR('Tabel 5Br B'!J119/'Tabel 5F B'!J119*100,\"-\"))","v":"-"}]
["MA. Ph.d.",null,{"$f":"IF(OR('Tabel 5F B'!C120<5,'Tabel 5Br B'!C120<0.5),\"-\",IFERROR('Tabel 5Br B'!C120/'Tabel 5F B'!C120*100,\"-\"))","v":"-"},{"$f":"IF(OR('Tabel 5F B'!D120<5,'Tabel 5Br B'!D120<0.5),\"-\",IFERROR('Tabel 5Br B'!D120/'Tabel 5F B'!D120*100,\"-\"))","v":"-"},{"$f":"IF(OR('Tabel 5F B'!E120<5,'Tabel 5Br B'!E120<0.5),\"-\",IFERROR('Tabel 5Br B'!E120/'Tabel 5F B'!E120*100,\"-\"))","v":"-"},{"$f":"IF(OR('Tabel 5F B'!F120<5,'Tabel 5Br B'!F120<0.5),\"-\",IFERROR('Tabel 5Br B'!F120/'Tabel 5F B'!F120*100,\"-\"))","v":"-"},{"$f":"IF(OR('Tabel 5F B'!G120<5,'Tabel 5Br B'!G120<0.5),\"-\",IFERROR('Tabel 5Br B'!G120/'Tabel 5F B'!G120*100,\"-\"))","v":"-"},{"$f":"IF(OR('Tabel 5F B'!H120<5,'Tabel 5Br B'!H120<0.5),\"-\",IFERROR('Tabel 5Br B'!H120/'Tabel 5F B'!H120*100,\"-\"))","v":"-"},null,{"$f":"IF(OR('Tabel 5F B'!J120<5,'Tabel 5Br B'!J120<0.5),\"-\",IFERROR('Tabel 5Br B'!J120/'Tabel 5F B'!J120*100,\"-\"))","v":"-"}]
["MA. Samf.",null,{"$f":"IF(OR('Tabel 5F B'!C121<5,'Tabel 5Br B'!C121<0.5),\"-\",IFERROR('Tabel 5Br B'!C121/'Tabel 5F B'!C121*100,\"-\"))","v":"-"},{"$f":"IF(OR('Tabel 5F B'!D121<5,'Tabel 5Br B'!D121<0.5),\"-\",IFERROR('Tabel 5Br B'!D121/'Tabel 5F B'!D121*100,\"-\"))","v":"-"},{"$f":"IF(OR('Tabel 5F B'!E121<5,'Tabel 5Br B'!E121<0.5),\"-\",IFERROR('Tabel 5Br B'!E121/'Tabel 5F B'!E121*100,\"-\"))","v":"-"},{"$f":"IF(OR('Tabel 5F B'!F121<5,'Tabel 5Br B'!F121<0.5),\"-\",IFERROR('Tabel 5Br B'!F121/'Tabel 5F B'!F121*100,\"-\"))","v":"-"},{"$f":"IF(OR('Tabel 5F B'!G121<5,'Tabel 5Br B'!G121<0.5),\"-\",IFERROR('Tabel 5Br B'!G121/'Tabel 5F B'!G121*100,\"-\"))","v":"-"},{"$f":"IF(OR('Tabel 5F B'!H121<5,'Tabel 5Br B'!H121<0.5),\"-\",IFERROR('Tabel 5Br B'!H121/'Tabel 5F B'!H121*100,\"-\"))","v":"-"},null,{"$f":"IF(OR('Tabel 5F B'!J121<5,'Tabel 5Br B'!J121<0.5),\"-\",IFERROR('Tabel 5Br B'!J121/'Tabel 5F B'!J121*100,\"-\"))","v":"-"}]
["Øvrige Mag.",null,{"$f":"IF(OR('Tabel 5F B'!C122<5,'Tabel 5Br B'!C122<0.5),\"-\",IFERROR('Tabel 5Br B'!C122/'Tabel 5F B'!C122*100,\"-\"))","v":"-"},{"$f":"IF(OR('Tabel 5F B'!D122<5,'Tabel 5Br B'!D122<0.5),\"-\",IFERROR('Tabel 5Br B'!D122/'Tabel 5F B'!D122*100,\"-\"))","v":"-"},{"$f":"IF(OR('Tabel 5F B'!E122<5,'Tabel 5Br B'!E122<0.5),\"-\",IFERROR('Tabel 5Br B'!E122/'Tabel 5F B'!E122*100,\"-\"))","v":"-"},{"$f":"IF(OR('Tabel 5F B'!F122<5,'Tabel 5Br B'!F122<0.5),\"-\",IFERROR('Tabel 5Br B'!F122/'Tabel 5F B'!F122*100,\"-\"))","v":"-"},{"$f":"IF(OR('Tabel 5F B'!G122<5,'Tabel 5Br B'!G122<0.5),\"-\",IFERROR('Tabel 5Br B'!G122/'Tabel 5F B'!G122*100,\"-\"))","v":"-"},{"$f":"IF(OR('Tabel 5F B'!H122<5,'Tabel 5Br B'!H122<0.5),\"-\",IFERROR('Tabel 5Br B'!H122/'Tabel 5F B'!H122*100,\"-\"))","v":"-"},null,{"$f":"IF(OR('Tabel 5F B'!J122<5,'Tabel 5Br B'!J122<0.5),\"-\",IFERROR('Tabel 5Br B'!J122/'Tabel 5F B'!J122*100,\"-\"))","v":"-"}]
["Agronom",null,{"$f":"IF(OR('Tabel 5F B'!C123<5,'Tabel 5Br B'!C123<0.5),\"-\",IFERROR('Tabel 5Br B'!C123/'Tabel 5F B'!C123*100,\"-\"))","v":"-"},{"$f":"IF(OR('Tabel 5F B'!D123<5,'Tabel 5Br B'!D123<0.5),\"-\",IFERROR('Tabel 5Br B'!D123/'Tabel 5F B'!D123*100,\"-\"))","v":"-"},{"$f":"IF(OR('Tabel 5F B'!E123<5,'Tabel 5Br B'!E123<0.5),\"-\",IFERROR('Tabel 5Br B'!E123/'Tabel 5F B'!E123*100,\"-\"))","v":"-"},{"$f":"IF(OR('Tabel 5F B'!F123<5,'Tabel 5Br B'!F123<0.5),\"-\",IFERROR('Tabel 5Br B'!F123/'Tabel 5F B'!F123*100,\"-\"))","v":"-"},{"$f":"IF(OR('Tabel 5F B'!G123<5,'Tabel 5Br B'!G123<0.5),\"-\",IFERROR('Tabel 5Br B'!G123/'Tabel 5F B'!G123*100,\"-\"))","v":"-"},{"$f":"IF(OR('Tabel 5F B'!H123<5,'Tabel 5Br B'!H123<0.5),\"-\",IFERROR('Tabel 5Br B'!H123/'Tabel 5F B'!H123*100,\"-\"))","v":"-"},null,{"$f":"IF(OR('Tabel 5F B'!J123<5,'Tabel 5Br B'!J123<0.5),\"-\",IFERROR('Tabel 5Br B'!J123/'Tabel 5F B'!J123*100,\"-\"))","v":"-"}]
["Landsk. Arkt.",null,{"$f":"IF(OR('Tabel 5F B'!C124<5,'Tabel 5Br B'!C124<0.5),\"-\",IFERROR('Tabel 5Br B'!C124/'Tabel 5F B'!C124*100,\"-\"))","v":"-"},{"$f":"IF(OR('Tabel 5F B'!D124<5,'Tabel 5Br B'!D124<0.5),\"-\",IFERROR('Tabel 5Br B'!D124/'Tabel 5F B'!D124*100,\"-\"))","v":"-"},{"$f":"IF(OR('Tabel 5F B'!E124<5,'Tabel 5Br B'!E124<0.5),\"-\",IFERROR('Tabel 5Br B'!E124/'Tabel 5F B'!E124*100,\"-\"))","v":"-"},{"$f":"IF(OR('Tabel 5F B'!F124<5,'Tabel 5Br B'!F124<0.5),\"-\",IFERROR('Tabel 5Br B'!F124/'Tabel 5F B'!F124*100,\"-\"))","v":"-"},{"$f":"IF(OR('Tabel 5F B'!G124<5,'Tabel 5Br B'!G124<0.5),\"-\",IFERROR('Tabel 5Br B'!G124/'Tabel 5F B'!G124*100,\"-\"))","v":"-"},{"$f":"IF(OR('Tabel 5F B'!H124<5,'Tabel 5Br B'!H124<0.5),\"-\",IFERROR('Tabel 5Br B'!H124/'Tabel 5F B'!H124*100,\"-\"))","v":"-"},null,{"$f":"IF(OR('Tabel 5F B'!J124<5,'Tabel 5Br B'!J124<0.5),\"-\",IFERROR('Tabel 5Br B'!J124/'Tabel 5F B'!J124*100,\"-\"))","v":"-"}]
["Hortonom",null,{"$f":"IF(OR('Tabel 5F B'!C125<5,'Tabel 5Br B'!C125<0.5),\"-\",IFERROR('Tabel 5Br B'!C125/'Tabel 5F B'!C125*100,\"-\"))","v":"-"},{"$f":"IF(OR('Tabel 5F B'!D125<5,'Tabel 5Br B'!D125<0.5),\"-\",IFERROR('Tabel 5Br B'!D125/'Tabel 5F B'!D125*100,\"-\"))","v":"-"},{"$f":"IF(OR('Tabel 5F B'!E125<5,'Tabel 5Br B'!E125<0.5),\"-\",IFERROR('Tabel 5Br B'!E125/'Tabel 5F B'!E125*100,\"-\"))","v":"-"},{"$f":"IF(OR('Tabel 5F B'!F125<5,'Tabel 5Br B'!F125<0.5),\"-\",IFERROR('Tabel 5Br B'!F125/'Tabel 5F B'!F125*100,\"-\"))","v":"-"},{"$f":"IF(OR('Tabel 5F B'!G125<5,'Tabel 5Br B'!G125<0.5),\"-\",IFERROR('Tabel 5Br B'!G125/'Tabel 5F B'!G125*100,\"-\"))","v":"-"},{"$f":"IF(OR('Tabel 5F B'!H125<5,'Tabel 5Br B'!H125<0.5),\"-\",IFERROR('Tabel 5Br B'!H125/'Tabel 5F B'!H125*100,\"-\"))","v":"-"},null,{"$f":"IF(OR('Tabel 5F B'!J125<5,'Tabel 5Br B'!J125<0.5),\"-\",IFERROR('Tabel 5Br B'!J125/'Tabel 5F B'!J125*100,\"-\"))","v":"-"}]
["Forstkand.",null,{"$f":"IF(OR('Tabel 5F B'!C126<5,'Tabel 5Br B'!C126<0.5),\"-\",IFERROR('Tabel 5Br B'!C126/'Tabel 5F B'!C126*100,\"-\"))","v":"-"},{"$f":"IF(OR('Tabel 5F B'!D126<5,'Tabel 5Br B'!D126<0.5),\"-\",IFERROR('Tabel 5Br B'!D126/'Tabel 5F B'!D126*100,\"-\"))","v":"-"},{"$f":"IF(OR('Tabel 5F B'!E126<5,'Tabel 5Br B'!E126<0.5),\"-\",IFERROR('Tabel 5Br B'!E126/'Tabel 5F B'!E126*100,\"-\"))","v":"-"},{"$f":"IF(OR('Tabel 5F B'!F126<5,'Tabel 5Br B'!F126<0.5),\"-\",IFERROR('Tabel 5Br B'!F126/'Tabel 5F B'!F126*100,\"-\"))","v":"-"},{"$f":"IF(OR('Tabel 5F B'!G126<5,'Tabel 5Br B'!G126<0.5),\"-\",IFERROR('Tabel 5Br B'!G126/'Tabel 5F B'!G126*100,\"-\"))","v":"-"},{"$f":"IF(OR('Tabel 5F B'!H126<5,'Tabel 5Br B'!H126<0.5),\"-\",IFERROR('Tabel 5Br B'!H126/'Tabel 5F B'!H126*100,\"-\"))","v":"-"},null,{"$f":"IF(OR('Tabel 5F B'!J126<5,'Tabel 5Br B'!J126<0.5),\"-\",IFERROR('Tabel 5Br B'!J126/'Tabel 5F B'!J126*100,\"-\"))","v":"-"}]
["Jordbrugsakad.",null,{"$f":"IF(OR('Tabel 5F B'!C127<5,'Tabel 5Br B'!C127<0.5),\"-\",IFERROR('Tabel 5Br B'!C127/'Tabel 5F B'!C127*100,\"-\"))","v":"-"},{"$f":"IF(OR('Tabel 5F B'!D127<5,'Tabel 5Br B'!D127<0.5),\"-\",IFERROR('Tabel 5Br B'!D127/'Tabel 5F B'!D127*100,\"-\"))","v":"-"},{"$f":"IF(OR('Tabel 5F B'!E127<5,'Tabel 5Br B'!E127<0.5),\"-\",IFERROR('Tabel 5Br B'!E127/'Tabel 5F B'!E127*100,\"-\"))","v":"-"},{"$f":"IF(OR('Tabel 5F B'!F127<5,'Tabel 5Br B'!F127<0.5),\"-\",IFERROR('Tabel 5Br B'!F127/'Tabel 5F B'!F127*100,\"-\"))","v":"-"},{"$f":"IF(OR('Tabel 5F B'!G127<5,'Tabel 5Br B'!G127<0.5),\"-\",IFERROR('Tabel 5Br B'!G127/'Tabel 5F B'!G127*100,\"-\"))","v":"-"},{"$f":"IF(OR('Tabel 5F B'!H127<5,'Tabel 5Br B'!H127<0.5),\"-\",IFERROR('Tabel 5Br B'!H127/'Tabel 5F B'!H127*100,\"-\"))","v":"-"},null,{"$f":"IF(OR('Tabel 5F B'!J127<5,'Tabel 5Br B'!J127<0.5),\"-\",IFERROR('Tabel 5Br B'!J127/'Tabel 5F B'!J127*100,\"-\"))","v":"-"}]
["Mejeriing.",null,{"$f":"IF(OR('Tabel 5F B'!C128<5,'Tabel 5Br B'!C128<0.5),\"-\",IFERROR('Tabel 5Br B'!C128/'Tabel 5F B'!C128*100,\"-\"))","v":"-"},{"$f":"IF(OR('Tabel 5F B'!D128<5,'Tabel 5Br B'!D128<0.5),\"-\",IFERROR('Tabel 5Br B'!D128/'Tabel 5F B'!D128*100,\"-\"))","v":"-"},{"$f":"IF(OR('Tabel 5F B'!E128<5,'Tabel 5Br B'!E128<0.5),\"-\",IFERROR('Tabel 5Br B'!E128/'Tabel 5F B'!E128*100,\"-\"))","v":"-"},{"$f":"IF(OR('Tabel 5F B'!F128<5,'Tabel 5Br B'!F128<0.5),\"-\",IFERROR('Tabel 5Br B'!F128/'Tabel 5F B'!F128*100,\"-\"))","v":"-"},{"$f":"IF(OR('Tabel 5F B'!G128<5,'Tabel 5Br B'!G128<0.5),\"-\",IFERROR('Tabel 5Br B'!G128/'Tabel 5F B'!G128*100,\"-\"))","v":"-"},{"$f":"IF(OR('Tabel 5F B'!H128<5,'Tabel 5Br B'!H128<0.5),\"-\",IFERROR('Tabel 5Br B'!H128/'Tabel 5F B'!H128*100,\"-\"))","v":"-"},null,{"$f":"IF(OR('Tabel 5F B'!J128<5,'Tabel 5Br B'!J128<0.5),\"-\",IFERROR('Tabel 5Br B'!J128/'Tabel 5F B'!J128*100,\"-\"))","v":"-"}]
["Levn.m.kand.",null,{"$f":"IF(OR('Tabel 5F B'!C129<5,'Tabel 5Br B'!C129<0.5),\"-\",IFERROR('Tabel 5Br B'!C129/'Tabel 5F B'!C129*100,\"-\"))","v":"-"},{"$f":"IF(OR('Tabel 5F B'!D129<5,'Tabel 5Br B'!D129<0.5),\"-\",IFERROR('Tabel 5Br B'!D129/'Tabel 5F B'!D129*100,\"-\"))","v":"-"},{"$f":"IF(OR('Tabel 5F B'!E129<5,'Tabel 5Br B'!E129<0.5),\"-\",IFERROR('Tabel 5Br B'!E129/'Tabel 5F B'!E129*100,\"-\"))","v":"-"},{"$f":"IF(OR('Tabel 5F B'!F129<5,'Tabel 5Br B'!F129<0.5),\"-\",IFERROR('Tabel 5Br B'!F129/'Tabel 5F B'!F129*100,\"-\"))","v":"-"},{"$f":"IF(OR('Tabel 5F B'!G129<5,'Tabel 5Br B'!G129<0.5),\"-\",IFERROR('Tabel 5Br B'!G129/'Tabel 5F B'!G129*100,\"-\"))","v":"-"},{"$f":"IF(OR('Tabel 5F B'!H129<5,'Tabel 5Br B'!H129<0.5),\"-\",IFERROR('Tabel 5Br B'!H129/'Tabel 5F B'!H129*100,\"-\"))","v":"-"},null,{"$f":"IF(OR('Tabel 5F B'!J129<5,'Tabel 5Br B'!J129<0.5),\"-\",IFERROR('Tabel 5Br B'!J129/'Tabel 5F B'!J129*100,\"-\"))","v":"-"}]
["Dyrlæge",null,{"$f":"IF(OR('Tabel 5F B'!C130<5,'Tabel 5Br B'!C130<0.5),\"-\",IFERROR('Tabel 5Br B'!C130/'Tabel 5F B'!C130*100,\"-\"))","v":"-"},{"$f":"IF(OR('Tabel 5F B'!D130<5,'Tabel 5Br B'!D130<0.5),\"-\",IFERROR('Tabel 5Br B'!D130/'Tabel 5F B'!D130*100,\"-\"))","v":"-"},{"$f":"IF(OR('Tabel 5F B'!E130<5,'Tabel 5Br B'!E130<0.5),\"-\",IFERROR('Tabel 5Br B'!E130/'Tabel 5F B'!E130*100,\"-\"))","v":"-"},{"$f":"IF(OR('Tabel 5F B'!F130<5,'Tabel 5Br B'!F130<0.5),\"-\",IFERROR('Tabel 5Br B'!F130/'Tabel 5F B'!F130*100,\"-\"))","v":"-"},{"$f":"IF(OR('Tabel 5F B'!G130<5,'Tabel 5Br B'!G130<0.5),\"-\",IFERROR('Tabel 5Br B'!G130/'Tabel 5F B'!G130*100,\"-\"))","v":"-"},{"$f":"IF(OR('Tabel 5F B'!H130<5,'Tabel 5Br B'!H130<0.5),\"-\",IFERROR('Tabel 5Br B'!H130/'Tabel 5F B'!H130*100,\"-\"))","v":"-"},null,{"$f":"IF(OR('Tabel 5F B'!J130<5,'Tabel 5Br B'!J130<0.5),\"-\",IFERROR('Tabel 5Br B'!J130/'Tabel 5F B'!J130*100,\"-\"))","v":"-"}]
["Farmaceut",null,{"$f":"IF(OR('Tabel 5F B'!C131<5,'Tabel 5Br B'!C131<0.5),\"-\",IFERROR('Tabel 5Br B'!C131/'Tabel 5F B'!C131*100,\"-\"))","v":"-"},{"$f":"IF(OR('Tabel 5F B'!D131<5,'Tabel 5Br B'!D131<0.5),\"-\",IFERROR('Tabel 5Br B'!D131/'Tabel 5F B'!D131*100,\"-\"))","v":"-"},{"$f":"IF(OR('Tabel 5F B'!E131<5,'Tabel 5Br B'!E131<0.5),\"-\",IFERROR('Tabel 5Br B'!E131/'Tabel 5F B'!E131*100,\"-\"))","v":"-"},{"$f":"IF(OR('Tabel 5F B'!F131<5,'Tabel 5Br B'!F131<0.5),\"-\",IFERROR('Tabel 5Br B'!F131/'Tabel 5F B'!F131*100,\"-\"))","v":"-"},{"$f":"IF(OR('Tabel 5F B'!G131<5,'Tabel 5Br B'!G131<0.5),\"-\",IFERROR('Tabel 5Br B'!G131/'Tabel 5F B'!G131*100,\"-\"))","v":"-"},{"$f":"IF(OR('Tabel 5F B'!H131<5,'Tabel 5Br B'!H131<0.5),\"-\",IFERROR('Tabel 5Br B'!H131/'Tabel 5F B'!H131*100,\"-\"))","v":"-"},null,{"$f":"IF(OR('Tabel 5F B'!J131<5,'Tabel 5Br B'!J131<0.5),\"-\",IFERROR('Tabel 5Br B'!J131/'Tabel 5F B'!J131*100,\"-\"))","v":"-"}]
["Læge",null,{"$f":"IF(OR('Tabel 5F B'!C132<5,'Tabel 5Br B'!C132<0.5),\"-\",IFERROR('Tabel 5Br B'!C132/'Tabel 5F B'!C132*100,\"-\"))","v":"-"},{"$f":"IF(OR('Tabel 5F B'!D132<5,'Tabel 5Br B'!D132<0.5),\"-\",IFERROR('Tabel 5Br B'!D132/'Tabel 5F B'!D132*100,\"-\"))","v":"-"},{"$f":"IF(OR('Tabel 5F B'!E132<5,'Tabel 5Br B'!E132<0.5),\"-\",IFERROR('Tabel 5Br B'!E132/'Tabel 5F B'!E132*100,\"-\"))","v":"-"},{"$f":"IF(OR('Tabel 5F B'!F132<5,'Tabel 5Br B'!F132<0.5),\"-\",IFERROR('Tabel 5Br B'!F132/'Tabel 5F B'!F132*100,\"-\"))","v":"-"},{"$f":"IF(OR('Tabel 5F B'!G132<5,'Tabel 5Br B'!G132<0.5),\"-\",IFERROR('Tabel 5Br B'!G132/'Tabel 5F B'!G132*100,\"-\"))","v":"-"},{"$f":"IF(OR('Tabel 5F B'!H132<5,'Tabel 5Br B'!H132<0.5),\"-\",IFERROR('Tabel 5Br B'!H132/'Tabel 5F B'!H132*100,\"-\"))","v":"-"},null,{"$f":"IF(OR('Tabel 5F B'!J132<5,'Tabel 5Br B'!J132<0.5),\"-\",IFERROR('Tabel 5Br B'!J132/'Tabel 5F B'!J132*100,\"-\"))","v":"-"}]
["Tandlæge",null,{"$f":"IF(OR('Tabel 5F B'!C133<5,'Tabel 5Br B'!C133<0.5),\"-\",IFERROR('Tabel 5Br B'!C133/'Tabel 5F B'!C133*100,\"-\"))","v":"-"},{"$f":"IF(OR('Tabel 5F B'!D133<5,'Tabel 5Br B'!D133<0.5),\"-\",IFERROR('Tabel 5Br B'!D133/'Tabel 5F B'!D133*100,\"-\"))","v":"-"},{"$f":"IF(OR('Tabel 5F B'!E133<5,'Tabel 5Br B'!E133<0.5),\"-\",IFERROR('Tabel 5Br B'!E133/'Tabel 5F B'!E133*100,\"-\"))","v":"-"},{"$f":"IF(OR('Tabel 5F B'!F133<5,'Tabel 5Br B'!F133<0.5),\"-\",IFERROR('Tabel 5Br B'!F133/'Tabel 5F B'!F133*100,\"-\"))","v":"-"},{"$f":"IF(OR('Tabel 5F B'!G133<5,'Tabel 5Br B'!G133<0.5),\"-\",IFERROR('Tabel 5Br B'!G133/'Tabel 5F B'!G133*100,\"-\"))","v":"-"},{"$f":"IF(OR('Tabel 5F B'!H133<5,'Tabel 5Br B'!H133<0.5),\"-\",IFERROR('Tabel 5Br B'!H133/'Tabel 5F B'!H133*100,\"-\"))","v":"-"},null,{"$f":"IF(OR('Tabel 5F B'!J133<5,'Tabel 5Br B'!J133<0.5),\"-\",IFERROR('Tabel 5Br B'!J133/'Tabel 5F B'!J133*100,\"-\"))","v":"-"}]
["Arkitekt",null,{"$f":"IF(OR('Tabel 5F B'!C134<5,'Tabel 5Br B'!C134<0.5),\"-\",IFERROR('Tabel 5Br B'!C134/'Tabel 5F B'!C134*100,\"-\"))","v":"-"},{"$f":"IF(OR('Tabel 5F B'!D134<5,'Tabel 5Br B'!D134<0.5),\"-\",IFERROR('Tabel 5Br B'!D134/'Tabel 5F B'!D134*100,\"-\"))","v":"-"},{"$f":"IF(OR('Tabel 5F B'!E134<5,'Tabel 5Br B'!E134<0.5),\"-\",IFERROR('Tabel 5Br B'!E134/'Tabel 5F B'!E134*100,\"-\"))","v":"-"},{"$f":"IF(OR('Tabel 5F B'!F134<5,'Tabel 5Br B'!F134<0.5),\"-\",IFERROR('Tabel 5Br B'!F134/'Tabel 5F B'!F134*100,\"-\"))","v":"-"},{"$f":"IF(OR('Tabel 5F B'!G134<5,'Tabel 5Br B'!G134<0.5),\"-\",IFERROR('Tabel 5Br B'!G134/'Tabel 5F B'!G134*100,\"-\"))","v":"-"},{"$f":"IF(OR('Tabel 5F B'!H134<5,'Tabel 5Br B'!H134<0.5),\"-\",IFERROR('Tabel 5Br B'!H134/'Tabel 5F B'!H134*100,\"-\"))","v":"-"},null,{"$f":"IF(OR('Tabel 5F B'!J134<5,'Tabel 5Br B'!J134<0.5),\"-\",IFERROR('Tabel 5Br B'!J134/'Tabel 5F B'!J134*100,\"-\"))","v":"-"}]
["Landinspek.",null,{"$f":"IF(OR('Tabel 5F B'!C135<5,'Tabel 5Br B'!C135<0.5),\"-\",IFERROR('Tabel 5Br B'!C135/'Tabel 5F B'!C135*100,\"-\"))","v":"-"},{"$f":"IF(OR('Tabel 5F B'!D135<5,'Tabel 5Br B'!D135<0.5),\"-\",IFERROR('Tabel 5Br B'!D135/'Tabel 5F B'!D135*100,\"-\"))","v":"-"},{"$f":"IF(OR('Tabel 5F B'!E135<5,'Tabel 5Br B'!E135<0.5),\"-\",IFERROR('Tabel 5Br B'!E135/'Tabel 5F B'!E135*100,\"-\"))","v":"-"},{"$f":"IF(OR('Tabel 5F B'!F135<5,'Tabel 5Br B'!F135<0.5),\"-\",IFERROR('Tabel 5Br B'!F135/'Tabel 5F B'!F135*100,\"-\"))","v":"-"},{"$f":"IF(OR('Tabel 5F B'!G135<5,'Tabel 5Br B'!G135<0.5),\"-\",IFERROR('Tabel 5Br B'!G135/'Tabel 5F B'!G135*100,\"-\"))","v":"-"},{"$f":"IF(OR('Tabel 5F B'!H135<5,'Tabel 5Br B'!H135<0.5),\"-\",IFERROR('Tabel 5Br B'!H135/'Tabel 5F B'!H135*100,\"-\"))","v":"-"},null,{"$f":"IF(OR('Tabel 5F B'!J135<5,'Tabel 5Br B'!J135<0.5),\"-\",IFERROR('Tabel 5Br B'!J135/'Tabel 5F B'!J135*100,\"-\"))","v":"-"}]
["Bibliotekar",null,{"$f":"IF(OR('Tabel 5F B'!C136<5,'Tabel 5Br B'!C136<0.5),\"-\",IFERROR('Tabel 5Br B'!C136/'Tabel 5F B'!C136*100,\"-\"))","v":"-"},{"$f":"IF(OR('Tabel 5F B'!D136<5,'Tabel 5Br B'!D136<0.5),\"-\",IFERROR('Tabel 5Br B'!D136/'Tabel 5F B'!D136*100,\"-\"))","v":"-"},{"$f":"IF(OR('Tabel 5F B'!E136<5,'Tabel 5Br B'!E136<0.5),\"-\",IFERROR('Tabel 5Br B'!E136/'Tabel 5F B'!E136*100,\"-\"))","v":"-"},{"$f":"IF(OR('Tabel 5F B'!F136<5,'Tabel 5Br B'!F136<0.5),\"-\",IFERROR('Tabel 5Br B'!F136/'Tabel 5F B'!F136*100,\"-\"))","v":"-"},{"$f":"IF(OR('Tabel 5F B'!G136<5,'Tabel 5Br B'!G136<0.5),\"-\",IFERROR('Tabel 5Br B'!G136/'Tabel 5F B'!G136*100,\"-\"))","v":"-"},{"$f":"IF(OR('Tabel 5F B'!H136<5,'Tabel 5Br B'!H136<0.5),\"-\",IFERROR('Tabel 5Br B'!H136/'Tabel 5F B'!H136*100,\"-\"))","v":"-"},null,{"$f":"IF(OR('Tabel 5F B'!J136<5,'Tabel 5Br B'!J136<0.5),\"-\",IFERROR('Tabel 5Br B'!J136/'Tabel 5F B'!J136*100,\"-\"))","v":"-"}]
["Musikudd.",null,{"$f":"IF(OR('Tabel 5F B'!C137<5,'Tabel 5Br B'!C137<0.5),\"-\",IFERROR('Tabel 5Br B'!C137/'Tabel 5F B'!C137*100,\"-\"))","v":"-"},{"$f":"IF(OR('Tabel 5F B'!D137<5,'Tabel 5Br B'!D137<0.5),\"-\",IFERROR('Tabel 5Br B'!D137/'Tabel 5F B'!D137*100,\"-\"))","v":"-"},{"$f":"IF(OR('Tabel 5F B'!E137<5,'Tabel 5Br B'!E137<0.5),\"-\",IFERROR('Tabel 5Br B'!E137/'Tabel 5F B'!E137*100,\"-\"))","v":"-"},{"$f":"IF(OR('Tabel 5F B'!F137<5,'Tabel 5Br B'!F137<0.5),\"-\",IFERROR('Tabel 5Br B'!F137/'Tabel 5F B'!F137*100,\"-\"))","v":"-"},{"$f":"IF(OR('Tabel 5F B'!G137<5,'Tabel 5Br B'!G137<0.5),\"-\",IFERROR('Tabel 5Br B'!G137/'Tabel 5F B'!G137*100,\"-\"))","v":"-"},{"$f":"IF(OR('Tabel 5F B'!H137<5,'Tabel 5Br B'!H137<0.5),\"-\",IFERROR('Tabel 5Br B'!H137/'Tabel 5F B'!H137*100,\"-\"))","v":"-"},null,{"$f":"IF(OR('Tabel 5F B'!J137<5,'Tabel 5Br B'!J137<0.5),\"-\",IFERROR('Tabel 5Br B'!J137/'Tabel 5F B'!J137*100,\"-\"))","v":"-"}]
["Teolog",null,{"$f":"IF(OR('Tabel 5F B'!C138<5,'Tabel 5Br B'!C138<0.5),\"-\",IFERROR('Tabel 5Br B'!C138/'Tabel 5F B'!C138*100,\"-\"))","v":"-"},{"$f":"IF(OR('Tabel 5F B'!D138<5,'Tabel 5Br B'!D138<0.5),\"-\",IFERROR('Tabel 5Br B'!D138/'Tabel 5F B'!D138*100,\"-\"))","v":"-"},{"$f":"IF(OR('Tabel 5F B'!E138<5,'Tabel 5Br B'!E138<0.5),\"-\",IFERROR('Tabel 5Br B'!E138/'Tabel 5F B'!E138*100,\"-\"))","v":"-"},{"$f":"IF(OR('Tabel 5F B'!F138<5,'Tabel 5Br B'!F138<0.5),\"-\",IFERROR('Tabel 5Br B'!F138/'Tabel 5F B'!F138*100,\"-\"))","v":"-"},{"$f":"IF(OR('Tabel 5F B'!G138<5,'Tabel 5Br B'!G138<0.5),\"-\",IFERROR('Tabel 5Br B'!G138/'Tabel 5F B'!G138*100,\"-\"))","v":"-"},{"$f":"IF(OR('Tabel 5F B'!H138<5,'Tabel 5Br B'!H138<0.5),\"-\",IFERROR('Tabel 5Br B'!H138/'Tabel 5F B'!H138*100,\"-\"))","v":"-"},null,{"$f":"IF(OR('Tabel 5F B'!J138<5,'Tabel 5Br B'!J138<0.5),\"-\",IFERROR('Tabel 5Br B'!J138/'Tabel 5F B'!J138*100,\"-\"))","v":"-"}]
["Psykolog",null,{"$f":"IF(OR('Tabel 5F B'!C139<5,'Tabel 5Br B'!C139<0.5),\"-\",IFERROR('Tabel 5Br B'!C139/'Tabel 5F B'!C139*100,\"-\"))","v":"-"},{"$f":"IF(OR('Tabel 5F B'!D139<5,'Tabel 5Br B'!D139<0.5),\"-\",IFERROR('Tabel 5Br B'!D139/'Tabel 5F B'!D139*100,\"-\"))","v":"-"},{"$f":"IF(OR('Tabel 5F B'!E139<5,'Tabel 5Br B'!E139<0.5),\"-\",IFERROR('Tabel 5Br B'!E139/'Tabel 5F B'!E139*100,\"-\"))","v":"-"},{"$f":"IF(OR('Tabel 5F B'!F139<5,'Tabel 5Br B'!F139<0.5),\"-\",IFERROR('Tabel 5Br B'!F139/'Tabel 5F B'!F139*100,\"-\"))","v":"-"},{"$f":"IF(OR('Tabel 5F B'!G139<5,'Tabel 5Br B'!G139<0.5),\"-\",IFERROR('Tabel 5Br B'!G139/'Tabel 5F B'!G139*100,\"-\"))","v":"-"},{"$f":"IF(OR('Tabel 5F B'!H139<5,'Tabel 5Br B'!H139<0.5),\"-\",IFERROR('Tabel 5Br B'!H139/'Tabel 5F B'!H139*100,\"-\"))","v":"-"},null,{"$f":"IF(OR('Tabel 5F B'!J139<5,'Tabel 5Br B'!J139<0.5),\"-\",IFERROR('Tabel 5Br B'!J139/'Tabel 5F B'!J139*100,\"-\"))","v":"-"}]
["Jurist",null,{"$f":"IF(OR('Tabel 5F B'!C140<5,'Tabel 5Br B'!C140<0.5),\"-\",IFERROR('Tabel 5Br B'!C140/'Tabel 5F B'!C140*100,\"-\"))","v":"-"},{"$f":"IF(OR('Tabel 5F B'!D140<5,'Tabel 5Br B'!D140<0.5),\"-\",IFERROR('Tabel 5Br B'!D140/'Tabel 5F B'!D140*100,\"-\"))","v":"-"},{"$f":"IF(OR('Tabel 5F B'!E140<5,'Tabel 5Br B'!E140<0.5),\"-\",IFERROR('Tabel 5Br B'!E140/'Tabel 5F B'!E140*100,\"-\"))","v":"-"},{"$f":"IF(OR('Tabel 5F B'!F140<5,'Tabel 5Br B'!F140<0.5),\"-\",IFERROR('Tabel 5Br B'!F140/'Tabel 5F B'!F140*100,\"-\"))","v":"-"},{"$f":"IF(OR('Tabel 5F B'!G140<5,'Tabel 5Br B'!G140<0.5),\"-\",IFERROR('Tabel 5Br B'!G140/'Tabel 5F B'!G140*100,\"-\"))","v":"-"},{"$f":"IF(OR('Tabel 5F B'!H140<5,'Tabel 5Br B'!H140<0.5),\"-\",IFERROR('Tabel 5Br B'!H140/'Tabel 5F B'!H140*100,\"-\"))","v":"-"},null,{"$f":"IF(OR('Tabel 5F B'!J140<5,'Tabel 5Br B'!J140<0.5),\"-\",IFERROR('Tabel 5Br B'!J140/'Tabel 5F B'!J140*100,\"-\"))","v":"-"}]
["Økonom",null,{"$f":"IF(OR('Tabel 5F B'!C141<5,'Tabel 5Br B'!C141<0.5),\"-\",IFERROR('Tabel 5Br B'!C141/'Tabel 5F B'!C141*100,\"-\"))","v":"-"},{"$f":"IF(OR('Tabel 5F B'!D141<5,'Tabel 5Br B'!D141<0.5),\"-\",IFERROR('Tabel 5Br B'!D141/'Tabel 5F B'!D141*100,\"-\"))","v":"-"},{"$f":"IF(OR('Tabel 5F B'!E141<5,'Tabel 5Br B'!E141<0.5),\"-\",IFERROR('Tabel 5Br B'!E141/'Tabel 5F B'!E141*100,\"-\"))","v":"-"},{"$f":"IF(OR('Tabel 5F B'!F141<5,'Tabel 5Br B'!F141<0.5),\"-\",IFERROR('Tabel 5Br B'!F141/'Tabel 5F B'!F141*100,\"-\"))","v":"-"},{"$f":"IF(OR('Tabel 5F B'!G141<5,'Tabel 5Br B'!G141<0.5),\"-\",IFERROR('Tabel 5Br B'!G141/'Tabel 5F B'!G141*100,\"-\"))","v":"-"},{"$f":"IF(OR('Tabel 5F B'!H141<5,'Tabel 5Br B'!H141<0.5),\"-\",IFERROR('Tabel 5Br B'!H141/'Tabel 5F B'!H141*100,\"-\"))","v":"-"},null,{"$f":"IF(OR('Tabel 5F B'!J141<5,'Tabel 5Br B'!J141<0.5),\"-\",IFERROR('Tabel 5Br B'!J141/'Tabel 5F B'!J141*100,\"-\"))","v":"-"}]
["Samf. Adm.",null,{"$f":"IF(OR('Tabel 5F B'!C142<5,'Tabel 5Br B'!C142<0.5),\"-\",IFERROR('Tabel 5Br B'!C142/'Tabel 5F B'!C142*100,\"-\"))","v":"-"},{"$f":"IF(OR('Tabel 5F B'!D142<5,'Tabel 5Br B'!D142<0.5),\"-\",IFERROR('Tabel 5Br B'!D142/'Tabel 5F B'!D142*100,\"-\"))","v":"-"},{"$f":"IF(OR('Tabel 5F B'!E142<5,'Tabel 5Br B'!E142<0.5),\"-\",IFERROR('Tabel 5Br B'!E142/'Tabel 5F B'!E142*100,\"-\"))","v":"-"},{"$f":"IF(OR('Tabel 5F B'!F142<5,'Tabel 5Br B'!F142<0.5),\"-\",IFERROR('Tabel 5Br B'!F142/'Tabel 5F B'!F142*100,\"-\"))","v":"-"},{"$f":"IF(OR('Tabel 5F B'!G142<5,'Tabel 5Br B'!G142<0.5),\"-\",IFERROR('Tabel 5Br B'!G142/'Tabel 5F B'!G142*100,\"-\"))","v":"-"},{"$f":"IF(OR('Tabel 5F B'!H142<5,'Tabel 5Br B'!H142<0.5),\"-\",IFERROR('Tabel 5Br B'!H142/'Tabel 5F B'!H142*100,\"-\"))","v":"-"},null,{"$f":"IF(OR('Tabel 5F B'!J142<5,'Tabel 5Br B'!J142<0.5),\"-\",IFERROR('Tabel 5Br B'!J142/'Tabel 5F B'!J142*100,\"-\"))","v":"-"}]
["Cand. Merc.",null,{"$f":"IF(OR('Tabel 5F B'!C143<5,'Tabel 5Br B'!C143<0.5),\"-\",IFERROR('Tabel 5Br B'!C143/'Tabel 5F B'!C143*100,\"-\"))","v":"-"},{"$f":"IF(OR('Tabel 5F B'!D143<5,'Tabel 5Br B'!D143<0.5),\"-\",IFERROR('Tabel 5Br B'!D143/'Tabel 5F B'!D143*100,\"-\"))","v":"-"},{"$f":"IF(OR('Tabel 5F B'!E143<5,'Tabel 5Br B'!E143<0.5),\"-\",IFERROR('Tabel 5Br B'!E143/'Tabel 5F B'!E143*100,\"-\"))","v":"-"},{"$f":"IF(OR('Tabel 5F B'!F143<5,'Tabel 5Br B'!F143<0.5),\"-\",IFERROR('Tabel 5Br B'!F143/'Tabel 5F B'!F143*100,\"-\"))","v":"-"},{"$f":"IF(OR('Tabel 5F B'!G143<5,'Tabel 5Br B'!G143<0.5),\"-\",IFERROR('Tabel 5Br B'!G143/'Tabel 5F B'!G143*100,\"-\"))","v":"-"},{"$f":"IF(OR('Tabel 5F B'!H143<5,'Tabel 5Br B'!H143<0.5),\"-\",IFERROR('Tabel 5Br B'!H143/'Tabel 5F B'!H143*100,\"-\"))","v":"-"},null,{"$f":"IF(OR('Tabel 5F B'!J143<5,'Tabel 5Br B'!J143<0.5),\"-\",IFERROR('Tabel 5Br B'!J143/'Tabel 5F B'!J143*100,\"-\"))","v":"-"}]
["HA",null,{"$f":"IF(OR('Tabel 5F B'!C144<5,'Tabel 5Br B'!C144<0.5),\"-\",IFERROR('Tabel 5Br B'!C144/'Tabel 5F B'!C144*100,\"-\"))","v":"-"},{"$f":"IF(OR('Tabel 5F B'!D144<5,'Tabel 5Br B'!D144<0.5),\"-\",IFERROR('Tabel 5Br B'!D144/'Tabel 5F B'!D144*100,\"-\"))","v":"-"},{"$f":"IF(OR('Tabel 5F B'!E144<5,'Tabel 5Br B'!E144<0.5),\"-\",IFERROR('Tabel 5Br B'!E144/'Tabel 5F B'!E144*100,\"-\"))","v":"-"},{"$f":"IF(OR('Tabel 5F B'!F144<5,'Tabel 5Br B'!F144<0.5),\"-\",IFERROR('Tabel 5Br B'!F144/'Tabel 5F B'!F144*100,\"-\"))","v":"-"},{"$f":"IF(OR('Tabel 5F B'!G144<5,'Tabel 5Br B'!G144<0.5),\"-\",IFERROR('Tabel 5Br B'!G144/'Tabel 5F B'!G144*100,\"-\"))","v":"-"},{"$f":"IF(OR('Tabel 5F B'!H144<5,'Tabel 5Br B'!H144<0.5),\"-\",IFERROR('Tabel 5Br B'!H144/'Tabel 5F B'!H144*100,\"-\"))","v":"-"},null,{"$f":"IF(OR('Tabel 5F B'!J144<5,'Tabel 5Br B'!J144<0.5),\"-\",IFERROR('Tabel 5Br B'!J144/'Tabel 5F B'!J144*100,\"-\"))","v":"-"}]
["HD",null,{"$f":"IF(OR('Tabel 5F B'!C145<5,'Tabel 5Br B'!C145<0.5),\"-\",IFERROR('Tabel 5Br B'!C145/'Tabel 5F B'!C145*100,\"-\"))","v":"-"},{"$f":"IF(OR('Tabel 5F B'!D145<5,'Tabel 5Br B'!D145<0.5),\"-\",IFERROR('Tabel 5Br B'!D145/'Tabel 5F B'!D145*100,\"-\"))","v":"-"},{"$f":"IF(OR('Tabel 5F B'!E145<5,'Tabel 5Br B'!E145<0.5),\"-\",IFERROR('Tabel 5Br B'!E145/'Tabel 5F B'!E145*100,\"-\"))","v":"-"},{"$f":"IF(OR('Tabel 5F B'!F145<5,'Tabel 5Br B'!F145<0.5),\"-\",IFERROR('Tabel 5Br B'!F145/'Tabel 5F B'!F145*100,\"-\"))","v":"-"},{"$f":"IF(OR('Tabel 5F B'!G145<5,'Tabel 5Br B'!G145<0.5),\"-\",IFERROR('Tabel 5Br B'!G145/'Tabel 5F B'!G145*100,\"-\"))","v":"-"},{"$f":"IF(OR('Tabel 5F B'!H145<5,'Tabel 5Br B'!H145<0.5),\"-\",IFERROR('Tabel 5Br B'!H145/'Tabel 5F B'!H145*100,\"-\"))","v":"-"},null,{"$f":"IF(OR('Tabel 5F B'!J145<5,'Tabel 5Br B'!J145<0.5),\"-\",IFERROR('Tabel 5Br B'!J145/'Tabel 5F B'!J145*100,\"-\"))","v":"-"}]
["Komm. og Sprog",null,{"$f":"IF(OR('Tabel 5F B'!C146<5,'Tabel 5Br B'!C146<0.5),\"-\",IFERROR('Tabel 5Br B'!C146/'Tabel 5F B'!C146*100,\"-\"))","v":"-"},{"$f":"IF(OR('Tabel 5F B'!D146<5,'Tabel 5Br B'!D146<0.5),\"-\",IFERROR('Tabel 5Br B'!D146/'Tabel 5F B'!D146*100,\"-\"))","v":"-"},{"$f":"IF(OR('Tabel 5F B'!E146<5,'Tabel 5Br B'!E146<0.5),\"-\",IFERROR('Tabel 5Br B'!E146/'Tabel 5F B'!E146*100,\"-\"))","v":"-"},{"$f":"IF(OR('Tabel 5F B'!F146<5,'Tabel 5Br B'!F146<0.5),\"-\",IFERROR('Tabel 5Br B'!F146/'Tabel 5F B'!F146*100,\"-\"))","v":"-"},{"$f":"IF(OR('Tabel 5F B'!G146<5,'Tabel 5Br B'!G146<0.5),\"-\",IFERROR('Tabel 5Br B'!G146/'Tabel 5F B'!G146*100,\"-\"))","v":"-"},{"$f":"IF(OR('Tabel 5F B'!H146<5,'Tabel 5Br B'!H146<0.5),\"-\",IFERROR('Tabel 5Br B'!H146/'Tabel 5F B'!H146*100,\"-\"))","v":"-"},null,{"$f":"IF(OR('Tabel 5F B'!J146<5,'Tabel 5Br B'!J146<0.5),\"-\",IFERROR('Tabel 5Br B'!J146/'Tabel 5F B'!J146*100,\"-\"))","v":"-"}]
["Bygningskonst.",null,{"$f":"IF(OR('Tabel 5F B'!C147<5,'Tabel 5Br B'!C147<0.5),\"-\",IFERROR('Tabel 5Br B'!C147/'Tabel 5F B'!C147*100,\"-\"))","v":"-"},{"$f":"IF(OR('Tabel 5F B'!D147<5,'Tabel 5Br B'!D147<0.5),\"-\",IFERROR('Tabel 5Br B'!D147/'Tabel 5F B'!D147*100,\"-\"))","v":"-"},{"$f":"IF(OR('Tabel 5F B'!E147<5,'Tabel 5Br B'!E147<0.5),\"-\",IFERROR('Tabel 5Br B'!E147/'Tabel 5F B'!E147*100,\"-\"))","v":"-"},{"$f":"IF(OR('Tabel 5F B'!F147<5,'Tabel 5Br B'!F147<0.5),\"-\",IFERROR('Tabel 5Br B'!F147/'Tabel 5F B'!F147*100,\"-\"))","v":"-"},{"$f":"IF(OR('Tabel 5F B'!G147<5,'Tabel 5Br B'!G147<0.5),\"-\",IFERROR('Tabel 5Br B'!G147/'Tabel 5F B'!G147*100,\"-\"))","v":"-"},{"$f":"IF(OR('Tabel 5F B'!H147<5,'Tabel 5Br B'!H147<0.5),\"-\",IFERROR('Tabel 5Br B'!H147/'Tabel 5F B'!H147*100,\"-\"))","v":"-"},null,{"$f":"IF(OR('Tabel 5F B'!J147<5,'Tabel 5Br B'!J147<0.5),\"-\",IFERROR('Tabel 5Br B'!J147/'Tabel 5F B'!J147*100,\"-\"))","v":"-"}]
["Cand. IT.",null,{"$f":"IF(OR('Tabel 5F B'!C148<5,'Tabel 5Br B'!C148<0.5),\"-\",IFERROR('Tabel 5Br B'!C148/'Tabel 5F B'!C148*100,\"-\"))","v":"-"},{"$f":"IF(OR('Tabel 5F B'!D148<5,'Tabel 5Br B'!D148<0.5),\"-\",IFERROR('Tabel 5Br B'!D148/'Tabel 5F B'!D148*100,\"-\"))","v":"-"},{"$f":"IF(OR('Tabel 5F B'!E148<5,'Tabel 5Br B'!E148<0.5),\"-\",IFERROR('Tabel 5Br B'!E148/'Tabel 5F B'!E148*100,\"-\"))","v":"-"},{"$f":"IF(OR('Tabel 5F B'!F148<5,'Tabel 5Br B'!F148<0.5),\"-\",IFERROR('Tabel 5Br B'!F148/'Tabel 5F B'!F148*100,\"-\"))","v":"-"},{"$f":"IF(OR('Tabel 5F B'!G148<5,'Tabel 5Br B'!G148<0.5),\"-\",IFERROR('Tabel 5Br B'!G148/'Tabel 5F B'!G148*100,\"-\"))","v":"-"},{"$f":"IF(OR('Tabel 5F B'!H148<5,'Tabel 5Br B'!H148<0.5),\"-\",IFERROR('Tabel 5Br B'!H148/'Tabel 5F B'!H148*100,\"-\"))","v":"-"},null,{"$f":"IF(OR('Tabel 5F B'!J148<5,'Tabel 5Br B'!J148<0.5),\"-\",IFERROR('Tabel 5Br B'!J148/'Tabel 5F B'!J148*100,\"-\"))","v":"-"}]
["Bac. Samf.",null,{"$f":"IF(OR('Tabel 5F B'!C149<5,'Tabel 5Br B'!C149<0.5),\"-\",IFERROR('Tabel 5Br B'!C149/'Tabel 5F B'!C149*100,\"-\"))","v":"-"},{"$f":"IF(OR('Tabel 5F B'!D149<5,'Tabel 5Br B'!D149<0.5),\"-\",IFERROR('Tabel 5Br B'!D149/'Tabel 5F B'!D149*100,\"-\"))","v":"-"},{"$f":"IF(OR('Tabel 5F B'!E149<5,'Tabel 5Br B'!E149<0.5),\"-\",IFERROR('Tabel 5Br B'!E149/'Tabel 5F B'!E149*100,\"-\"))","v":"-"},{"$f":"IF(OR('Tabel 5F B'!F149<5,'Tabel 5Br B'!F149<0.5),\"-\",IFERROR('Tabel 5Br B'!F149/'Tabel 5F B'!F149*100,\"-\"))","v":"-"},{"$f":"IF(OR('Tabel 5F B'!G149<5,'Tabel 5Br B'!G149<0.5),\"-\",IFERROR('Tabel 5Br B'!G149/'Tabel 5F B'!G149*100,\"-\"))","v":"-"},{"$f":"IF(OR('Tabel 5F B'!H149<5,'Tabel 5Br B'!H149<0.5),\"-\",IFERROR('Tabel 5Br B'!H149/'Tabel 5F B'!H149*100,\"-\"))","v":"-"},null,{"$f":"IF(OR('Tabel 5F B'!J149<5,'Tabel 5Br B'!J149<0.5),\"-\",IFERROR('Tabel 5Br B'!J149/'Tabel 5F B'!J149*100,\"-\"))","v":"-"}]
["Bac. Hum.",null,{"$f":"IF(OR('Tabel 5F B'!C150<5,'Tabel 5Br B'!C150<0.5),\"-\",IFERROR('Tabel 5Br B'!C150/'Tabel 5F B'!C150*100,\"-\"))","v":"-"},{"$f":"IF(OR('Tabel 5F B'!D150<5,'Tabel 5Br B'!D150<0.5),\"-\",IFERROR('Tabel 5Br B'!D150/'Tabel 5F B'!D150*100,\"-\"))","v":"-"},{"$f":"IF(OR('Tabel 5F B'!E150<5,'Tabel 5Br B'!E150<0.5),\"-\",IFERROR('Tabel 5Br B'!E150/'Tabel 5F B'!E150*100,\"-\"))","v":"-"},{"$f":"IF(OR('Tabel 5F B'!F150<5,'Tabel 5Br B'!F150<0.5),\"-\",IFERROR('Tabel 5Br B'!F150/'Tabel 5F B'!F150*100,\"-\"))","v":"-"},{"$f":"IF(OR('Tabel 5F B'!G150<5,'Tabel 5Br B'!G150<0.5),\"-\",IFERROR('Tabel 5Br B'!G150/'Tabel 5F B'!G150*100,\"-\"))","v":"-"},{"$f":"IF(OR('Tabel 5F B'!H150<5,'Tabel 5Br B'!H150<0.5),\"-\",IFERROR('Tabel 5Br B'!H150/'Tabel 5F B'!H150*100,\"-\"))","v":"-"},null,{"$f":"IF(OR('Tabel 5F B'!J150<5,'Tabel 5Br B'!J150<0.5),\"-\",IFERROR('Tabel 5Br B'!J150/'Tabel 5F B'!J150*100,\"-\"))","v":"-"}]
["Bac. Nat.",null,{"$f":"IF(OR('Tabel 5F B'!C151<5,'Tabel 5Br B'!C151<0.5),\"-\",IFERROR('Tabel 5Br B'!C151/'Tabel 5F B'!C151*100,\"-\"))","v":"-"},{"$f":"IF(OR('Tabel 5F B'!D151<5,'Tabel 5Br B'!D151<0.5),\"-\",IFERROR('Tabel 5Br B'!D151/'Tabel 5F B'!D151*100,\"-\"))","v":"-"},{"$f":"IF(OR('Tabel 5F B'!E151<5,'Tabel 5Br B'!E151<0.5),\"-\",IFERROR('Tabel 5Br B'!E151/'Tabel 5F B'!E151*100,\"-\"))","v":"-"},{"$f":"IF(OR('Tabel 5F B'!F151<5,'Tabel 5Br B'!F151<0.5),\"-\",IFERROR('Tabel 5Br B'!F151/'Tabel 5F B'!F151*100,\"-\"))","v":"-"},{"$f":"IF(OR('Tabel 5F B'!G151<5,'Tabel 5Br B'!G151<0.5),\"-\",IFERROR('Tabel 5Br B'!G151/'Tabel 5F B'!G151*100,\"-\"))","v":"-"},{"$f":"IF(OR('Tabel 5F B'!H151<5,'Tabel 5Br B'!H151<0.5),\"-\",IFERROR('Tabel 5Br B'!H151/'Tabel 5F B'!H151*100,\"-\"))","v":"-"},null,{"$f":"IF(OR('Tabel 5F B'!J151<5,'Tabel 5Br B'!J151<0.5),\"-\",IFERROR('Tabel 5Br B'!J151/'Tabel 5F B'!J151*100,\"-\"))","v":"-"}]
["Andre",null,{"$f":"IF(OR('Tabel 5F B'!C152<5,'Tabel 5Br B'!C152<0.5),\"-\",IFERROR('Tabel 5Br B'!C152/'Tabel 5F B'!C152*100,\"-\"))","v":"-"},{"$f":"IF(OR('Tabel 5F B'!D152<5,'Tabel 5Br B'!D152<0.5),\"-\",IFERROR('Tabel 5Br B'!D152/'Tabel 5F B'!D152*100,\"-\"))","v":"-"},{"$f":"IF(OR('Tabel 5F B'!E152<5,'Tabel 5Br B'!E152<0.5),\"-\",IFERROR('Tabel 5Br B'!E152/'Tabel 5F B'!E152*100,\"-\"))","v":"-"},{"$f":"IF(OR('Tabel 5F B'!F152<5,'Tabel 5Br B'!F152<0.5),\"-\",IFERROR('Tabel 5Br B'!F152/'Tabel 5F B'!F152*100,\"-\"))","v":"-"},{"$f":"IF(OR('Tabel 5F B'!G152<5,'Tabel 5Br B'!G152<0.5),\"-\",IFERROR('Tabel 5Br B'!G152/'Tabel 5F B'!G152*100,\"-\"))","v":"-"},{"$f":"IF(OR('Tabel 5F B'!H152<5,'Tabel 5Br B'!H152<0.5),\"-\",IFERROR('Tabel 5Br B'!H152/'Tabel 5F B'!H152*100,\"-\"))","v":"-"},null,{"$f":"IF(OR('Tabel 5F B'!J152<5,'Tabel 5Br B'!J152<0.5),\"-\",IFERROR('Tabel 5Br B'!J152/'Tabel 5F B'!J152*100,\"-\"))","v":"-"}]
[]
["Total",null,{"$f":"IF(OR('Tabel 5F B'!C154<5,'Tabel 5Br B'!C154<0.5),\"-\",IFERROR('Tabel 5Br B'!C154/'Tabel 5F B'!C154*100,\"-\"))","v":"-"},{"$f":"IF(OR('Tabel 5F B'!D154<5,'Tabel 5Br B'!D154<0.5),\"-\",IFERROR('Tabel 5Br B'!D154/'Tabel 5F B'!D154*100,\"-\"))","v":"-"},{"$f":"IF(OR('Tabel 5F B'!E154<5,'Tabel 5Br B'!E154<0.5),\"-\",IFERROR('Tabel 5Br B'!E154/'Tabel 5F B'!E154*100,\"-\"))","v":"-"},{"$f":"IF(OR('Tabel 5F B'!F154<5,'Tabel 5Br B'!F154<0.5),\"-\",IFERROR('Tabel 5Br B'!F154/'Tabel 5F B'!F154*100,\"-\"))","v":"-"},{"$f":"IF(OR('Tabel 5F B'!G154<5,'Tabel 5Br B'!G154<0.5),\"-\",IFERROR('Tabel 5Br B'!G154/'Tabel 5F B'!G154*100,\"-\"))","v":"-"},{"$f":"IF(OR('Tabel 5F B'!H154<5,'Tabel 5Br B'!H154<0.5),\"-\",IFERROR('Tabel 5Br B'!H154/'Tabel 5F B'!H154*100,\"-\"))","v":"-"},null,{"$f":"IF(OR('Tabel 5F B'!J154<5,'Tabel 5Br B'!J154<0.5),\"-\",IFERROR('Tabel 5Br B'!J154/'Tabel 5F B'!J154*100,\"-\"))","v":"-"}]
[]
["Ingeniører i alt",null,{"$f":"IF(OR('Tabel 5F B'!C156<5,'Tabel 5Br B'!C156<0.5),\"-\",IFERROR('Tabel 5Br B'!C156/'Tabel 5F B'!C156*100,\"-\"))","v":"-"},{"$f":"IF(OR('Tabel 5F B'!D156<5,'Tabel 5Br B'!D156<0.5),\"-\",IFERROR('Tabel 5Br B'!D156/'Tabel 5F B'!D156*100,\"-\"))","v":"-"},{"$f":"IF(OR('Tabel 5F B'!E156<5,'Tabel 5Br B'!E156<0.5),\"-\",IFERROR('Tabel 5Br B'!E156/'Tabel 5F B'!E156*100,\"-\"))","v":"-"},{"$f":"IF(OR('Tabel 5F B'!F156<5,'Tabel 5Br B'!F156<0.5),\"-\",IFERROR('Tabel 5Br B'!F156/'Tabel 5F B'!F156*100,\"-\"))","v":"-"},{"$f":"IF(OR('Tabel 5F B'!G156<5,'Tabel 5Br B'!G156<0.5),\"-\",IFERROR('Tabel 5Br B'!G156/'Tabel 5F B'!G156*100,\"-\"))","v":"-"},{"$f":"IF(OR('Tabel 5F B'!H156<5,'Tabel 5Br B'!H156<0.5),\"-\",IFERROR('Tabel 5Br B'!H156/'Tabel 5F B'!H156*100,\"-\"))","v":"-"},null,{"$f":"IF(OR('Tabel 5F B'!J156<5,'Tabel 5Br B'!J156<0.5),\"-\",IFERROR('Tabel 5Br B'!J156/'Tabel 5F B'!J156*100,\"-\"))","v":"-"}]
["Magistre i alt",null,{"$f":"IF(OR('Tabel 5F B'!C157<5,'Tabel 5Br B'!C157<0.5),\"-\",IFERROR('Tabel 5Br B'!C157/'Tabel 5F B'!C157*100,\"-\"))","v":"-"},{"$f":"IF(OR('Tabel 5F B'!D157<5,'Tabel 5Br B'!D157<0.5),\"-\",IFERROR('Tabel 5Br B'!D157/'Tabel 5F B'!D157*100,\"-\"))","v":"-"},{"$f":"IF(OR('Tabel 5F B'!E157<5,'Tabel 5Br B'!E157<0.5),\"-\",IFERROR('Tabel 5Br B'!E157/'Tabel 5F B'!E157*100,\"-\"))","v":"-"},{"$f":"IF(OR('Tabel 5F B'!F157<5,'Tabel 5Br B'!F157<0.5),\"-\",IFERROR('Tabel 5Br B'!F157/'Tabel 5F B'!F157*100,\"-\"))","v":"-"},{"$f":"IF(OR('Tabel 5F B'!G157<5,'Tabel 5Br B'!G157<0.5),\"-\",IFERROR('Tabel 5Br B'!G157/'Tabel 5F B'!G157*100,\"-\"))","v":"-"},{"$f":"IF(OR('Tabel 5F B'!H157<5,'Tabel 5Br B'!H157<0.5),\"-\",IFERROR('Tabel 5Br B'!H157/'Tabel 5F B'!H157*100,\"-\"))","v":"-"},null,{"$f":"IF(OR('Tabel 5F B'!J157<5,'Tabel 5Br B'!J157<0.5),\"-\",IFERROR('Tabel 5Br B'!J157/'Tabel 5F B'!J157*100,\"-\"))","v":"-"}]
["DJØF'ere i alt",null,{"$f":"IF(OR('Tabel 5F B'!C158<5,'Tabel 5Br B'!C158<0.5),\"-\",IFERROR('Tabel 5Br B'!C158/'Tabel 5F B'!C158*100,\"-\"))","v":"-"},{"$f":"IF(OR('Tabel 5F B'!D158<5,'Tabel 5Br B'!D158<0.5),\"-\",IFERROR('Tabel 5Br B'!D158/'Tabel 5F B'!D158*100,\"-\"))","v":"-"},{"$f":"IF(OR('Tabel 5F B'!E158<5,'Tabel 5Br B'!E158<0.5),\"-\",IFERROR('Tabel 5Br B'!E158/'Tabel 5F B'!E158*100,\"-\"))","v":"-"},{"$f":"IF(OR('Tabel 5F B'!F158<5,'Tabel 5Br B'!F158<0.5),\"-\",IFERROR('Tabel 5Br B'!F158/'Tabel 5F B'!F158*100,\"-\"))","v":"-"},{"$f":"IF(OR('Tabel 5F B'!G158<5,'Tabel 5Br B'!G158<0.5),\"-\",IFERROR('Tabel 5Br B'!G158/'Tabel 5F B'!G158*100,\"-\"))","v":"-"},{"$f":"IF(OR('Tabel 5F B'!H158<5,'Tabel 5Br B'!H158<0.5),\"-\",IFERROR('Tabel 5Br B'!H158/'Tabel 5F B'!H158*100,\"-\"))","v":"-"},null,{"$f":"IF(OR('Tabel 5F B'!J158<5,'Tabel 5Br B'!J158<0.5),\"-\",IFERROR('Tabel 5Br B'!J158/'Tabel 5F B'!J158*100,\"-\"))","v":"-"}]

{"sheet":"Tabel 6 B","index":14,"n_rows":158,"n_cols":6,"rows_kept":158,"cut":false,"hidden":false,"merged":[[4,2,5,2],[4,3,5,3],[4,4,5,4],[4,5,5,5],[58,5,59,5],[112,5,113,5]]}
["Tabel 6. Antal deltagere i arbejdsmarkedspolitiske ordninger"]
[]
["Bornholm"]
[]
[null,null,"Efterløn","Jobtræning","Børnepas-ningsorlov","Aktiverings-ydelse"]
[]
["Civ. ing.",null,0,0,0,0]
["Diplom ing.",null,2,0,0,0]
["Cand. Scient. Tek",null,0,0,0,0]
["MA. Hum.",null,1,0,0,0]
["MA. Nat.",null,0,0,0,0]
["MA. Ph.d.",null,0,0,0,0]
["MA. Samf.",null,0,0,0,0]
["Øvrige Mag.",null,0,0,0,0]
["Agronom",null,3,0,0,0]
["Landsk. Arkt.",null,0,0,0,0]
["Hortonom",null,0,0,0,0]
["Forstkand.",null,0,0,0,0]
["Jordbrugsakad.",null,3,0,0,0]
["Mejeriing.",null,0,0,0,0]
["Levn.m.kand.",null,0,0,0,0]
["Dyrlæge",null,0,0,0,0]
["Farmaceut",null,0,0,0,0]
["Læge",null,1,0,0,0]
["Tandlæge",null,0,0,0,0]
["Arkitekt",null,0,0,0,0]
["Landinspek.",null,1,0,0,0]
["Bibliotekar",null,0,0,0,0]
["Musikudd.",null,0,0,0,0]
["Teolog",null,0,0,0,0]
["Psykolog",null,1,0,0,0]
["Jurist",null,3,0,0,0]
["Økonom",null,0,0,0,0]
["Samf. Adm.",null,1,0,0,0]
["Cand. Merc.",null,1,0,0,0]
["HA",null,0,0,0,0]
["HD",null,0,0,0,0]
["Komm. og Sprog",null,0,0,0,0]
["Bygningskonst.",null,0,0,0,0]
["Cand. IT.",null,0,0,0,0]
["Bac. Samf.",null,0,0,0,0]
["Bac. Hum.",null,0,0,0,0]
["Bac. Nat.",null,0,0,0,0]
["Andre",null,3,0,0,0]
[]
["Total",null,17,0,0,0]
[]
["Ingeniører i alt",null,2,0,0,0]
["Magistre i alt",null,1,0,0,0]
["DJØF'ere i alt",null,5,0,0,0]
[]
[]
[]
[]
[]
[]
["Bornholm"]
[]
[null,null,"Efterløn","Jobtræning","Børnepas-ningsorlov","Aktiverings-ydelse"]
[]
["Civ. ing.",null,0,0,0,0]
["Diplom ing.",null,2,0,0,0]
["Cand. Scient. Tek",null,0,0,0,0]
["MA. Hum.",null,1,0,0,0]
["MA. Nat.",null,0,0,0,0]
["MA. Ph.d.",null,0,0,0,0]
["MA. Samf.",null,0,0,0,0]
["Øvrige Mag.",null,0,0,0,0]
["Agronom",null,3,0,0,0]
["Landsk. Arkt.",null,0,0,0,0]
["Hortonom",null,0,0,0,0]
["Forstkand.",null,0,0,0,0]
["Jordbrugsakad.",null,3,0,0,0]
["Mejeriing.",null,0,0,0,0]
["Levn.m.kand.",null,0,0,0,0]
["Dyrlæge",null,0,0,0,0]
["Farmaceut",null,0,0,0,0]
["Læge",null,1,0,0,0]
["Tandlæge",null,0,0,0,0]
["Arkitekt",null,0,0,0,0]
["Landinspek.",null,1,0,0,0]
["Bibliotekar",null,0,0,0,0]
["Musikudd.",null,0,0,0,0]
["Teolog",null,0,0,0,0]
["Psykolog",null,1,0,0,0]
["Jurist",null,3,0,0,0]
["Økonom",null,0,0,0,0]
["Samf. Adm.",null,1,0,0,0]
["Cand. Merc.",null,1,0,0,0]
["HA",null,0,0,0,0]
["HD",null,0,0,0,0]
["Komm. og Sprog",null,0,0,0,0]
["Bygningskonst.",null,0,0,0,0]
["Cand. IT.",null,0,0,0,0]
["Bac. Samf.",null,0,0,0,0]
["Bac. Hum.",null,0,0,0,0]
["Bac. Nat.",null,0,0,0,0]
["Andre",null,3,0,0,0]
[]
["Total",null,17,0,0,0]
[]
["Ingeniører i alt",null,2,0,0,0]
["Magistre i alt",null,1,0,0,0]
["DJØF'ere i alt",null,5,0,0,0]
[]
[]
[]
[]
[]
[]
["Christiansø"]
[]
[null,null,"Efterløn","Jobtræning","Børnepas-ningsorlov","Aktiverings-ydelse"]
[]
["Civ. ing.",null,0,0,0,0]
["Diplom ing.",null,0,0,0,0]
["Cand. Scient. Tek",null,0,0,0,0]
["MA. Hum.",null,0,0,0,0]
["MA. Nat.",null,0,0,0,0]
["MA. Ph.d.",null,0,0,0,0]
["MA. Samf.",null,0,0,0,0]
["Øvrige Mag.",null,0,0,0,0]
["Agronom",null,0,0,0,0]
["Landsk. Arkt.",null,0,0,0,0]
["Hortonom",null,0,0,0,0]
["Forstkand.",null,0,0,0,0]
["Jordbrugsakad.",null,0,0,0,0]
["Mejeriing.",null,0,0,0,0]
["Levn.m.kand.",null,0,0,0,0]
["Dyrlæge",null,0,0,0,0]
["Farmaceut",null,0,0,0,0]
["Læge",null,0,0,0,0]
["Tandlæge",null,0,0,0,0]
["Arkitekt",null,0,0,0,0]
["Landinspek.",null,0,0,0,0]
["Bibliotekar",null,0,0,0,0]
["Musikudd.",null,0,0,0,0]
["Teolog",null,0,0,0,0]
["Psykolog",null,0,0,0,0]
["Jurist",null,0,0,0,0]
["Økonom",null,0,0,0,0]
["Samf. Adm.",null,0,0,0,0]
["Cand. Merc.",null,0,0,0,0]
["HA",null,0,0,0,0]
["HD",null,0,0,0,0]
["Komm. og Sprog",null,0,0,0,0]
["Bygningskonst.",null,0,0,0,0]
["Cand. IT.",null,0,0,0,0]
["Bac. Samf.",null,0,0,0,0]
["Bac. Hum.",null,0,0,0,0]
["Bac. Nat.",null,0,0,0,0]
["Andre",null,0,0,0,0]
[]
["Total",null,0,0,0,0]
[]
["Ingeniører i alt",null,0,0,0,0]
["Magistre i alt",null,0,0,0,0]
["DJØF'ere i alt",null,0,0,0,0]

{"sheet":"Tabel 7 B","index":15,"n_rows":158,"n_cols":11,"rows_kept":158,"cut":false,"hidden":false,"merged":[]}
["Tabel 7.1: Bruttoledighedsberørte efter ledighedsanciennitet"]
[]
["Bornholm"]
[]
[null,null,"Under 3 mdr.","3-5 mdr.","6-8 mdr.","9-11 mdr.","12-14 mdr.","15-17 mdr.","18-20 mdr.","21 - 23 mdr.","24 mdr. og over"]
[]
["Civ. ing.",null,0,3,0,0,0,0,0,0,0]
["Diplom ing.",null,2,1,0,0,0,0,0,0,0]
["Cand. Scient. Tek.",null,1,1,1,0,1,0,1,1,0]
["MA. Hum.",null,6,3,4,2,2,3,0,1,1]
["MA. Nat.",null,0,1,0,1,0,0,0,0,1]
["MA. Ph.d.",null,0,1,0,0,0,0,0,0,0]
["MA. Samf.",null,1,1,0,0,0,0,0,0,0]
["Øvrige Mag.",null,2,3,0,0,0,0,0,0,0]
["Agronom",null,0,0,0,0,0,0,0,0,0]
["Landsk. Arkt.",null,0,0,0,0,0,0,0,0,0]
["Hortonom",null,0,0,0,0,0,0,0,0,0]
["Forstkand.",null,0,0,0,0,0,0,0,0,0]
["Jordbrugsakad.",null,0,0,0,0,0,0,0,0,0]
["Mejeriing.",null,0,0,0,0,0,0,0,0,0]
["Levn.m.kand.",null,0,0,0,0,0,0,0,0,0]
["Dyrlæge",null,1,0,0,0,0,0,0,0,0]
["Farmaceut",null,0,0,0,0,0,0,0,0,0]
["Læge",null,0,0,0,0,0,0,0,1,0]
["Tandlæge",null,0,0,0,0,0,0,0,0,0]
["Arkitekt",null,1,0,0,0,0,0,0,0,0]
["Landinspek.",null,0,0,0,0,0,0,0,0,0]
["Bibliotekar",null,0,0,1,0,0,0,0,0,0]
["Musikudd.",null,0,0,0,1,0,0,0,0,0]
["Teolog",null,0,0,0,0,0,0,0,0,0]
["Psykolog",null,1,0,0,0,0,0,0,0,1]
["Jurist",null,0,0,0,0,0,0,0,0,0]
["Økonom",null,0,0,0,0,0,0,0,0,0]
["Samf. Adm.",null,0,1,0,1,0,0,0,1,0]
["Cand. Merc.",null,2,0,0,0,0,0,1,0,0]
["HA",null,0,0,0,0,0,0,0,0,0]
["HD",null,0,0,0,0,0,0,0,0,0]
["Komm. og Sprog",null,2,1,0,0,1,0,0,0,0]
["Bygningkonst.",null,0,0,0,0,0,0,0,0,0]
["Cand. IT.",null,0,0,0,0,0,0,0,0,0]
["Bac. Samf.",null,0,0,0,0,0,0,0,0,0]
["Bac. Hum.",null,0,1,0,0,0,1,0,0,0]
["Bac. Nat.",null,0,0,0,1,0,1,0,0,0]
["Andre",null,5,1,2,0,0,0,0,2,1]
[]
["Total",null,24,18,8,6,4,5,2,6,4]
[]
["Ingeniører i alt",null,2,4,0,0,0,0,0,0,0]
["Magistre i alt",null,9,9,4,3,2,3,0,1,2]
["DJØF'ere i alt",null,2,1,0,1,0,0,1,1,0]
[]
[]
[]
[]
[]
[]
["Bornholm"]
[]
[null,null,"Under 3 mdr.","3-5 mdr.","6-8 mdr.","9-11 mdr.","12-14 mdr.","15-17 mdr.","18-20 mdr.","21 - 23 mdr.","24 mdr. og over"]
[]
["Civ. ing.",null,0,3,0,0,0,0,0,0,0]
["Diplom ing.",null,2,1,0,0,0,0,0,0,0]
["Cand. Scient. Tek.",null,1,1,1,0,1,0,1,1,0]
["MA. Hum.",null,6,3,4,2,2,3,0,1,1]
["MA. Nat.",null,0,1,0,1,0,0,0,0,1]
["MA. Ph.d.",null,0,1,0,0,0,0,0,0,0]
["MA. Samf.",null,1,1,0,0,0,0,0,0,0]
["Øvrige Mag.",null,2,3,0,0,0,0,0,0,0]
["Agronom",null,0,0,0,0,0,0,0,0,0]
["Landsk. Arkt.",null,0,0,0,0,0,0,0,0,0]
["Hortonom",null,0,0,0,0,0,0,0,0,0]
["Forstkand.",null,0,0,0,0,0,0,0,0,0]
["Jordbrugsakad.",null,0,0,0,0,0,0,0,0,0]
["Mejeriing.",null,0,0,0,0,0,0,0,0,0]
["Levn.m.kand.",null,0,0,0,0,0,0,0,0,0]
["Dyrlæge",null,1,0,0,0,0,0,0,0,0]
["Farmaceut",null,0,0,0,0,0,0,0,0,0]
["Læge",null,0,0,0,0,0,0,0,1,0]
["Tandlæge",null,0,0,0,0,0,0,0,0,0]
["Arkitekt",null,1,0,0,0,0,0,0,0,0]
["Landinspek.",null,0,0,0,0,0,0,0,0,0]
["Bibliotekar",null,0,0,1,0,0,0,0,0,0]
["Musikudd.",null,0,0,0,1,0,0,0,0,0]
["Teolog",null,0,0,0,0,0,0,0,0,0]
["Psykolog",null,1,0,0,0,0,0,0,0,1]
["Jurist",null,0,0,0,0,0,0,0,0,0]
["Økonom",null,0,0,0,0,0,0,0,0,0]
["Samf. Adm.",null,0,1,0,1,0,0,0,1,0]
["Cand. Merc.",null,2,0,0,0,0,0,1,0,0]
["HA",null,0,0,0,0,0,0,0,0,0]
["HD",null,0,0,0,0,0,0,0,0,0]
["Komm. og Sprog",null,2,1,0,0,1,0,0,0,0]
["Bygningskonst.",null,0,0,0,0,0,0,0,0,0]
["Cand. IT.",null,0,0,0,0,0,0,0,0,0]
["Bac. Samf.",null,0,0,0,0,0,0,0,0,0]
["Bac. Hum.",null,0,1,0,0,0,1,0,0,0]
["Bac. Nat.",null,0,0,0,1,0,1,0,0,0]
["Andre",null,5,1,2,0,0,0,0,2,1]
[]
["Total",null,24,18,8,6,4,5,2,6,4]
[]
["Ingeniører i alt",null,2,4,0,0,0,0,0,0,0]
["Magistre i alt",null,9,9,4,3,2,3,0,1,2]
["DJØF'ere i alt",null,2,1,0,1,0,0,1,1,0]
[]
[]
[]
[]
[]
[]
["Christiansø"]
[]
[null,null,"Under 3 mdr.","3-5 mdr.","6-8 mdr.","9-11 mdr.","12-14 mdr.","15-17 mdr.","18-20 mdr.","21 - 23 mdr.","24 mdr. og over"]
[]
["Civ. ing.",null,0,0,0,0,0,0,0,0,0]
["Diplom ing.",null,0,0,0,0,0,0,0,0,0]
["Cand. Scient. Tek.",null,0,0,0,0,0,0,0,0,0]
["MA. Hum.",null,0,0,0,0,0,0,0,0,0]
["MA. Nat.",null,0,0,0,0,0,0,0,0,0]
["MA. Ph.d.",null,0,0,0,0,0,0,0,0,0]
["MA. Samf.",null,0,0,0,0,0,0,0,0,0]
["Øvrige Mag.",null,0,0,0,0,0,0,0,0,0]
["Agronom",null,0,0,0,0,0,0,0,0,0]
["Landsk. Arkt.",null,0,0,0,0,0,0,0,0,0]
["Hortonom",null,0,0,0,0,0,0,0,0,0]
["Forstkand.",null,0,0,0,0,0,0,0,0,0]
["Jordbrugsakad.",null,0,0,0,0,0,0,0,0,0]
["Mejeriing.",null,0,0,0,0,0,0,0,0,0]
["Levn.m.kand.",null,0,0,0,0,0,0,0,0,0]
["Dyrlæge",null,0,0,0,0,0,0,0,0,0]
["Farmaceut",null,0,0,0,0,0,0,0,0,0]
["Læge",null,0,0,0,0,0,0,0,0,0]
["Tandlæge",null,0,0,0,0,0,0,0,0,0]
["Arkitekt",null,0,0,0,0,0,0,0,0,0]
["Landinspek.",null,0,0,0,0,0,0,0,0,0]
["Bibliotekar",null,0,0,0,0,0,0,0,0,0]
["Musikudd.",null,0,0,0,0,0,0,0,0,0]
["Teolog",null,0,0,0,0,0,0,0,0,0]
["Psykolog",null,0,0,0,0,0,0,0,0,0]
["Jurist",null,0,0,0,0,0,0,0,0,0]
["Økonom",null,0,0,0,0,0,0,0,0,0]
["Samf. Adm.",null,0,0,0,0,0,0,0,0,0]
["Cand. Merc.",null,0,0,0,0,0,0,0,0,0]
["HA",null,0,0,0,0,0,0,0,0,0]
["HD",null,0,0,0,0,0,0,0,0,0]
["Komm. og Sprog",null,0,0,0,0,0,0,0,0,0]
["Bygningskonst.",null,0,0,0,0,0,0,0,0,0]
["Cand. IT.",null,0,0,0,0,0,0,0,0,0]
["Bac. Samf.",null,0,0,0,0,0,0,0,0,0]
["Bac. Hum.",null,0,0,0,0,0,0,0,0,0]
["Bac. Nat.",null,0,0,0,0,0,0,0,0,0]
["Andre",null,0,0,0,0,0,0,0,0,0]
[]
["Total",null,0,0,0,0,0,0,0,0,0]
[]
["Ingeniører i alt",null,0,0,0,0,0,0,0,0,0]
["Magistre i alt",null,0,0,0,0,0,0,0,0,0]
["DJØF'ere i alt",null,0,0,0,0,0,0,0,0,0]