{"text_format":"1","workbook":"xlsx","n_sheets":14,"sheets":["Velkomst","Tabel 1 B","Tabel 2 B","Tabel 3 B","Tabel 4F B","Tabel 4 B","Tabel 4(Br) B","Tabel 4P B","Tabel 4(Br)P B","Tabel 5F B","Tabel 5 B","Tabel 5Br B","Tabel 5P B","Tabel 5(Br) P B"],"not_rendered":{"charts":0,"images":0,"macros":1,"external_links":1,"defined_names":7,"comments":0,"pivot_tables":0},"unopened":[],"bounds":{"document_bytes":16777216,"sheet_cells":100000,"rows_first":2000,"rows_last":500,"rows_between":2000,"halvings":0,"cell_chars":16384,"cell_head_chars":4096},"cells_cut":0,"cells_raw":0,"read":"whole","date_system":"1900"}

{"sheet":"Velkomst","index":0,"n_rows":0,"n_cols":0,"rows_kept":0,"cut":false,"hidden":false,"merged":[[0,0,1048575,16383]]}

{"sheet":"Tabel 1 B","index":1,"n_rows":158,"n_cols":7,"rows_kept":158,"cut":false,"hidden":false,"merged":[]}
[{"$f":"'[1]Tabel 1 B DATA'!G1","v":"Tabel 1. Forsikrede medlemmer"}]
[]
[{"$f":"'[1]Tabel 1 B DATA'!G2","v":"Bornholm"}]
[]
[null,null,{"$f":"'[1]Tabel 1 B DATA'!I4","v":"Mænd"},null,{"$f":"'[1]Tabel 1 B DATA'!K4","v":"Kvinder"},null,{"$f":"'[1]Tabel 1 B DATA'!M4","v":"I alt"}]
[]
[{"$f":"'[1]Tabel 1 B DATA'!G6","v":"Civ. ing."},null,{"$f":"'[1]Tabel 1 B DATA'!I6","v":29},null,{"$f":"'[1]Tabel 1 B DATA'!K6","v":5},null,{"$f":"'[1]Tabel 1 B DATA'!M6","v":34}]
[{"$f":"'[1]Tabel 1 B DATA'!G7","v":"Diplom ing."},null,{"$f":"'[1]Tabel 1 B DATA'!I7","v":55},null,{"$f":"'[1]Tabel 1 B DATA'!K7","v":8},null,{"$f":"'[1]Tabel 1 B DATA'!M7","v":63}]
[{"$f":"'[1]Tabel 1 B DATA'!G8","v":"Cand. Scient. Tek."},null,{"$f":"'[1]Tabel 1 B DATA'!I8","v":16},null,{"$f":"'[1]Tabel 1 B DATA'!K8","v":16},null,{"$f":"'[1]Tabel 1 B DATA'!M8","v":32}]
[{"$f":"'[1]Tabel 1 B DATA'!G9","v":"MA. Hum."},null,{"$f":"'[1]Tabel 1 B DATA'!I9","v":39},null,{"$f":"'[1]Tabel 1 B DATA'!K9","v":86},null,{"$f":"'[1]Tabel 1 B DATA'!M9","v":125}]
[{"$f":"'[1]Tabel 1 B DATA'!G10","v":"MA. Nat."},null,{"$f":"'[1]Tabel 1 B DATA'!I10","v":25},null,{"$f":"'[1]Tabel 1 B DATA'!K10","v":21},null,{"$f":"'[1]Tabel 1 B DATA'!M10","v":46}]
[{"$f":"'[1]Tabel 1 B DATA'!G11","v":"MA. Ph.d."},null,{"$f":"'[1]Tabel 1 B DATA'!I11","v":4},null,{"$f":"'[1]Tabel 1 B DATA'!K11","v":3},null,{"$f":"'[1]Tabel 1 B DATA'!M11","v":7}]
[{"$f":"'[1]Tabel 1 B DATA'!G12","v":"MA. Samf."},null,{"$f":"'[1]Tabel 1 B DATA'!I12","v":4},null,{"$f":"'[1]Tabel 1 B DATA'!K12","v":11},null,{"$f":"'[1]Tabel 1 B DATA'!M12","v":15}]
[{"$f":"'[1]Tabel 1 B DATA'!G13","v":"Øvrige Mag."},null,{"$f":"'[1]Tabel 1 B DATA'!I13","v":7},null,{"$f":"'[1]Tabel 1 B DATA'!K13","v":9},null,{"$f":"'[1]Tabel 1 B DATA'!M13","v":16}]
[{"$f":"'[1]Tabel 1 B DATA'!G14","v":"Agronom"},null,{"$f":"'[1]Tabel 1 B DATA'!I14","v":3},null,{"$f":"'[1]Tabel 1 B DATA'!K14","v":7},null,{"$f":"'[1]Tabel 1 B DATA'!M14","v":10}]
[{"$f":"'[1]Tabel 1 B DATA'!G15","v":"Landsk. Arkt."},null,{"$f":"'[1]Tabel 1 B DATA'!I15","v":1},null,{"$f":"'[1]Tabel 1 B DATA'!K15","v":2},null,{"$f":"'[1]Tabel 1 B DATA'!M15","v":3}]
[{"$f":"'[1]Tabel 1 B DATA'!G16","v":"Hortonom"},null,{"$f":"'[1]Tabel 1 B DATA'!I16","v":1},null,{"$f":"'[1]Tabel 1 B DATA'!K16","v":1},null,{"$f":"'[1]Tabel 1 B DATA'!M16","v":2}]
[{"$f":"'[1]Tabel 1 B DATA'!G17","v":"Forstkand."},null,{"$f":"'[1]Tabel 1 B DATA'!I17","v":1},null,{"$f":"'[1]Tabel 1 B DATA'!K17","v":0},null,{"$f":"'[1]Tabel 1 B DATA'!M17","v":1}]
[{"$f":"'[1]Tabel 1 B DATA'!G18","v":"Jordbrugsakad."},null,{"$f":"'[1]Tabel 1 B DATA'!I18","v":6},null,{"$f":"'[1]Tabel 1 B DATA'!K18","v":10},null,{"$f":"'[1]Tabel 1 B DATA'!M18","v":16}]
[{"$f":"'[1]Tabel 1 B DATA'!G19","v":"Mejeriing."},null,{"$f":"'[1]Tabel 1 B DATA'!I19","v":0},null,{"$f":"'[1]Tabel 1 B DATA'!K19","v":0},null,{"$f":"'[1]Tabel 1 B DATA'!M19","v":0}]
[{"$f":"'[1]Tabel 1 B DATA'!G20","v":"Levn.m.kand."},null,{"$f":"'[1]Tabel 1 B DATA'!I20","v":0},null,{"$f":"'[1]Tabel 1 B DATA'!K20","v":1},null,{"$f":"'[1]Tabel 1 B DATA'!M20","v":1}]
[{"$f":"'[1]Tabel 1 B DATA'!G21","v":"Dyrlæge"},null,{"$f":"'[1]Tabel 1 B DATA'!I21","v":5},null,{"$f":"'[1]Tabel 1 B DATA'!K21","v":10},null,{"$f":"'[1]Tabel 1 B DATA'!M21","v":15}]
[{"$f":"'[1]Tabel 1 B DATA'!G22","v":"Farmaceut"},null,{"$f":"'[1]Tabel 1 B DATA'!I22","v":1},null,{"$f":"'[1]Tabel 1 B DATA'!K22","v":6},null,{"$f":"'[1]Tabel 1 B DATA'!M22","v":7}]
[{"$f":"'[1]Tabel 1 B DATA'!G23","v":"Læge"},null,{"$f":"'[1]Tabel 1 B DATA'!I23","v":9},null,{"$f":"'[1]Tabel 1 B DATA'!K23","v":22},null,{"$f":"'[1]Tabel 1 B DATA'!M23","v":31}]
[{"$f":"'[1]Tabel 1 B DATA'!G24","v":"Tandlæge"},null,{"$f":"'[1]Tabel 1 B DATA'!I24","v":1},null,{"$f":"'[1]Tabel 1 B DATA'!K24","v":9},null,{"$f":"'[1]Tabel 1 B DATA'!M24","v":10}]
[{"$f":"'[1]Tabel 1 B DATA'!G25","v":"Arkitekt"},null,{"$f":"'[1]Tabel 1 B DATA'!I25","v":9},null,{"$f":"'[1]Tabel 1 B DATA'!K25","v":5},null,{"$f":"'[1]Tabel 1 B DATA'!M25","v":14}]
[{"$f":"'[1]Tabel 1 B DATA'!G26","v":"Landinspek."},null,{"$f":"'[1]Tabel 1 B DATA'!I26","v":1},null,{"$f":"'[1]Tabel 1 B DATA'!K26","v":0},null,{"$f":"'[1]Tabel 1 B DATA'!M26","v":1}]
[{"$f":"'[1]Tabel 1 B DATA'!G27","v":"Bibliotekar"},null,{"$f":"'[1]Tabel 1 B DATA'!I27","v":6},null,{"$f":"'[1]Tabel 1 B DATA'!K27","v":10},null,{"$f":"'[1]Tabel 1 B DATA'!M27","v":16}]
[{"$f":"'[1]Tabel 1 B DATA'!G28","v":"Musikudd."},null,{"$f":"'[1]Tabel 1 B DATA'!I28","v":0},null,{"$f":"'[1]Tabel 1 B DATA'!K28","v":2},null,{"$f":"'[1]Tabel 1 B DATA'!M28","v":2}]
[{"$f":"'[1]Tabel 1 B DATA'!G29","v":"Teolog"},null,{"$f":"'[1]Tabel 1 B DATA'!I29","v":9},null,{"$f":"'[1]Tabel 1 B DATA'!K29","v":3},null,{"$f":"'[1]Tabel 1 B DATA'!M29","v":12}]
[{"$f":"'[1]Tabel 1 B DATA'!G30","v":"Psykolog"},null,{"$f":"'[1]Tabel 1 B DATA'!I30","v":7},null,{"$f":"'[1]Tabel 1 B DATA'!K30","v":24},null,{"$f":"'[1]Tabel 1 B DATA'!M30","v":31}]
[{"$f":"'[1]Tabel 1 B DATA'!G31","v":"Jurist"},null,{"$f":"'[1]Tabel 1 B DATA'!I31","v":11},null,{"$f":"'[1]Tabel 1 B DATA'!K31","v":21},null,{"$f":"'[1]Tabel 1 B DATA'!M31","v":32}]
[{"$f":"'[1]Tabel 1 B DATA'!G32","v":"Økonom"},null,{"$f":"'[1]Tabel 1 B DATA'!I32","v":7},null,{"$f":"'[1]Tabel 1 B DATA'!K32","v":3},null,{"$f":"'[1]Tabel 1 B DATA'!M32","v":10}]
[{"$f":"'[1]Tabel 1 B DATA'!G33","v":"Samf. Adm."},null,{"$f":"'[1]Tabel 1 B DATA'!I33","v":28},null,{"$f":"'[1]Tabel 1 B DATA'!K33","v":27},null,{"$f":"'[1]Tabel 1 B DATA'!M33","v":55}]
[{"$f":"'[1]Tabel 1 B DATA'!G34","v":"Cand. Merc."},null,{"$f":"'[1]Tabel 1 B DATA'!I34","v":13},null,{"$f":"'[1]Tabel 1 B DATA'!K34","v":19},null,{"$f":"'[1]Tabel 1 B DATA'!M34","v":32}]
[{"$f":"'[1]Tabel 1 B DATA'!G35","v":"HA"},null,{"$f":"'[1]Tabel 1 B DATA'!I35","v":6},null,{"$f":"'[1]Tabel 1 B DATA'!K35","v":6},null,{"$f":"'[1]Tabel 1 B DATA'!M35","v":12}]
[{"$f":"'[1]Tabel 1 B DATA'!G36","v":"HD"},null,{"$f":"'[1]Tabel 1 B DATA'!I36","v":8},null,{"$f":"'[1]Tabel 1 B DATA'!K36","v":1},null,{"$f":"'[1]Tabel 1 B DATA'!M36","v":9}]
[{"$f":"'[1]Tabel 1 B DATA'!G37","v":"Komm. og Sprog"},null,{"$f":"'[1]Tabel 1 B DATA'!I37","v":4},null,{"$f":"'[1]Tabel 1 B DATA'!K37","v":11},null,{"$f":"'[1]Tabel 1 B DATA'!M37","v":15}]
[{"$f":"'[1]Tabel 1 B DATA'!G38","v":"Bygningskonst."},null,{"$f":"'[1]Tabel 1 B DATA'!I38","v":28},null,{"$f":"'[1]Tabel 1 B DATA'!K38","v":0},null,{"$f":"'[1]Tabel 1 B DATA'!M38","v":28}]
[{"$f":"'[1]Tabel 1 B DATA'!G39","v":"Cand. IT."},null,{"$f":"'[1]Tabel 1 B DATA'!I39","v":2},null,{"$f":"'[1]Tabel 1 B DATA'!K39","v":0},null,{"$f":"'[1]Tabel 1 B DATA'!M39","v":2}]
[{"$f":"'[1]Tabel 1 B DATA'!G40","v":"Bac. Samf."},null,{"$f":"'[1]Tabel 1 B DATA'!I40","v":4},null,{"$f":"'[1]Tabel 1 B DATA'!K40","v":1},null,{"$f":"'[1]Tabel 1 B DATA'!M40","v":5}]
[{"$f":"'[1]Tabel 1 B DATA'!G41","v":"Bac. Hum."},null,{"$f":"'[1]Tabel 1 B DATA'!I41","v":8},null,{"$f":"'[1]Tabel 1 B DATA'!K41","v":5},null,{"$f":"'[1]Tabel 1 B DATA'!M41","v":13}]
[{"$f":"'[1]Tabel 1 B DATA'!G42","v":"Bac. Nat."},null,{"$f":"'[1]Tabel 1 B DATA'!I42","v":3},null,{"$f":"'[1]Tabel 1 B DATA'!K42","v":7},null,{"$f":"'[1]Tabel 1 B DATA'!M42","v":10}]
[{"$f":"'[1]Tabel 1 B DATA'!G43","v":"Andre"},null,{"$f":"'[1]Tabel 1 B DATA'!I43","v":66},null,{"$f":"'[1]Tabel 1 B DATA'!K43","v":43},null,{"$f":"'[1]Tabel 1 B DATA'!M43","v":109}]
[]
[{"$f":"'[1]Tabel 1 B DATA'!G45","v":"Total"},null,{"$f":"'[1]Tabel 1 B DATA'!I45","v":421},null,{"$f":"'[1]Tabel 1 B DATA'!K45","v":405},null,{"$f":"'[1]Tabel 1 B DATA'!M45","v":826}]
[]
[{"$f":"'[1]Tabel 1 B DATA'!G47","v":"Ingeniører i alt"},null,{"$f":"'[1]Tabel 1 B DATA'!I47","v":84},null,{"$f":"'[1]Tabel 1 B DATA'!K47","v":13},null,{"$f":"'[1]Tabel 1 B DATA'!M47","v":97}]
[{"$f":"'[1]Tabel 1 B DATA'!G48","v":"Magistre i alt"},null,{"$f":"'[1]Tabel 1 B DATA'!I48","v":79},null,{"$f":"'[1]Tabel 1 B DATA'!K48","v":130},null,{"$f":"'[1]Tabel 1 B DATA'!M48","v":209}]
[{"$f":"'[1]Tabel 1 B DATA'!G49","v":"DJØF'ere i alt"},null,{"$f":"'[1]Tabel 1 B DATA'!I49","v":65},null,{"$f":"'[1]Tabel 1 B DATA'!K49","v":76},null,{"$f":"'[1]Tabel 1 B DATA'!M49","v":141}]
[]
[]
[]
[]
[]
[]
[{"$f":"'[1]Tabel 1 B DATA'!G115","v":"Bornholm"}]
[]
[null,null,{"$f":"'[1]Tabel 1 B DATA'!I117","v":"Mænd"},null,{"$f":"'[1]Tabel 1 B DATA'!K117","v":"Kvinder"},null,{"$f":"'[1]Tabel 1 B DATA'!M117","v":"I alt"}]
[]
[{"$f":"'[1]Tabel 1 B DATA'!G119","v":"Civ. ing."},null,{"$f":"'[1]Tabel 1 B DATA'!I119","v":29},null,{"$f":"'[1]Tabel 1 B DATA'!K119","v":5},null,{"$f":"'[1]Tabel 1 B DATA'!M119","v":34}]
[{"$f":"'[1]Tabel 1 B DATA'!G120","v":"Diplom ing."},null,{"$f":"'[1]Tabel 1 B DATA'!I120","v":55},null,{"$f":"'[1]Tabel 1 B DATA'!K120","v":8},null,{"$f":"'[1]Tabel 1 B DATA'!M120","v":63}]
[{"$f":"'[1]Tabel 1 B DATA'!G121","v":"Cand. Scient. Tek."},null,{"$f":"'[1]Tabel 1 B DATA'!I121","v":16},null,{"$f":"'[1]Tabel 1 B DATA'!K121","v":16},null,{"$f":"'[1]Tabel 1 B DATA'!M121","v":32}]
[{"$f":"'[1]Tabel 1 B DATA'!G122","v":"MA. Hum."},null,{"$f":"'[1]Tabel 1 B DATA'!I122","v":39},null,{"$f":"'[1]Tabel 1 B DATA'!K122","v":86},null,{"$f":"'[1]Tabel 1 B DATA'!M122","v":125}]
[{"$f":"'[1]Tabel 1 B DATA'!G123","v":"MA. Nat."},null,{"$f":"'[1]Tabel 1 B DATA'!I123","v":25},null,{"$f":"'[1]Tabel 1 B DATA'!K123","v":21},null,{"$f":"'[1]Tabel 1 B DATA'!M123","v":46}]
[{"$f":"'[1]Tabel 1 B DATA'!G124","v":"MA. Ph.d."},null,{"$f":"'[1]Tabel 1 B DATA'!I124","v":4},null,{"$f":"'[1]Tabel 1 B DATA'!K124","v":3},null,{"$f":"'[1]Tabel 1 B DATA'!M124","v":7}]
[{"$f":"'[1]Tabel 1 B DATA'!G125","v":"MA. Samf."},null,{"$f":"'[1]Tabel 1 B DATA'!I125","v":4},null,{"$f":"'[1]Tabel 1 B DATA'!K125","v":11},null,{"$f":"'[1]Tabel 1 B DATA'!M125","v":15}]
[{"$f":"'[1]Tabel 1 B DATA'!G126","v":"Øvrige Mag."},null,{"$f":"'[1]Tabel 1 B DATA'!I126","v":7},null,{"$f":"'[1]Tabel 1 B DATA'!K126","v":9},null,{"$f":"'[1]Tabel 1 B DATA'!M126","v":16}]
[{"$f":"'[1]Tabel 1 B DATA'!G127","v":"Agronom"},null,{"$f":"'[1]Tabel 1 B DATA'!I127","v":3},null,{"$f":"'[1]Tabel 1 B DATA'!K127","v":7},null,{"$f":"'[1]Tabel 1 B DATA'!M127","v":10}]
[{"$f":"'[1]Tabel 1 B DATA'!G128","v":"Landsk. Arkt."},null,{"$f":"'[1]Tabel 1 B DATA'!I128","v":1},null,{"$f":"'[1]Tabel 1 B DATA'!K128","v":2},null,{"$f":"'[1]Tabel 1 B DATA'!M128","v":3}]
[{"$f":"'[1]Tabel 1 B DATA'!G129","v":"Hortonom"},null,{"$f":"'[1]Tabel 1 B DATA'!I129","v":1},null,{"$f":"'[1]Tabel 1 B DATA'!K129","v":1},null,{"$f":"'[1]Tabel 1 B DATA'!M129","v":2}]
[{"$f":"'[1]Tabel 1 B DATA'!G130","v":"Forstkand."},null,{"$f":"'[1]Tabel 1 B DATA'!I130","v":1},null,{"$f":"'[1]Tabel 1 B DATA'!K130","v":0},null,{"$f":"'[1]Tabel 1 B DATA'!M130","v":1}]
[{"$f":"'[1]Tabel 1 B DATA'!G131","v":"Jordbrugsakad."},null,{"$f":"'[1]Tabel 1 B DATA'!I131","v":6},null,{"$f":"'[1]Tabel 1 B DATA'!K131","v":10},null,{"$f":"'[1]Tabel 1 B DATA'!M131","v":16}]
[{"$f":"'[1]Tabel 1 B DATA'!G132","v":"Mejeriing."},null,{"$f":"'[1]Tabel 1 B DATA'!I132","v":0},null,{"$f":"'[1]Tabel 1 B DATA'!K132","v":0},null,{"$f":"'[1]Tabel 1 B DATA'!M132","v":0}]
[{"$f":"'[1]Tabel 1 B DATA'!G133","v":"Levn.m.kand."},null,{"$f":"'[1]Tabel 1 B DATA'!I133","v":0},null,{"$f":"'[1]Tabel 1 B DATA'!K133","v":1},null,{"$f":"'[1]Tabel 1 B DATA'!M133","v":1}]
[{"$f":"'[1]Tabel 1 B DATA'!G134","v":"Dyrlæge"},null,{"$f":"'[1]Tabel 1 B DATA'!I134","v":5},null,{"$f":"'[1]Tabel 1 B DATA'!K134","v":10},null,{"$f":"'[1]Tabel 1 B DATA'!M134","v":15}]
[{"$f":"'[1]Tabel 1 B DATA'!G135","v":"Farmaceut"},null,{"$f":"'[1]Tabel 1 B DATA'!I135","v":1},null,{"$f":"'[1]Tabel 1 B DATA'!K135","v":6},null,{"$f":"'[1]Tabel 1 B DATA'!M135","v":7}]
[{"$f":"'[1]Tabel 1 B DATA'!G136","v":"Læge"},null,{"$f":"'[1]Tabel 1 B DATA'!I136","v":8},null,{"$f":"'[1]Tabel 1 B DATA'!K136","v":22},null,{"$f":"'[1]Tabel 1 B DATA'!M136","v":30}]
[{"$f":"'[1]Tabel 1 B DATA'!G137","v":"Tandlæge"},null,{"$f":"'[1]Tabel 1 B DATA'!I137","v":1},null,{"$f":"'[1]Tabel 1 B DATA'!K137","v":9},null,{"$f":"'[1]Tabel 1 B DATA'!M137","v":10}]
[{"$f":"'[1]Tabel 1 B DATA'!G138","v":"Arkitekt"},null,{"$f":"'[1]Tabel 1 B DATA'!I138","v":9},null,{"$f":"'[1]Tabel 1 B DATA'!K138","v":5},null,{"$f":"'[1]Tabel 1 B DATA'!M138","v":14}]
[{"$f":"'[1]Tabel 1 B DATA'!G139","v":"Landinspek."},null,{"$f":"'[1]Tabel 1 B DATA'!I139","v":1},null,{"$f":"'[1]Tabel 1 B DATA'!K139","v":0},null,{"$f":"'[1]Tabel 1 B DATA'!M139","v":1}]
[{"$f":"'[1]Tabel 1 B DATA'!G140","v":"Bibliotekar"},null,{"$f":"'[1]Tabel 1 B DATA'!I140","v":6},null,{"$f":"'[1]Tabel 1 B DATA'!K140","v":10},null,{"$f":"'[1]Tabel 1 B DATA'!M140","v":16}]
[{"$f":"'[1]Tabel 1 B DATA'!G141","v":"Musikudd."},null,{"$f":"'[1]Tabel 1 B DATA'!I141","v":0},null,{"$f":"'[1]Tabel 1 B DATA'!K141","v":2},null,{"$f":"'[1]Tabel 1 B DATA'!M141","v":2}]
[{"$f":"'[1]Tabel 1 B DATA'!G142","v":"Teolog"},null,{"$f":"'[1]Tabel 1 B DATA'!I142","v":9},null,{"$f":"'[1]Tabel 1 B DATA'!K142","v":3},null,{"$f":"'[1]Tabel 1 B DATA'!M142","v":12}]
[{"$f":"'[1]Tabel 1 B DATA'!G143","v":"Psykolog"},null,{"$f":"'[1]Tabel 1 B DATA'!I143","v":7},null,{"$f":"'[1]Tabel 1 B DATA'!K143","v":24},null,{"$f":"'[1]Tabel 1 B DATA'!M143","v":31}]
[{"$f":"'[1]Tabel 1 B DATA'!G144","v":"Jurist"},null,{"$f":"'[1]Tabel 1 B DATA'!I144","v":11},null,{"$f":"'[1]Tabel 1 B DATA'!K144","v":21},null,{"$f":"'[1]Tabel 1 B DATA'!M144","v":32}]
[{"$f":"'[1]Tabel 1 B DATA'!G145","v":"Økonom"},null,{"$f":"'[1]Tabel 1 B DATA'!I145","v":7},null,{"$f":"'[1]Tabel 1 B DATA'!K145","v":3},null,{"$f":"'[1]Tabel 1 B DATA'!M145","v":10}]
[{"$f":"'[1]Tabel 1 B DATA'!G146","v":"Samf. Adm."},null,{"$f":"'[1]Tabel 1 B DATA'!I146","v":28},null,{"$f":"'[1]Tabel 1 B DATA'!K146","v":27},null,{"$f":"'[1]Tabel 1 B DATA'!M146","v":55}]
[{"$f":"'[1]Tabel 1 B DATA'!G147","v":"Cand. Merc."},null,{"$f":"'[1]Tabel 1 B DATA'!I147","v":13},null,{"$f":"'[1]Tabel 1 B DATA'!K147","v":19},null,{"$f":"'[1]Tabel 1 B DATA'!M147","v":32}]
[{"$f":"'[1]Tabel 1 B DATA'!G148","v":"HA"},null,{"$f":"'[1]Tabel 1 B DATA'!I148","v":6},null,{"$f":"'[1]Tabel 1 B DATA'!K148","v":6},null,{"$f":"'[1]Tabel 1 B DATA'!M148","v":12}]
[{"$f":"'[1]Tabel 1 B DATA'!G149","v":"HD"},null,{"$f":"'[1]Tabel 1 B DATA'!I149","v":8},null,{"$f":"'[1]Tabel 1 B DATA'!K149","v":1},null,{"$f":"'[1]Tabel 1 B DATA'!M149","v":9}]
[{"$f":"'[1]Tabel 1 B DATA'!G150","v":"Komm. og Sprog"},null,{"$f":"'[1]Tabel 1 B DATA'!I150","v":4},null,{"$f":"'[1]Tabel 1 B DATA'!K150","v":11},null,{"$f":"'[1]Tabel 1 B DATA'!M150","v":15}]
[{"$f":"'[1]Tabel 1 B DATA'!G151","v":"Bygningskonst."},null,{"$f":"'[1]Tabel 1 B DATA'!I151","v":28},null,{"$f":"'[1]Tabel 1 B DATA'!K151","v":0},null,{"$f":"'[1]Tabel 1 B DATA'!M151","v":28}]
["Cand. IT.",null,{"$f":"'[1]Tabel 1 B DATA'!I152","v":2},null,{"$f":"'[1]Tabel 1 B DATA'!K152","v":0},null,{"$f":"'[1]Tabel 1 B DATA'!M152","v":2}]
[{"$f":"'[1]Tabel 1 B DATA'!G153","v":"Bac. Samf."},null,{"$f":"'[1]Tabel 1 B DATA'!I153","v":4},null,{"$f":"'[1]Tabel 1 B DATA'!K153","v":1},null,{"$f":"'[1]Tabel 1 B DATA'!M153","v":5}]
[{"$f":"'[1]Tabel 1 B DATA'!G154","v":"Bac. Hum."},null,{"$f":"'[1]Tabel 1 B DATA'!I154","v":8},null,{"$f":"'[1]Tabel 1 B DATA'!K154","v":5},null,{"$f":"'[1]Tabel 1 B DATA'!M154","v":13}]
[{"$f":"'[1]Tabel 1 B DATA'!G155","v":"Bac. Nat."},null,{"$f":"'[1]Tabel 1 B DATA'!I155","v":3},null,{"$f":"'[1]Tabel 1 B DATA'!K155","v":7},null,{"$f":"'[1]Tabel 1 B DATA'!M155","v":10}]
[{"$f":"'[1]Tabel 1 B DATA'!G156","v":"Andre"},null,{"$f":"'[1]Tabel 1 B DATA'!I156","v":66},null,{"$f":"'[1]Tabel 1 B DATA'!K156","v":43},null,{"$f":"'[1]Tabel 1 B DATA'!M156","v":109}]
[]
[{"$f":"'[1]Tabel 1 B DATA'!G158","v":"Total"},null,{"$f":"'[1]Tabel 1 B DATA'!I158","v":420},null,{"$f":"'[1]Tabel 1 B DATA'!K158","v":405},null,{"$f":"'[1]Tabel 1 B DATA'!M158","v":825}]
[]
[{"$f":"'[1]Tabel 1 B DATA'!G160","v":"Ingeniører i alt"},null,{"$f":"'[1]Tabel 1 B DATA'!I160","v":84},null,{"$f":"'[1]Tabel 1 B DATA'!K160","v":13},null,{"$f":"'[1]Tabel 1 B DATA'!M160","v":97}]
[{"$f":"'[1]Tabel 1 B DATA'!G161","v":"Magistre i alt"},null,{"$f":"'[1]Tabel 1 B DATA'!I161","v":79},null,{"$f":"'[1]Tabel 1 B DATA'!K161","v":130},null,{"$f":"'[1]Tabel 1 B DATA'!M161","v":209}]
[{"$f":"'[1]Tabel 1 B DATA'!G162","v":"DJØF'ere i alt"},null,{"$f":"'[1]Tabel 1 B DATA'!I162","v":65},null,{"$f":"'[1]Tabel 1 B DATA'!K162","v":76},null,{"$f":"'[1]Tabel 1 B DATA'!M162","v":141}]
[]
[]
[]
[]
[]
[]
[{"$f":"'[1]Tabel 1 B DATA'!G170","v":"Christiansø"}]
[]
[null,null,{"$f":"'[1]Tabel 1 B DATA'!I172","v":"Mænd"},null,{"$f":"'[1]Tabel 1 B DATA'!K172","v":"Kvinder"},null,{"$f":"'[1]Tabel 1 B DATA'!M172","v":"I alt"}]
[]
[{"$f":"'[1]Tabel 1 B DATA'!G174","v":"Civ. ing."},null,{"$f":"'[1]Tabel 1 B DATA'!I174","v":0},null,{"$f":"'[1]Tabel 1 B DATA'!K174","v":0},null,{"$f":"'[1]Tabel 1 B DATA'!M174","v":0}]
[{"$f":"'[1]Tabel 1 B DATA'!G175","v":"Diplom ing."},null,{"$f":"'[1]Tabel 1 B DATA'!I175","v":0},null,{"$f":"'[1]Tabel 1 B DATA'!K175","v":0},null,{"$f":"'[1]Tabel 1 B DATA'!M175","v":0}]
[{"$f":"'[1]Tabel 1 B DATA'!G176","v":"Cand. Scient. Tek."},null,{"$f":"'[1]Tabel 1 B DATA'!I176","v":0},null,{"$f":"'[1]Tabel 1 B DATA'!K176","v":0},null,{"$f":"'[1]Tabel 1 B DATA'!M176","v":0}]
[{"$f":"'[1]Tabel 1 B DATA'!G177","v":"MA. Hum."},null,{"$f":"'[1]Tabel 1 B DATA'!I177","v":0},null,{"$f":"'[1]Tabel 1 B DATA'!K177","v":0},null,{"$f":"'[1]Tabel 1 B DATA'!M177","v":0}]
[{"$f":"'[1]Tabel 1 B DATA'!G178","v":"MA. Nat."},null,{"$f":"'[1]Tabel 1 B DATA'!I178","v":0},null,{"$f":"'[1]Tabel 1 B DATA'!K178","v":0},null,{"$f":"'[1]Tabel 1 B DATA'!M178","v":0}]
[{"$f":"'[1]Tabel 1 B DATA'!G179","v":"MA. Ph.d."},null,{"$f":"'[1]Tabel 1 B DATA'!I179","v":0},null,{"$f":"'[1]Tabel 1 B DATA'!K179","v":0},null,{"$f":"'[1]Tabel 1 B DATA'!M179","v":0}]
[{"$f":"'[1]Tabel 1 B DATA'!G180","v":"MA. Samf."},null,{"$f":"'[1]Tabel 1 B DATA'!I180","v":0},null,{"$f":"'[1]Tabel 1 B DATA'!K180","v":0},null,{"$f":"'[1]Tabel 1 B DATA'!M180","v":0}]
[{"$f":"'[1]Tabel 1 B DATA'!G181","v":"Øvrige Mag."},null,{"$f":"'[1]Tabel 1 B DATA'!I181","v":0},null,{"$f":"'[1]Tabel 1 B DATA'!K181","v":0},null,{"$f":"'[1]Tabel 1 B DATA'!M181","v":0}]
[{"$f":"'[1]Tabel 1 B DATA'!G182","v":"Agronom"},null,{"$f":"'[1]Tabel 1 B DATA'!I182","v":0},null,{"$f":"'[1]Tabel 1 B DATA'!K182","v":0},null,{"$f":"'[1]Tabel 1 B DATA'!M182","v":0}]
[{"$f":"'[1]Tabel 1 B DATA'!G183","v":"Landsk. Arkt."},null,{"$f":"'[1]Tabel 1 B DATA'!I183","v":0},null,{"$f":"'[1]Tabel 1 B DATA'!K183","v":0},null,{"$f":"'[1]Tabel 1 B DATA'!M183","v":0}]
[{"$f":"'[1]Tabel 1 B DATA'!G184","v":"Hortonom"},null,{"$f":"'[1]Tabel 1 B DATA'!I184","v":0},null,{"$f":"'[1]Tabel 1 B DATA'!K184","v":0},null,{"$f":"'[1]Tabel 1 B DATA'!M184","v":0}]
[{"$f":"'[1]Tabel 1 B DATA'!G185","v":"Forstkand."},null,{"$f":"'[1]Tabel 1 B DATA'!I185","v":0},null,{"$f":"'[1]Tabel 1 B DATA'!K185","v":0},null,{"$f":"'[1]Tabel 1 B DATA'!M185","v":0}]
[{"$f":"'[1]Tabel 1 B DATA'!G186","v":"Jordbrugsakad."},null,{"$f":"'[1]Tabel 1 B DATA'!I186","v":0},null,{"$f":"'[1]Tabel 1 B DATA'!K186","v":0},null,{"$f":"'[1]Tabel 1 B DATA'!M186","v":0}]
[{"$f":"'[1]Tabel 1 B DATA'!G187","v":"Mejeriing."},null,{"$f":"'[1]Tabel 1 B DATA'!I187","v":0},null,{"$f":"'[1]Tabel 1 B DATA'!K187","v":0},null,{"$f":"'[1]Tabel 1 B DATA'!M187","v":0}]
[{"$f":"'[1]Tabel 1 B DATA'!G188","v":"Levn.m.kand."},null,{"$f":"'[1]Tabel 1 B DATA'!I188","v":0},null,{"$f":"'[1]Tabel 1 B DATA'!K188","v":0},null,{"$f":"'[1]Tabel 1 B DATA'!M188","v":0}]
[{"$f":"'[1]Tabel 1 B DATA'!G189","v":"Dyrlæge"},null,{"$f":"'[1]Tabel 1 B DATA'!I189","v":0},null,{"$f":"'[1]Tabel 1 B DATA'!K189","v":0},null,{"$f":"'[1]Tabel 1 B DATA'!M189","v":0}]
[{"$f":"'[1]Tabel 1 B DATA'!G190","v":"Farmaceut"},null,{"$f":"'[1]Tabel 1 B DATA'!I190","v":0},null,{"$f":"'[1]Tabel 1 B DATA'!K190","v":0},null,{"$f":"'[1]Tabel 1 B DATA'!M190","v":0}]
[{"$f":"'[1]Tabel 1 B DATA'!G191","v":"Læge"},null,{"$f":"'[1]Tabel 1 B DATA'!I191","v":1},null,{"$f":"'[1]Tabel 1 B DATA'!K191","v":0},null,{"$f":"'[1]Tabel 1 B DATA'!M191","v":1}]
[{"$f":"'[1]Tabel 1 B DATA'!G192","v":"Tandlæge"},null,{"$f":"'[1]Tabel 1 B DATA'!I192","v":0},null,{"$f":"'[1]Tabel 1 B DATA'!K192","v":0},null,{"$f":"'[1]Tabel 1 B DATA'!M192","v":0}]
[{"$f":"'[1]Tabel 1 B DATA'!G193","v":"Arkitekt"},null,{"$f":"'[1]Tabel 1 B DATA'!I193","v":0},null,{"$f":"'[1]Tabel 1 B DATA'!K193","v":0},null,{"$f":"'[1]Tabel 1 B DATA'!M193","v":0}]
[{"$f":"'[1]Tabel 1 B DATA'!G194","v":"Landinspek."},null,{"$f":"'[1]Tabel 1 B DATA'!I194","v":0},null,{"$f":"'[1]Tabel 1 B DATA'!K194","v":0},null,{"$f":"'[1]Tabel 1 B DATA'!M194","v":0}]
[{"$f":"'[1]Tabel 1 B DATA'!G195","v":"Bibliotekar"},null,{"$f":"'[1]Tabel 1 B DATA'!I195","v":0},null,{"$f":"'[1]Tabel 1 B DATA'!K195","v":0},null,{"$f":"'[1]Tabel 1 B DATA'!M195","v":0}]
[{"$f":"'[1]Tabel 1 B DATA'!G196","v":"Musikudd."},null,{"$f":"'[1]Tabel 1 B DATA'!I196","v":0},null,{"$f":"'[1]Tabel 1 B DATA'!K196","v":0},null,{"$f":"'[1]Tabel 1 B DATA'!M196","v":0}]
[{"$f":"'[1]Tabel 1 B DATA'!G197","v":"Teolog"},null,{"$f":"'[1]Tabel 1 B DATA'!I197","v":0},null,{"$f":"'[1]Tabel 1 B DATA'!K197","v":0},null,{"$f":"'[1]Tabel 1 B DATA'!M197","v":0}]
[{"$f":"'[1]Tabel 1 B DATA'!G198","v":"Psykolog"},null,{"$f":"'[1]Tabel 1 B DATA'!I198","v":0},null,{"$f":"'[1]Tabel 1 B DATA'!K198","v":0},null,{"$f":"'[1]Tabel 1 B DATA'!M198","v":0}]
[{"$f":"'[1]Tabel 1 B DATA'!G199","v":"Jurist"},null,{"$f":"'[1]Tabel 1 B DATA'!I199","v":0},null,{"$f":"'[1]Tabel 1 B DATA'!K199","v":0},null,{"$f":"'[1]Tabel 1 B DATA'!M199","v":0}]
[{"$f":"'[1]Tabel 1 B DATA'!G200","v":"Økonom"},null,{"$f":"'[1]Tabel 1 B DATA'!I200","v":0},null,{"$f":"'[1]Tabel 1 B DATA'!K200","v":0},null,{"$f":"'[1]Tabel 1 B DATA'!M200","v":0}]
[{"$f":"'[1]Tabel 1 B DATA'!G201","v":"Samf. Adm."},null,{"$f":"'[1]Tabel 1 B DATA'!I201","v":0},null,{"$f":"'[1]Tabel 1 B DATA'!K201","v":0},null,{"$f":"'[1]Tabel 1 B DATA'!M201","v":0}]
[{"$f":"'[1]Tabel 1 B DATA'!G202","v":"Cand. Merc."},null,{"$f":"'[1]Tabel 1 B DATA'!I202","v":0},null,{"$f":"'[1]Tabel 1 B DATA'!K202","v":0},null,{"$f":"'[1]Tabel 1 B DATA'!M202","v":0}]
[{"$f":"'[1]Tabel 1 B DATA'!G203","v":"HA"},null,{"$f":"'[1]Tabel 1 B DATA'!I203","v":0},null,{"$f":"'[1]Tabel 1 B DATA'!K203","v":0},null,{"$f":"'[1]Tabel 1 B DATA'!M203","v":0}]
[{"$f":"'[1]Tabel 1 B DATA'!G204","v":"HD"},null,{"$f":"'[1]Tabel 1 B DATA'!I204","v":0},null,{"$f":"'[1]Tabel 1 B DATA'!K204","v":0},null,{"$f":"'[1]Tabel 1 B DATA'!M204","v":0}]
[{"$f":"'[1]Tabel 1 B DATA'!G205","v":"Komm. og Sprog"},null,{"$f":"'[1]Tabel 1 B DATA'!I205","v":0},null,{"$f":"'[1]Tabel 1 B DATA'!K205","v":0},null,{"$f":"'[1]Tabel 1 B DATA'!M205","v":0}]
[{"$f":"'[1]Tabel 1 B DATA'!G206","v":"Bygnigskonst"},null,{"$f":"'[1]Tabel 1 B DATA'!I206","v":0},null,{"$f":"'[1]Tabel 1 B DATA'!K206","v":0},null,{"$f":"'[1]Tabel 1 B DATA'!M206","v":0}]
[{"$f":"'[1]Tabel 1 B DATA'!G207","v":"Cand. IT."},null,{"$f":"'[1]Tabel 1 B DATA'!I207","v":0},null,{"$f":"'[1]Tabel 1 B DATA'!K207","v":0},null,{"$f":"'[1]Tabel 1 B DATA'!M207","v":0}]
[{"$f":"'[1]Tabel 1 B DATA'!G208","v":"Bac. Samf."},null,{"$f":"'[1]Tabel 1 B DATA'!I208","v":0},null,{"$f":"'[1]Tabel 1 B DATA'!K208","v":0},null,{"$f":"'[1]Tabel 1 B DATA'!M208","v":0}]
[{"$f":"'[1]Tabel 1 B DATA'!G209","v":"Bac. Hum."},null,{"$f":"'[1]Tabel 1 B DATA'!I209","v":0},null,{"$f":"'[1]Tabel 1 B DATA'!K209","v":0},null,{"$f":"'[1]Tabel 1 B DATA'!M209","v":0}]
[{"$f":"'[1]Tabel 1 B DATA'!G210","v":"Bac. Nat."},null,{"$f":"'[1]Tabel 1 B DATA'!I210","v":0},null,{"$f":"'[1]Tabel 1 B DATA'!K210","v":0},null,{"$f":"'[1]Tabel 1 B DATA'!M210","v":0}]
[{"$f":"'[1]Tabel 1 B DATA'!G211","v":"Andre"},null,{"$f":"'[1]Tabel 1 B DATA'!I211","v":0},null,{"$f":"'[1]Tabel 1 B DATA'!K211","v":0},null,{"$f":"'[1]Tabel 1 B DATA'!M211","v":0}]
[]
[{"$f":"'[1]Tabel 1 B DATA'!G213","v":"Total"},null,{"$f":"'[1]Tabel 1 B DATA'!I213","v":1},null,{"$f":"'[1]Tabel 1 B DATA'!K213","v":0},null,{"$f":"'[1]Tabel 1 B DATA'!M213","v":1}]
[]
[{"$f":"'[1]Tabel 1 B DATA'!G215","v":"Ingeniører i alt"},null,{"$f":"'[1]Tabel 1 B DATA'!I215","v":0},null,{"$f":"'[1]Tabel 1 B DATA'!K215","v":0},null,{"$f":"'[1]Tabel 1 B DATA'!M215","v":0}]
[{"$f":"'[1]Tabel 1 B DATA'!G216","v":"Magistre i alt"},null,{"$f":"'[1]Tabel 1 B DATA'!I216","v":0},null,{"$f":"'[1]Tabel 1 B DATA'!K216","v":0},null,{"$f":"'[1]Tabel 1 B DATA'!M216","v":0}]
[{"$f":"'[1]Tabel 1 B DATA'!G217","v":"DJØF'ere i alt"},null,{"$f":"'[1]Tabel 1 B DATA'!I217","v":0},null,{"$f":"'[1]Tabel 1 B DATA'!K217","v":0},null,{"$f":"'[1]Tabel 1 B DATA'!M217","v":0}]

{"sheet":"Tabel 2 B","index":2,"n_rows":160,"n_cols":10,"rows_kept":160,"cut":false,"hidden":false,"merged":[[4,2,4,3],[4,5,4,6],[4,8,4,9],[5,2,6,2],[5,3,6,3],[5,5,6,5],[5,6,6,6],[5,8,6,8],[5,9,6,9],[58,2,58,3],[58,5,58,6],[58,8,58,9],[59,2,60,2],[59,3,60,3],[59,5,60,5],[59,6,60,6],[59,8,60,8],[59,9,60,9],[112,2,112,3],[112,5,112,6],[112,8,112,9],[113,2,114,2],[113,3,114,3],[113,5,114,5],[113,6,114,6],[113,8,114,8],[113,9,114,9]]}
[{"$f":"'[1]Tabel 2 B DATA'!I1","v":"Tabel 2. Antal bruttoledighedsberørte og gennemsnitlig antal ledige brutto"}]
[]
[{"$f":"'[1]Tabel 2 B DATA'!I3","v":"Bornholm"}]
[]
[null,null,{"$f":"'[1]Tabel 2 B DATA'!K5","v":"Mænd"},null,null,{"$f":"'[1]Tabel 2 B DATA'!N5","v":"Kvinder"},null,null,{"$f":"'[1]Tabel 2 B DATA'!Q5","v":"I alt"}]
[null,null,{"$f":"'[1]Tabel 2 B DATA'!K6","v":"Ledigheds-\nberørte"},{"$f":"'[1]Tabel 2 B DATA'!L6","v":"Gns.\nbrutto-\nledighed"},null,{"$f":"'[1]Tabel 2 B DATA'!N6","v":"Ledigheds-\nberørte"},{"$f":"'[1]Tabel 2 B DATA'!O6","v":"Gns.\nbrutto-\nledighed"},null,{"$f":"'[1]Tabel 2 B DATA'!Q6","v":"Ledigheds-\nberørte"},{"$f":"'[1]Tabel 2 B DATA'!R6","v":"Gns.\nbrutto-\nledighed"}]
[]
[]
[{"$f":"'[1]Tabel 2 B DATA'!I9","v":"Civ. ing."},null,{"$f":"'[1]Tabel 2 B DATA'!K9","v":2},{"$f":"'[1]Tabel 2 B DATA'!L9","v":1.9996257718455581},null,{"$f":"'[1]Tabel 2 B DATA'!N9","v":1},{"$f":"'[1]Tabel 2 B DATA'!O9","v":0.37485186802220483},null,{"$f":"'[1]Tabel 2 B DATA'!Q9","v":3},{"$f":"'[1]Tabel 2 B DATA'!R9","v":2.3744776398677629}]
[{"$f":"'[1]Tabel 2 B DATA'!I10","v":"Diplom ing."},null,{"$f":"'[1]Tabel 2 B DATA'!K10","v":4},{"$f":"'[1]Tabel 2 B DATA'!L10","v":3.0905008420133413},null,{"$f":"'[1]Tabel 2 B DATA'!N10","v":1},{"$f":"'[1]Tabel 2 B DATA'!O10","v":0.93432295889727612},null,{"$f":"'[1]Tabel 2 B DATA'!Q10","v":5},{"$f":"'[1]Tabel 2 B DATA'!R10","v":4.0248238009106174}]
[{"$f":"'[1]Tabel 2 B DATA'!I11","v":"Cand. Scient. Tek."},null,{"$f":"'[1]Tabel 2 B DATA'!K11","v":1},{"$f":"'[1]Tabel 2 B DATA'!L11","v":0.24012973242690805},null,{"$f":"'[1]Tabel 2 B DATA'!N11","v":4},{"$f":"'[1]Tabel 2 B DATA'!O11","v":2.3252042662010126},null,{"$f":"'[1]Tabel 2 B DATA'!Q11","v":5},{"$f":"'[1]Tabel 2 B DATA'!R11","v":2.5653339986279207}]
[{"$f":"'[1]Tabel 2 B DATA'!I12","v":"MA. Hum."},null,{"$f":"'[1]Tabel 2 B DATA'!K12","v":7},{"$f":"'[1]Tabel 2 B DATA'!L12","v":6.4248736979978389},null,{"$f":"'[1]Tabel 2 B DATA'!N12","v":11},{"$f":"'[1]Tabel 2 B DATA'!O12","v":8.4706542755566261},null,{"$f":"'[1]Tabel 2 B DATA'!Q12","v":18},{"$f":"'[1]Tabel 2 B DATA'!R12","v":14.895527973554465}]
[{"$f":"'[1]Tabel 2 B DATA'!I13","v":"MA. Nat."},null,{"$f":"'[1]Tabel 2 B DATA'!K13","v":3},{"$f":"'[1]Tabel 2 B DATA'!L13","v":2.1798789995633854},null,{"$f":"'[1]Tabel 2 B DATA'!N13","v":0},{"$f":"'[1]Tabel 2 B DATA'!O13","v":0},null,{"$f":"'[1]Tabel 2 B DATA'!Q13","v":3},{"$f":"'[1]Tabel 2 B DATA'!R13","v":2.1798789995633854}]
[{"$f":"'[1]Tabel 2 B DATA'!I14","v":"MA. Ph.d."},null,{"$f":"'[1]Tabel 2 B DATA'!K14","v":0},{"$f":"'[1]Tabel 2 B DATA'!L14","v":0},null,{"$f":"'[1]Tabel 2 B DATA'!N14","v":1},{"$f":"'[1]Tabel 2 B DATA'!O14","v":0.99981288592278261},null,{"$f":"'[1]Tabel 2 B DATA'!Q14","v":1},{"$f":"'[1]Tabel 2 B DATA'!R14","v":0.99981288592278261}]
[{"$f":"'[1]Tabel 2 B DATA'!I15","v":"MA. Samf."},null,{"$f":"'[1]Tabel 2 B DATA'!K15","v":1},{"$f":"'[1]Tabel 2 B DATA'!L15","v":0.99981288592277906},null,{"$f":"'[1]Tabel 2 B DATA'!N15","v":0},{"$f":"'[1]Tabel 2 B DATA'!O15","v":0},null,{"$f":"'[1]Tabel 2 B DATA'!Q15","v":1},{"$f":"'[1]Tabel 2 B DATA'!R15","v":0.99981288592277906}]
[{"$f":"'[1]Tabel 2 B DATA'!I16","v":"Øvrige Mag."},null,{"$f":"'[1]Tabel 2 B DATA'!K16","v":2},{"$f":"'[1]Tabel 2 B DATA'!L16","v":1.6765421318530542},null,{"$f":"'[1]Tabel 2 B DATA'!N16","v":3},{"$f":"'[1]Tabel 2 B DATA'!O16","v":2.999438657768323},null,{"$f":"'[1]Tabel 2 B DATA'!Q16","v":5},{"$f":"'[1]Tabel 2 B DATA'!R16","v":4.6759807896213772}]
[{"$f":"'[1]Tabel 2 B DATA'!I17","v":"Agronom"},null,{"$f":"'[1]Tabel 2 B DATA'!K17","v":0},{"$f":"'[1]Tabel 2 B DATA'!L17","v":0},null,{"$f":"'[1]Tabel 2 B DATA'!N17","v":0},{"$f":"'[1]Tabel 2 B DATA'!O17","v":0},null,{"$f":"'[1]Tabel 2 B DATA'!Q17","v":0},{"$f":"'[1]Tabel 2 B DATA'!R17","v":0}]
[{"$f":"'[1]Tabel 2 B DATA'!I18","v":"Landsk. Arkt."},null,{"$f":"'[1]Tabel 2 B DATA'!K18","v":0},{"$f":"'[1]Tabel 2 B DATA'!L18","v":0},null,{"$f":"'[1]Tabel 2 B DATA'!N18","v":0},{"$f":"'[1]Tabel 2 B DATA'!O18","v":0},null,{"$f":"'[1]Tabel 2 B DATA'!Q18","v":0},{"$f":"'[1]Tabel 2 B DATA'!R18","v":0}]
[{"$f":"'[1]Tabel 2 B DATA'!I19","v":"Hortonom"},null,{"$f":"'[1]Tabel 2 B DATA'!K19","v":0},{"$f":"'[1]Tabel 2 B DATA'!L19","v":0},null,{"$f":"'[1]Tabel 2 B DATA'!N19","v":0},{"$f":"'[1]Tabel 2 B DATA'!O19","v":0},null,{"$f":"'[1]Tabel 2 B DATA'!Q19","v":0},{"$f":"'[1]Tabel 2 B DATA'!R19","v":0}]
[{"$f":"'[1]Tabel 2 B DATA'!I20","v":"Forstkand."},null,{"$f":"'[1]Tabel 2 B DATA'!K20","v":0},{"$f":"'[1]Tabel 2 B DATA'!L20","v":0},null,{"$f":"'[1]Tabel 2 B DATA'!N20","v":0},{"$f":"'[1]Tabel 2 B DATA'!O20","v":0},null,{"$f":"'[1]Tabel 2 B DATA'!Q20","v":0},{"$f":"'[1]Tabel 2 B DATA'!R20","v":0}]
[{"$f":"'[1]Tabel 2 B DATA'!I21","v":"Jordbrugsakad."},null,{"$f":"'[1]Tabel 2 B DATA'!K21","v":0},{"$f":"'[1]Tabel 2 B DATA'!L21","v":0},null,{"$f":"'[1]Tabel 2 B DATA'!N21","v":0},{"$f":"'[1]Tabel 2 B DATA'!O21","v":0},null,{"$f":"'[1]Tabel 2 B DATA'!Q21","v":0},{"$f":"'[1]Tabel 2 B DATA'!R21","v":0}]
[{"$f":"'[1]Tabel 2 B DATA'!I22","v":"Mejeriing."},null,{"$f":"'[1]Tabel 2 B DATA'!K22","v":0},{"$f":"'[1]Tabel 2 B DATA'!L22","v":0},null,{"$f":"'[1]Tabel 2 B DATA'!N22","v":0},{"$f":"'[1]Tabel 2 B DATA'!O22","v":0},null,{"$f":"'[1]Tabel 2 B DATA'!Q22","v":0},{"$f":"'[1]Tabel 2 B DATA'!R22","v":0}]
[{"$f":"'[1]Tabel 2 B DATA'!I23","v":"Levn.m.kand."},null,{"$f":"'[1]Tabel 2 B DATA'!K23","v":0},{"$f":"'[1]Tabel 2 B DATA'!L23","v":0},null,{"$f":"'[1]Tabel 2 B DATA'!N23","v":1},{"$f":"'[1]Tabel 2 B DATA'!O23","v":0.99981288592278439},null,{"$f":"'[1]Tabel 2 B DATA'!Q23","v":1},{"$f":"'[1]Tabel 2 B DATA'!R23","v":0.99981288592278439}]
[{"$f":"'[1]Tabel 2 B DATA'!I24","v":"Dyrlæge"},null,{"$f":"'[1]Tabel 2 B DATA'!K24","v":0},{"$f":"'[1]Tabel 2 B DATA'!L24","v":0},null,{"$f":"'[1]Tabel 2 B DATA'!N24","v":0},{"$f":"'[1]Tabel 2 B DATA'!O24","v":0},null,{"$f":"'[1]Tabel 2 B DATA'!Q24","v":0},{"$f":"'[1]Tabel 2 B DATA'!R24","v":0}]
[{"$f":"'[1]Tabel 2 B DATA'!I25","v":"Farmaceut"},null,{"$f":"'[1]Tabel 2 B DATA'!K25","v":0},{"$f":"'[1]Tabel 2 B DATA'!L25","v":0},null,{"$f":"'[1]Tabel 2 B DATA'!N25","v":0},{"$f":"'[1]Tabel 2 B DATA'!O25","v":0},null,{"$f":"'[1]Tabel 2 B DATA'!Q25","v":0},{"$f":"'[1]Tabel 2 B DATA'!R25","v":0}]
[{"$f":"'[1]Tabel 2 B DATA'!I26","v":"Læge"},null,{"$f":"'[1]Tabel 2 B DATA'!K26","v":0},{"$f":"'[1]Tabel 2 B DATA'!L26","v":0},null,{"$f":"'[1]Tabel 2 B DATA'!N26","v":1},{"$f":"'[1]Tabel 2 B DATA'!O26","v":0.99981288592278617},null,{"$f":"'[1]Tabel 2 B DATA'!Q26","v":1},{"$f":"'[1]Tabel 2 B DATA'!R26","v":0.99981288592278617}]
[{"$f":"'[1]Tabel 2 B DATA'!I27","v":"Tandlæge"},null,{"$f":"'[1]Tabel 2 B DATA'!K27","v":0},{"$f":"'[1]Tabel 2 B DATA'!L27","v":0},null,{"$f":"'[1]Tabel 2 B DATA'!N27","v":0},{"$f":"'[1]Tabel 2 B DATA'!O27","v":0},null,{"$f":"'[1]Tabel 2 B DATA'!Q27","v":0},{"$f":"'[1]Tabel 2 B DATA'!R27","v":0}]
[{"$f":"'[1]Tabel 2 B DATA'!I28","v":"Arkitekt"},null,{"$f":"'[1]Tabel 2 B DATA'!K28","v":0},{"$f":"'[1]Tabel 2 B DATA'!L28","v":0},null,{"$f":"'[1]Tabel 2 B DATA'!N28","v":1},{"$f":"'[1]Tabel 2 B DATA'!O28","v":0.42599638246117877},null,{"$f":"'[1]Tabel 2 B DATA'!Q28","v":1},{"$f":"'[1]Tabel 2 B DATA'!R28","v":0.42599638246117877}]
[{"$f":"'[1]Tabel 2 B DATA'!I29","v":"Landinspek."},null,{"$f":"'[1]Tabel 2 B DATA'!K29","v":0},{"$f":"'[1]Tabel 2 B DATA'!L29","v":0},null,{"$f":"'[1]Tabel 2 B DATA'!N29","v":0},{"$f":"'[1]Tabel 2 B DATA'!O29","v":0},null,{"$f":"'[1]Tabel 2 B DATA'!Q29","v":0},{"$f":"'[1]Tabel 2 B DATA'!R29","v":0}]
[{"$f":"'[1]Tabel 2 B DATA'!I30","v":"Bibliotekar"},null,{"$f":"'[1]Tabel 2 B DATA'!K30","v":0},{"$f":"'[1]Tabel 2 B DATA'!L30","v":0},null,{"$f":"'[1]Tabel 2 B DATA'!N30","v":1},{"$f":"'[1]Tabel 2 B DATA'!O30","v":0.99981288592278617},null,{"$f":"'[1]Tabel 2 B DATA'!Q30","v":1},{"$f":"'[1]Tabel 2 B DATA'!R30","v":0.99981288592278617}]
[{"$f":"'[1]Tabel 2 B DATA'!I31","v":"Musikudd."},null,{"$f":"'[1]Tabel 2 B DATA'!K31","v":0},{"$f":"'[1]Tabel 2 B DATA'!L31","v":0},null,{"$f":"'[1]Tabel 2 B DATA'!N31","v":1},{"$f":"'[1]Tabel 2 B DATA'!O31","v":0.99981288592278439},null,{"$f":"'[1]Tabel 2 B DATA'!Q31","v":1},{"$f":"'[1]Tabel 2 B DATA'!R31","v":0.99981288592278439}]
[{"$f":"'[1]Tabel 2 B DATA'!I32","v":"Teolog"},null,{"$f":"'[1]Tabel 2 B DATA'!K32","v":0},{"$f":"'[1]Tabel 2 B DATA'!L32","v":0},null,{"$f":"'[1]Tabel 2 B DATA'!N32","v":0},{"$f":"'[1]Tabel 2 B DATA'!O32","v":0},null,{"$f":"'[1]Tabel 2 B DATA'!Q32","v":0},{"$f":"'[1]Tabel 2 B DATA'!R32","v":0}]
[{"$f":"'[1]Tabel 2 B DATA'!I33","v":"Psykolog"},null,{"$f":"'[1]Tabel 2 B DATA'!K33","v":0},{"$f":"'[1]Tabel 2 B DATA'!L33","v":0},null,{"$f":"'[1]Tabel 2 B DATA'!N33","v":1},{"$f":"'[1]Tabel 2 B DATA'!O33","v":0.85012162415019077},null,{"$f":"'[1]Tabel 2 B DATA'!Q33","v":1},{"$f":"'[1]Tabel 2 B DATA'!R33","v":0.85012162415019077}]
[{"$f":"'[1]Tabel 2 B DATA'!I34","v":"Jurist"},null,{"$f":"'[1]Tabel 2 B DATA'!K34","v":0},{"$f":"'[1]Tabel 2 B DATA'!L34","v":0},null,{"$f":"'[1]Tabel 2 B DATA'!N34","v":0},{"$f":"'[1]Tabel 2 B DATA'!O34","v":0},null,{"$f":"'[1]Tabel 2 B DATA'!Q34","v":0},{"$f":"'[1]Tabel 2 B DATA'!R34","v":0}]
[{"$f":"'[1]Tabel 2 B DATA'!I35","v":"Økonom"},null,{"$f":"'[1]Tabel 2 B DATA'!K35","v":0},{"$f":"'[1]Tabel 2 B DATA'!L35","v":0},null,{"$f":"'[1]Tabel 2 B DATA'!N35","v":0},{"$f":"'[1]Tabel 2 B DATA'!O35","v":0},null,{"$f":"'[1]Tabel 2 B DATA'!Q35","v":0},{"$f":"'[1]Tabel 2 B DATA'!R35","v":0}]
[{"$f":"'[1]Tabel 2 B DATA'!I36","v":"Samf. Adm."},null,{"$f":"'[1]Tabel 2 B DATA'!K36","v":2},{"$f":"'[1]Tabel 2 B DATA'!L36","v":1.9996257718455581},null,{"$f":"'[1]Tabel 2 B DATA'!N36","v":1},{"$f":"'[1]Tabel 2 B DATA'!O36","v":0.99981288592277906},null,{"$f":"'[1]Tabel 2 B DATA'!Q36","v":3},{"$f":"'[1]Tabel 2 B DATA'!R36","v":2.9994386577683372}]
[{"$f":"'[1]Tabel 2 B DATA'!I37","v":"Cand. Merc."},null,{"$f":"'[1]Tabel 2 B DATA'!K37","v":2},{"$f":"'[1]Tabel 2 B DATA'!L37","v":1.9996257718455581},null,{"$f":"'[1]Tabel 2 B DATA'!N37","v":2},{"$f":"'[1]Tabel 2 B DATA'!O37","v":1.5380777147133813},null,{"$f":"'[1]Tabel 2 B DATA'!Q37","v":4},{"$f":"'[1]Tabel 2 B DATA'!R37","v":3.5377034865589394}]
[{"$f":"'[1]Tabel 2 B DATA'!I38","v":"HA"},null,{"$f":"'[1]Tabel 2 B DATA'!K38","v":0},{"$f":"'[1]Tabel 2 B DATA'!L38","v":0},null,{"$f":"'[1]Tabel 2 B DATA'!N38","v":1},{"$f":"'[1]Tabel 2 B DATA'!O38","v":0.23264516933824098},null,{"$f":"'[1]Tabel 2 B DATA'!Q38","v":1},{"$f":"'[1]Tabel 2 B DATA'!R38","v":0.23264516933824098}]
[{"$f":"'[1]Tabel 2 B DATA'!I39","v":"HD"},null,{"$f":"'[1]Tabel 2 B DATA'!K39","v":0},{"$f":"'[1]Tabel 2 B DATA'!L39","v":0},null,{"$f":"'[1]Tabel 2 B DATA'!N39","v":0},{"$f":"'[1]Tabel 2 B DATA'!O39","v":0},null,{"$f":"'[1]Tabel 2 B DATA'!Q39","v":0},{"$f":"'[1]Tabel 2 B DATA'!R39","v":0}]
[{"$f":"'[1]Tabel 2 B DATA'!I40","v":"Komm. og Sprog"},null,{"$f":"'[1]Tabel 2 B DATA'!K40","v":0},{"$f":"'[1]Tabel 2 B DATA'!L40","v":0},null,{"$f":"'[1]Tabel 2 B DATA'!N40","v":4},{"$f":"'[1]Tabel 2 B DATA'!O40","v":2.9302064491985504},null,{"$f":"'[1]Tabel 2 B DATA'!Q40","v":4},{"$f":"'[1]Tabel 2 B DATA'!R40","v":2.9302064491985504}]
[{"$f":"'[1]Tabel 2 B DATA'!I41","v":"Bygningskonst."},null,{"$f":"'[1]Tabel 2 B DATA'!K41","v":0},{"$f":"'[1]Tabel 2 B DATA'!L41","v":0},null,{"$f":"'[1]Tabel 2 B DATA'!N41","v":0},{"$f":"'[1]Tabel 2 B DATA'!O41","v":0},null,{"$f":"'[1]Tabel 2 B DATA'!Q41","v":0},{"$f":"'[1]Tabel 2 B DATA'!R41","v":0}]
[{"$f":"'[1]Tabel 2 B DATA'!I42","v":"Cand. IT."},null,{"$f":"'[1]Tabel 2 B DATA'!K42","v":0},{"$f":"'[1]Tabel 2 B DATA'!L42","v":0},null,{"$f":"'[1]Tabel 2 B DATA'!N42","v":0},{"$f":"'[1]Tabel 2 B DATA'!O42","v":0},null,{"$f":"'[1]Tabel 2 B DATA'!Q42","v":0},{"$f":"'[1]Tabel 2 B DATA'!R42","v":0}]
[{"$f":"'[1]Tabel 2 B DATA'!I43","v":"Bac. Samf."},null,{"$f":"'[1]Tabel 2 B DATA'!K43","v":0},{"$f":"'[1]Tabel 2 B DATA'!L43","v":0},null,{"$f":"'[1]Tabel 2 B DATA'!N43","v":0},{"$f":"'[1]Tabel 2 B DATA'!O43","v":0},null,{"$f":"'[1]Tabel 2 B DATA'!Q43","v":0},{"$f":"'[1]Tabel 2 B DATA'!R43","v":0}]
[{"$f":"'[1]Tabel 2 B DATA'!I44","v":"Bac. Hum."},null,{"$f":"'[1]Tabel 2 B DATA'!K44","v":2},{"$f":"'[1]Tabel 2 B DATA'!L44","v":1.9996257718455581},null,{"$f":"'[1]Tabel 2 B DATA'!N44","v":1},{"$f":"'[1]Tabel 2 B DATA'!O44","v":0.16902638308488349},null,{"$f":"'[1]Tabel 2 B DATA'!Q44","v":3},{"$f":"'[1]Tabel 2 B DATA'!R44","v":2.1686521549304416}]
[{"$f":"'[1]Tabel 2 B DATA'!I45","v":"Bac. Nat."},null,{"$f":"'[1]Tabel 2 B DATA'!K45","v":1},{"$f":"'[1]Tabel 2 B DATA'!L45","v":0.99981288592278617},null,{"$f":"'[1]Tabel 2 B DATA'!N45","v":1},{"$f":"'[1]Tabel 2 B DATA'!O45","v":0.99981288592277906},null,{"$f":"'[1]Tabel 2 B DATA'!Q45","v":2},{"$f":"'[1]Tabel 2 B DATA'!R45","v":1.9996257718455652}]
[{"$f":"'[1]Tabel 2 B DATA'!I46","v":"Andre"},null,{"$f":"'[1]Tabel 2 B DATA'!K46","v":6},{"$f":"'[1]Tabel 2 B DATA'!L46","v":4.3248300380465423},null,{"$f":"'[1]Tabel 2 B DATA'!N46","v":6},{"$f":"'[1]Tabel 2 B DATA'!O46","v":4.0672363250794774},null,{"$f":"'[1]Tabel 2 B DATA'!Q46","v":12},{"$f":"'[1]Tabel 2 B DATA'!R46","v":8.3920663631260197}]
[]
[{"$f":"'[1]Tabel 2 B DATA'!I48","v":"Total"},null,{"$f":"'[1]Tabel 2 B DATA'!K48","v":33},{"$f":"'[1]Tabel 2 B DATA'!L48","v":27.934884301128868},null,{"$f":"'[1]Tabel 2 B DATA'!N48","v":43},{"$f":"'[1]Tabel 2 B DATA'!O48","v":32.316472275930828},null,{"$f":"'[1]Tabel 2 B DATA'!Q48","v":76},{"$f":"'[1]Tabel 2 B DATA'!R48","v":60.251356577059703}]
[]
[{"$f":"'[1]Tabel 2 B DATA'!I50","v":"Ingeniører i alt"},null,{"$f":"'[1]Tabel 2 B DATA'!K50","v":6},{"$f":"'[1]Tabel 2 B DATA'!L50","v":5.0901266138588994},null,{"$f":"'[1]Tabel 2 B DATA'!N50","v":2},{"$f":"'[1]Tabel 2 B DATA'!O50","v":1.3091748269194809},null,{"$f":"'[1]Tabel 2 B DATA'!Q50","v":8},{"$f":"'[1]Tabel 2 B DATA'!R50","v":6.3993014407783804}]
[{"$f":"'[1]Tabel 2 B DATA'!I51","v":"Magistre i alt"},null,{"$f":"'[1]Tabel 2 B DATA'!K51","v":13},{"$f":"'[1]Tabel 2 B DATA'!L51","v":11.281107715337058},null,{"$f":"'[1]Tabel 2 B DATA'!N51","v":15},{"$f":"'[1]Tabel 2 B DATA'!O51","v":12.469905819247732},null,{"$f":"'[1]Tabel 2 B DATA'!Q51","v":28},{"$f":"'[1]Tabel 2 B DATA'!R51","v":23.751013534584789}]
[{"$f":"'[1]Tabel 2 B DATA'!I52","v":"DJØF'ere i alt"},null,{"$f":"'[1]Tabel 2 B DATA'!K52","v":4},{"$f":"'[1]Tabel 2 B DATA'!L52","v":3.9992515436911162},null,{"$f":"'[1]Tabel 2 B DATA'!N52","v":4},{"$f":"'[1]Tabel 2 B DATA'!O52","v":2.7705357699744013},null,{"$f":"'[1]Tabel 2 B DATA'!Q52","v":8},{"$f":"'[1]Tabel 2 B DATA'!R52","v":6.7697873136655176}]
[]
[]
[]
[]
[{"$f":"'[1]Tabel 2 B DATA'!I106","v":"Bornholm"}]
[]
[null,null,{"$f":"'[1]Tabel 2 B DATA'!K108","v":"Mænd"},null,null,{"$f":"'[1]Tabel 2 B DATA'!N108","v":"Kvinder"},null,null,{"$f":"'[1]Tabel 2 B DATA'!Q108","v":"I alt"}]
[null,null,{"$f":"'[1]Tabel 2 B DATA'!K109","v":"Ledigheds-\nberørte"},{"$f":"'[1]Tabel 2 B DATA'!L109","v":"Gns.\nbrutto-\nledighed"},null,{"$f":"'[1]Tabel 2 B DATA'!N109","v":"Ledigheds-\nberørte"},{"$f":"'[1]Tabel 2 B DATA'!O109","v":"Gns.\nbrutto-\nledighed"},null,{"$f":"'[1]Tabel 2 B DATA'!Q109","v":"Ledigheds-\nberørte"},{"$f":"'[1]Tabel 2 B DATA'!R109","v":"Gns.\nbrutto-\nledighed"}]
[]
[]
[{"$f":"'[1]Tabel 2 B DATA'!I112","v":"Civ. ing."},null,{"$f":"'[1]Tabel 2 B DATA'!K112","v":2},{"$f":"'[1]Tabel 2 B DATA'!L112","v":1.9996257718455686},null,{"$f":"'[1]Tabel 2 B DATA'!N112","v":1},{"$f":"'[1]Tabel 2 B DATA'!O112","v":0.37485186802220416},null,{"$f":"'[1]Tabel 2 B DATA'!Q112","v":3},{"$f":"'[1]Tabel 2 B DATA'!R112","v":2.3744776398677727}]
[{"$f":"'[1]Tabel 2 B DATA'!I113","v":"Diplom ing."},null,{"$f":"'[1]Tabel 2 B DATA'!K113","v":4},{"$f":"'[1]Tabel 2 B DATA'!L113","v":3.0905008420133475},null,{"$f":"'[1]Tabel 2 B DATA'!N113","v":1},{"$f":"'[1]Tabel 2 B DATA'!O113","v":0.93432295889727435},null,{"$f":"'[1]Tabel 2 B DATA'!Q113","v":5},{"$f":"'[1]Tabel 2 B DATA'!R113","v":4.0248238009106219}]
[{"$f":"'[1]Tabel 2 B DATA'!I114","v":"Cand. Scient. Tek."},null,{"$f":"'[1]Tabel 2 B DATA'!K114","v":1},{"$f":"'[1]Tabel 2 B DATA'!L114","v":0.24012973242686955},null,{"$f":"'[1]Tabel 2 B DATA'!N114","v":4},{"$f":"'[1]Tabel 2 B DATA'!O114","v":2.3252042662009602},null,{"$f":"'[1]Tabel 2 B DATA'!Q114","v":5},{"$f":"'[1]Tabel 2 B DATA'!R114","v":2.5653339986278296}]
[{"$f":"'[1]Tabel 2 B DATA'!I115","v":"MA. Hum."},null,{"$f":"'[1]Tabel 2 B DATA'!K115","v":7},{"$f":"'[1]Tabel 2 B DATA'!L115","v":6.4248736979978798},null,{"$f":"'[1]Tabel 2 B DATA'!N115","v":11},{"$f":"'[1]Tabel 2 B DATA'!O115","v":8.4706542755566634},null,{"$f":"'[1]Tabel 2 B DATA'!Q115","v":18},{"$f":"'[1]Tabel 2 B DATA'!R115","v":14.895527973554543}]
[{"$f":"'[1]Tabel 2 B DATA'!I116","v":"MA. Nat."},null,{"$f":"'[1]Tabel 2 B DATA'!K116","v":3},{"$f":"'[1]Tabel 2 B DATA'!L116","v":2.1798789995634005},null,{"$f":"'[1]Tabel 2 B DATA'!N116","v":0},{"$f":"'[1]Tabel 2 B DATA'!O116","v":0},null,{"$f":"'[1]Tabel 2 B DATA'!Q116","v":3},{"$f":"'[1]Tabel 2 B DATA'!R116","v":2.1798789995634005}]
[{"$f":"'[1]Tabel 2 B DATA'!I117","v":"MA. Ph.d."},null,{"$f":"'[1]Tabel 2 B DATA'!K117","v":0},{"$f":"'[1]Tabel 2 B DATA'!L117","v":0},null,{"$f":"'[1]Tabel 2 B DATA'!N117","v":1},{"$f":"'[1]Tabel 2 B DATA'!O117","v":0.99981288592278428},null,{"$f":"'[1]Tabel 2 B DATA'!Q117","v":1},{"$f":"'[1]Tabel 2 B DATA'!R117","v":0.99981288592278428}]
[{"$f":"'[1]Tabel 2 B DATA'!I118","v":"MA. Samf."},null,{"$f":"'[1]Tabel 2 B DATA'!K118","v":1},{"$f":"'[1]Tabel 2 B DATA'!L118","v":0.99981288592278428},null,{"$f":"'[1]Tabel 2 B DATA'!N118","v":0},{"$f":"'[1]Tabel 2 B DATA'!O118","v":0},null,{"$f":"'[1]Tabel 2 B DATA'!Q118","v":1},{"$f":"'[1]Tabel 2 B DATA'!R118","v":0.99981288592278428}]
[{"$f":"'[1]Tabel 2 B DATA'!I119","v":"Øvrige Mag."},null,{"$f":"'[1]Tabel 2 B DATA'!K119","v":2},{"$f":"'[1]Tabel 2 B DATA'!L119","v":1.6765421318530529},null,{"$f":"'[1]Tabel 2 B DATA'!N119","v":3},{"$f":"'[1]Tabel 2 B DATA'!O119","v":2.9994386577683527},null,{"$f":"'[1]Tabel 2 B DATA'!Q119","v":5},{"$f":"'[1]Tabel 2 B DATA'!R119","v":4.6759807896214056}]
[{"$f":"'[1]Tabel 2 B DATA'!I120","v":"Agronom"},null,{"$f":"'[1]Tabel 2 B DATA'!K120","v":0},{"$f":"'[1]Tabel 2 B DATA'!L120","v":0},null,{"$f":"'[1]Tabel 2 B DATA'!N120","v":0},{"$f":"'[1]Tabel 2 B DATA'!O120","v":0},null,{"$f":"'[1]Tabel 2 B DATA'!Q120","v":0},{"$f":"'[1]Tabel 2 B DATA'!R120","v":0}]
[{"$f":"'[1]Tabel 2 B DATA'!I121","v":"Landsk. Arkt."},null,{"$f":"'[1]Tabel 2 B DATA'!K121","v":0},{"$f":"'[1]Tabel 2 B DATA'!L121","v":0},null,{"$f":"'[1]Tabel 2 B DATA'!N121","v":0},{"$f":"'[1]Tabel 2 B DATA'!O121","v":0},null,{"$f":"'[1]Tabel 2 B DATA'!Q121","v":0},{"$f":"'[1]Tabel 2 B DATA'!R121","v":0}]
[{"$f":"'[1]Tabel 2 B DATA'!I122","v":"Hortonom"},null,{"$f":"'[1]Tabel 2 B DATA'!K122","v":0},{"$f":"'[1]Tabel 2 B DATA'!L122","v":0},null,{"$f":"'[1]Tabel 2 B DATA'!N122","v":0},{"$f":"'[1]Tabel 2 B DATA'!O122","v":0},null,{"$f":"'[1]Tabel 2 B DATA'!Q122","v":0},{"$f":"'[1]Tabel 2 B DATA'!R122","v":0}]
[{"$f":"'[1]Tabel 2 B DATA'!I123","v":"Forstkand."},null,{"$f":"'[1]Tabel 2 B DATA'!K123","v":0},{"$f":"'[1]Tabel 2 B DATA'!L123","v":0},null,{"$f":"'[1]Tabel 2 B DATA'!N123","v":0},{"$f":"'[1]Tabel 2 B DATA'!O123","v":0},null,{"$f":"'[1]Tabel 2 B DATA'!Q123","v":0},{"$f":"'[1]Tabel 2 B DATA'!R123","v":0}]
[{"$f":"'[1]Tabel 2 B DATA'!I124","v":"Jordbrugsakad."},null,{"$f":"'[1]Tabel 2 B DATA'!K124","v":0},{"$f":"'[1]Tabel 2 B DATA'!L124","v":0},null,{"$f":"'[1]Tabel 2 B DATA'!N124","v":0},{"$f":"'[1]Tabel 2 B DATA'!O124","v":0},null,{"$f":"'[1]Tabel 2 B DATA'!Q124","v":0},{"$f":"'[1]Tabel 2 B DATA'!R124","v":0}]
[{"$f":"'[1]Tabel 2 B DATA'!I125","v":"Mejeriing."},null,{"$f":"'[1]Tabel 2 B DATA'!K125","v":0},{"$f":"'[1]Tabel 2 B DATA'!L125","v":0},null,{"$f":"'[1]Tabel 2 B DATA'!N125","v":0},{"$f":"'[1]Tabel 2 B DATA'!O125","v":0},null,{"$f":"'[1]Tabel 2 B DATA'!Q125","v":0},{"$f":"'[1]Tabel 2 B DATA'!R125","v":0}]
[{"$f":"'[1]Tabel 2 B DATA'!I126","v":"Levn.m.kand."},null,{"$f":"'[1]Tabel 2 B DATA'!K126","v":0},{"$f":"'[1]Tabel 2 B DATA'!L126","v":0},null,{"$f":"'[1]Tabel 2 B DATA'!N126","v":1},{"$f":"'[1]Tabel 2 B DATA'!O126","v":0.99981288592278428},null,{"$f":"'[1]Tabel 2 B DATA'!Q126","v":1},{"$f":"'[1]Tabel 2 B DATA'!R126","v":0.99981288592278428}]
[{"$f":"'[1]Tabel 2 B DATA'!I127","v":"Dyrlæge"},null,{"$f":"'[1]Tabel 2 B DATA'!K127","v":0},{"$f":"'[1]Tabel 2 B DATA'!L127","v":0},null,{"$f":"'[1]Tabel 2 B DATA'!N127","v":0},{"$f":"'[1]Tabel 2 B DATA'!O127","v":0},null,{"$f":"'[1]Tabel 2 B DATA'!Q127","v":0},{"$f":"'[1]Tabel 2 B DATA'!R127","v":0}]
[{"$f":"'[1]Tabel 2 B DATA'!I128","v":"Farmaceut"},null,{"$f":"'[1]Tabel 2 B DATA'!K128","v":0},{"$f":"'[1]Tabel 2 B DATA'!L128","v":0},null,{"$f":"'[1]Tabel 2 B DATA'!N128","v":0},{"$f":"'[1]Tabel 2 B DATA'!O128","v":0},null,{"$f":"'[1]Tabel 2 B DATA'!Q128","v":0},{"$f":"'[1]Tabel 2 B DATA'!R128","v":0}]
[{"$f":"'[1]Tabel 2 B DATA'!I129","v":"Læge"},null,{"$f":"'[1]Tabel 2 B DATA'!K129","v":0},{"$f":"'[1]Tabel 2 B DATA'!L129","v":0},null,{"$f":"'[1]Tabel 2 B DATA'!N129","v":1},{"$f":"'[1]Tabel 2 B DATA'!O129","v":0.99981288592278428},null,{"$f":"'[1]Tabel 2 B DATA'!Q129","v":1},{"$f":"'[1]Tabel 2 B DATA'!R129","v":0.99981288592278428}]
[{"$f":"'[1]Tabel 2 B DATA'!I130","v":"Tandlæge"},null,{"$f":"'[1]Tabel 2 B DATA'!K130","v":0},{"$f":"'[1]Tabel 2 B DATA'!L130","v":0},null,{"$f":"'[1]Tabel 2 B DATA'!N130","v":0},{"$f":"'[1]Tabel 2 B DATA'!O130","v":0},null,{"$f":"'[1]Tabel 2 B DATA'!Q130","v":0},{"$f":"'[1]Tabel 2 B DATA'!R130","v":0}]
[{"$f":"'[1]Tabel 2 B DATA'!I131","v":"Arkitekt"},null,{"$f":"'[1]Tabel 2 B DATA'!K131","v":0},{"$f":"'[1]Tabel 2 B DATA'!L131","v":0},null,{"$f":"'[1]Tabel 2 B DATA'!N131","v":1},{"$f":"'[1]Tabel 2 B DATA'!O131","v":0.42599638246117377},null,{"$f":"'[1]Tabel 2 B DATA'!Q131","v":1},{"$f":"'[1]Tabel 2 B DATA'!R131","v":0.42599638246117377}]
[{"$f":"'[1]Tabel 2 B DATA'!I132","v":"Landinspek."},null,{"$f":"'[1]Tabel 2 B DATA'!K132","v":0},{"$f":"'[1]Tabel 2 B DATA'!L132","v":0},null,{"$f":"'[1]Tabel 2 B DATA'!N132","v":0},{"$f":"'[1]Tabel 2 B DATA'!O132","v":0},null,{"$f":"'[1]Tabel 2 B DATA'!Q132","v":0},{"$f":"'[1]Tabel 2 B DATA'!R132","v":0}]
[{"$f":"'[1]Tabel 2 B DATA'!I133","v":"Bibliotekar"},null,{"$f":"'[1]Tabel 2 B DATA'!K133","v":0},{"$f":"'[1]Tabel 2 B DATA'!L133","v":0},null,{"$f":"'[1]Tabel 2 B DATA'!N133","v":1},{"$f":"'[1]Tabel 2 B DATA'!O133","v":0.99981288592278428},null,{"$f":"'[1]Tabel 2 B DATA'!Q133","v":1},{"$f":"'[1]Tabel 2 B DATA'!R133","v":0.99981288592278428}]
[{"$f":"'[1]Tabel 2 B DATA'!I134","v":"Musikudd."},null,{"$f":"'[1]Tabel 2 B DATA'!K134","v":0},{"$f":"'[1]Tabel 2 B DATA'!L134","v":0},null,{"$f":"'[1]Tabel 2 B DATA'!N134","v":1},{"$f":"'[1]Tabel 2 B DATA'!O134","v":0.99981288592278428},null,{"$f":"'[1]Tabel 2 B DATA'!Q134","v":1},{"$f":"'[1]Tabel 2 B DATA'!R134","v":0.99981288592278428}]
[{"$f":"'[1]Tabel 2 B DATA'!I135","v":"Teolog"},null,{"$f":"'[1]Tabel 2 B DATA'!K135","v":0},{"$f":"'[1]Tabel 2 B DATA'!L135","v":0},null,{"$f":"'[1]Tabel 2 B DATA'!N135","v":0},{"$f":"'[1]Tabel 2 B DATA'!O135","v":0},null,{"$f":"'[1]Tabel 2 B DATA'!Q135","v":0},{"$f":"'[1]Tabel 2 B DATA'!R135","v":0}]
[{"$f":"'[1]Tabel 2 B DATA'!I136","v":"Psykolog"},null,{"$f":"'[1]Tabel 2 B DATA'!K136","v":0},{"$f":"'[1]Tabel 2 B DATA'!L136","v":0},null,{"$f":"'[1]Tabel 2 B DATA'!N136","v":1},{"$f":"'[1]Tabel 2 B DATA'!O136","v":0.85012162415019021},null,{"$f":"'[1]Tabel 2 B DATA'!Q136","v":1},{"$f":"'[1]Tabel 2 B DATA'!R136","v":0.85012162415019021}]
[{"$f":"'[1]Tabel 2 B DATA'!I137","v":"Jurist"},null,{"$f":"'[1]Tabel 2 B DATA'!K137","v":0},{"$f":"'[1]Tabel 2 B DATA'!L137","v":0},null,{"$f":"'[1]Tabel 2 B DATA'!N137","v":0},{"$f":"'[1]Tabel 2 B DATA'!O137","v":0},null,{"$f":"'[1]Tabel 2 B DATA'!Q137","v":0},{"$f":"'[1]Tabel 2 B DATA'!R137","v":0}]
[{"$f":"'[1]Tabel 2 B DATA'!I138","v":"Økonom"},null,{"$f":"'[1]Tabel 2 B DATA'!K138","v":0},{"$f":"'[1]Tabel 2 B DATA'!L138","v":0},null,{"$f":"'[1]Tabel 2 B DATA'!N138","v":0},{"$f":"'[1]Tabel 2 B DATA'!O138","v":0},null,{"$f":"'[1]Tabel 2 B DATA'!Q138","v":0},{"$f":"'[1]Tabel 2 B DATA'!R138","v":0}]
[{"$f":"'[1]Tabel 2 B DATA'!I139","v":"Samf. Adm."},null,{"$f":"'[1]Tabel 2 B DATA'!K139","v":2},{"$f":"'[1]Tabel 2 B DATA'!L139","v":1.9996257718455686},null,{"$f":"'[1]Tabel 2 B DATA'!N139","v":1},{"$f":"'[1]Tabel 2 B DATA'!O139","v":0.99981288592278428},null,{"$f":"'[1]Tabel 2 B DATA'!Q139","v":3},{"$f":"'[1]Tabel 2 B DATA'!R139","v":2.9994386577683527}]
[{"$f":"'[1]Tabel 2 B DATA'!I140","v":"Cand. Merc."},null,{"$f":"'[1]Tabel 2 B DATA'!K140","v":2},{"$f":"'[1]Tabel 2 B DATA'!L140","v":1.9996257718455686},null,{"$f":"'[1]Tabel 2 B DATA'!N140","v":2},{"$f":"'[1]Tabel 2 B DATA'!O140","v":1.5380777147134035},null,{"$f":"'[1]Tabel 2 B DATA'!Q140","v":4},{"$f":"'[1]Tabel 2 B DATA'!R140","v":3.5377034865589723}]
[{"$f":"'[1]Tabel 2 B DATA'!I141","v":"HA"},null,{"$f":"'[1]Tabel 2 B DATA'!K141","v":0},{"$f":"'[1]Tabel 2 B DATA'!L141","v":0},null,{"$f":"'[1]Tabel 2 B DATA'!N141","v":1},{"$f":"'[1]Tabel 2 B DATA'!O141","v":0.23264516933823984},null,{"$f":"'[1]Tabel 2 B DATA'!Q141","v":1},{"$f":"'[1]Tabel 2 B DATA'!R141","v":0.23264516933823984}]
[{"$f":"'[1]Tabel 2 B DATA'!I142","v":"HD"},null,{"$f":"'[1]Tabel 2 B DATA'!K142","v":0},{"$f":"'[1]Tabel 2 B DATA'!L142","v":0},null,{"$f":"'[1]Tabel 2 B DATA'!N142","v":0},{"$f":"'[1]Tabel 2 B DATA'!O142","v":0},null,{"$f":"'[1]Tabel 2 B DATA'!Q142","v":0},{"$f":"'[1]Tabel 2 B DATA'!R142","v":0}]
[{"$f":"'[1]Tabel 2 B DATA'!I143","v":"Komm. og Sprog"},null,{"$f":"'[1]Tabel 2 B DATA'!K143","v":0},{"$f":"'[1]Tabel 2 B DATA'!L143","v":0},null,{"$f":"'[1]Tabel 2 B DATA'!N143","v":4},{"$f":"'[1]Tabel 2 B DATA'!O143","v":2.9302064491985278},null,{"$f":"'[1]Tabel 2 B DATA'!Q143","v":4},{"$f":"'[1]Tabel 2 B DATA'!R143","v":2.9302064491985278}]
[{"$f":"'[1]Tabel 2 B DATA'!I144","v":"Bygningskonst."},null,{"$f":"'[1]Tabel 2 B DATA'!K144","v":0},{"$f":"'[1]Tabel 2 B DATA'!L144","v":0},null,{"$f":"'[1]Tabel 2 B DATA'!N144","v":0},{"$f":"'[1]Tabel 2 B DATA'!O144","v":0},null,{"$f":"'[1]Tabel 2 B DATA'!Q144","v":0},{"$f":"'[1]Tabel 2 B DATA'!R144","v":0}]
[{"$f":"'[1]Tabel 2 B DATA'!I145","v":"Cand. IT."},null,{"$f":"'[1]Tabel 2 B DATA'!K145","v":0},{"$f":"'[1]Tabel 2 B DATA'!L145","v":0},null,{"$f":"'[1]Tabel 2 B DATA'!N145","v":0},{"$f":"'[1]Tabel 2 B DATA'!O145","v":0},null,{"$f":"'[1]Tabel 2 B DATA'!Q145","v":0},{"$f":"'[1]Tabel 2 B DATA'!R145","v":0}]
[{"$f":"'[1]Tabel 2 B DATA'!I146","v":"Bac. Samf."},null,{"$f":"'[1]Tabel 2 B DATA'!K146","v":0},{"$f":"'[1]Tabel 2 B DATA'!L146","v":0},null,{"$f":"'[1]Tabel 2 B DATA'!N146","v":0},{"$f":"'[1]Tabel 2 B DATA'!O146","v":0},null,{"$f":"'[1]Tabel 2 B DATA'!Q146","v":0},{"$f":"'[1]Tabel 2 B DATA'!R146","v":0}]
[{"$f":"'[1]Tabel 2 B DATA'!I147","v":"Bac. Hum."},null,{"$f":"'[1]Tabel 2 B DATA'!K147","v":2},{"$f":"'[1]Tabel 2 B DATA'!L147","v":1.9996257718455686},null,{"$f":"'[1]Tabel 2 B DATA'!N147","v":1},{"$f":"'[1]Tabel 2 B DATA'!O147","v":0.1690263830848874},null,{"$f":"'[1]Tabel 2 B DATA'!Q147","v":3},{"$f":"'[1]Tabel 2 B DATA'!R147","v":2.1686521549304558}]
[{"$f":"'[1]Tabel 2 B DATA'!I148","v":"Bac. Nat."},null,{"$f":"'[1]Tabel 2 B DATA'!K148","v":1},{"$f":"'[1]Tabel 2 B DATA'!L148","v":0.99981288592278428},null,{"$f":"'[1]Tabel 2 B DATA'!N148","v":1},{"$f":"'[1]Tabel 2 B DATA'!O148","v":0.99981288592278428},null,{"$f":"'[1]Tabel 2 B DATA'!Q148","v":2},{"$f":"'[1]Tabel 2 B DATA'!R148","v":1.9996257718455686}]
[{"$f":"'[1]Tabel 2 B DATA'!I149","v":"Andre"},null,{"$f":"'[1]Tabel 2 B DATA'!K149","v":6},{"$f":"'[1]Tabel 2 B DATA'!L149","v":4.324830038046529},null,{"$f":"'[1]Tabel 2 B DATA'!N149","v":6},{"$f":"'[1]Tabel 2 B DATA'!O149","v":4.0672363250795236},null,{"$f":"'[1]Tabel 2 B DATA'!Q149","v":12},{"$f":"'[1]Tabel 2 B DATA'!R149","v":8.3920663631260517}]
[]
[{"$f":"'[1]Tabel 2 B DATA'!I151","v":"Total"},null,{"$f":"'[1]Tabel 2 B DATA'!K151","v":33},{"$f":"'[1]Tabel 2 B DATA'!L151","v":27.934884301128921},null,{"$f":"'[1]Tabel 2 B DATA'!N151","v":43},{"$f":"'[1]Tabel 2 B DATA'!O151","v":32.316472275930884},null,{"$f":"'[1]Tabel 2 B DATA'!Q151","v":76},{"$f":"'[1]Tabel 2 B DATA'!R151","v":60.251356577059809}]
[]
[{"$f":"'[1]Tabel 2 B DATA'!I153","v":"Ingeniører i alt"},null,{"$f":"'[1]Tabel 2 B DATA'!K153","v":6},{"$f":"'[1]Tabel 2 B DATA'!L153","v":5.0901266138589163},null,{"$f":"'[1]Tabel 2 B DATA'!N153","v":2},{"$f":"'[1]Tabel 2 B DATA'!O153","v":1.3091748269194785},null,{"$f":"'[1]Tabel 2 B DATA'!Q153","v":8},{"$f":"'[1]Tabel 2 B DATA'!R153","v":6.3993014407783946}]
[{"$f":"'[1]Tabel 2 B DATA'!I154","v":"Magistre i alt"},null,{"$f":"'[1]Tabel 2 B DATA'!K154","v":13},{"$f":"'[1]Tabel 2 B DATA'!L154","v":11.281107715337118},null,{"$f":"'[1]Tabel 2 B DATA'!N154","v":15},{"$f":"'[1]Tabel 2 B DATA'!O154","v":12.469905819247801},null,{"$f":"'[1]Tabel 2 B DATA'!Q154","v":28},{"$f":"'[1]Tabel 2 B DATA'!R154","v":23.751013534584914}]
[{"$f":"'[1]Tabel 2 B DATA'!I155","v":"DJØF'ere i alt"},null,{"$f":"'[1]Tabel 2 B DATA'!K155","v":4},{"$f":"'[1]Tabel 2 B DATA'!L155","v":3.9992515436911371},null,{"$f":"'[1]Tabel 2 B DATA'!N155","v":4},{"$f":"'[1]Tabel 2 B DATA'!O155","v":2.7705357699744275},null,{"$f":"'[1]Tabel 2 B DATA'!Q155","v":8},{"$f":"'[1]Tabel 2 B DATA'!R155","v":6.7697873136655646}]
[]
[]
[]
[]
[{"$f":"'[1]Tabel 2 B DATA'!I158","v":"Christiansø"}]
[]
[null,null,{"$f":"'[1]Tabel 2 B DATA'!K160","v":"Mænd"},null,null,{"$f":"'[1]Tabel 2 B DATA'!N160","v":"Kvinder"},null,null,{"$f":"'[1]Tabel 2 B DATA'!Q160","v":"I alt"}]
[null,null,{"$f":"'[1]Tabel 2 B DATA'!K161","v":"Ledigheds-\nberørte"},{"$f":"'[1]Tabel 2 B DATA'!L161","v":"Gns.\nbrutto-\nledighed"},null,{"$f":"'[1]Tabel 2 B DATA'!N161","v":"Ledigheds-\nberørte"},{"$f":"'[1]Tabel 2 B DATA'!O161","v":"Gns.\nbrutto-\nledighed"},null,{"$f":"'[1]Tabel 2 B DATA'!Q161","v":"Ledigheds-\nberørte"},{"$f":"'[1]Tabel 2 B DATA'!R161","v":"Gns.\nbrutto-\nledighed"}]
[]
[]
[{"$f":"'[1]Tabel 2 B DATA'!I164","v":"Civ. ing."},null,{"$f":"'[1]Tabel 2 B DATA'!K164","v":0},{"$f":"'[1]Tabel 2 B DATA'!L164","v":0},null,{"$f":"'[1]Tabel 2 B DATA'!N164","v":0},{"$f":"'[1]Tabel 2 B DATA'!O164","v":0},null,{"$f":"'[1]Tabel 2 B DATA'!Q164","v":0},{"$f":"'[1]Tabel 2 B DATA'!R164","v":0}]
[{"$f":"'[1]Tabel 2 B DATA'!I165","v":"Diplom ing."},null,{"$f":"'[1]Tabel 2 B DATA'!K165","v":0},{"$f":"'[1]Tabel 2 B DATA'!L165","v":0},null,{"$f":"'[1]Tabel 2 B DATA'!N165","v":0},{"$f":"'[1]Tabel 2 B DATA'!O165","v":0},null,{"$f":"'[1]Tabel 2 B DATA'!Q165","v":0},{"$f":"'[1]Tabel 2 B DATA'!R165","v":0}]
[{"$f":"'[1]Tabel 2 B DATA'!I166","v":"Cand. Scient. Tek."},null,{"$f":"'[1]Tabel 2 B DATA'!K166","v":0},{"$f":"'[1]Tabel 2 B DATA'!L166","v":0},null,{"$f":"'[1]Tabel 2 B DATA'!N166","v":0},{"$f":"'[1]Tabel 2 B DATA'!O166","v":0},null,{"$f":"'[1]Tabel 2 B DATA'!Q166","v":0},{"$f":"'[1]Tabel 2 B DATA'!R166","v":0}]
[{"$f":"'[1]Tabel 2 B DATA'!I167","v":"MA. Hum."},null,{"$f":"'[1]Tabel 2 B DATA'!K167","v":0},{"$f":"'[1]Tabel 2 B DATA'!L167","v":0},null,{"$f":"'[1]Tabel 2 B DATA'!N167","v":0},{"$f":"'[1]Tabel 2 B DATA'!O167","v":0},null,{"$f":"'[1]Tabel 2 B DATA'!Q167","v":0},{"$f":"'[1]Tabel 2 B DATA'!R167","v":0}]
[{"$f":"'[1]Tabel 2 B DATA'!I168","v":"MA. Nat."},null,{"$f":"'[1]Tabel 2 B DATA'!K168","v":0},{"$f":"'[1]Tabel 2 B DATA'!L168","v":0},null,{"$f":"'[1]Tabel 2 B DATA'!N168","v":0},{"$f":"'[1]Tabel 2 B DATA'!O168","v":0},null,{"$f":"'[1]Tabel 2 B DATA'!Q168","v":0},{"$f":"'[1]Tabel 2 B DATA'!R168","v":0}]
[{"$f":"'[1]Tabel 2 B DATA'!I169","v":"MA. Ph.d."},null,{"$f":"'[1]Tabel 2 B DATA'!K169","v":0},{"$f":"'[1]Tabel 2 B DATA'!L169","v":0},null,{"$f":"'[1]Tabel 2 B DATA'!N169","v":0},{"$f":"'[1]Tabel 2 B DATA'!O169","v":0},null,{"$f":"'[1]Tabel 2 B DATA'!Q169","v":0},{"$f":"'[1]Tabel 2 B DATA'!R169","v":0}]
[{"$f":"'[1]Tabel 2 B DATA'!I170","v":"MA. Samf."},null,{"$f":"'[1]Tabel 2 B DATA'!K170","v":0},{"$f":"'[1]Tabel 2 B DATA'!L170","v":0},null,{"$f":"'[1]Tabel 2 B DATA'!N170","v":0},{"$f":"'[1]Tabel 2 B DATA'!O170","v":0},null,{"$f":"'[1]Tabel 2 B DATA'!Q170","v":0},{"$f":"'[1]Tabel 2 B DATA'!R170","v":0}]
[{"$f":"'[1]Tabel 2 B DATA'!I171","v":"Øvrige Mag."},null,{"$f":"'[1]Tabel 2 B DATA'!K171","v":0},{"$f":"'[1]Tabel 2 B DATA'!L171","v":0},null,{"$f":"'[1]Tabel 2 B DATA'!N171","v":0},{"$f":"'[1]Tabel 2 B DATA'!O171","v":0},null,{"$f":"'[1]Tabel 2 B DATA'!Q171","v":0},{"$f":"'[1]Tabel 2 B DATA'!R171","v":0}]
[{"$f":"'[1]Tabel 2 B DATA'!I172","v":"Agronom"},null,{"$f":"'[1]Tabel 2 B DATA'!K172","v":0},{"$f":"'[1]Tabel 2 B DATA'!L172","v":0},null,{"$f":"'[1]Tabel 2 B DATA'!N172","v":0},{"$f":"'[1]Tabel 2 B DATA'!O172","v":0},null,{"$f":"'[1]Tabel 2 B DATA'!Q172","v":0},{"$f":"'[1]Tabel 2 B DATA'!R172","v":0}]
[{"$f":"'[1]Tabel 2 B DATA'!I173","v":"Landsk. Arkt."},null,{"$f":"'[1]Tabel 2 B DATA'!K173","v":0},{"$f":"'[1]Tabel 2 B DATA'!L173","v":0},null,{"$f":"'[1]Tabel 2 B DATA'!N173","v":0},{"$f":"'[1]Tabel 2 B DATA'!O173","v":0},null,{"$f":"'[1]Tabel 2 B DATA'!Q173","v":0},{"$f":"'[1]Tabel 2 B DATA'!R173","v":0}]
[{"$f":"'[1]Tabel 2 B DATA'!I174","v":"Hortonom"},null,{"$f":"'[1]Tabel 2 B DATA'!K174","v":0},{"$f":"'[1]Tabel 2 B DATA'!L174","v":0},null,{"$f":"'[1]Tabel 2 B DATA'!N174","v":0},{"$f":"'[1]Tabel 2 B DATA'!O174","v":0},null,{"$f":"'[1]Tabel 2 B DATA'!Q174","v":0},{"$f":"'[1]Tabel 2 B DATA'!R174","v":0}]
[{"$f":"'[1]Tabel 2 B DATA'!I175","v":"Forstkand."},null,{"$f":"'[1]Tabel 2 B DATA'!K175","v":0},{"$f":"'[1]Tabel 2 B DATA'!L175","v":0},null,{"$f":"'[1]Tabel 2 B DATA'!N175","v":0},{"$f":"'[1]Tabel 2 B DATA'!O175","v":0},null,{"$f":"'[1]Tabel 2 B DATA'!Q175","v":0},{"$f":"'[1]Tabel 2 B DATA'!R175","v":0}]
[{"$f":"'[1]Tabel 2 B DATA'!I176","v":"Jordbrugsakad."},null,{"$f":"'[1]Tabel 2 B DATA'!K176","v":0},{"$f":"'[1]Tabel 2 B DATA'!L176","v":0},null,{"$f":"'[1]Tabel 2 B DATA'!N176","v":0},{"$f":"'[1]Tabel 2 B DATA'!O176","v":0},null,{"$f":"'[1]Tabel 2 B DATA'!Q176","v":0},{"$f":"'[1]Tabel 2 B DATA'!R176","v":0}]
[{"$f":"'[1]Tabel 2 B DATA'!I177","v":"Mejeriing."},null,{"$f":"'[1]Tabel 2 B DATA'!K177","v":0},{"$f":"'[1]Tabel 2 B DATA'!L177","v":0},null,{"$f":"'[1]Tabel 2 B DATA'!N177","v":0},{"$f":"'[1]Tabel 2 B DATA'!O177","v":0},null,{"$f":"'[1]Tabel 2 B DATA'!Q177","v":0},{"$f":"'[1]Tabel 2 B DATA'!R177","v":0}]
[{"$f":"'[1]Tabel 2 B DATA'!I178","v":"Levn.m.kand."},null,{"$f":"'[1]Tabel 2 B DATA'!K178","v":0},{"$f":"'[1]Tabel 2 B DATA'!L178","v":0},null,{"$f":"'[1]Tabel 2 B DATA'!N178","v":0},{"$f":"'[1]Tabel 2 B DATA'!O178","v":0},null,{"$f":"'[1]Tabel 2 B DATA'!Q178","v":0},{"$f":"'[1]Tabel 2 B DATA'!R178","v":0}]
[{"$f":"'[1]Tabel 2 B DATA'!I179","v":"Dyrlæge"},null,{"$f":"'[1]Tabel 2 B DATA'!K179","v":0},{"$f":"'[1]Tabel 2 B DATA'!L179","v":0},null,{"$f":"'[1]Tabel 2 B DATA'!N179","v":0},{"$f":"'[1]Tabel 2 B DATA'!O179","v":0},null,{"$f":"'[1]Tabel 2 B DATA'!Q179","v":0},{"$f":"'[1]Tabel 2 B DATA'!R179","v":0}]
[{"$f":"'[1]Tabel 2 B DATA'!I180","v":"Farmaceut"},null,{"$f":"'[1]Tabel 2 B DATA'!K180","v":0},{"$f":"'[1]Tabel 2 B DATA'!L180","v":0},null,{"$f":"'[1]Tabel 2 B DATA'!N180","v":0},{"$f":"'[1]Tabel 2 B DATA'!O180","v":0},null,{"$f":"'[1]Tabel 2 B DATA'!Q180","v":0},{"$f":"'[1]Tabel 2 B DATA'!R180","v":0}]
[{"$f":"'[1]Tabel 2 B DATA'!I181","v":"Læge"},null,{"$f":"'[1]Tabel 2 B DATA'!K181","v":0},{"$f":"'[1]Tabel 2 B DATA'!L181","v":0},null,{"$f":"'[1]Tabel 2 B DATA'!N181","v":0},{"$f":"'[1]Tabel 2 B DATA'!O181","v":0},null,{"$f":"'[1]Tabel 2 B DATA'!Q181","v":0},{"$f":"'[1]Tabel 2 B DATA'!R181","v":0}]
[{"$f":"'[1]Tabel 2 B DATA'!I182","v":"Tandlæge"},null,{"$f":"'[1]Tabel 2 B DATA'!K182","v":0},{"$f":"'[1]Tabel 2 B DATA'!L182","v":0},null,{"$f":"'[1]Tabel 2 B DATA'!N182","v":0},{"$f":"'[1]Tabel 2 B DATA'!O182","v":0},null,{"$f":"'[1]Tabel 2 B DATA'!Q182","v":0},{"$f":"'[1]Tabel 2 B DATA'!R182","v":0}]
[{"$f":"'[1]Tabel 2 B DATA'!I183","v":"Arkitekt"},null,{"$f":"'[1]Tabel 2 B DATA'!K183","v":0},{"$f":"'[1]Tabel 2 B DATA'!L183","v":0},null,{"$f":"'[1]Tabel 2 B DATA'!N183","v":0},{"$f":"'[1]Tabel 2 B DATA'!O183","v":0},null,{"$f":"'[1]Tabel 2 B DATA'!Q183","v":0},{"$f":"'[1]Tabel 2 B DATA'!R183","v":0}]
[{"$f":"'[1]Tabel 2 B DATA'!I184","v":"Landinspek."},null,{"$f":"'[1]Tabel 2 B DATA'!K184","v":0},{"$f":"'[1]Tabel 2 B DATA'!L184","v":0},null,{"$f":"'[1]Tabel 2 B DATA'!N184","v":0},{"$f":"'[1]Tabel 2 B DATA'!O184","v":0},null,{"$f":"'[1]Tabel 2 B DATA'!Q184","v":0},{"$f":"'[1]Tabel 2 B DATA'!R184","v":0}]
[{"$f":"'[1]Tabel 2 B DATA'!I185","v":"Bibliotekar"},null,{"$f":"'[1]Tabel 2 B DATA'!K185","v":0},{"$f":"'[1]Tabel 2 B DATA'!L185","v":0},null,{"$f":"'[1]Tabel 2 B DATA'!N185","v":0},{"$f":"'[1]Tabel 2 B DATA'!O185","v":0},null,{"$f":"'[1]Tabel 2 B DATA'!Q185","v":0},{"$f":"'[1]Tabel 2 B DATA'!R185","v":0}]
[{"$f":"'[1]Tabel 2 B DATA'!I186","v":"Musikudd."},null,{"$f":"'[1]Tabel 2 B DATA'!K186","v":0},{"$f":"'[1]Tabel 2 B DATA'!L186","v":0},null,{"$f":"'[1]Tabel 2 B DATA'!N186","v":0},{"$f":"'[1]Tabel 2 B DATA'!O186","v":0},null,{"$f":"'[1]Tabel 2 B DATA'!Q186","v":0},{"$f":"'[1]Tabel 2 B DATA'!R186","v":0}]
[{"$f":"'[1]Tabel 2 B DATA'!I187","v":"Teolog"},null,{"$f":"'[1]Tabel 2 B DATA'!K187","v":0},{"$f":"'[1]Tabel 2 B DATA'!L187","v":0},null,{"$f":"'[1]Tabel 2 B DATA'!N187","v":0},{"$f":"'[1]Tabel 2 B DATA'!O187","v":0},null,{"$f":"'[1]Tabel 2 B DATA'!Q187","v":0},{"$f":"'[1]Tabel 2 B DATA'!R187","v":0}]
[{"$f":"'[1]Tabel 2 B DATA'!I188","v":"Psykolog"},null,{"$f":"'[1]Tabel 2 B DATA'!K188","v":0},{"$f":"'[1]Tabel 2 B DATA'!L188","v":0},null,{"$f":"'[1]Tabel 2 B DATA'!N188","v":0},{"$f":"'[1]Tabel 2 B DATA'!O188","v":0},null,{"$f":"'[1]Tabel 2 B DATA'!Q188","v":0},{"$f":"'[1]Tabel 2 B DATA'!R188","v":0}]
[{"$f":"'[1]Tabel 2 B DATA'!I189","v":"Jurist"},null,{"$f":"'[1]Tabel 2 B DATA'!K189","v":0},{"$f":"'[1]Tabel 2 B DATA'!L189","v":0},null,{"$f":"'[1]Tabel 2 B DATA'!N189","v":0},{"$f":"'[1]Tabel 2 B DATA'!O189","v":0},null,{"$f":"'[1]Tabel 2 B DATA'!Q189","v":0},{"$f":"'[1]Tabel 2 B DATA'!R189","v":0}]
[{"$f":"'[1]Tabel 2 B DATA'!I190","v":"Økonom"},null,{"$f":"'[1]Tabel 2 B DATA'!K190","v":0},{"$f":"'[1]Tabel 2 B DATA'!L190","v":0},null,{"$f":"'[1]Tabel 2 B DATA'!N190","v":0},{"$f":"'[1]Tabel 2 B DATA'!O190","v":0},null,{"$f":"'[1]Tabel 2 B DATA'!Q190","v":0},{"$f":"'[1]Tabel 2 B DATA'!R190","v":0}]
[{"$f":"'[1]Tabel 2 B DATA'!I191","v":"Samf. Adm."},null,{"$f":"'[1]Tabel 2 B DATA'!K191","v":0},{"$f":"'[1]Tabel 2 B DATA'!L191","v":0},null,{"$f":"'[1]Tabel 2 B DATA'!N191","v":0},{"$f":"'[1]Tabel 2 B DATA'!O191","v":0},null,{"$f":"'[1]Tabel 2 B DATA'!Q191","v":0},{"$f":"'[1]Tabel 2 B DATA'!R191","v":0}]
[{"$f":"'[1]Tabel 2 B DATA'!I192","v":"Cand. Merc."},null,{"$f":"'[1]Tabel 2 B DATA'!K192","v":0},{"$f":"'[1]Tabel 2 B DATA'!L192","v":0},null,{"$f":"'[1]Tabel 2 B DATA'!N192","v":0},{"$f":"'[1]Tabel 2 B DATA'!O192","v":0},null,{"$f":"'[1]Tabel 2 B DATA'!Q192","v":0},{"$f":"'[1]Tabel 2 B DATA'!R192","v":0}]
[{"$f":"'[1]Tabel 2 B DATA'!I193","v":"HA"},null,{"$f":"'[1]Tabel 2 B DATA'!K193","v":0},{"$f":"'[1]Tabel 2 B DATA'!L193","v":0},null,{"$f":"'[1]Tabel 2 B DATA'!N193","v":0},{"$f":"'[1]Tabel 2 B DATA'!O193","v":0},null,{"$f":"'[1]Tabel 2 B DATA'!Q193","v":0},{"$f":"'[1]Tabel 2 B DATA'!R193","v":0}]
[{"$f":"'[1]Tabel 2 B DATA'!I194","v":"HD"},null,{"$f":"'[1]Tabel 2 B DATA'!K194","v":0},{"$f":"'[1]Tabel 2 B DATA'!L194","v":0},null,{"$f":"'[1]Tabel 2 B DATA'!N194","v":0},{"$f":"'[1]Tabel 2 B DATA'!O194","v":0},null,{"$f":"'[1]Tabel 2 B DATA'!Q194","v":0},{"$f":"'[1]Tabel 2 B DATA'!R194","v":0}]
[{"$f":"'[1]Tabel 2 B DATA'!I195","v":"Komm. og Sprog"},null,{"$f":"'[1]Tabel 2 B DATA'!K195","v":0},{"$f":"'[1]Tabel 2 B DATA'!L195","v":0},null,{"$f":"'[1]Tabel 2 B DATA'!N195","v":0},{"$f":"'[1]Tabel 2 B DATA'!O195","v":0},null,{"$f":"'[1]Tabel 2 B DATA'!Q195","v":0},{"$f":"'[1]Tabel 2 B DATA'!R195","v":0}]
[{"$f":"'[1]Tabel 2 B DATA'!I196","v":"Bygningskonst"},null,{"$f":"'[1]Tabel 2 B DATA'!K196","v":0},{"$f":"'[1]Tabel 2 B DATA'!L196","v":0},null,{"$f":"'[1]Tabel 2 B DATA'!N196","v":0},{"$f":"'[1]Tabel 2 B DATA'!O196","v":0},null,{"$f":"'[1]Tabel 2 B DATA'!Q196","v":0},{"$f":"'[1]Tabel 2 B DATA'!R196","v":0}]
[{"$f":"'[1]Tabel 2 B DATA'!I197","v":"Cand. IT."},null,{"$f":"'[1]Tabel 2 B DATA'!K197","v":0},{"$f":"'[1]Tabel 2 B DATA'!L197","v":0},null,{"$f":"'[1]Tabel 2 B DATA'!N197","v":0},{"$f":"'[1]Tabel 2 B DATA'!O197","v":0},null,{"$f":"'[1]Tabel 2 B DATA'!Q197","v":0},{"$f":"'[1]Tabel 2 B DATA'!R197","v":0}]
[{"$f":"'[1]Tabel 2 B DATA'!I198","v":"Bac. Samf."},null,{"$f":"'[1]Tabel 2 B DATA'!K198","v":0},{"$f":"'[1]Tabel 2 B DATA'!L198","v":0},null,{"$f":"'[1]Tabel 2 B DATA'!N198","v":0},{"$f":"'[1]Tabel 2 B DATA'!O198","v":0},null,{"$f":"'[1]Tabel 2 B DATA'!Q198","v":0},{"$f":"'[1]Tabel 2 B DATA'!R198","v":0}]
[{"$f":"'[1]Tabel 2 B DATA'!I199","v":"Bac. Hum."},null,{"$f":"'[1]Tabel 2 B DATA'!K199","v":0},{"$f":"'[1]Tabel 2 B DATA'!L199","v":0},null,{"$f":"'[1]Tabel 2 B DATA'!N199","v":0},{"$f":"'[1]Tabel 2 B DATA'!O199","v":0},null,{"$f":"'[1]Tabel 2 B DATA'!Q199","v":0},{"$f":"'[1]Tabel 2 B DATA'!R199","v":0}]
[{"$f":"'[1]Tabel 2 B DATA'!I200","v":"Bac. Nat."},null,{"$f":"'[1]Tabel 2 B DATA'!K200","v":0},{"$f":"'[1]Tabel 2 B DATA'!L200","v":0},null,{"$f":"'[1]Tabel 2 B DATA'!N200","v":0},{"$f":"'[1]Tabel 2 B DATA'!O200","v":0},null,{"$f":"'[1]Tabel 2 B DATA'!Q200","v":0},{"$f":"'[1]Tabel 2 B DATA'!R200","v":0}]
[{"$f":"'[1]Tabel 2 B DATA'!I201","v":"Andre"},null,{"$f":"'[1]Tabel 2 B DATA'!K201","v":0},{"$f":"'[1]Tabel 2 B DATA'!L201","v":0},null,{"$f":"'[1]Tabel 2 B DATA'!N201","v":0},{"$f":"'[1]Tabel 2 B DATA'!O201","v":0},null,{"$f":"'[1]Tabel 2 B DATA'!Q201","v":0},{"$f":"'[1]Tabel 2 B DATA'!R201","v":0}]
[]
[{"$f":"'[1]Tabel 2 B DATA'!I203","v":"Total"},null,{"$f":"'[1]Tabel 2 B DATA'!K203","v":0},{"$f":"'[1]Tabel 2 B DATA'!L203","v":0},null,{"$f":"'[1]Tabel 2 B DATA'!N203","v":0},{"$f":"'[1]Tabel 2 B DATA'!O203","v":0},null,{"$f":"'[1]Tabel 2 B DATA'!Q203","v":0},{"$f":"'[1]Tabel 2 B DATA'!R203","v":0}]
[]
[{"$f":"'[1]Tabel 2 B DATA'!I205","v":"Ingeniører i alt"},null,{"$f":"'[1]Tabel 2 B DATA'!K205","v":0},{"$f":"'[1]Tabel 2 B DATA'!L205","v":0},null,{"$f":"'[1]Tabel 2 B DATA'!N205","v":0},{"$f":"'[1]Tabel 2 B DATA'!O205","v":0},null,{"$f":"'[1]Tabel 2 B DATA'!Q205","v":0},{"$f":"'[1]Tabel 2 B DATA'!R205","v":0}]
[{"$f":"'[1]Tabel 2 B DATA'!I206","v":"Magistre i alt"},null,{"$f":"'[1]Tabel 2 B DATA'!K206","v":0},{"$f":"'[1]Tabel 2 B DATA'!L206","v":0},null,{"$f":"'[1]Tabel 2 B DATA'!N206","v":0},{"$f":"'[1]Tabel 2 B DATA'!O206","v":0},null,{"$f":"'[1]Tabel 2 B DATA'!Q206","v":0},{"$f":"'[1]Tabel 2 B DATA'!R206","v":0}]
[{"$f":"'[1]Tabel 2 B DATA'!I207","v":"DJØF'ere i alt"},null,{"$f":"'[1]Tabel 2 B DATA'!K207","v":0},{"$f":"'[1]Tabel 2 B DATA'!L207","v":0},null,{"$f":"'[1]Tabel 2 B DATA'!N207","v":0},{"$f":"'[1]Tabel 2 B DATA'!O207","v":0},null,{"$f":"'[1]Tabel 2 B DATA'!Q207","v":0},{"$f":"'[1]Tabel 2 B DATA'!R207","v":0}]

{"sheet":"Tabel 3 B","index":3,"n_rows":160,"n_cols":10,"rows_kept":160,"cut":false,"hidden":false,"merged":[[4,2,4,3],[4,5,4,6],[4,8,4,9],[5,2,6,2],[5,3,6,3],[5,5,6,5],[5,6,6,6],[5,8,6,8],[5,9,6,9],[58,2,58,3],[58,5,58,6],[58,8,58,9],[59,2,60,2],[59,3,60,3],[59,5,60,5],[59,6,60,6],[59,8,60,8],[59,9,60,9],[112,2,112,3],[112,5,112,6],[112,8,112,9],[113,2,114,2],[113,3,114,3],[113,5,114,5],[113,6,114,6],[113,8,114,8],[113,9,114,9]]}
["Tabel 3. Ledige i procent af forsikrede"]
[]
["Bornholm"]
[]
[null,null,"Mænd",null,null,"Kvinder",null,null,"I alt"]
[null,null,"Ledigheds-\nberørte","Gns.\nbrutto-\nledighed",null,"Ledigheds-\nberørte","Gns.\nbrutto-\nledighed",null,"Ledigheds-\nberørte","Gns.\nbrutto-\nledighed"]
[]
[]
["Civ. ing.",null,{"$f":"IF(OR('Tabel 1 B'!C7<5, 'Tabel 2 B'!C9<0.5),\"-\",IFERROR('Tabel 2 B'!C9/'Tabel 1 B'!C7*100,\"-\"))","v":6.8965517241379306},{"$f":"IF(OR('Tabel 1 B'!C7<5,'Tabel 2 B'!D9<0.5),\"-\",IFERROR('Tabel 2 B'!D9/'Tabel 1 B'!C7*100,\"-\"))","v":6.8952612822260635},null,{"$f":"IF(OR('Tabel 1 B'!E7<5, 'Tabel 2 B'!F9<0.5),\"-\",IFERROR('Tabel 2 B'!F9/'Tabel 1 B'!E7*100,\"-\"))","v":20},{"$f":"IF(OR('Tabel 1 B'!E7<5,'Tabel 2 B'!G9<0.5),\"-\",IFERROR('Tabel 2 B'!G9/'Tabel 1 B'!E7*100,\"-\"))","v":"-"},null,{"$f":"IF(OR('Tabel 1 B'!G7<5,'Tabel 2 B'!I9<0.5),\"-\",IFERROR('Tabel 2 B'!I9/'Tabel 1 B'!G7*100,\"-\"))","v":8.8235294117647065},{"$f":"IF(OR('Tabel 1 B'!G7<5,'Tabel 2 B'!J9<0.5),\"-\",IFERROR('Tabel 2 B'!J9/'Tabel 1 B'!G7*100,\"-\"))","v":6.9837577643169499}]
["Diplom ing.",null,{"$f":"IF(OR('Tabel 1 B'!C8<5, 'Tabel 2 B'!C10<0.5),\"-\",IFERROR('Tabel 2 B'!C10/'Tabel 1 B'!C8*100,\"-\"))","v":7.2727272727272725},{"$f":"IF(OR('Tabel 1 B'!C8<5,'Tabel 2 B'!D10<0.5),\"-\",IFERROR('Tabel 2 B'!D10/'Tabel 1 B'!C8*100,\"-\"))","v":5.6190924400242572},null,{"$f":"IF(OR('Tabel 1 B'!E8<5, 'Tabel 2 B'!F10<0.5),\"-\",IFERROR('Tabel 2 B'!F10/'Tabel 1 B'!E8*100,\"-\"))","v":12.5},{"$f":"IF(OR('Tabel 1 B'!E8<5,'Tabel 2 B'!G10<0.5),\"-\",IFERROR('Tabel 2 B'!G10/'Tabel 1 B'!E8*100,\"-\"))","v":11.679036986215952},null,{"$f":"IF(OR('Tabel 1 B'!G8<5,'Tabel 2 B'!I10<0.5),\"-\",IFERROR('Tabel 2 B'!I10/'Tabel 1 B'!G8*100,\"-\"))","v":7.9365079365079358},{"$f":"IF(OR('Tabel 1 B'!G8<5,'Tabel 2 B'!J10<0.5),\"-\",IFERROR('Tabel 2 B'!J10/'Tabel 1 B'!G8*100,\"-\"))","v":6.388609207794631}]
["Cand. Scient. Tek.",null,{"$f":"IF(OR('Tabel 1 B'!C9<5, 'Tabel 2 B'!C11<0.5),\"-\",IFERROR('Tabel 2 B'!C11/'Tabel 1 B'!C9*100,\"-\"))","v":6.25},{"$f":"IF(OR('Tabel 1 B'!C9<5,'Tabel 2 B'!D11<0.5),\"-\",IFERROR('Tabel 2 B'!D11/'Tabel 1 B'!C9*100,\"-\"))","v":"-"},null,{"$f":"IF(OR('Tabel 1 B'!E9<5, 'Tabel 2 B'!F11<0.5),\"-\",IFERROR('Tabel 2 B'!F11/'Tabel 1 B'!E9*100,\"-\"))","v":25},{"$f":"IF(OR('Tabel 1 B'!E9<5,'Tabel 2 B'!G11<0.5),\"-\",IFERROR('Tabel 2 B'!G11/'Tabel 1 B'!E9*100,\"-\"))","v":14.532526663756329},null,{"$f":"IF(OR('Tabel 1 B'!G9<5,'Tabel 2 B'!I11<0.5),\"-\",IFERROR('Tabel 2 B'!I11/'Tabel 1 B'!G9*100,\"-\"))","v":15.625},{"$f":"IF(OR('Tabel 1 B'!G9<5,'Tabel 2 B'!J11<0.5),\"-\",IFERROR('Tabel 2 B'!J11/'Tabel 1 B'!G9*100,\"-\"))","v":8.0166687457122521}]
["MA. Hum.",null,{"$f":"IF(OR('Tabel 1 B'!C10<5, 'Tabel 2 B'!C12<0.5),\"-\",IFERROR('Tabel 2 B'!C12/'Tabel 1 B'!C10*100,\"-\"))","v":17.948717948717949},{"$f":"IF(OR('Tabel 1 B'!C10<5,'Tabel 2 B'!D12<0.5),\"-\",IFERROR('Tabel 2 B'!D12/'Tabel 1 B'!C10*100,\"-\"))","v":16.474035123071381},null,{"$f":"IF(OR('Tabel 1 B'!E10<5, 'Tabel 2 B'!F12<0.5),\"-\",IFERROR('Tabel 2 B'!F12/'Tabel 1 B'!E10*100,\"-\"))","v":12.790697674418606},{"$f":"IF(OR('Tabel 1 B'!E10<5,'Tabel 2 B'!G12<0.5),\"-\",IFERROR('Tabel 2 B'!G12/'Tabel 1 B'!E10*100,\"-\"))","v":9.849597994833287},null,{"$f":"IF(OR('Tabel 1 B'!G10<5,'Tabel 2 B'!I12<0.5),\"-\",IFERROR('Tabel 2 B'!I12/'Tabel 1 B'!G10*100,\"-\"))","v":14.399999999999999},{"$f":"IF(OR('Tabel 1 B'!G10<5,'Tabel 2 B'!J12<0.5),\"-\",IFERROR('Tabel 2 B'!J12/'Tabel 1 B'!G10*100,\"-\"))","v":11.916422378843572}]
["MA. Nat.",null,{"$f":"IF(OR('Tabel 1 B'!C11<5, 'Tabel 2 B'!C13<0.5),\"-\",IFERROR('Tabel 2 B'!C13/'Tabel 1 B'!C11*100,\"-\"))","v":12},{"$f":"IF(OR('Tabel 1 B'!C11<5,'Tabel 2 B'!D13<0.5),\"-\",IFERROR('Tabel 2 B'!D13/'Tabel 1 B'!C11*100,\"-\"))","v":8.7195159982535415},null,{"$f":"IF(OR('Tabel 1 B'!E11<5, 'Tabel 2 B'!F13<0.5),\"-\",IFERROR('Tabel 2 B'!F13/'Tabel 1 B'!E11*100,\"-\"))","v":"-"},{"$f":"IF(OR('Tabel 1 B'!E11<5,'Tabel 2 B'!G13<0.5),\"-\",IFERROR('Tabel 2 B'!G13/'Tabel 1 B'!E11*100,\"-\"))","v":"-"},null,{"$f":"IF(OR('Tabel 1 B'!G11<5,'Tabel 2 B'!I13<0.5),\"-\",IFERROR('Tabel 2 B'!I13/'Tabel 1 B'!G11*100,\"-\"))","v":6.5217391304347823},{"$f":"IF(OR('Tabel 1 B'!G11<5,'Tabel 2 B'!J13<0.5),\"-\",IFERROR('Tabel 2 B'!J13/'Tabel 1 B'!G11*100,\"-\"))","v":4.7388673903551854}]
["MA. Ph.d.",null,{"$f":"IF(OR('Tabel 1 B'!C12<5, 'Tabel 2 B'!C14<0.5),\"-\",IFERROR('Tabel 2 B'!C14/'Tabel 1 B'!C12*100,\"-\"))","v":"-"},{"$f":"IF(OR('Tabel 1 B'!C12<5,'Tabel 2 B'!D14<0.5),\"-\",IFERROR('Tabel 2 B'!D14/'Tabel 1 B'!C12*100,\"-\"))","v":"-"},null,{"$f":"IF(OR('Tabel 1 B'!E12<5, 'Tabel 2 B'!F14<0.5),\"-\",IFERROR('Tabel 2 B'!F14/'Tabel 1 B'!E12*100,\"-\"))","v":"-"},{"$f":"IF(OR('Tabel 1 B'!E12<5,'Tabel 2 B'!G14<0.5),\"-\",IFERROR('Tabel 2 B'!G14/'Tabel 1 B'!E12*100,\"-\"))","v":"-"},null,{"$f":"IF(OR('Tabel 1 B'!G12<5,'Tabel 2 B'!I14<0.5),\"-\",IFERROR('Tabel 2 B'!I14/'Tabel 1 B'!G12*100,\"-\"))","v":14.285714285714285},{"$f":"IF(OR('Tabel 1 B'!G12<5,'Tabel 2 B'!J14<0.5),\"-\",IFERROR('Tabel 2 B'!J14/'Tabel 1 B'!G12*100,\"-\"))","v":14.283041227468324}]
["MA. Samf.",null,{"$f":"IF(OR('Tabel 1 B'!C13<5, 'Tabel 2 B'!C15<0.5),\"-\",IFERROR('Tabel 2 B'!C15/'Tabel 1 B'!C13*100,\"-\"))","v":"-"},{"$f":"IF(OR('Tabel 1 B'!C13<5,'Tabel 2 B'!D15<0.5),\"-\",IFERROR('Tabel 2 B'!D15/'Tabel 1 B'!C13*100,\"-\"))","v":"-"},null,{"$f":"IF(OR('Tabel 1 B'!E13<5, 'Tabel 2 B'!F15<0.5),\"-\",IFERROR('Tabel 2 B'!F15/'Tabel 1 B'!E13*100,\"-\"))","v":"-"},{"$f":"IF(OR('Tabel 1 B'!E13<5,'Tabel 2 B'!G15<0.5),\"-\",IFERROR('Tabel 2 B'!G15/'Tabel 1 B'!E13*100,\"-\"))","v":"-"},null,{"$f":"IF(OR('Tabel 1 B'!G13<5,'Tabel 2 B'!I15<0.5),\"-\",IFERROR('Tabel 2 B'!I15/'Tabel 1 B'!G13*100,\"-\"))","v":6.666666666666667},{"$f":"IF(OR('Tabel 1 B'!G13<5,'Tabel 2 B'!J15<0.5),\"-\",IFERROR('Tabel 2 B'!J15/'Tabel 1 B'!G13*100,\"-\"))","v":6.6654192394851943}]
["Øvrige Mag.",null,{"$f":"IF(OR('Tabel 1 B'!C14<5, 'Tabel 2 B'!C16<0.5),\"-\",IFERROR('Tabel 2 B'!C16/'Tabel 1 B'!C14*100,\"-\"))","v":28.571428571428569},{"$f":"IF(OR('Tabel 1 B'!C14<5,'Tabel 2 B'!D16<0.5),\"-\",IFERROR('Tabel 2 B'!D16/'Tabel 1 B'!C14*100,\"-\"))","v":23.950601883615061},null,{"$f":"IF(OR('Tabel 1 B'!E14<5, 'Tabel 2 B'!F16<0.5),\"-\",IFERROR('Tabel 2 B'!F16/'Tabel 1 B'!E14*100,\"-\"))","v":33.333333333333329},{"$f":"IF(OR('Tabel 1 B'!E14<5,'Tabel 2 B'!G16<0.5),\"-\",IFERROR('Tabel 2 B'!G16/'Tabel 1 B'!E14*100,\"-\"))","v":33.32709619742581},null,{"$f":"IF(OR('Tabel 1 B'!G14<5,'Tabel 2 B'!I16<0.5),\"-\",IFERROR('Tabel 2 B'!I16/'Tabel 1 B'!G14*100,\"-\"))","v":31.25},{"$f":"IF(OR('Tabel 1 B'!G14<5,'Tabel 2 B'!J16<0.5),\"-\",IFERROR('Tabel 2 B'!J16/'Tabel 1 B'!G14*100,\"-\"))","v":29.224879935133607}]
["Agronom",null,{"$f":"IF(OR('Tabel 1 B'!C15<5, 'Tabel 2 B'!C17<0.5),\"-\",IFERROR('Tabel 2 B'!C17/'Tabel 1 B'!C15*100,\"-\"))","v":"-"},{"$f":"IF(OR('Tabel 1 B'!C15<5,'Tabel 2 B'!D17<0.5),\"-\",IFERROR('Tabel 2 B'!D17/'Tabel 1 B'!C15*100,\"-\"))","v":"-"},null,{"$f":"IF(OR('Tabel 1 B'!E15<5, 'Tabel 2 B'!F17<0.5),\"-\",IFERROR('Tabel 2 B'!F17/'Tabel 1 B'!E15*100,\"-\"))","v":"-"},{"$f":"IF(OR('Tabel 1 B'!E15<5,'Tabel 2 B'!G17<0.5),\"-\",IFERROR('Tabel 2 B'!G17/'Tabel 1 B'!E15*100,\"-\"))","v":"-"},null,{"$f":"IF(OR('Tabel 1 B'!G15<5,'Tabel 2 B'!I17<0.5),\"-\",IFERROR('Tabel 2 B'!I17/'Tabel 1 B'!G15*100,\"-\"))","v":"-"},{"$f":"IF(OR('Tabel 1 B'!G15<5,'Tabel 2 B'!J17<0.5),\"-\",IFERROR('Tabel 2 B'!J17/'Tabel 1 B'!G15*100,\"-\"))","v":"-"}]
["Landsk. Arkt.",null,{"$f":"IF(OR('Tabel 1 B'!C16<5, 'Tabel 2 B'!C18<0.5),\"-\",IFERROR('Tabel 2 B'!C18/'Tabel 1 B'!C16*100,\"-\"))","v":"-"},{"$f":"IF(OR('Tabel 1 B'!C16<5,'Tabel 2 B'!D18<0.5),\"-\",IFERROR('Tabel 2 B'!D18/'Tabel 1 B'!C16*100,\"-\"))","v":"-"},null,{"$f":"IF(OR('Tabel 1 B'!E16<5, 'Tabel 2 B'!F18<0.5),\"-\",IFERROR('Tabel 2 B'!F18/'Tabel 1 B'!E16*100,\"-\"))","v":"-"},{"$f":"IF(OR('Tabel 1 B'!E16<5,'Tabel 2 B'!G18<0.5),\"-\",IFERROR('Tabel 2 B'!G18/'Tabel 1 B'!E16*100,\"-\"))","v":"-"},null,{"$f":"IF(OR('Tabel 1 B'!G16<5,'Tabel 2 B'!I18<0.5),\"-\",IFERROR('Tabel 2 B'!I18/'Tabel 1 B'!G16*100,\"-\"))","v":"-"},{"$f":"IF(OR('Tabel 1 B'!G16<5,'Tabel 2 B'!J18<0.5),\"-\",IFERROR('Tabel 2 B'!J18/'Tabel 1 B'!G16*100,\"-\"))","v":"-"}]
["Hortonom",null,{"$f":"IF(OR('Tabel 1 B'!C17<5, 'Tabel 2 B'!C19<0.5),\"-\",IFERROR('Tabel 2 B'!C19/'Tabel 1 B'!C17*100,\"-\"))","v":"-"},{"$f":"IF(OR('Tabel 1 B'!C17<5,'Tabel 2 B'!D19<0.5),\"-\",IFERROR('Tabel 2 B'!D19/'Tabel 1 B'!C17*100,\"-\"))","v":"-"},null,{"$f":"IF(OR('Tabel 1 B'!E17<5, 'Tabel 2 B'!F19<0.5),\"-\",IFERROR('Tabel 2 B'!F19/'Tabel 1 B'!E17*100,\"-\"))","v":"-"},{"$f":"IF(OR('Tabel 1 B'!E17<5,'Tabel 2 B'!G19<0.5),\"-\",IFERROR('Tabel 2 B'!G19/'Tabel 1 B'!E17*100,\"-\"))","v":"-"},null,{"$f":"IF(OR('Tabel 1 B'!G17<5,'Tabel 2 B'!I19<0.5),\"-\",IFERROR('Tabel 2 B'!I19/'Tabel 1 B'!G17*100,\"-\"))","v":"-"},{"$f":"IF(OR('Tabel 1 B'!G17<5,'Tabel 2 B'!J19<0.5),\"-\",IFERROR('Tabel 2 B'!J19/'Tabel 1 B'!G17*100,\"-\"))","v":"-"}]
["Forstkand.",null,{"$f":"IF(OR('Tabel 1 B'!C18<5, 'Tabel 2 B'!C20<0.5),\"-\",IFERROR('Tabel 2 B'!C20/'Tabel 1 B'!C18*100,\"-\"))","v":"-"},{"$f":"IF(OR('Tabel 1 B'!C18<5,'Tabel 2 B'!D20<0.5),\"-\",IFERROR('Tabel 2 B'!D20/'Tabel 1 B'!C18*100,\"-\"))","v":"-"},null,{"$f":"IF(OR('Tabel 1 B'!E18<5, 'Tabel 2 B'!F20<0.5),\"-\",IFERROR('Tabel 2 B'!F20/'Tabel 1 B'!E18*100,\"-\"))","v":"-"},{"$f":"IF(OR('Tabel 1 B'!E18<5,'Tabel 2 B'!G20<0.5),\"-\",IFERROR('Tabel 2 B'!G20/'Tabel 1 B'!E18*100,\"-\"))","v":"-"},null,{"$f":"IF(OR('Tabel 1 B'!G18<5,'Tabel 2 B'!I20<0.5),\"-\",IFERROR('Tabel 2 B'!I20/'Tabel 1 B'!G18*100,\"-\"))","v":"-"},{"$f":"IF(OR('Tabel 1 B'!G18<5,'Tabel 2 B'!J20<0.5),\"-\",IFERROR('Tabel 2 B'!J20/'Tabel 1 B'!G18*100,\"-\"))","v":"-"}]
["Jordbrugsakad.",null,{"$f":"IF(OR('Tabel 1 B'!C19<5, 'Tabel 2 B'!C21<0.5),\"-\",IFERROR('Tabel 2 B'!C21/'Tabel 1 B'!C19*100,\"-\"))","v":"-"},{"$f":"IF(OR('Tabel 1 B'!C19<5,'Tabel 2 B'!D21<0.5),\"-\",IFERROR('Tabel 2 B'!D21/'Tabel 1 B'!C19*100,\"-\"))","v":"-"},null,{"$f":"IF(OR('Tabel 1 B'!E19<5, 'Tabel 2 B'!F21<0.5),\"-\",IFERROR('Tabel 2 B'!F21/'Tabel 1 B'!E19*100,\"-\"))","v":"-"},{"$f":"IF(OR('Tabel 1 B'!E19<5,'Tabel 2 B'!G21<0.5),\"-\",IFERROR('Tabel 2 B'!G21/'Tabel 1 B'!E19*100,\"-\"))","v":"-"},null,{"$f":"IF(OR('Tabel 1 B'!G19<5,'Tabel 2 B'!I21<0.5),\"-\",IFERROR('Tabel 2 B'!I21/'Tabel 1 B'!G19*100,\"-\"))","v":"-"},{"$f":"IF(OR('Tabel 1 B'!G19<5,'Tabel 2 B'!J21<0.5),\"-\",IFERROR('Tabel 2 B'!J21/'Tabel 1 B'!G19*100,\"-\"))","v":"-"}]
["Mejeriing.",null,{"$f":"IF(OR('Tabel 1 B'!C20<5, 'Tabel 2 B'!C22<0.5),\"-\",IFERROR('Tabel 2 B'!C22/'Tabel 1 B'!C20*100,\"-\"))","v":"-"},{"$f":"IF(OR('Tabel 1 B'!C20<5,'Tabel 2 B'!D22<0.5),\"-\",IFERROR('Tabel 2 B'!D22/'Tabel 1 B'!C20*100,\"-\"))","v":"-"},null,{"$f":"IF(OR('Tabel 1 B'!E20<5, 'Tabel 2 B'!F22<0.5),\"-\",IFERROR('Tabel 2 B'!F22/'Tabel 1 B'!E20*100,\"-\"))","v":"-"},{"$f":"IF(OR('Tabel 1 B'!E20<5,'Tabel 2 B'!G22<0.5),\"-\",IFERROR('Tabel 2 B'!G22/'Tabel 1 B'!E20*100,\"-\"))","v":"-"},null,{"$f":"IF(OR('Tabel 1 B'!G20<5,'Tabel 2 B'!I22<0.5),\"-\",IFERROR('Tabel 2 B'!I22/'Tabel 1 B'!G20*100,\"-\"))","v":"-"},{"$f":"IF(OR('Tabel 1 B'!G20<5,'Tabel 2 B'!J22<0.5),\"-\",IFERROR('Tabel 2 B'!J22/'Tabel 1 B'!G20*100,\"-\"))","v":"-"}]
["Levn.m.kand.",null,{"$f":"IF(OR('Tabel 1 B'!C21<5, 'Tabel 2 B'!C23<0.5),\"-\",IFERROR('Tabel 2 B'!C23/'Tabel 1 B'!C21*100,\"-\"))","v":"-"},{"$f":"IF(OR('Tabel 1 B'!C21<5,'Tabel 2 B'!D23<0.5),\"-\",IFERROR('Tabel 2 B'!D23/'Tabel 1 B'!C21*100,\"-\"))","v":"-"},null,{"$f":"IF(OR('Tabel 1 B'!E21<5, 'Tabel 2 B'!F23<0.5),\"-\",IFERROR('Tabel 2 B'!F23/'Tabel 1 B'!E21*100,\"-\"))","v":"-"},{"$f":"IF(OR('Tabel 1 B'!E21<5,'Tabel 2 B'!G23<0.5),\"-\",IFERROR('Tabel 2 B'!G23/'Tabel 1 B'!E21*100,\"-\"))","v":"-"},null,{"$f":"IF(OR('Tabel 1 B'!G21<5,'Tabel 2 B'!I23<0.5),\"-\",IFERROR('Tabel 2 B'!I23/'Tabel 1 B'!G21*100,\"-\"))","v":"-"},{"$f":"IF(OR('Tabel 1 B'!G21<5,'Tabel 2 B'!J23<0.5),\"-\",IFERROR('Tabel 2 B'!J23/'Tabel 1 B'!G21*100,\"-\"))","v":"-"}]
["Dyrlæge",null,{"$f":"IF(OR('Tabel 1 B'!C22<5, 'Tabel 2 B'!C24<0.5),\"-\",IFERROR('Tabel 2 B'!C24/'Tabel 1 B'!C22*100,\"-\"))","v":"-"},{"$f":"IF(OR('Tabel 1 B'!C22<5,'Tabel 2 B'!D24<0.5),\"-\",IFERROR('Tabel 2 B'!D24/'Tabel 1 B'!C22*100,\"-\"))","v":"-"},null,{"$f":"IF(OR('Tabel 1 B'!E22<5, 'Tabel 2 B'!F24<0.5),\"-\",IFERROR('Tabel 2 B'!F24/'Tabel 1 B'!E22*100,\"-\"))","v":"-"},{"$f":"IF(OR('Tabel 1 B'!E22<5,'Tabel 2 B'!G24<0.5),\"-\",IFERROR('Tabel 2 B'!G24/'Tabel 1 B'!E22*100,\"-\"))","v":"-"},null,{"$f":"IF(OR('Tabel 1 B'!G22<5,'Tabel 2 B'!I24<0.5),\"-\",IFERROR('Tabel 2 B'!I24/'Tabel 1 B'!G22*100,\"-\"))","v":"-"},{"$f":"IF(OR('Tabel 1 B'!G22<5,'Tabel 2 B'!J24<0.5),\"-\",IFERROR('Tabel 2 B'!J24/'Tabel 1 B'!G22*100,\"-\"))","v":"-"}]
["Farmaceut",null,{"$f":"IF(OR('Tabel 1 B'!C23<5, 'Tabel 2 B'!C25<0.5),\"-\",IFERROR('Tabel 2 B'!C25/'Tabel 1 B'!C23*100,\"-\"))","v":"-"},{"$f":"IF(OR('Tabel 1 B'!C23<5,'Tabel 2 B'!D25<0.5),\"-\",IFERROR('Tabel 2 B'!D25/'Tabel 1 B'!C23*100,\"-\"))","v":"-"},null,{"$f":"IF(OR('Tabel 1 B'!E23<5, 'Tabel 2 B'!F25<0.5),\"-\",IFERROR('Tabel 2 B'!F25/'Tabel 1 B'!E23*100,\"-\"))","v":"-"},{"$f":"IF(OR('Tabel 1 B'!E23<5,'Tabel 2 B'!G25<0.5),\"-\",IFERROR('Tabel 2 B'!G25/'Tabel 1 B'!E23*100,\"-\"))","v":"-"},null,{"$f":"IF(OR('Tabel 1 B'!G23<5,'Tabel 2 B'!I25<0.5),\"-\",IFERROR('Tabel 2 B'!I25/'Tabel 1 B'!G23*100,\"-\"))","v":"-"},{"$f":"IF(OR('Tabel 1 B'!G23<5,'Tabel 2 B'!J25<0.5),\"-\",IFERROR('Tabel 2 B'!J25/'Tabel 1 B'!G23*100,\"-\"))","v":"-"}]
["Læge",null,{"$f":"IF(OR('Tabel 1 B'!C24<5, 'Tabel 2 B'!C26<0.5),\"-\",IFERROR('Tabel 2 B'!C26/'Tabel 1 B'!C24*100,\"-\"))","v":"-"},{"$f":"IF(OR('Tabel 1 B'!C24<5,'Tabel 2 B'!D26<0.5),\"-\",IFERROR('Tabel 2 B'!D26/'Tabel 1 B'!C24*100,\"-\"))","v":"-"},null,{"$f":"IF(OR('Tabel 1 B'!E24<5, 'Tabel 2 B'!F26<0.5),\"-\",IFERROR('Tabel 2 B'!F26/'Tabel 1 B'!E24*100,\"-\"))","v":4.5454545454545459},{"$f":"IF(OR('Tabel 1 B'!E24<5,'Tabel 2 B'!G26<0.5),\"-\",IFERROR('Tabel 2 B'!G26/'Tabel 1 B'!E24*100,\"-\"))","v":4.5446040269217551},null,{"$f":"IF(OR('Tabel 1 B'!G24<5,'Tabel 2 B'!I26<0.5),\"-\",IFERROR('Tabel 2 B'!I26/'Tabel 1 B'!G24*100,\"-\"))","v":3.225806451612903},{"$f":"IF(OR('Tabel 1 B'!G24<5,'Tabel 2 B'!J26<0.5),\"-\",IFERROR('Tabel 2 B'!J26/'Tabel 1 B'!G24*100,\"-\"))","v":3.2252028578154395}]
["Tandlæge",null,{"$f":"IF(OR('Tabel 1 B'!C25<5, 'Tabel 2 B'!C27<0.5),\"-\",IFERROR('Tabel 2 B'!C27/'Tabel 1 B'!C25*100,\"-\"))","v":"-"},{"$f":"IF(OR('Tabel 1 B'!C25<5,'Tabel 2 B'!D27<0.5),\"-\",IFERROR('Tabel 2 B'!D27/'Tabel 1 B'!C25*100,\"-\"))","v":"-"},null,{"$f":"IF(OR('Tabel 1 B'!E25<5, 'Tabel 2 B'!F27<0.5),\"-\",IFERROR('Tabel 2 B'!F27/'Tabel 1 B'!E25*100,\"-\"))","v":"-"},{"$f":"IF(OR('Tabel 1 B'!E25<5,'Tabel 2 B'!G27<0.5),\"-\",IFERROR('Tabel 2 B'!G27/'Tabel 1 B'!E25*100,\"-\"))","v":"-"},null,{"$f":"IF(OR('Tabel 1 B'!G25<5,'Tabel 2 B'!I27<0.5),\"-\",IFERROR('Tabel 2 B'!I27/'Tabel 1 B'!G25*100,\"-\"))","v":"-"},{"$f":"IF(OR('Tabel 1 B'!G25<5,'Tabel 2 B'!J27<0.5),\"-\",IFERROR('Tabel 2 B'!J27/'Tabel 1 B'!G25*100,\"-\"))","v":"-"}]
["Arkitekt",null,{"$f":"IF(OR('Tabel 1 B'!C26<5, 'Tabel 2 B'!C28<0.5),\"-\",IFERROR('Tabel 2 B'!C28/'Tabel 1 B'!C26*100,\"-\"))","v":"-"},{"$f":"IF(OR('Tabel 1 B'!C26<5,'Tabel 2 B'!D28<0.5),\"-\",IFERROR('Tabel 2 B'!D28/'Tabel 1 B'!C26*100,\"-\"))","v":"-"},null,{"$f":"IF(OR('Tabel 1 B'!E26<5, 'Tabel 2 B'!F28<0.5),\"-\",IFERROR('Tabel 2 B'!F28/'Tabel 1 B'!E26*100,\"-\"))","v":20},{"$f":"IF(OR('Tabel 1 B'!E26<5,'Tabel 2 B'!G28<0.5),\"-\",IFERROR('Tabel 2 B'!G28/'Tabel 1 B'!E26*100,\"-\"))","v":"-"},null,{"$f":"IF(OR('Tabel 1 B'!G26<5,'Tabel 2 B'!I28<0.5),\"-\",IFERROR('Tabel 2 B'!I28/'Tabel 1 B'!G26*100,\"-\"))","v":7.1428571428571423},{"$f":"IF(OR('Tabel 1 B'!G26<5,'Tabel 2 B'!J28<0.5),\"-\",IFERROR('Tabel 2 B'!J28/'Tabel 1 B'!G26*100,\"-\"))","v":"-"}]
["Landinspek.",null,{"$f":"IF(OR('Tabel 1 B'!C27<5, 'Tabel 2 B'!C29<0.5),\"-\",IFERROR('Tabel 2 B'!C29/'Tabel 1 B'!C27*100,\"-\"))","v":"-"},{"$f":"IF(OR('Tabel 1 B'!C27<5,'Tabel 2 B'!D29<0.5),\"-\",IFERROR('Tabel 2 B'!D29/'Tabel 1 B'!C27*100,\"-\"))","v":"-"},null,{"$f":"IF(OR('Tabel 1 B'!E27<5, 'Tabel 2 B'!F29<0.5),\"-\",IFERROR('Tabel 2 B'!F29/'Tabel 1 B'!E27*100,\"-\"))","v":"-"},{"$f":"IF(OR('Tabel 1 B'!E27<5,'Tabel 2 B'!G29<0.5),\"-\",IFERROR('Tabel 2 B'!G29/'Tabel 1 B'!E27*100,\"-\"))","v":"-"},null,{"$f":"IF(OR('Tabel 1 B'!G27<5,'Tabel 2 B'!I29<0.5),\"-\",IFERROR('Tabel 2 B'!I29/'Tabel 1 B'!G27*100,\"-\"))","v":"-"},{"$f":"IF(OR('Tabel 1 B'!G27<5,'Tabel 2 B'!J29<0.5),\"-\",IFERROR('Tabel 2 B'!J29/'Tabel 1 B'!G27*100,\"-\"))","v":"-"}]
["Bibliotekar",null,{"$f":"IF(OR('Tabel 1 B'!C28<5, 'Tabel 2 B'!C30<0.5),\"-\",IFERROR('Tabel 2 B'!C30/'Tabel 1 B'!C28*100,\"-\"))","v":"-"},{"$f":"IF(OR('Tabel 1 B'!C28<5,'Tabel 2 B'!D30<0.5),\"-\",IFERROR('Tabel 2 B'!D30/'Tabel 1 B'!C28*100,\"-\"))","v":"-"},null,{"$f":"IF(OR('Tabel 1 B'!E28<5, 'Tabel 2 B'!F30<0.5),\"-\",IFERROR('Tabel 2 B'!F30/'Tabel 1 B'!E28*100,\"-\"))","v":10},{"$f":"IF(OR('Tabel 1 B'!E28<5,'Tabel 2 B'!G30<0.5),\"-\",IFERROR('Tabel 2 B'!G30/'Tabel 1 B'!E28*100,\"-\"))","v":9.9981288592278617},null,{"$f":"IF(OR('Tabel 1 B'!G28<5,'Tabel 2 B'!I30<0.5),\"-\",IFERROR('Tabel 2 B'!I30/'Tabel 1 B'!G28*100,\"-\"))","v":6.25},{"$f":"IF(OR('Tabel 1 B'!G28<5,'Tabel 2 B'!J30<0.5),\"-\",IFERROR('Tabel 2 B'!J30/'Tabel 1 B'!G28*100,\"-\"))","v":6.2488305370174135}]
["Musikudd.",null,{"$f":"IF(OR('Tabel 1 B'!C29<5, 'Tabel 2 B'!C31<0.5),\"-\",IFERROR('Tabel 2 B'!C31/'Tabel 1 B'!C29*100,\"-\"))","v":"-"},{"$f":"IF(OR('Tabel 1 B'!C29<5,'Tabel 2 B'!D31<0.5),\"-\",IFERROR('Tabel 2 B'!D31/'Tabel 1 B'!C29*100,\"-\"))","v":"-"},null,{"$f":"IF(OR('Tabel 1 B'!E29<5, 'Tabel 2 B'!F31<0.5),\"-\",IFERROR('Tabel 2 B'!F31/'Tabel 1 B'!E29*100,\"-\"))","v":"-"},{"$f":"IF(OR('Tabel 1 B'!E29<5,'Tabel 2 B'!G31<0.5),\"-\",IFERROR('Tabel 2 B'!G31/'Tabel 1 B'!E29*100,\"-\"))","v":"-"},null,{"$f":"IF(OR('Tabel 1 B'!G29<5,'Tabel 2 B'!I31<0.5),\"-\",IFERROR('Tabel 2 B'!I31/'Tabel 1 B'!G29*100,\"-\"))","v":"-"},{"$f":"IF(OR('Tabel 1 B'!G29<5,'Tabel 2 B'!J31<0.5),\"-\",IFERROR('Tabel 2 B'!J31/'Tabel 1 B'!G29*100,\"-\"))","v":"-"}]
["Teolog",null,{"$f":"IF(OR('Tabel 1 B'!C30<5, 'Tabel 2 B'!C32<0.5),\"-\",IFERROR('Tabel 2 B'!C32/'Tabel 1 B'!C30*100,\"-\"))","v":"-"},{"$f":"IF(OR('Tabel 1 B'!C30<5,'Tabel 2 B'!D32<0.5),\"-\",IFERROR('Tabel 2 B'!D32/'Tabel 1 B'!C30*100,\"-\"))","v":"-"},null,{"$f":"IF(OR('Tabel 1 B'!E30<5, 'Tabel 2 B'!F32<0.5),\"-\",IFERROR('Tabel 2 B'!F32/'Tabel 1 B'!E30*100,\"-\"))","v":"-"},{"$f":"IF(OR('Tabel 1 B'!E30<5,'Tabel 2 B'!G32<0.5),\"-\",IFERROR('Tabel 2 B'!G32/'Tabel 1 B'!E30*100,\"-\"))","v":"-"},null,{"$f":"IF(OR('Tabel 1 B'!G30<5,'Tabel 2 B'!I32<0.5),\"-\",IFERROR('Tabel 2 B'!I32/'Tabel 1 B'!G30*100,\"-\"))","v":"-"},{"$f":"IF(OR('Tabel 1 B'!G30<5,'Tabel 2 B'!J32<0.5),\"-\",IFERROR('Tabel 2 B'!J32/'Tabel 1 B'!G30*100,\"-\"))","v":"-"}]
["Psykolog",null,{"$f":"IF(OR('Tabel 1 B'!C31<5, 'Tabel 2 B'!C33<0.5),\"-\",IFERROR('Tabel 2 B'!C33/'Tabel 1 B'!C31*100,\"-\"))","v":"-"},{"$f":"IF(OR('Tabel 1 B'!C31<5,'Tabel 2 B'!D33<0.5),\"-\",IFERROR('Tabel 2 B'!D33/'Tabel 1 B'!C31*100,\"-\"))","v":"-"},null,{"$f":"IF(OR('Tabel 1 B'!E31<5, 'Tabel 2 B'!F33<0.5),\"-\",IFERROR('Tabel 2 B'!F33/'Tabel 1 B'!E31*100,\"-\"))","v":4.1666666666666661},{"$f":"IF(OR('Tabel 1 B'!E31<5,'Tabel 2 B'!G33<0.5),\"-\",IFERROR('Tabel 2 B'!G33/'Tabel 1 B'!E31*100,\"-\"))","v":3.5421734339591282},null,{"$f":"IF(OR('Tabel 1 B'!G31<5,'Tabel 2 B'!I33<0.5),\"-\",IFERROR('Tabel 2 B'!I33/'Tabel 1 B'!G31*100,\"-\"))","v":3.225806451612903},{"$f":"IF(OR('Tabel 1 B'!G31<5,'Tabel 2 B'!J33<0.5),\"-\",IFERROR('Tabel 2 B'!J33/'Tabel 1 B'!G31*100,\"-\"))","v":2.7423278198393253}]
["Jurist",null,{"$f":"IF(OR('Tabel 1 B'!C32<5, 'Tabel 2 B'!C34<0.5),\"-\",IFERROR('Tabel 2 B'!C34/'Tabel 1 B'!C32*100,\"-\"))","v":"-"},{"$f":"IF(OR('Tabel 1 B'!C32<5,'Tabel 2 B'!D34<0.5),\"-\",IFERROR('Tabel 2 B'!D34/'Tabel 1 B'!C32*100,\"-\"))","v":"-"},null,{"$f":"IF(OR('Tabel 1 B'!E32<5, 'Tabel 2 B'!F34<0.5),\"-\",IFERROR('Tabel 2 B'!F34/'Tabel 1 B'!E32*100,\"-\"))","v":"-"},{"$f":"IF(OR('Tabel 1 B'!E32<5,'Tabel 2 B'!G34<0.5),\"-\",IFERROR('Tabel 2 B'!G34/'Tabel 1 B'!E32*100,\"-\"))","v":"-"},null,{"$f":"IF(OR('Tabel 1 B'!G32<5,'Tabel 2 B'!I34<0.5),\"-\",IFERROR('Tabel 2 B'!I34/'Tabel 1 B'!G32*100,\"-\"))","v":"-"},{"$f":"IF(OR('Tabel 1 B'!G32<5,'Tabel 2 B'!J34<0.5),\"-\",IFERROR('Tabel 2 B'!J34/'Tabel 1 B'!G32*100,\"-\"))","v":"-"}]
["Økonom",null,{"$f":"IF(OR('Tabel 1 B'!C33<5, 'Tabel 2 B'!C35<0.5),\"-\",IFERROR('Tabel 2 B'!C35/'Tabel 1 B'!C33*100,\"-\"))","v":"-"},{"$f":"IF(OR('Tabel 1 B'!C33<5,'Tabel 2 B'!D35<0.5),\"-\",IFERROR('Tabel 2 B'!D35/'Tabel 1 B'!C33*100,\"-\"))","v":"-"},null,{"$f":"IF(OR('Tabel 1 B'!E33<5, 'Tabel 2 B'!F35<0.5),\"-\",IFERROR('Tabel 2 B'!F35/'Tabel 1 B'!E33*100,\"-\"))","v":"-"},{"$f":"IF(OR('Tabel 1 B'!E33<5,'Tabel 2 B'!G35<0.5),\"-\",IFERROR('Tabel 2 B'!G35/'Tabel 1 B'!E33*100,\"-\"))","v":"-"},null,{"$f":"IF(OR('Tabel 1 B'!G33<5,'Tabel 2 B'!I35<0.5),\"-\",IFERROR('Tabel 2 B'!I35/'Tabel 1 B'!G33*100,\"-\"))","v":"-"},{"$f":"IF(OR('Tabel 1 B'!G33<5,'Tabel 2 B'!J35<0.5),\"-\",IFERROR('Tabel 2 B'!J35/'Tabel 1 B'!G33*100,\"-\"))","v":"-"}]
["Samf. Adm.",null,{"$f":"IF(OR('Tabel 1 B'!C34<5, 'Tabel 2 B'!C36<0.5),\"-\",IFERROR('Tabel 2 B'!C36/'Tabel 1 B'!C34*100,\"-\"))","v":7.1428571428571423},{"$f":"IF(OR('Tabel 1 B'!C34<5,'Tabel 2 B'!D36<0.5),\"-\",IFERROR('Tabel 2 B'!D36/'Tabel 1 B'!C34*100,\"-\"))","v":7.1415206137341354},null,{"$f":"IF(OR('Tabel 1 B'!E34<5, 'Tabel 2 B'!F36<0.5),\"-\",IFERROR('Tabel 2 B'!F36/'Tabel 1 B'!E34*100,\"-\"))","v":3.7037037037037033},{"$f":"IF(OR('Tabel 1 B'!E34<5,'Tabel 2 B'!G36<0.5),\"-\",IFERROR('Tabel 2 B'!G36/'Tabel 1 B'!E34*100,\"-\"))","v":3.7030106886028853},null,{"$f":"IF(OR('Tabel 1 B'!G34<5,'Tabel 2 B'!I36<0.5),\"-\",IFERROR('Tabel 2 B'!I36/'Tabel 1 B'!G34*100,\"-\"))","v":5.4545454545454541},{"$f":"IF(OR('Tabel 1 B'!G34<5,'Tabel 2 B'!J36<0.5),\"-\",IFERROR('Tabel 2 B'!J36/'Tabel 1 B'!G34*100,\"-\"))","v":5.4535248323060674}]
["Cand. Merc.",null,{"$f":"IF(OR('Tabel 1 B'!C35<5, 'Tabel 2 B'!C37<0.5),\"-\",IFERROR('Tabel 2 B'!C37/'Tabel 1 B'!C35*100,\"-\"))","v":15.384615384615385},{"$f":"IF(OR('Tabel 1 B'!C35<5,'Tabel 2 B'!D37<0.5),\"-\",IFERROR('Tabel 2 B'!D37/'Tabel 1 B'!C35*100,\"-\"))","v":15.381736706504293},null,{"$f":"IF(OR('Tabel 1 B'!E35<5, 'Tabel 2 B'!F37<0.5),\"-\",IFERROR('Tabel 2 B'!F37/'Tabel 1 B'!E35*100,\"-\"))","v":10.526315789473683},{"$f":"IF(OR('Tabel 1 B'!E35<5,'Tabel 2 B'!G37<0.5),\"-\",IFERROR('Tabel 2 B'!G37/'Tabel 1 B'!E35*100,\"-\"))","v":8.0951458669125334},null,{"$f":"IF(OR('Tabel 1 B'!G35<5,'Tabel 2 B'!I37<0.5),\"-\",IFERROR('Tabel 2 B'!I37/'Tabel 1 B'!G35*100,\"-\"))","v":12.5},{"$f":"IF(OR('Tabel 1 B'!G35<5,'Tabel 2 B'!J37<0.5),\"-\",IFERROR('Tabel 2 B'!J37/'Tabel 1 B'!G35*100,\"-\"))","v":11.055323395496686}]
["HA",null,{"$f":"IF(OR('Tabel 1 B'!C36<5, 'Tabel 2 B'!C38<0.5),\"-\",IFERROR('Tabel 2 B'!C38/'Tabel 1 B'!C36*100,\"-\"))","v":"-"},{"$f":"IF(OR('Tabel 1 B'!C36<5,'Tabel 2 B'!D38<0.5),\"-\",IFERROR('Tabel 2 B'!D38/'Tabel 1 B'!C36*100,\"-\"))","v":"-"},null,{"$f":"IF(OR('Tabel 1 B'!E36<5, 'Tabel 2 B'!F38<0.5),\"-\",IFERROR('Tabel 2 B'!F38/'Tabel 1 B'!E36*100,\"-\"))","v":16.666666666666664},{"$f":"IF(OR('Tabel 1 B'!E36<5,'Tabel 2 B'!G38<0.5),\"-\",IFERROR('Tabel 2 B'!G38/'Tabel 1 B'!E36*100,\"-\"))","v":"-"},null,{"$f":"IF(OR('Tabel 1 B'!G36<5,'Tabel 2 B'!I38<0.5),\"-\",IFERROR('Tabel 2 B'!I38/'Tabel 1 B'!G36*100,\"-\"))","v":8.3333333333333321},{"$f":"IF(OR('Tabel 1 B'!G36<5,'Tabel 2 B'!J38<0.5),\"-\",IFERROR('Tabel 2 B'!J38/'Tabel 1 B'!G36*100,\"-\"))","v":"-"}]
["HD",null,{"$f":"IF(OR('Tabel 1 B'!C37<5, 'Tabel 2 B'!C39<0.5),\"-\",IFERROR('Tabel 2 B'!C39/'Tabel 1 B'!C37*100,\"-\"))","v":"-"},{"$f":"IF(OR('Tabel 1 B'!C37<5,'Tabel 2 B'!D39<0.5),\"-\",IFERROR('Tabel 2 B'!D39/'Tabel 1 B'!C37*100,\"-\"))","v":"-"},null,{"$f":"IF(OR('Tabel 1 B'!E37<5, 'Tabel 2 B'!F39<0.5),\"-\",IFERROR('Tabel 2 B'!F39/'Tabel 1 B'!E37*100,\"-\"))","v":"-"},{"$f":"IF(OR('Tabel 1 B'!E37<5,'Tabel 2 B'!G39<0.5),\"-\",IFERROR('Tabel 2 B'!G39/'Tabel 1 B'!E37*100,\"-\"))","v":"-"},null,{"$f":"IF(OR('Tabel 1 B'!G37<5,'Tabel 2 B'!I39<0.5),\"-\",IFERROR('Tabel 2 B'!I39/'Tabel 1 B'!G37*100,\"-\"))","v":"-"},{"$f":"IF(OR('Tabel 1 B'!G37<5,'Tabel 2 B'!J39<0.5),\"-\",IFERROR('Tabel 2 B'!J39/'Tabel 1 B'!G37*100,\"-\"))","v":"-"}]
["Komm. og Sprog",null,{"$f":"IF(OR('Tabel 1 B'!C38<5, 'Tabel 2 B'!C40<0.5),\"-\",IFERROR('Tabel 2 B'!C40/'Tabel 1 B'!C38*100,\"-\"))","v":"-"},{"$f":"IF(OR('Tabel 1 B'!C38<5,'Tabel 2 B'!D40<0.5),\"-\",IFERROR('Tabel 2 B'!D40/'Tabel 1 B'!C38*100,\"-\"))","v":"-"},null,{"$f":"IF(OR('Tabel 1 B'!E38<5, 'Tabel 2 B'!F40<0.5),\"-\",IFERROR('Tabel 2 B'!F40/'Tabel 1 B'!E38*100,\"-\"))","v":36.363636363636367},{"$f":"IF(OR('Tabel 1 B'!E38<5,'Tabel 2 B'!G40<0.5),\"-\",IFERROR('Tabel 2 B'!G40/'Tabel 1 B'!E38*100,\"-\"))","v":26.638240447259548},null,{"$f":"IF(OR('Tabel 1 B'!G38<5,'Tabel 2 B'!I40<0.5),\"-\",IFERROR('Tabel 2 B'!I40/'Tabel 1 B'!G38*100,\"-\"))","v":26.666666666666668},{"$f":"IF(OR('Tabel 1 B'!G38<5,'Tabel 2 B'!J40<0.5),\"-\",IFERROR('Tabel 2 B'!J40/'Tabel 1 B'!G38*100,\"-\"))","v":19.534709661323671}]
["Bygningskonst.",null,{"$f":"IF(OR('Tabel 1 B'!C39<5, 'Tabel 2 B'!C41<0.5),\"-\",IFERROR('Tabel 2 B'!C41/'Tabel 1 B'!C39*100,\"-\"))","v":"-"},{"$f":"IF(OR('Tabel 1 B'!C39<5,'Tabel 2 B'!D41<0.5),\"-\",IFERROR('Tabel 2 B'!D41/'Tabel 1 B'!C39*100,\"-\"))","v":"-"},null,{"$f":"IF(OR('Tabel 1 B'!E39<5, 'Tabel 2 B'!F41<0.5),\"-\",IFERROR('Tabel 2 B'!F41/'Tabel 1 B'!E39*100,\"-\"))","v":"-"},{"$f":"IF(OR('Tabel 1 B'!E39<5,'Tabel 2 B'!G41<0.5),\"-\",IFERROR('Tabel 2 B'!G41/'Tabel 1 B'!E39*100,\"-\"))","v":"-"},null,{"$f":"IF(OR('Tabel 1 B'!G39<5,'Tabel 2 B'!I41<0.5),\"-\",IFERROR('Tabel 2 B'!I41/'Tabel 1 B'!G39*100,\"-\"))","v":"-"},{"$f":"IF(OR('Tabel 1 B'!G39<5,'Tabel 2 B'!J41<0.5),\"-\",IFERROR('Tabel 2 B'!J41/'Tabel 1 B'!G39*100,\"-\"))","v":"-"}]
["Cand. IT.",null,{"$f":"IF(OR('Tabel 1 B'!C40<5, 'Tabel 2 B'!C42<0.5),\"-\",IFERROR('Tabel 2 B'!C42/'Tabel 1 B'!C40*100,\"-\"))","v":"-"},{"$f":"IF(OR('Tabel 1 B'!C40<5,'Tabel 2 B'!D42<0.5),\"-\",IFERROR('Tabel 2 B'!D42/'Tabel 1 B'!C40*100,\"-\"))","v":"-"},null,{"$f":"IF(OR('Tabel 1 B'!E40<5, 'Tabel 2 B'!F42<0.5),\"-\",IFERROR('Tabel 2 B'!F42/'Tabel 1 B'!E40*100,\"-\"))","v":"-"},{"$f":"IF(OR('Tabel 1 B'!E40<5,'Tabel 2 B'!G42<0.5),\"-\",IFERROR('Tabel 2 B'!G42/'Tabel 1 B'!E40*100,\"-\"))","v":"-"},null,{"$f":"IF(OR('Tabel 1 B'!G40<5,'Tabel 2 B'!I42<0.5),\"-\",IFERROR('Tabel 2 B'!I42/'Tabel 1 B'!G40*100,\"-\"))","v":"-"},{"$f":"IF(OR('Tabel 1 B'!G40<5,'Tabel 2 B'!J42<0.5),\"-\",IFERROR('Tabel 2 B'!J42/'Tabel 1 B'!G40*100,\"-\"))","v":"-"}]
["Bac. Samf.",null,{"$f":"IF(OR('Tabel 1 B'!C41<5, 'Tabel 2 B'!C43<0.5),\"-\",IFERROR('Tabel 2 B'!C43/'Tabel 1 B'!C41*100,\"-\"))","v":"-"},{"$f":"IF(OR('Tabel 1 B'!C41<5,'Tabel 2 B'!D43<0.5),\"-\",IFERROR('Tabel 2 B'!D43/'Tabel 1 B'!C41*100,\"-\"))","v":"-"},null,{"$f":"IF(OR('Tabel 1 B'!E41<5, 'Tabel 2 B'!F43<0.5),\"-\",IFERROR('Tabel 2 B'!F43/'Tabel 1 B'!E41*100,\"-\"))","v":"-"},{"$f":"IF(OR('Tabel 1 B'!E41<5,'Tabel 2 B'!G43<0.5),\"-\",IFERROR('Tabel 2 B'!G43/'Tabel 1 B'!E41*100,\"-\"))","v":"-"},null,{"$f":"IF(OR('Tabel 1 B'!G41<5,'Tabel 2 B'!I43<0.5),\"-\",IFERROR('Tabel 2 B'!I43/'Tabel 1 B'!G41*100,\"-\"))","v":"-"},{"$f":"IF(OR('Tabel 1 B'!G41<5,'Tabel 2 B'!J43<0.5),\"-\",IFERROR('Tabel 2 B'!J43/'Tabel 1 B'!G41*100,\"-\"))","v":"-"}]
["Bac. Hum.",null,{"$f":"IF(OR('Tabel 1 B'!C42<5, 'Tabel 2 B'!C44<0.5),\"-\",IFERROR('Tabel 2 B'!C44/'Tabel 1 B'!C42*100,\"-\"))","v":25},{"$f":"IF(OR('Tabel 1 B'!C42<5,'Tabel 2 B'!D44<0.5),\"-\",IFERROR('Tabel 2 B'!D44/'Tabel 1 B'!C42*100,\"-\"))","v":24.995322148069476},null,{"$f":"IF(OR('Tabel 1 B'!E42<5, 'Tabel 2 B'!F44<0.5),\"-\",IFERROR('Tabel 2 B'!F44/'Tabel 1 B'!E42*100,\"-\"))","v":20},{"$f":"IF(OR('Tabel 1 B'!E42<5,'Tabel 2 B'!G44<0.5),\"-\",IFERROR('Tabel 2 B'!G44/'Tabel 1 B'!E42*100,\"-\"))","v":"-"},null,{"$f":"IF(OR('Tabel 1 B'!G42<5,'Tabel 2 B'!I44<0.5),\"-\",IFERROR('Tabel 2 B'!I44/'Tabel 1 B'!G42*100,\"-\"))","v":23.076923076923077},{"$f":"IF(OR('Tabel 1 B'!G42<5,'Tabel 2 B'!J44<0.5),\"-\",IFERROR('Tabel 2 B'!J44/'Tabel 1 B'!G42*100,\"-\"))","v":16.68193965331109}]
["Bac. Nat.",null,{"$f":"IF(OR('Tabel 1 B'!C43<5, 'Tabel 2 B'!C45<0.5),\"-\",IFERROR('Tabel 2 B'!C45/'Tabel 1 B'!C43*100,\"-\"))","v":"-"},{"$f":"IF(OR('Tabel 1 B'!C43<5,'Tabel 2 B'!D45<0.5),\"-\",IFERROR('Tabel 2 B'!D45/'Tabel 1 B'!C43*100,\"-\"))","v":"-"},null,{"$f":"IF(OR('Tabel 1 B'!E43<5, 'Tabel 2 B'!F45<0.5),\"-\",IFERROR('Tabel 2 B'!F45/'Tabel 1 B'!E43*100,\"-\"))","v":14.285714285714285},{"$f":"IF(OR('Tabel 1 B'!E43<5,'Tabel 2 B'!G45<0.5),\"-\",IFERROR('Tabel 2 B'!G45/'Tabel 1 B'!E43*100,\"-\"))","v":14.283041227468271},null,{"$f":"IF(OR('Tabel 1 B'!G43<5,'Tabel 2 B'!I45<0.5),\"-\",IFERROR('Tabel 2 B'!I45/'Tabel 1 B'!G43*100,\"-\"))","v":20},{"$f":"IF(OR('Tabel 1 B'!G43<5,'Tabel 2 B'!J45<0.5),\"-\",IFERROR('Tabel 2 B'!J45/'Tabel 1 B'!G43*100,\"-\"))","v":19.996257718455652}]
["Andre",null,{"$f":"IF(OR('Tabel 1 B'!C44<5, 'Tabel 2 B'!C46<0.5),\"-\",IFERROR('Tabel 2 B'!C46/'Tabel 1 B'!C44*100,\"-\"))","v":9.0909090909090917},{"$f":"IF(OR('Tabel 1 B'!C44<5,'Tabel 2 B'!D46<0.5),\"-\",IFERROR('Tabel 2 B'!D46/'Tabel 1 B'!C44*100,\"-\"))","v":6.5527727849190036},null,{"$f":"IF(OR('Tabel 1 B'!E44<5, 'Tabel 2 B'!F46<0.5),\"-\",IFERROR('Tabel 2 B'!F46/'Tabel 1 B'!E44*100,\"-\"))","v":13.953488372093023},{"$f":"IF(OR('Tabel 1 B'!E44<5,'Tabel 2 B'!G46<0.5),\"-\",IFERROR('Tabel 2 B'!G46/'Tabel 1 B'!E44*100,\"-\"))","v":9.4586891280918071},null,{"$f":"IF(OR('Tabel 1 B'!G44<5,'Tabel 2 B'!I46<0.5),\"-\",IFERROR('Tabel 2 B'!I46/'Tabel 1 B'!G44*100,\"-\"))","v":11.009174311926607},{"$f":"IF(OR('Tabel 1 B'!G44<5,'Tabel 2 B'!J46<0.5),\"-\",IFERROR('Tabel 2 B'!J46/'Tabel 1 B'!G44*100,\"-\"))","v":7.6991434524091922}]
[]
["Total",null,{"$f":"IF(OR('Tabel 1 B'!C46<5, 'Tabel 2 B'!C48<0.5),\"-\",IFERROR('Tabel 2 B'!C48/'Tabel 1 B'!C46*100,\"-\"))","v":7.8384798099762465},{"$f":"IF(OR('Tabel 1 B'!C46<5,'Tabel 2 B'!D48<0.5),\"-\",IFERROR('Tabel 2 B'!D48/'Tabel 1 B'!C46*100,\"-\"))","v":6.6353644420733655},null,{"$f":"IF(OR('Tabel 1 B'!E46<5, 'Tabel 2 B'!F48<0.5),\"-\",IFERROR('Tabel 2 B'!F48/'Tabel 1 B'!E46*100,\"-\"))","v":10.617283950617285},{"$f":"IF(OR('Tabel 1 B'!E46<5,'Tabel 2 B'!G48<0.5),\"-\",IFERROR('Tabel 2 B'!G48/'Tabel 1 B'!E46*100,\"-\"))","v":7.9793758706002045},null,{"$f":"IF(OR('Tabel 1 B'!G46<5,'Tabel 2 B'!I48<0.5),\"-\",IFERROR('Tabel 2 B'!I48/'Tabel 1 B'!G46*100,\"-\"))","v":9.2009685230024214},{"$f":"IF(OR('Tabel 1 B'!G46<5,'Tabel 2 B'!J48<0.5),\"-\",IFERROR('Tabel 2 B'!J48/'Tabel 1 B'!G46*100,\"-\"))","v":7.2943530964963328}]
[]
["Ingeniører i alt",null,{"$f":"IF(OR('Tabel 1 B'!C48<5, 'Tabel 2 B'!C50<0.5),\"-\",IFERROR('Tabel 2 B'!C50/'Tabel 1 B'!C48*100,\"-\"))","v":7.1428571428571423},{"$f":"IF(OR('Tabel 1 B'!C48<5,'Tabel 2 B'!D50<0.5),\"-\",IFERROR('Tabel 2 B'!D50/'Tabel 1 B'!C48*100,\"-\"))","v":6.0596745403082135},null,{"$f":"IF(OR('Tabel 1 B'!E48<5, 'Tabel 2 B'!F50<0.5),\"-\",IFERROR('Tabel 2 B'!F50/'Tabel 1 B'!E48*100,\"-\"))","v":15.384615384615385},{"$f":"IF(OR('Tabel 1 B'!E48<5,'Tabel 2 B'!G50<0.5),\"-\",IFERROR('Tabel 2 B'!G50/'Tabel 1 B'!E48*100,\"-\"))","v":10.070575591688314},null,{"$f":"IF(OR('Tabel 1 B'!G48<5,'Tabel 2 B'!I50<0.5),\"-\",IFERROR('Tabel 2 B'!I50/'Tabel 1 B'!G48*100,\"-\"))","v":8.2474226804123703},{"$f":"IF(OR('Tabel 1 B'!G48<5,'Tabel 2 B'!J50<0.5),\"-\",IFERROR('Tabel 2 B'!J50/'Tabel 1 B'!G48*100,\"-\"))","v":6.5972179801838973}]
["Magistre i alt",null,{"$f":"IF(OR('Tabel 1 B'!C49<5, 'Tabel 2 B'!C51<0.5),\"-\",IFERROR('Tabel 2 B'!C51/'Tabel 1 B'!C49*100,\"-\"))","v":16.455696202531644},{"$f":"IF(OR('Tabel 1 B'!C49<5,'Tabel 2 B'!D51<0.5),\"-\",IFERROR('Tabel 2 B'!D51/'Tabel 1 B'!C49*100,\"-\"))","v":14.279883183970959},null,{"$f":"IF(OR('Tabel 1 B'!E49<5, 'Tabel 2 B'!F51<0.5),\"-\",IFERROR('Tabel 2 B'!F51/'Tabel 1 B'!E49*100,\"-\"))","v":11.538461538461538},{"$f":"IF(OR('Tabel 1 B'!E49<5,'Tabel 2 B'!G51<0.5),\"-\",IFERROR('Tabel 2 B'!G51/'Tabel 1 B'!E49*100,\"-\"))","v":9.5922352455751785},null,{"$f":"IF(OR('Tabel 1 B'!G49<5,'Tabel 2 B'!I51<0.5),\"-\",IFERROR('Tabel 2 B'!I51/'Tabel 1 B'!G49*100,\"-\"))","v":13.397129186602871},{"$f":"IF(OR('Tabel 1 B'!G49<5,'Tabel 2 B'!J51<0.5),\"-\",IFERROR('Tabel 2 B'!J51/'Tabel 1 B'!G49*100,\"-\"))","v":11.364121308413774}]
["DJØF'ere i alt",null,{"$f":"IF(OR('Tabel 1 B'!C50<5, 'Tabel 2 B'!C52<0.5),\"-\",IFERROR('Tabel 2 B'!C52/'Tabel 1 B'!C50*100,\"-\"))","v":6.1538461538461542},{"$f":"IF(OR('Tabel 1 B'!C50<5,'Tabel 2 B'!D52<0.5),\"-\",IFERROR('Tabel 2 B'!D52/'Tabel 1 B'!C50*100,\"-\"))","v":6.1526946826017168},null,{"$f":"IF(OR('Tabel 1 B'!E50<5, 'Tabel 2 B'!F52<0.5),\"-\",IFERROR('Tabel 2 B'!F52/'Tabel 1 B'!E50*100,\"-\"))","v":5.2631578947368416},{"$f":"IF(OR('Tabel 1 B'!E50<5,'Tabel 2 B'!G52<0.5),\"-\",IFERROR('Tabel 2 B'!G52/'Tabel 1 B'!E50*100,\"-\"))","v":3.6454418025978965},null,{"$f":"IF(OR('Tabel 1 B'!G50<5,'Tabel 2 B'!I52<0.5),\"-\",IFERROR('Tabel 2 B'!I52/'Tabel 1 B'!G50*100,\"-\"))","v":5.6737588652482271},{"$f":"IF(OR('Tabel 1 B'!G50<5,'Tabel 2 B'!J52<0.5),\"-\",IFERROR('Tabel 2 B'!J52/'Tabel 1 B'!G50*100,\"-\"))","v":4.8012675983443387}]
[]
[]
[]
[]
["Bornholm"]
[]
[null,null,"Mænd",null,null,"Kvinder",null,null,"I alt"]
[null,null,"Ledigheds-\nberørte","Gns.\nbrutto-\nledighed",null,"Ledigheds-\nberørte","Gns.\nbrutto-\nledighed",null,"Ledigheds-\nberørte","Gns.\nbrutto-\nledighed"]
[]
[]
["Civ. ing.",null,{"$f":"IF(OR('Tabel 1 B'!C61<5, 'Tabel 2 B'!C63<0.5),\"-\",IFERROR('Tabel 2 B'!C63/'Tabel 1 B'!C61*100,\"-\"))","v":6.8965517241379306},{"$f":"IF(OR('Tabel 1 B'!C61<5,'Tabel 2 B'!D63<0.5),\"-\",IFERROR('Tabel 2 B'!D63/'Tabel 1 B'!C61*100,\"-\"))","v":6.8952612822260981},null,{"$f":"IF(OR('Tabel 1 B'!E61<5, 'Tabel 2 B'!F63<0.5),\"-\",IFERROR('Tabel 2 B'!F63/'Tabel 1 B'!E61*100,\"-\"))","v":20},{"$f":"IF(OR('Tabel 1 B'!E61<5,'Tabel 2 B'!G63<0.5),\"-\",IFERROR('Tabel 2 B'!G63/'Tabel 1 B'!E61*100,\"-\"))","v":"-"},null,{"$f":"IF(OR('Tabel 1 B'!G61<5,'Tabel 2 B'!I63<0.5),\"-\",IFERROR('Tabel 2 B'!I63/'Tabel 1 B'!G61*100,\"-\"))","v":8.8235294117647065},{"$f":"IF(OR('Tabel 1 B'!G61<5,'Tabel 2 B'!J63<0.5),\"-\",IFERROR('Tabel 2 B'!J63/'Tabel 1 B'!G61*100,\"-\"))","v":6.9837577643169784}]
["Diplom ing.",null,{"$f":"IF(OR('Tabel 1 B'!C62<5, 'Tabel 2 B'!C64<0.5),\"-\",IFERROR('Tabel 2 B'!C64/'Tabel 1 B'!C62*100,\"-\"))","v":7.2727272727272725},{"$f":"IF(OR('Tabel 1 B'!C62<5,'Tabel 2 B'!D64<0.5),\"-\",IFERROR('Tabel 2 B'!D64/'Tabel 1 B'!C62*100,\"-\"))","v":5.6190924400242679},null,{"$f":"IF(OR('Tabel 1 B'!E62<5, 'Tabel 2 B'!F64<0.5),\"-\",IFERROR('Tabel 2 B'!F64/'Tabel 1 B'!E62*100,\"-\"))","v":12.5},{"$f":"IF(OR('Tabel 1 B'!E62<5,'Tabel 2 B'!G64<0.5),\"-\",IFERROR('Tabel 2 B'!G64/'Tabel 1 B'!E62*100,\"-\"))","v":11.67903698621593},null,{"$f":"IF(OR('Tabel 1 B'!G62<5,'Tabel 2 B'!I64<0.5),\"-\",IFERROR('Tabel 2 B'!I64/'Tabel 1 B'!G62*100,\"-\"))","v":7.9365079365079358},{"$f":"IF(OR('Tabel 1 B'!G62<5,'Tabel 2 B'!J64<0.5),\"-\",IFERROR('Tabel 2 B'!J64/'Tabel 1 B'!G62*100,\"-\"))","v":6.3886092077946373}]
["Cand. Scient. Tek.",null,{"$f":"IF(OR('Tabel 1 B'!C63<5, 'Tabel 2 B'!C65<0.5),\"-\",IFERROR('Tabel 2 B'!C65/'Tabel 1 B'!C63*100,\"-\"))","v":6.25},{"$f":"IF(OR('Tabel 1 B'!C63<5,'Tabel 2 B'!D65<0.5),\"-\",IFERROR('Tabel 2 B'!D65/'Tabel 1 B'!C63*100,\"-\"))","v":"-"},null,{"$f":"IF(OR('Tabel 1 B'!E63<5, 'Tabel 2 B'!F65<0.5),\"-\",IFERROR('Tabel 2 B'!F65/'Tabel 1 B'!E63*100,\"-\"))","v":25},{"$f":"IF(OR('Tabel 1 B'!E63<5,'Tabel 2 B'!G65<0.5),\"-\",IFERROR('Tabel 2 B'!G65/'Tabel 1 B'!E63*100,\"-\"))","v":14.532526663756002},null,{"$f":"IF(OR('Tabel 1 B'!G63<5,'Tabel 2 B'!I65<0.5),\"-\",IFERROR('Tabel 2 B'!I65/'Tabel 1 B'!G63*100,\"-\"))","v":15.625},{"$f":"IF(OR('Tabel 1 B'!G63<5,'Tabel 2 B'!J65<0.5),\"-\",IFERROR('Tabel 2 B'!J65/'Tabel 1 B'!G63*100,\"-\"))","v":8.0166687457119679}]
["MA. Hum.",null,{"$f":"IF(OR('Tabel 1 B'!C64<5, 'Tabel 2 B'!C66<0.5),\"-\",IFERROR('Tabel 2 B'!C66/'Tabel 1 B'!C64*100,\"-\"))","v":17.948717948717949},{"$f":"IF(OR('Tabel 1 B'!C64<5,'Tabel 2 B'!D66<0.5),\"-\",IFERROR('Tabel 2 B'!D66/'Tabel 1 B'!C64*100,\"-\"))","v":16.474035123071488},null,{"$f":"IF(OR('Tabel 1 B'!E64<5, 'Tabel 2 B'!F66<0.5),\"-\",IFERROR('Tabel 2 B'!F66/'Tabel 1 B'!E64*100,\"-\"))","v":12.790697674418606},{"$f":"IF(OR('Tabel 1 B'!E64<5,'Tabel 2 B'!G66<0.5),\"-\",IFERROR('Tabel 2 B'!G66/'Tabel 1 B'!E64*100,\"-\"))","v":9.8495979948333297},null,{"$f":"IF(OR('Tabel 1 B'!G64<5,'Tabel 2 B'!I66<0.5),\"-\",IFERROR('Tabel 2 B'!I66/'Tabel 1 B'!G64*100,\"-\"))","v":14.399999999999999},{"$f":"IF(OR('Tabel 1 B'!G64<5,'Tabel 2 B'!J66<0.5),\"-\",IFERROR('Tabel 2 B'!J66/'Tabel 1 B'!G64*100,\"-\"))","v":11.916422378843635}]
["MA. Nat.",null,{"$f":"IF(OR('Tabel 1 B'!C65<5, 'Tabel 2 B'!C67<0.5),\"-\",IFERROR('Tabel 2 B'!C67/'Tabel 1 B'!C65*100,\"-\"))","v":12},{"$f":"IF(OR('Tabel 1 B'!C65<5,'Tabel 2 B'!D67<0.5),\"-\",IFERROR('Tabel 2 B'!D67/'Tabel 1 B'!C65*100,\"-\"))","v":8.7195159982536019},null,{"$f":"IF(OR('Tabel 1 B'!E65<5, 'Tabel 2 B'!F67<0.5),\"-\",IFERROR('Tabel 2 B'!F67/'Tabel 1 B'!E65*100,\"-\"))","v":"-"},{"$f":"IF(OR('Tabel 1 B'!E65<5,'Tabel 2 B'!G67<0.5),\"-\",IFERROR('Tabel 2 B'!G67/'Tabel 1 B'!E65*100,\"-\"))","v":"-"},null,{"$f":"IF(OR('Tabel 1 B'!G65<5,'Tabel 2 B'!I67<0.5),\"-\",IFERROR('Tabel 2 B'!I67/'Tabel 1 B'!G65*100,\"-\"))","v":6.5217391304347823},{"$f":"IF(OR('Tabel 1 B'!G65<5,'Tabel 2 B'!J67<0.5),\"-\",IFERROR('Tabel 2 B'!J67/'Tabel 1 B'!G65*100,\"-\"))","v":4.7388673903552183}]
["MA. Ph.d.",null,{"$f":"IF(OR('Tabel 1 B'!C66<5, 'Tabel 2 B'!C68<0.5),\"-\",IFERROR('Tabel 2 B'!C68/'Tabel 1 B'!C66*100,\"-\"))","v":"-"},{"$f":"IF(OR('Tabel 1 B'!C66<5,'Tabel 2 B'!D68<0.5),\"-\",IFERROR('Tabel 2 B'!D68/'Tabel 1 B'!C66*100,\"-\"))","v":"-"},null,{"$f":"IF(OR('Tabel 1 B'!E66<5, 'Tabel 2 B'!F68<0.5),\"-\",IFERROR('Tabel 2 B'!F68/'Tabel 1 B'!E66*100,\"-\"))","v":"-"},{"$f":"IF(OR('Tabel 1 B'!E66<5,'Tabel 2 B'!G68<0.5),\"-\",IFERROR('Tabel 2 B'!G68/'Tabel 1 B'!E66*100,\"-\"))","v":"-"},null,{"$f":"IF(OR('Tabel 1 B'!G66<5,'Tabel 2 B'!I68<0.5),\"-\",IFERROR('Tabel 2 B'!I68/'Tabel 1 B'!G66*100,\"-\"))","v":14.285714285714285},{"$f":"IF(OR('Tabel 1 B'!G66<5,'Tabel 2 B'!J68<0.5),\"-\",IFERROR('Tabel 2 B'!J68/'Tabel 1 B'!G66*100,\"-\"))","v":14.283041227468345}]
["MA. Samf.",null,{"$f":"IF(OR('Tabel 1 B'!C67<5, 'Tabel 2 B'!C69<0.5),\"-\",IFERROR('Tabel 2 B'!C69/'Tabel 1 B'!C67*100,\"-\"))","v":"-"},{"$f":"IF(OR('Tabel 1 B'!C67<5,'Tabel 2 B'!D69<0.5),\"-\",IFERROR('Tabel 2 B'!D69/'Tabel 1 B'!C67*100,\"-\"))","v":"-"},null,{"$f":"IF(OR('Tabel 1 B'!E67<5, 'Tabel 2 B'!F69<0.5),\"-\",IFERROR('Tabel 2 B'!F69/'Tabel 1 B'!E67*100,\"-\"))","v":"-"},{"$f":"IF(OR('Tabel 1 B'!E67<5,'Tabel 2 B'!G69<0.5),\"-\",IFERROR('Tabel 2 B'!G69/'Tabel 1 B'!E67*100,\"-\"))","v":"-"},null,{"$f":"IF(OR('Tabel 1 B'!G67<5,'Tabel 2 B'!I69<0.5),\"-\",IFERROR('Tabel 2 B'!I69/'Tabel 1 B'!G67*100,\"-\"))","v":6.666666666666667},{"$f":"IF(OR('Tabel 1 B'!G67<5,'Tabel 2 B'!J69<0.5),\"-\",IFERROR('Tabel 2 B'!J69/'Tabel 1 B'!G67*100,\"-\"))","v":6.665419239485229}]
["Øvrige Mag.",null,{"$f":"IF(OR('Tabel 1 B'!C68<5, 'Tabel 2 B'!C70<0.5),\"-\",IFERROR('Tabel 2 B'!C70/'Tabel 1 B'!C68*100,\"-\"))","v":28.571428571428569},{"$f":"IF(OR('Tabel 1 B'!C68<5,'Tabel 2 B'!D70<0.5),\"-\",IFERROR('Tabel 2 B'!D70/'Tabel 1 B'!C68*100,\"-\"))","v":23.950601883615043},null,{"$f":"IF(OR('Tabel 1 B'!E68<5, 'Tabel 2 B'!F70<0.5),\"-\",IFERROR('Tabel 2 B'!F70/'Tabel 1 B'!E68*100,\"-\"))","v":33.333333333333329},{"$f":"IF(OR('Tabel 1 B'!E68<5,'Tabel 2 B'!G70<0.5),\"-\",IFERROR('Tabel 2 B'!G70/'Tabel 1 B'!E68*100,\"-\"))","v":33.327096197426144},null,{"$f":"IF(OR('Tabel 1 B'!G68<5,'Tabel 2 B'!I70<0.5),\"-\",IFERROR('Tabel 2 B'!I70/'Tabel 1 B'!G68*100,\"-\"))","v":31.25},{"$f":"IF(OR('Tabel 1 B'!G68<5,'Tabel 2 B'!J70<0.5),\"-\",IFERROR('Tabel 2 B'!J70/'Tabel 1 B'!G68*100,\"-\"))","v":29.224879935133785}]
["Agronom",null,{"$f":"IF(OR('Tabel 1 B'!C69<5, 'Tabel 2 B'!C71<0.5),\"-\",IFERROR('Tabel 2 B'!C71/'Tabel 1 B'!C69*100,\"-\"))","v":"-"},{"$f":"IF(OR('Tabel 1 B'!C69<5,'Tabel 2 B'!D71<0.5),\"-\",IFERROR('Tabel 2 B'!D71/'Tabel 1 B'!C69*100,\"-\"))","v":"-"},null,{"$f":"IF(OR('Tabel 1 B'!E69<5, 'Tabel 2 B'!F71<0.5),\"-\",IFERROR('Tabel 2 B'!F71/'Tabel 1 B'!E69*100,\"-\"))","v":"-"},{"$f":"IF(OR('Tabel 1 B'!E69<5,'Tabel 2 B'!G71<0.5),\"-\",IFERROR('Tabel 2 B'!G71/'Tabel 1 B'!E69*100,\"-\"))","v":"-"},null,{"$f":"IF(OR('Tabel 1 B'!G69<5,'Tabel 2 B'!I71<0.5),\"-\",IFERROR('Tabel 2 B'!I71/'Tabel 1 B'!G69*100,\"-\"))","v":"-"},{"$f":"IF(OR('Tabel 1 B'!G69<5,'Tabel 2 B'!J71<0.5),\"-\",IFERROR('Tabel 2 B'!J71/'Tabel 1 B'!G69*100,\"-\"))","v":"-"}]
["Landsk. Arkt.",null,{"$f":"IF(OR('Tabel 1 B'!C70<5, 'Tabel 2 B'!C72<0.5),\"-\",IFERROR('Tabel 2 B'!C72/'Tabel 1 B'!C70*100,\"-\"))","v":"-"},{"$f":"IF(OR('Tabel 1 B'!C70<5,'Tabel 2 B'!D72<0.5),\"-\",IFERROR('Tabel 2 B'!D72/'Tabel 1 B'!C70*100,\"-\"))","v":"-"},null,{"$f":"IF(OR('Tabel 1 B'!E70<5, 'Tabel 2 B'!F72<0.5),\"-\",IFERROR('Tabel 2 B'!F72/'Tabel 1 B'!E70*100,\"-\"))","v":"-"},{"$f":"IF(OR('Tabel 1 B'!E70<5,'Tabel 2 B'!G72<0.5),\"-\",IFERROR('Tabel 2 B'!G72/'Tabel 1 B'!E70*100,\"-\"))","v":"-"},null,{"$f":"IF(OR('Tabel 1 B'!G70<5,'Tabel 2 B'!I72<0.5),\"-\",IFERROR('Tabel 2 B'!I72/'Tabel 1 B'!G70*100,\"-\"))","v":"-"},{"$f":"IF(OR('Tabel 1 B'!G70<5,'Tabel 2 B'!J72<0.5),\"-\",IFERROR('Tabel 2 B'!J72/'Tabel 1 B'!G70*100,\"-\"))","v":"-"}]
["Hortonom",null,{"$f":"IF(OR('Tabel 1 B'!C71<5, 'Tabel 2 B'!C73<0.5),\"-\",IFERROR('Tabel 2 B'!C73/'Tabel 1 B'!C71*100,\"-\"))","v":"-"},{"$f":"IF(OR('Tabel 1 B'!C71<5,'Tabel 2 B'!D73<0.5),\"-\",IFERROR('Tabel 2 B'!D73/'Tabel 1 B'!C71*100,\"-\"))","v":"-"},null,{"$f":"IF(OR('Tabel 1 B'!E71<5, 'Tabel 2 B'!F73<0.5),\"-\",IFERROR('Tabel 2 B'!F73/'Tabel 1 B'!E71*100,\"-\"))","v":"-"},{"$f":"IF(OR('Tabel 1 B'!E71<5,'Tabel 2 B'!G73<0.5),\"-\",IFERROR('Tabel 2 B'!G73/'Tabel 1 B'!E71*100,\"-\"))","v":"-"},null,{"$f":"IF(OR('Tabel 1 B'!G71<5,'Tabel 2 B'!I73<0.5),\"-\",IFERROR('Tabel 2 B'!I73/'Tabel 1 B'!G71*100,\"-\"))","v":"-"},{"$f":"IF(OR('Tabel 1 B'!G71<5,'Tabel 2 B'!J73<0.5),\"-\",IFERROR('Tabel 2 B'!J73/'Tabel 1 B'!G71*100,\"-\"))","v":"-"}]
["Forstkand.",null,{"$f":"IF(OR('Tabel 1 B'!C72<5, 'Tabel 2 B'!C74<0.5),\"-\",IFERROR('Tabel 2 B'!C74/'Tabel 1 B'!C72*100,\"-\"))","v":"-"},{"$f":"IF(OR('Tabel 1 B'!C72<5,'Tabel 2 B'!D74<0.5),\"-\",IFERROR('Tabel 2 B'!D74/'Tabel 1 B'!C72*100,\"-\"))","v":"-"},null,{"$f":"IF(OR('Tabel 1 B'!E72<5, 'Tabel 2 B'!F74<0.5),\"-\",IFERROR('Tabel 2 B'!F74/'Tabel 1 B'!E72*100,\"-\"))","v":"-"},{"$f":"IF(OR('Tabel 1 B'!E72<5,'Tabel 2 B'!G74<0.5),\"-\",IFERROR('Tabel 2 B'!G74/'Tabel 1 B'!E72*100,\"-\"))","v":"-"},null,{"$f":"IF(OR('Tabel 1 B'!G72<5,'Tabel 2 B'!I74<0.5),\"-\",IFERROR('Tabel 2 B'!I74/'Tabel 1 B'!G72*100,\"-\"))","v":"-"},{"$f":"IF(OR('Tabel 1 B'!G72<5,'Tabel 2 B'!J74<0.5),\"-\",IFERROR('Tabel 2 B'!J74/'Tabel 1 B'!G72*100,\"-\"))","v":"-"}]
["Jordbrugsakad.",null,{"$f":"IF(OR('Tabel 1 B'!C73<5, 'Tabel 2 B'!C75<0.5),\"-\",IFERROR('Tabel 2 B'!C75/'Tabel 1 B'!C73*100,\"-\"))","v":"-"},{"$f":"IF(OR('Tabel 1 B'!C73<5,'Tabel 2 B'!D75<0.5),\"-\",IFERROR('Tabel 2 B'!D75/'Tabel 1 B'!C73*100,\"-\"))","v":"-"},null,{"$f":"IF(OR('Tabel 1 B'!E73<5, 'Tabel 2 B'!F75<0.5),\"-\",IFERROR('Tabel 2 B'!F75/'Tabel 1 B'!E73*100,\"-\"))","v":"-"},{"$f":"IF(OR('Tabel 1 B'!E73<5,'Tabel 2 B'!G75<0.5),\"-\",IFERROR('Tabel 2 B'!G75/'Tabel 1 B'!E73*100,\"-\"))","v":"-"},null,{"$f":"IF(OR('Tabel 1 B'!G73<5,'Tabel 2 B'!I75<0.5),\"-\",IFERROR('Tabel 2 B'!I75/'Tabel 1 B'!G73*100,\"-\"))","v":"-"},{"$f":"IF(OR('Tabel 1 B'!G73<5,'Tabel 2 B'!J75<0.5),\"-\",IFERROR('Tabel 2 B'!J75/'Tabel 1 B'!G73*100,\"-\"))","v":"-"}]
["Mejeriing.",null,{"$f":"IF(OR('Tabel 1 B'!C74<5, 'Tabel 2 B'!C76<0.5),\"-\",IFERROR('Tabel 2 B'!C76/'Tabel 1 B'!C74*100,\"-\"))","v":"-"},{"$f":"IF(OR('Tabel 1 B'!C74<5,'Tabel 2 B'!D76<0.5),\"-\",IFERROR('Tabel 2 B'!D76/'Tabel 1 B'!C74*100,\"-\"))","v":"-"},null,{"$f":"IF(OR('Tabel 1 B'!E74<5, 'Tabel 2 B'!F76<0.5),\"-\",IFERROR('Tabel 2 B'!F76/'Tabel 1 B'!E74*100,\"-\"))","v":"-"},{"$f":"IF(OR('Tabel 1 B'!E74<5,'Tabel 2 B'!G76<0.5),\"-\",IFERROR('Tabel 2 B'!G76/'Tabel 1 B'!E74*100,\"-\"))","v":"-"},null,{"$f":"IF(OR('Tabel 1 B'!G74<5,'Tabel 2 B'!I76<0.5),\"-\",IFERROR('Tabel 2 B'!I76/'Tabel 1 B'!G74*100,\"-\"))","v":"-"},{"$f":"IF(OR('Tabel 1 B'!G74<5,'Tabel 2 B'!J76<0.5),\"-\",IFERROR('Tabel 2 B'!J76/'Tabel 1 B'!G74*100,\"-\"))","v":"-"}]
["Levn.m.kand.",null,{"$f":"IF(OR('Tabel 1 B'!C75<5, 'Tabel 2 B'!C77<0.5),\"-\",IFERROR('Tabel 2 B'!C77/'Tabel 1 B'!C75*100,\"-\"))","v":"-"},{"$f":"IF(OR('Tabel 1 B'!C75<5,'Tabel 2 B'!D77<0.5),\"-\",IFERROR('Tabel 2 B'!D77/'Tabel 1 B'!C75*100,\"-\"))","v":"-"},null,{"$f":"IF(OR('Tabel 1 B'!E75<5, 'Tabel 2 B'!F77<0.5),\"-\",IFERROR('Tabel 2 B'!F77/'Tabel 1 B'!E75*100,\"-\"))","v":"-"},{"$f":"IF(OR('Tabel 1 B'!E75<5,'Tabel 2 B'!G77<0.5),\"-\",IFERROR('Tabel 2 B'!G77/'Tabel 1 B'!E75*100,\"-\"))","v":"-"},null,{"$f":"IF(OR('Tabel 1 B'!G75<5,'Tabel 2 B'!I77<0.5),\"-\",IFERROR('Tabel 2 B'!I77/'Tabel 1 B'!G75*100,\"-\"))","v":"-"},{"$f":"IF(OR('Tabel 1 B'!G75<5,'Tabel 2 B'!J77<0.5),\"-\",IFERROR('Tabel 2 B'!J77/'Tabel 1 B'!G75*100,\"-\"))","v":"-"}]
["Dyrlæge",null,{"$f":"IF(OR('Tabel 1 B'!C76<5, 'Tabel 2 B'!C78<0.5),\"-\",IFERROR('Tabel 2 B'!C78/'Tabel 1 B'!C76*100,\"-\"))","v":"-"},{"$f":"IF(OR('Tabel 1 B'!C76<5,'Tabel 2 B'!D78<0.5),\"-\",IFERROR('Tabel 2 B'!D78/'Tabel 1 B'!C76*100,\"-\"))","v":"-"},null,{"$f":"IF(OR('Tabel 1 B'!E76<5, 'Tabel 2 B'!F78<0.5),\"-\",IFERROR('Tabel 2 B'!F78/'Tabel 1 B'!E76*100,\"-\"))","v":"-"},{"$f":"IF(OR('Tabel 1 B'!E76<5,'Tabel 2 B'!G78<0.5),\"-\",IFERROR('Tabel 2 B'!G78/'Tabel 1 B'!E76*100,\"-\"))","v":"-"},null,{"$f":"IF(OR('Tabel 1 B'!G76<5,'Tabel 2 B'!I78<0.5),\"-\",IFERROR('Tabel 2 B'!I78/'Tabel 1 B'!G76*100,\"-\"))","v":"-"},{"$f":"IF(OR('Tabel 1 B'!G76<5,'Tabel 2 B'!J78<0.5),\"-\",IFERROR('Tabel 2 B'!J78/'Tabel 1 B'!G76*100,\"-\"))","v":"-"}]
["Farmaceut",null,{"$f":"IF(OR('Tabel 1 B'!C77<5, 'Tabel 2 B'!C79<0.5),\"-\",IFERROR('Tabel 2 B'!C79/'Tabel 1 B'!C77*100,\"-\"))","v":"-"},{"$f":"IF(OR('Tabel 1 B'!C77<5,'Tabel 2 B'!D79<0.5),\"-\",IFERROR('Tabel 2 B'!D79/'Tabel 1 B'!C77*100,\"-\"))","v":"-"},null,{"$f":"IF(OR('Tabel 1 B'!E77<5, 'Tabel 2 B'!F79<0.5),\"-\",IFERROR('Tabel 2 B'!F79/'Tabel 1 B'!E77*100,\"-\"))","v":"-"},{"$f":"IF(OR('Tabel 1 B'!E77<5,'Tabel 2 B'!G79<0.5),\"-\",IFERROR('Tabel 2 B'!G79/'Tabel 1 B'!E77*100,\"-\"))","v":"-"},null,{"$f":"IF(OR('Tabel 1 B'!G77<5,'Tabel 2 B'!I79<0.5),\"-\",IFERROR('Tabel 2 B'!I79/'Tabel 1 B'!G77*100,\"-\"))","v":"-"},{"$f":"IF(OR('Tabel 1 B'!G77<5,'Tabel 2 B'!J79<0.5),\"-\",IFERROR('Tabel 2 B'!J79/'Tabel 1 B'!G77*100,\"-\"))","v":"-"}]
["Læge",null,{"$f":"IF(OR('Tabel 1 B'!C78<5, 'Tabel 2 B'!C80<0.5),\"-\",IFERROR('Tabel 2 B'!C80/'Tabel 1 B'!C78*100,\"-\"))","v":"-"},{"$f":"IF(OR('Tabel 1 B'!C78<5,'Tabel 2 B'!D80<0.5),\"-\",IFERROR('Tabel 2 B'!D80/'Tabel 1 B'!C78*100,\"-\"))","v":"-"},null,{"$f":"IF(OR('Tabel 1 B'!E78<5, 'Tabel 2 B'!F80<0.5),\"-\",IFERROR('Tabel 2 B'!F80/'Tabel 1 B'!E78*100,\"-\"))","v":4.5454545454545459},{"$f":"IF(OR('Tabel 1 B'!E78<5,'Tabel 2 B'!G80<0.5),\"-\",IFERROR('Tabel 2 B'!G80/'Tabel 1 B'!E78*100,\"-\"))","v":4.5446040269217471},null,{"$f":"IF(OR('Tabel 1 B'!G78<5,'Tabel 2 B'!I80<0.5),\"-\",IFERROR('Tabel 2 B'!I80/'Tabel 1 B'!G78*100,\"-\"))","v":3.3333333333333335},{"$f":"IF(OR('Tabel 1 B'!G78<5,'Tabel 2 B'!J80<0.5),\"-\",IFERROR('Tabel 2 B'!J80/'Tabel 1 B'!G78*100,\"-\"))","v":3.3327096197426145}]
["Tandlæge",null,{"$f":"IF(OR('Tabel 1 B'!C79<5, 'Tabel 2 B'!C81<0.5),\"-\",IFERROR('Tabel 2 B'!C81/'Tabel 1 B'!C79*100,\"-\"))","v":"-"},{"$f":"IF(OR('Tabel 1 B'!C79<5,'Tabel 2 B'!D81<0.5),\"-\",IFERROR('Tabel 2 B'!D81/'Tabel 1 B'!C79*100,\"-\"))","v":"-"},null,{"$f":"IF(OR('Tabel 1 B'!E79<5, 'Tabel 2 B'!F81<0.5),\"-\",IFERROR('Tabel 2 B'!F81/'Tabel 1 B'!E79*100,\"-\"))","v":"-"},{"$f":"IF(OR('Tabel 1 B'!E79<5,'Tabel 2 B'!G81<0.5),\"-\",IFERROR('Tabel 2 B'!G81/'Tabel 1 B'!E79*100,\"-\"))","v":"-"},null,{"$f":"IF(OR('Tabel 1 B'!G79<5,'Tabel 2 B'!I81<0.5),\"-\",IFERROR('Tabel 2 B'!I81/'Tabel 1 B'!G79*100,\"-\"))","v":"-"},{"$f":"IF(OR('Tabel 1 B'!G79<5,'Tabel 2 B'!J81<0.5),\"-\",IFERROR('Tabel 2 B'!J81/'Tabel 1 B'!G79*100,\"-\"))","v":"-"}]
["Arkitekt",null,{"$f":"IF(OR('Tabel 1 B'!C80<5, 'Tabel 2 B'!C82<0.5),\"-\",IFERROR('Tabel 2 B'!C82/'Tabel 1 B'!C80*100,\"-\"))","v":"-"},{"$f":"IF(OR('Tabel 1 B'!C80<5,'Tabel 2 B'!D82<0.5),\"-\",IFERROR('Tabel 2 B'!D82/'Tabel 1 B'!C80*100,\"-\"))","v":"-"},null,{"$f":"IF(OR('Tabel 1 B'!E80<5, 'Tabel 2 B'!F82<0.5),\"-\",IFERROR('Tabel 2 B'!F82/'Tabel 1 B'!E80*100,\"-\"))","v":20},{"$f":"IF(OR('Tabel 1 B'!E80<5,'Tabel 2 B'!G82<0.5),\"-\",IFERROR('Tabel 2 B'!G82/'Tabel 1 B'!E80*100,\"-\"))","v":"-"},null,{"$f":"IF(OR('Tabel 1 B'!G80<5,'Tabel 2 B'!I82<0.5),\"-\",IFERROR('Tabel 2 B'!I82/'Tabel 1 B'!G80*100,\"-\"))","v":7.1428571428571423},{"$f":"IF(OR('Tabel 1 B'!G80<5,'Tabel 2 B'!J82<0.5),\"-\",IFERROR('Tabel 2 B'!J82/'Tabel 1 B'!G80*100,\"-\"))","v":"-"}]
["Landinspek.",null,{"$f":"IF(OR('Tabel 1 B'!C81<5, 'Tabel 2 B'!C83<0.5),\"-\",IFERROR('Tabel 2 B'!C83/'Tabel 1 B'!C81*100,\"-\"))","v":"-"},{"$f":"IF(OR('Tabel 1 B'!C81<5,'Tabel 2 B'!D83<0.5),\"-\",IFERROR('Tabel 2 B'!D83/'Tabel 1 B'!C81*100,\"-\"))","v":"-"},null,{"$f":"IF(OR('Tabel 1 B'!E81<5, 'Tabel 2 B'!F83<0.5),\"-\",IFERROR('Tabel 2 B'!F83/'Tabel 1 B'!E81*100,\"-\"))","v":"-"},{"$f":"IF(OR('Tabel 1 B'!E81<5,'Tabel 2 B'!G83<0.5),\"-\",IFERROR('Tabel 2 B'!G83/'Tabel 1 B'!E81*100,\"-\"))","v":"-"},null,{"$f":"IF(OR('Tabel 1 B'!G81<5,'Tabel 2 B'!I83<0.5),\"-\",IFERROR('Tabel 2 B'!I83/'Tabel 1 B'!G81*100,\"-\"))","v":"-"},{"$f":"IF(OR('Tabel 1 B'!G81<5,'Tabel 2 B'!J83<0.5),\"-\",IFERROR('Tabel 2 B'!J83/'Tabel 1 B'!G81*100,\"-\"))","v":"-"}]
["Bibliotekar",null,{"$f":"IF(OR('Tabel 1 B'!C82<5, 'Tabel 2 B'!C84<0.5),\"-\",IFERROR('Tabel 2 B'!C84/'Tabel 1 B'!C82*100,\"-\"))","v":"-"},{"$f":"IF(OR('Tabel 1 B'!C82<5,'Tabel 2 B'!D84<0.5),\"-\",IFERROR('Tabel 2 B'!D84/'Tabel 1 B'!C82*100,\"-\"))","v":"-"},null,{"$f":"IF(OR('Tabel 1 B'!E82<5, 'Tabel 2 B'!F84<0.5),\"-\",IFERROR('Tabel 2 B'!F84/'Tabel 1 B'!E82*100,\"-\"))","v":10},{"$f":"IF(OR('Tabel 1 B'!E82<5,'Tabel 2 B'!G84<0.5),\"-\",IFERROR('Tabel 2 B'!G84/'Tabel 1 B'!E82*100,\"-\"))","v":9.9981288592278421},null,{"$f":"IF(OR('Tabel 1 B'!G82<5,'Tabel 2 B'!I84<0.5),\"-\",IFERROR('Tabel 2 B'!I84/'Tabel 1 B'!G82*100,\"-\"))","v":6.25},{"$f":"IF(OR('Tabel 1 B'!G82<5,'Tabel 2 B'!J84<0.5),\"-\",IFERROR('Tabel 2 B'!J84/'Tabel 1 B'!G82*100,\"-\"))","v":6.248830537017402}]
["Musikudd.",null,{"$f":"IF(OR('Tabel 1 B'!C83<5, 'Tabel 2 B'!C85<0.5),\"-\",IFERROR('Tabel 2 B'!C85/'Tabel 1 B'!C83*100,\"-\"))","v":"-"},{"$f":"IF(OR('Tabel 1 B'!C83<5,'Tabel 2 B'!D85<0.5),\"-\",IFERROR('Tabel 2 B'!D85/'Tabel 1 B'!C83*100,\"-\"))","v":"-"},null,{"$f":"IF(OR('Tabel 1 B'!E83<5, 'Tabel 2 B'!F85<0.5),\"-\",IFERROR('Tabel 2 B'!F85/'Tabel 1 B'!E83*100,\"-\"))","v":"-"},{"$f":"IF(OR('Tabel 1 B'!E83<5,'Tabel 2 B'!G85<0.5),\"-\",IFERROR('Tabel 2 B'!G85/'Tabel 1 B'!E83*100,\"-\"))","v":"-"},null,{"$f":"IF(OR('Tabel 1 B'!G83<5,'Tabel 2 B'!I85<0.5),\"-\",IFERROR('Tabel 2 B'!I85/'Tabel 1 B'!G83*100,\"-\"))","v":"-"},{"$f":"IF(OR('Tabel 1 B'!G83<5,'Tabel 2 B'!J85<0.5),\"-\",IFERROR('Tabel 2 B'!J85/'Tabel 1 B'!G83*100,\"-\"))","v":"-"}]
["Teolog",null,{"$f":"IF(OR('Tabel 1 B'!C84<5, 'Tabel 2 B'!C86<0.5),\"-\",IFERROR('Tabel 2 B'!C86/'Tabel 1 B'!C84*100,\"-\"))","v":"-"},{"$f":"IF(OR('Tabel 1 B'!C84<5,'Tabel 2 B'!D86<0.5),\"-\",IFERROR('Tabel 2 B'!D86/'Tabel 1 B'!C84*100,\"-\"))","v":"-"},null,{"$f":"IF(OR('Tabel 1 B'!E84<5, 'Tabel 2 B'!F86<0.5),\"-\",IFERROR('Tabel 2 B'!F86/'Tabel 1 B'!E84*100,\"-\"))","v":"-"},{"$f":"IF(OR('Tabel 1 B'!E84<5,'Tabel 2 B'!G86<0.5),\"-\",IFERROR('Tabel 2 B'!G86/'Tabel 1 B'!E84*100,\"-\"))","v":"-"},null,{"$f":"IF(OR('Tabel 1 B'!G84<5,'Tabel 2 B'!I86<0.5),\"-\",IFERROR('Tabel 2 B'!I86/'Tabel 1 B'!G84*100,\"-\"))","v":"-"},{"$f":"IF(OR('Tabel 1 B'!G84<5,'Tabel 2 B'!J86<0.5),\"-\",IFERROR('Tabel 2 B'!J86/'Tabel 1 B'!G84*100,\"-\"))","v":"-"}]
["Psykolog",null,{"$f":"IF(OR('Tabel 1 B'!C85<5, 'Tabel 2 B'!C87<0.5),\"-\",IFERROR('Tabel 2 B'!C87/'Tabel 1 B'!C85*100,\"-\"))","v":"-"},{"$f":"IF(OR('Tabel 1 B'!C85<5,'Tabel 2 B'!D87<0.5),\"-\",IFERROR('Tabel 2 B'!D87/'Tabel 1 B'!C85*100,\"-\"))","v":"-"},null,{"$f":"IF(OR('Tabel 1 B'!E85<5, 'Tabel 2 B'!F87<0.5),\"-\",IFERROR('Tabel 2 B'!F87/'Tabel 1 B'!E85*100,\"-\"))","v":4.1666666666666661},{"$f":"IF(OR('Tabel 1 B'!E85<5,'Tabel 2 B'!G87<0.5),\"-\",IFERROR('Tabel 2 B'!G87/'Tabel 1 B'!E85*100,\"-\"))","v":3.542173433959126},null,{"$f":"IF(OR('Tabel 1 B'!G85<5,'Tabel 2 B'!I87<0.5),\"-\",IFERROR('Tabel 2 B'!I87/'Tabel 1 B'!G85*100,\"-\"))","v":3.225806451612903},{"$f":"IF(OR('Tabel 1 B'!G85<5,'Tabel 2 B'!J87<0.5),\"-\",IFERROR('Tabel 2 B'!J87/'Tabel 1 B'!G85*100,\"-\"))","v":2.7423278198393231}]
["Jurist",null,{"$f":"IF(OR('Tabel 1 B'!C86<5, 'Tabel 2 B'!C88<0.5),\"-\",IFERROR('Tabel 2 B'!C88/'Tabel 1 B'!C86*100,\"-\"))","v":"-"},{"$f":"IF(OR('Tabel 1 B'!C86<5,'Tabel 2 B'!D88<0.5),\"-\",IFERROR('Tabel 2 B'!D88/'Tabel 1 B'!C86*100,\"-\"))","v":"-"},null,{"$f":"IF(OR('Tabel 1 B'!E86<5, 'Tabel 2 B'!F88<0.5),\"-\",IFERROR('Tabel 2 B'!F88/'Tabel 1 B'!E86*100,\"-\"))","v":"-"},{"$f":"IF(OR('Tabel 1 B'!E86<5,'Tabel 2 B'!G88<0.5),\"-\",IFERROR('Tabel 2 B'!G88/'Tabel 1 B'!E86*100,\"-\"))","v":"-"},null,{"$f":"IF(OR('Tabel 1 B'!G86<5,'Tabel 2 B'!I88<0.5),\"-\",IFERROR('Tabel 2 B'!I88/'Tabel 1 B'!G86*100,\"-\"))","v":"-"},{"$f":"IF(OR('Tabel 1 B'!G86<5,'Tabel 2 B'!J88<0.5),\"-\",IFERROR('Tabel 2 B'!J88/'Tabel 1 B'!G86*100,\"-\"))","v":"-"}]
["Økonom",null,{"$f":"IF(OR('Tabel 1 B'!C87<5, 'Tabel 2 B'!C89<0.5),\"-\",IFERROR('Tabel 2 B'!C89/'Tabel 1 B'!C87*100,\"-\"))","v":"-"},{"$f":"IF(OR('Tabel 1 B'!C87<5,'Tabel 2 B'!D89<0.5),\"-\",IFERROR('Tabel 2 B'!D89/'Tabel 1 B'!C87*100,\"-\"))","v":"-"},null,{"$f":"IF(OR('Tabel 1 B'!E87<5, 'Tabel 2 B'!F89<0.5),\"-\",IFERROR('Tabel 2 B'!F89/'Tabel 1 B'!E87*100,\"-\"))","v":"-"},{"$f":"IF(OR('Tabel 1 B'!E87<5,'Tabel 2 B'!G89<0.5),\"-\",IFERROR('Tabel 2 B'!G89/'Tabel 1 B'!E87*100,\"-\"))","v":"-"},null,{"$f":"IF(OR('Tabel 1 B'!G87<5,'Tabel 2 B'!I89<0.5),\"-\",IFERROR('Tabel 2 B'!I89/'Tabel 1 B'!G87*100,\"-\"))","v":"-"},{"$f":"IF(OR('Tabel 1 B'!G87<5,'Tabel 2 B'!J89<0.5),\"-\",IFERROR('Tabel 2 B'!J89/'Tabel 1 B'!G87*100,\"-\"))","v":"-"}]
["Samf. Adm.",null,{"$f":"IF(OR('Tabel 1 B'!C88<5, 'Tabel 2 B'!C90<0.5),\"-\",IFERROR('Tabel 2 B'!C90/'Tabel 1 B'!C88*100,\"-\"))","v":7.1428571428571423},{"$f":"IF(OR('Tabel 1 B'!C88<5,'Tabel 2 B'!D90<0.5),\"-\",IFERROR('Tabel 2 B'!D90/'Tabel 1 B'!C88*100,\"-\"))","v":7.1415206137341727},null,{"$f":"IF(OR('Tabel 1 B'!E88<5, 'Tabel 2 B'!F90<0.5),\"-\",IFERROR('Tabel 2 B'!F90/'Tabel 1 B'!E88*100,\"-\"))","v":3.7037037037037033},{"$f":"IF(OR('Tabel 1 B'!E88<5,'Tabel 2 B'!G90<0.5),\"-\",IFERROR('Tabel 2 B'!G90/'Tabel 1 B'!E88*100,\"-\"))","v":3.7030106886029048},null,{"$f":"IF(OR('Tabel 1 B'!G88<5,'Tabel 2 B'!I90<0.5),\"-\",IFERROR('Tabel 2 B'!I90/'Tabel 1 B'!G88*100,\"-\"))","v":5.4545454545454541},{"$f":"IF(OR('Tabel 1 B'!G88<5,'Tabel 2 B'!J90<0.5),\"-\",IFERROR('Tabel 2 B'!J90/'Tabel 1 B'!G88*100,\"-\"))","v":5.4535248323060959}]
["Cand. Merc.",null,{"$f":"IF(OR('Tabel 1 B'!C89<5, 'Tabel 2 B'!C91<0.5),\"-\",IFERROR('Tabel 2 B'!C91/'Tabel 1 B'!C89*100,\"-\"))","v":15.384615384615385},{"$f":"IF(OR('Tabel 1 B'!C89<5,'Tabel 2 B'!D91<0.5),\"-\",IFERROR('Tabel 2 B'!D91/'Tabel 1 B'!C89*100,\"-\"))","v":15.381736706504373},null,{"$f":"IF(OR('Tabel 1 B'!E89<5, 'Tabel 2 B'!F91<0.5),\"-\",IFERROR('Tabel 2 B'!F91/'Tabel 1 B'!E89*100,\"-\"))","v":10.526315789473683},{"$f":"IF(OR('Tabel 1 B'!E89<5,'Tabel 2 B'!G91<0.5),\"-\",IFERROR('Tabel 2 B'!G91/'Tabel 1 B'!E89*100,\"-\"))","v":8.0951458669126488},null,{"$f":"IF(OR('Tabel 1 B'!G89<5,'Tabel 2 B'!I91<0.5),\"-\",IFERROR('Tabel 2 B'!I91/'Tabel 1 B'!G89*100,\"-\"))","v":12.5},{"$f":"IF(OR('Tabel 1 B'!G89<5,'Tabel 2 B'!J91<0.5),\"-\",IFERROR('Tabel 2 B'!J91/'Tabel 1 B'!G89*100,\"-\"))","v":11.055323395496789}]
["HA",null,{"$f":"IF(OR('Tabel 1 B'!C90<5, 'Tabel 2 B'!C92<0.5),\"-\",IFERROR('Tabel 2 B'!C92/'Tabel 1 B'!C90*100,\"-\"))","v":"-"},{"$f":"IF(OR('Tabel 1 B'!C90<5,'Tabel 2 B'!D92<0.5),\"-\",IFERROR('Tabel 2 B'!D92/'Tabel 1 B'!C90*100,\"-\"))","v":"-"},null,{"$f":"IF(OR('Tabel 1 B'!E90<5, 'Tabel 2 B'!F92<0.5),\"-\",IFERROR('Tabel 2 B'!F92/'Tabel 1 B'!E90*100,\"-\"))","v":16.666666666666664},{"$f":"IF(OR('Tabel 1 B'!E90<5,'Tabel 2 B'!G92<0.5),\"-\",IFERROR('Tabel 2 B'!G92/'Tabel 1 B'!E90*100,\"-\"))","v":"-"},null,{"$f":"IF(OR('Tabel 1 B'!G90<5,'Tabel 2 B'!I92<0.5),\"-\",IFERROR('Tabel 2 B'!I92/'Tabel 1 B'!G90*100,\"-\"))","v":8.3333333333333321},{"$f":"IF(OR('Tabel 1 B'!G90<5,'Tabel 2 B'!J92<0.5),\"-\",IFERROR('Tabel 2 B'!J92/'Tabel 1 B'!G90*100,\"-\"))","v":"-"}]
["HD",null,{"$f":"IF(OR('Tabel 1 B'!C91<5, 'Tabel 2 B'!C93<0.5),\"-\",IFERROR('Tabel 2 B'!C93/'Tabel 1 B'!C91*100,\"-\"))","v":"-"},{"$f":"IF(OR('Tabel 1 B'!C91<5,'Tabel 2 B'!D93<0.5),\"-\",IFERROR('Tabel 2 B'!D93/'Tabel 1 B'!C91*100,\"-\"))","v":"-"},null,{"$f":"IF(OR('Tabel 1 B'!E91<5, 'Tabel 2 B'!F93<0.5),\"-\",IFERROR('Tabel 2 B'!F93/'Tabel 1 B'!E91*100,\"-\"))","v":"-"},{"$f":"IF(OR('Tabel 1 B'!E91<5,'Tabel 2 B'!G93<0.5),\"-\",IFERROR('Tabel 2 B'!G93/'Tabel 1 B'!E91*100,\"-\"))","v":"-"},null,{"$f":"IF(OR('Tabel 1 B'!G91<5,'Tabel 2 B'!I93<0.5),\"-\",IFERROR('Tabel 2 B'!I93/'Tabel 1 B'!G91*100,\"-\"))","v":"-"},{"$f":"IF(OR('Tabel 1 B'!G91<5,'Tabel 2 B'!J93<0.5),\"-\",IFERROR('Tabel 2 B'!J93/'Tabel 1 B'!G91*100,\"-\"))","v":"-"}]
["Komm. og Sprog",null,{"$f":"IF(OR('Tabel 1 B'!C92<5, 'Tabel 2 B'!C94<0.5),\"-\",IFERROR('Tabel 2 B'!C94/'Tabel 1 B'!C92*100,\"-\"))","v":"-"},{"$f":"IF(OR('Tabel 1 B'!C92<5,'Tabel 2 B'!D94<0.5),\"-\",IFERROR('Tabel 2 B'!D94/'Tabel 1 B'!C92*100,\"-\"))","v":"-"},null,{"$f":"IF(OR('Tabel 1 B'!E92<5, 'Tabel 2 B'!F94<0.5),\"-\",IFERROR('Tabel 2 B'!F94/'Tabel 1 B'!E92*100,\"-\"))","v":36.363636363636367},{"$f":"IF(OR('Tabel 1 B'!E92<5,'Tabel 2 B'!G94<0.5),\"-\",IFERROR('Tabel 2 B'!G94/'Tabel 1 B'!E92*100,\"-\"))","v":26.638240447259342},null,{"$f":"IF(OR('Tabel 1 B'!G92<5,'Tabel 2 B'!I94<0.5),\"-\",IFERROR('Tabel 2 B'!I94/'Tabel 1 B'!G92*100,\"-\"))","v":26.666666666666668},{"$f":"IF(OR('Tabel 1 B'!G92<5,'Tabel 2 B'!J94<0.5),\"-\",IFERROR('Tabel 2 B'!J94/'Tabel 1 B'!G92*100,\"-\"))","v":19.534709661323518}]
["Bygningskonst.",null,{"$f":"IF(OR('Tabel 1 B'!C93<5, 'Tabel 2 B'!C95<0.5),\"-\",IFERROR('Tabel 2 B'!C95/'Tabel 1 B'!C93*100,\"-\"))","v":"-"},{"$f":"IF(OR('Tabel 1 B'!C93<5,'Tabel 2 B'!D95<0.5),\"-\",IFERROR('Tabel 2 B'!D95/'Tabel 1 B'!C93*100,\"-\"))","v":"-"},null,{"$f":"IF(OR('Tabel 1 B'!E93<5, 'Tabel 2 B'!F95<0.5),\"-\",IFERROR('Tabel 2 B'!F95/'Tabel 1 B'!E93*100,\"-\"))","v":"-"},{"$f":"IF(OR('Tabel 1 B'!E93<5,'Tabel 2 B'!G95<0.5),\"-\",IFERROR('Tabel 2 B'!G95/'Tabel 1 B'!E93*100,\"-\"))","v":"-"},null,{"$f":"IF(OR('Tabel 1 B'!G93<5,'Tabel 2 B'!I95<0.5),\"-\",IFERROR('Tabel 2 B'!I95/'Tabel 1 B'!G93*100,\"-\"))","v":"-"},{"$f":"IF(OR('Tabel 1 B'!G93<5,'Tabel 2 B'!J95<0.5),\"-\",IFERROR('Tabel 2 B'!J95/'Tabel 1 B'!G93*100,\"-\"))","v":"-"}]
["Cand. IT.",null,{"$f":"IF(OR('Tabel 1 B'!C94<5, 'Tabel 2 B'!C96<0.5),\"-\",IFERROR('Tabel 2 B'!C96/'Tabel 1 B'!C94*100,\"-\"))","v":"-"},{"$f":"IF(OR('Tabel 1 B'!C94<5,'Tabel 2 B'!D96<0.5),\"-\",IFERROR('Tabel 2 B'!D96/'Tabel 1 B'!C94*100,\"-\"))","v":"-"},null,{"$f":"IF(OR('Tabel 1 B'!E94<5, 'Tabel 2 B'!F96<0.5),\"-\",IFERROR('Tabel 2 B'!F96/'Tabel 1 B'!E94*100,\"-\"))","v":"-"},{"$f":"IF(OR('Tabel 1 B'!E94<5,'Tabel 2 B'!G96<0.5),\"-\",IFERROR('Tabel 2 B'!G96/'Tabel 1 B'!E94*100,\"-\"))","v":"-"},null,{"$f":"IF(OR('Tabel 1 B'!G94<5,'Tabel 2 B'!I96<0.5),\"-\",IFERROR('Tabel 2 B'!I96/'Tabel 1 B'!G94*100,\"-\"))","v":"-"},{"$f":"IF(OR('Tabel 1 B'!G94<5,'Tabel 2 B'!J96<0.5),\"-\",IFERROR('Tabel 2 B'!J96/'Tabel 1 B'!G94*100,\"-\"))","v":"-"}]
["Bac. Samf.",null,{"$f":"IF(OR('Tabel 1 B'!C95<5, 'Tabel 2 B'!C97<0.5),\"-\",IFERROR('Tabel 2 B'!C97/'Tabel 1 B'!C95*100,\"-\"))","v":"-"},{"$f":"IF(OR('Tabel 1 B'!C95<5,'Tabel 2 B'!D97<0.5),\"-\",IFERROR('Tabel 2 B'!D97/'Tabel 1 B'!C95*100,\"-\"))","v":"-"},null,{"$f":"IF(OR('Tabel 1 B'!E95<5, 'Tabel 2 B'!F97<0.5),\"-\",IFERROR('Tabel 2 B'!F97/'Tabel 1 B'!E95*100,\"-\"))","v":"-"},{"$f":"IF(OR('Tabel 1 B'!E95<5,'Tabel 2 B'!G97<0.5),\"-\",IFERROR('Tabel 2 B'!G97/'Tabel 1 B'!E95*100,\"-\"))","v":"-"},null,{"$f":"IF(OR('Tabel 1 B'!G95<5,'Tabel 2 B'!I97<0.5),\"-\",IFERROR('Tabel 2 B'!I97/'Tabel 1 B'!G95*100,\"-\"))","v":"-"},{"$f":"IF(OR('Tabel 1 B'!G95<5,'Tabel 2 B'!J97<0.5),\"-\",IFERROR('Tabel 2 B'!J97/'Tabel 1 B'!G95*100,\"-\"))","v":"-"}]
["Bac. Hum.",null,{"$f":"IF(OR('Tabel 1 B'!C96<5, 'Tabel 2 B'!C98<0.5),\"-\",IFERROR('Tabel 2 B'!C98/'Tabel 1 B'!C96*100,\"-\"))","v":25},{"$f":"IF(OR('Tabel 1 B'!C96<5,'Tabel 2 B'!D98<0.5),\"-\",IFERROR('Tabel 2 B'!D98/'Tabel 1 B'!C96*100,\"-\"))","v":24.995322148069608},null,{"$f":"IF(OR('Tabel 1 B'!E96<5, 'Tabel 2 B'!F98<0.5),\"-\",IFERROR('Tabel 2 B'!F98/'Tabel 1 B'!E96*100,\"-\"))","v":20},{"$f":"IF(OR('Tabel 1 B'!E96<5,'Tabel 2 B'!G98<0.5),\"-\",IFERROR('Tabel 2 B'!G98/'Tabel 1 B'!E96*100,\"-\"))","v":"-"},null,{"$f":"IF(OR('Tabel 1 B'!G96<5,'Tabel 2 B'!I98<0.5),\"-\",IFERROR('Tabel 2 B'!I98/'Tabel 1 B'!G96*100,\"-\"))","v":23.076923076923077},{"$f":"IF(OR('Tabel 1 B'!G96<5,'Tabel 2 B'!J98<0.5),\"-\",IFERROR('Tabel 2 B'!J98/'Tabel 1 B'!G96*100,\"-\"))","v":16.681939653311197}]
["Bac. Nat.",null,{"$f":"IF(OR('Tabel 1 B'!C97<5, 'Tabel 2 B'!C99<0.5),\"-\",IFERROR('Tabel 2 B'!C99/'Tabel 1 B'!C97*100,\"-\"))","v":"-"},{"$f":"IF(OR('Tabel 1 B'!C97<5,'Tabel 2 B'!D99<0.5),\"-\",IFERROR('Tabel 2 B'!D99/'Tabel 1 B'!C97*100,\"-\"))","v":"-"},null,{"$f":"IF(OR('Tabel 1 B'!E97<5, 'Tabel 2 B'!F99<0.5),\"-\",IFERROR('Tabel 2 B'!F99/'Tabel 1 B'!E97*100,\"-\"))","v":14.285714285714285},{"$f":"IF(OR('Tabel 1 B'!E97<5,'Tabel 2 B'!G99<0.5),\"-\",IFERROR('Tabel 2 B'!G99/'Tabel 1 B'!E97*100,\"-\"))","v":14.283041227468345},null,{"$f":"IF(OR('Tabel 1 B'!G97<5,'Tabel 2 B'!I99<0.5),\"-\",IFERROR('Tabel 2 B'!I99/'Tabel 1 B'!G97*100,\"-\"))","v":20},{"$f":"IF(OR('Tabel 1 B'!G97<5,'Tabel 2 B'!J99<0.5),\"-\",IFERROR('Tabel 2 B'!J99/'Tabel 1 B'!G97*100,\"-\"))","v":19.996257718455684}]
["Andre",null,{"$f":"IF(OR('Tabel 1 B'!C98<5, 'Tabel 2 B'!C100<0.5),\"-\",IFERROR('Tabel 2 B'!C100/'Tabel 1 B'!C98*100,\"-\"))","v":9.0909090909090917},{"$f":"IF(OR('Tabel 1 B'!C98<5,'Tabel 2 B'!D100<0.5),\"-\",IFERROR('Tabel 2 B'!D100/'Tabel 1 B'!C98*100,\"-\"))","v":6.5527727849189841},null,{"$f":"IF(OR('Tabel 1 B'!E98<5, 'Tabel 2 B'!F100<0.5),\"-\",IFERROR('Tabel 2 B'!F100/'Tabel 1 B'!E98*100,\"-\"))","v":13.953488372093023},{"$f":"IF(OR('Tabel 1 B'!E98<5,'Tabel 2 B'!G100<0.5),\"-\",IFERROR('Tabel 2 B'!G100/'Tabel 1 B'!E98*100,\"-\"))","v":9.4586891280919154},null,{"$f":"IF(OR('Tabel 1 B'!G98<5,'Tabel 2 B'!I100<0.5),\"-\",IFERROR('Tabel 2 B'!I100/'Tabel 1 B'!G98*100,\"-\"))","v":11.009174311926607},{"$f":"IF(OR('Tabel 1 B'!G98<5,'Tabel 2 B'!J100<0.5),\"-\",IFERROR('Tabel 2 B'!J100/'Tabel 1 B'!G98*100,\"-\"))","v":7.6991434524092215}]
[]
["Total",null,{"$f":"IF(OR('Tabel 1 B'!C100<5, 'Tabel 2 B'!C102<0.5),\"-\",IFERROR('Tabel 2 B'!C102/'Tabel 1 B'!C100*100,\"-\"))","v":7.8571428571428568},{"$f":"IF(OR('Tabel 1 B'!C100<5,'Tabel 2 B'!D102<0.5),\"-\",IFERROR('Tabel 2 B'!D102/'Tabel 1 B'!C100*100,\"-\"))","v":6.6511629288402192},null,{"$f":"IF(OR('Tabel 1 B'!E100<5, 'Tabel 2 B'!F102<0.5),\"-\",IFERROR('Tabel 2 B'!F102/'Tabel 1 B'!E100*100,\"-\"))","v":10.617283950617285},{"$f":"IF(OR('Tabel 1 B'!E100<5,'Tabel 2 B'!G102<0.5),\"-\",IFERROR('Tabel 2 B'!G102/'Tabel 1 B'!E100*100,\"-\"))","v":7.9793758706002178},null,{"$f":"IF(OR('Tabel 1 B'!G100<5,'Tabel 2 B'!I102<0.5),\"-\",IFERROR('Tabel 2 B'!I102/'Tabel 1 B'!G100*100,\"-\"))","v":9.212121212121211},{"$f":"IF(OR('Tabel 1 B'!G100<5,'Tabel 2 B'!J102<0.5),\"-\",IFERROR('Tabel 2 B'!J102/'Tabel 1 B'!G100*100,\"-\"))","v":7.3031947366133094}]
[]
["Ingeniører i alt",null,{"$f":"IF(OR('Tabel 1 B'!C102<5, 'Tabel 2 B'!C104<0.5),\"-\",IFERROR('Tabel 2 B'!C104/'Tabel 1 B'!C102*100,\"-\"))","v":7.1428571428571423},{"$f":"IF(OR('Tabel 1 B'!C102<5,'Tabel 2 B'!D104<0.5),\"-\",IFERROR('Tabel 2 B'!D104/'Tabel 1 B'!C102*100,\"-\"))","v":6.0596745403082339},null,{"$f":"IF(OR('Tabel 1 B'!E102<5, 'Tabel 2 B'!F104<0.5),\"-\",IFERROR('Tabel 2 B'!F104/'Tabel 1 B'!E102*100,\"-\"))","v":15.384615384615385},{"$f":"IF(OR('Tabel 1 B'!E102<5,'Tabel 2 B'!G104<0.5),\"-\",IFERROR('Tabel 2 B'!G104/'Tabel 1 B'!E102*100,\"-\"))","v":10.070575591688296},null,{"$f":"IF(OR('Tabel 1 B'!G102<5,'Tabel 2 B'!I104<0.5),\"-\",IFERROR('Tabel 2 B'!I104/'Tabel 1 B'!G102*100,\"-\"))","v":8.2474226804123703},{"$f":"IF(OR('Tabel 1 B'!G102<5,'Tabel 2 B'!J104<0.5),\"-\",IFERROR('Tabel 2 B'!J104/'Tabel 1 B'!G102*100,\"-\"))","v":6.5972179801839115}]
["Magistre i alt",null,{"$f":"IF(OR('Tabel 1 B'!C103<5, 'Tabel 2 B'!C105<0.5),\"-\",IFERROR('Tabel 2 B'!C105/'Tabel 1 B'!C103*100,\"-\"))","v":16.455696202531644},{"$f":"IF(OR('Tabel 1 B'!C103<5,'Tabel 2 B'!D105<0.5),\"-\",IFERROR('Tabel 2 B'!D105/'Tabel 1 B'!C103*100,\"-\"))","v":14.279883183971034},null,{"$f":"IF(OR('Tabel 1 B'!E103<5, 'Tabel 2 B'!F105<0.5),\"-\",IFERROR('Tabel 2 B'!F105/'Tabel 1 B'!E103*100,\"-\"))","v":11.538461538461538},{"$f":"IF(OR('Tabel 1 B'!E103<5,'Tabel 2 B'!G105<0.5),\"-\",IFERROR('Tabel 2 B'!G105/'Tabel 1 B'!E103*100,\"-\"))","v":9.5922352455752318},null,{"$f":"IF(OR('Tabel 1 B'!G103<5,'Tabel 2 B'!I105<0.5),\"-\",IFERROR('Tabel 2 B'!I105/'Tabel 1 B'!G103*100,\"-\"))","v":13.397129186602871},{"$f":"IF(OR('Tabel 1 B'!G103<5,'Tabel 2 B'!J105<0.5),\"-\",IFERROR('Tabel 2 B'!J105/'Tabel 1 B'!G103*100,\"-\"))","v":11.364121308413834}]
["DJØF'ere i alt",null,{"$f":"IF(OR('Tabel 1 B'!C104<5, 'Tabel 2 B'!C106<0.5),\"-\",IFERROR('Tabel 2 B'!C106/'Tabel 1 B'!C104*100,\"-\"))","v":6.1538461538461542},{"$f":"IF(OR('Tabel 1 B'!C104<5,'Tabel 2 B'!D106<0.5),\"-\",IFERROR('Tabel 2 B'!D106/'Tabel 1 B'!C104*100,\"-\"))","v":6.1526946826017497},null,{"$f":"IF(OR('Tabel 1 B'!E104<5, 'Tabel 2 B'!F106<0.5),\"-\",IFERROR('Tabel 2 B'!F106/'Tabel 1 B'!E104*100,\"-\"))","v":5.2631578947368416},{"$f":"IF(OR('Tabel 1 B'!E104<5,'Tabel 2 B'!G106<0.5),\"-\",IFERROR('Tabel 2 B'!G106/'Tabel 1 B'!E104*100,\"-\"))","v":3.6454418025979312},null,{"$f":"IF(OR('Tabel 1 B'!G104<5,'Tabel 2 B'!I106<0.5),\"-\",IFERROR('Tabel 2 B'!I106/'Tabel 1 B'!G104*100,\"-\"))","v":5.6737588652482271},{"$f":"IF(OR('Tabel 1 B'!G104<5,'Tabel 2 B'!J106<0.5),\"-\",IFERROR('Tabel 2 B'!J106/'Tabel 1 B'!G104*100,\"-\"))","v":4.8012675983443724}]
[]
[]
[]
[]
["Christiansø"]
[]
[null,null,"Mænd",null,null,"Kvinder",null,null,"I alt"]
[null,null,"Ledigheds-\nberørte","Gns.\nbrutto-\nledighed",null,"Ledigheds-\nberørte","Gns.\nbrutto-\nledighed",null,"Ledigheds-\nberørte","Gns.\nbrutto-\nledighed"]
[]
[]
["Civ. ing.",null,{"$f":"IF(OR('Tabel 1 B'!C115<5, 'Tabel 2 B'!C117<0.5),\"-\",IFERROR('Tabel 2 B'!C117/'Tabel 1 B'!C115*100,\"-\"))","v":"-"},{"$f":"IF(OR('Tabel 1 B'!C115<5,'Tabel 2 B'!D117<0.5),\"-\",IFERROR('Tabel 2 B'!D117/'Tabel 1 B'!C115*100,\"-\"))","v":"-"},null,{"$f":"IF(OR('Tabel 1 B'!E115<5, 'Tabel 2 B'!F117<0.5),\"-\",IFERROR('Tabel 2 B'!F117/'Tabel 1 B'!E115*100,\"-\"))","v":"-"},{"$f":"IF(OR('Tabel 1 B'!E115<5,'Tabel 2 B'!G117<0.5),\"-\",IFERROR('Tabel 2 B'!G117/'Tabel 1 B'!E115*100,\"-\"))","v":"-"},null,{"$f":"IF(OR('Tabel 1 B'!G115<5,'Tabel 2 B'!I117<0.5),\"-\",IFERROR('Tabel 2 B'!I117/'Tabel 1 B'!G115*100,\"-\"))","v":"-"},{"$f":"IF(OR('Tabel 1 B'!G115<5,'Tabel 2 B'!J117<0.5),\"-\",IFERROR('Tabel 2 B'!J117/'Tabel 1 B'!G115*100,\"-\"))","v":"-"}]
["Diplom ing.",null,{"$f":"IF(OR('Tabel 1 B'!C116<5, 'Tabel 2 B'!C118<0.5),\"-\",IFERROR('Tabel 2 B'!C118/'Tabel 1 B'!C116*100,\"-\"))","v":"-"},{"$f":"IF(OR('Tabel 1 B'!C116<5,'Tabel 2 B'!D118<0.5),\"-\",IFERROR('Tabel 2 B'!D118/'Tabel 1 B'!C116*100,\"-\"))","v":"-"},null,{"$f":"IF(OR('Tabel 1 B'!E116<5, 'Tabel 2 B'!F118<0.5),\"-\",IFERROR('Tabel 2 B'!F118/'Tabel 1 B'!E116*100,\"-\"))","v":"-"},{"$f":"IF(OR('Tabel 1 B'!E116<5,'Tabel 2 B'!G118<0.5),\"-\",IFERROR('Tabel 2 B'!G118/'Tabel 1 B'!E116*100,\"-\"))","v":"-"},null,{"$f":"IF(OR('Tabel 1 B'!G116<5,'Tabel 2 B'!I118<0.5),\"-\",IFERROR('Tabel 2 B'!I118/'Tabel 1 B'!G116*100,\"-\"))","v":"-"},{"$f":"IF(OR('Tabel 1 B'!G116<5,'Tabel 2 B'!J118<0.5),\"-\",IFERROR('Tabel 2 B'!J118/'Tabel 1 B'!G116*100,\"-\"))","v":"-"}]
["Cand. Scient. Tek.",null,{"$f":"IF(OR('Tabel 1 B'!C117<5, 'Tabel 2 B'!C119<0.5),\"-\",IFERROR('Tabel 2 B'!C119/'Tabel 1 B'!C117*100,\"-\"))","v":"-"},{"$f":"IF(OR('Tabel 1 B'!C117<5,'Tabel 2 B'!D119<0.5),\"-\",IFERROR('Tabel 2 B'!D119/'Tabel 1 B'!C117*100,\"-\"))","v":"-"},null,{"$f":"IF(OR('Tabel 1 B'!E117<5, 'Tabel 2 B'!F119<0.5),\"-\",IFERROR('Tabel 2 B'!F119/'Tabel 1 B'!E117*100,\"-\"))","v":"-"},{"$f":"IF(OR('Tabel 1 B'!E117<5,'Tabel 2 B'!G119<0.5),\"-\",IFERROR('Tabel 2 B'!G119/'Tabel 1 B'!E117*100,\"-\"))","v":"-"},null,{"$f":"IF(OR('Tabel 1 B'!G117<5,'Tabel 2 B'!I119<0.5),\"-\",IFERROR('Tabel 2 B'!I119/'Tabel 1 B'!G117*100,\"-\"))","v":"-"},{"$f":"IF(OR('Tabel 1 B'!G117<5,'Tabel 2 B'!J119<0.5),\"-\",IFERROR('Tabel 2 B'!J119/'Tabel 1 B'!G117*100,\"-\"))","v":"-"}]
["MA. Hum.",null,{"$f":"IF(OR('Tabel 1 B'!C118<5, 'Tabel 2 B'!C120<0.5),\"-\",IFERROR('Tabel 2 B'!C120/'Tabel 1 B'!C118*100,\"-\"))","v":"-"},{"$f":"IF(OR('Tabel 1 B'!C118<5,'Tabel 2 B'!D120<0.5),\"-\",IFERROR('Tabel 2 B'!D120/'Tabel 1 B'!C118*100,\"-\"))","v":"-"},null,{"$f":"IF(OR('Tabel 1 B'!E118<5, 'Tabel 2 B'!F120<0.5),\"-\",IFERROR('Tabel 2 B'!F120/'Tabel 1 B'!E118*100,\"-\"))","v":"-"},{"$f":"IF(OR('Tabel 1 B'!E118<5,'Tabel 2 B'!G120<0.5),\"-\",IFERROR('Tabel 2 B'!G120/'Tabel 1 B'!E118*100,\"-\"))","v":"-"},null,{"$f":"IF(OR('Tabel 1 B'!G118<5,'Tabel 2 B'!I120<0.5),\"-\",IFERROR('Tabel 2 B'!I120/'Tabel 1 B'!G118*100,\"-\"))","v":"-"},{"$f":"IF(OR('Tabel 1 B'!G118<5,'Tabel 2 B'!J120<0.5),\"-\",IFERROR('Tabel 2 B'!J120/'Tabel 1 B'!G118*100,\"-\"))","v":"-"}]
["MA. Nat.",null,{"$f":"IF(OR('Tabel 1 B'!C119<5, 'Tabel 2 B'!C121<0.5),\"-\",IFERROR('Tabel 2 B'!C121/'Tabel 1 B'!C119*100,\"-\"))","v":"-"},{"$f":"IF(OR('Tabel 1 B'!C119<5,'Tabel 2 B'!D121<0.5),\"-\",IFERROR('Tabel 2 B'!D121/'Tabel 1 B'!C119*100,\"-\"))","v":"-"},null,{"$f":"IF(OR('Tabel 1 B'!E119<5, 'Tabel 2 B'!F121<0.5),\"-\",IFERROR('Tabel 2 B'!F121/'Tabel 1 B'!E119*100,\"-\"))","v":"-"},{"$f":"IF(OR('Tabel 1 B'!E119<5,'Tabel 2 B'!G121<0.5),\"-\",IFERROR('Tabel 2 B'!G121/'Tabel 1 B'!E119*100,\"-\"))","v":"-"},null,{"$f":"IF(OR('Tabel 1 B'!G119<5,'Tabel 2 B'!I121<0.5),\"-\",IFERROR('Tabel 2 B'!I121/'Tabel 1 B'!G119*100,\"-\"))","v":"-"},{"$f":"IF(OR('Tabel 1 B'!G119<5,'Tabel 2 B'!J121<0.5),\"-\",IFERROR('Tabel 2 B'!J121/'Tabel 1 B'!G119*100,\"-\"))","v":"-"}]
["MA. Ph.d.",null,{"$f":"IF(OR('Tabel 1 B'!C120<5, 'Tabel 2 B'!C122<0.5),\"-\",IFERROR('Tabel 2 B'!C122/'Tabel 1 B'!C120*100,\"-\"))","v":"-"},{"$f":"IF(OR('Tabel 1 B'!C120<5,'Tabel 2 B'!D122<0.5),\"-\",IFERROR('Tabel 2 B'!D122/'Tabel 1 B'!C120*100,\"-\"))","v":"-"},null,{"$f":"IF(OR('Tabel 1 B'!E120<5, 'Tabel 2 B'!F122<0.5),\"-\",IFERROR('Tabel 2 B'!F122/'Tabel 1 B'!E120*100,\"-\"))","v":"-"},{"$f":"IF(OR('Tabel 1 B'!E120<5,'Tabel 2 B'!G122<0.5),\"-\",IFERROR('Tabel 2 B'!G122/'Tabel 1 B'!E120*100,\"-\"))","v":"-"},null,{"$f":"IF(OR('Tabel 1 B'!G120<5,'Tabel 2 B'!I122<0.5),\"-\",IFERROR('Tabel 2 B'!I122/'Tabel 1 B'!G120*100,\"-\"))","v":"-"},{"$f":"IF(OR('Tabel 1 B'!G120<5,'Tabel 2 B'!J122<0.5),\"-\",IFERROR('Tabel 2 B'!J122/'Tabel 1 B'!G120*100,\"-\"))","v":"-"}]
["MA. Samf.",null,{"$f":"IF(OR('Tabel 1 B'!C121<5, 'Tabel 2 B'!C123<0.5),\"-\",IFERROR('Tabel 2 B'!C123/'Tabel 1 B'!C121*100,\"-\"))","v":"-"},{"$f":"IF(OR('Tabel 1 B'!C121<5,'Tabel 2 B'!D123<0.5),\"-\",IFERROR('Tabel 2 B'!D123/'Tabel 1 B'!C121*100,\"-\"))","v":"-"},null,{"$f":"IF(OR('Tabel 1 B'!E121<5, 'Tabel 2 B'!F123<0.5),\"-\",IFERROR('Tabel 2 B'!F123/'Tabel 1 B'!E121*100,\"-\"))","v":"-"},{"$f":"IF(OR('Tabel 1 B'!E121<5,'Tabel 2 B'!G123<0.5),\"-\",IFERROR('Tabel 2 B'!G123/'Tabel 1 B'!E121*100,\"-\"))","v":"-"},null,{"$f":"IF(OR('Tabel 1 B'!G121<5,'Tabel 2 B'!I123<0.5),\"-\",IFERROR('Tabel 2 B'!I123/'Tabel 1 B'!G121*100,\"-\"))","v":"-"},{"$f":"IF(OR('Tabel 1 B'!G121<5,'Tabel 2 B'!J123<0.5),\"-\",IFERROR('Tabel 2 B'!J123/'Tabel 1 B'!G121*100,\"-\"))","v":"-"}]
["Øvrige Mag.",null,{"$f":"IF(OR('Tabel 1 B'!C122<5, 'Tabel 2 B'!C124<0.5),\"-\",IFERROR('Tabel 2 B'!C124/'Tabel 1 B'!C122*100,\"-\"))","v":"-"},{"$f":"IF(OR('Tabel 1 B'!C122<5,'Tabel 2 B'!D124<0.5),\"-\",IFERROR('Tabel 2 B'!D124/'Tabel 1 B'!C122*100,\"-\"))","v":"-"},null,{"$f":"IF(OR('Tabel 1 B'!E122<5, 'Tabel 2 B'!F124<0.5),\"-\",IFERROR('Tabel 2 B'!F124/'Tabel 1 B'!E122*100,\"-\"))","v":"-"},{"$f":"IF(OR('Tabel 1 B'!E122<5,'Tabel 2 B'!G124<0.5),\"-\",IFERROR('Tabel 2 B'!G124/'Tabel 1 B'!E122*100,\"-\"))","v":"-"},null,{"$f":"IF(OR('Tabel 1 B'!G122<5,'Tabel 2 B'!I124<0.5),\"-\",IFERROR('Tabel 2 B'!I124/'Tabel 1 B'!G122*100,\"-\"))","v":"-"},{"$f":"IF(OR('Tabel 1 B'!G122<5,'Tabel 2 B'!J124<0.5),\"-\",IFERROR('Tabel 2 B'!J124/'Tabel 1 B'!G122*100,\"-\"))","v":"-"}]
["Agronom",null,{"$f":"IF(OR('Tabel 1 B'!C123<5, 'Tabel 2 B'!C125<0.5),\"-\",IFERROR('Tabel 2 B'!C125/'Tabel 1 B'!C123*100,\"-\"))","v":"-"},{"$f":"IF(OR('Tabel 1 B'!C123<5,'Tabel 2 B'!D125<0.5),\"-\",IFERROR('Tabel 2 B'!D125/'Tabel 1 B'!C123*100,\"-\"))","v":"-"},null,{"$f":"IF(OR('Tabel 1 B'!E123<5, 'Tabel 2 B'!F125<0.5),\"-\",IFERROR('Tabel 2 B'!F125/'Tabel 1 B'!E123*100,\"-\"))","v":"-"},{"$f":"IF(OR('Tabel 1 B'!E123<5,'Tabel 2 B'!G125<0.5),\"-\",IFERROR('Tabel 2 B'!G125/'Tabel 1 B'!E123*100,\"-\"))","v":"-"},null,{"$f":"IF(OR('Tabel 1 B'!G123<5,'Tabel 2 B'!I125<0.5),\"-\",IFERROR('Tabel 2 B'!I125/'Tabel 1 B'!G123*100,\"-\"))","v":"-"},{"$f":"IF(OR('Tabel 1 B'!G123<5,'Tabel 2 B'!J125<0.5),\"-\",IFERROR('Tabel 2 B'!J125/'Tabel 1 B'!G123*100,\"-\"))","v":"-"}]
["Landsk. Arkt.",null,{"$f":"IF(OR('Tabel 1 B'!C124<5, 'Tabel 2 B'!C126<0.5),\"-\",IFERROR('Tabel 2 B'!C126/'Tabel 1 B'!C124*100,\"-\"))","v":"-"},{"$f":"IF(OR('Tabel 1 B'!C124<5,'Tabel 2 B'!D126<0.5),\"-\",IFERROR('Tabel 2 B'!D126/'Tabel 1 B'!C124*100,\"-\"))","v":"-"},null,{"$f":"IF(OR('Tabel 1 B'!E124<5, 'Tabel 2 B'!F126<0.5),\"-\",IFERROR('Tabel 2 B'!F126/'Tabel 1 B'!E124*100,\"-\"))","v":"-"},{"$f":"IF(OR('Tabel 1 B'!E124<5,'Tabel 2 B'!G126<0.5),\"-\",IFERROR('Tabel 2 B'!G126/'Tabel 1 B'!E124*100,\"-\"))","v":"-"},null,{"$f":"IF(OR('Tabel 1 B'!G124<5,'Tabel 2 B'!I126<0.5),\"-\",IFERROR('Tabel 2 B'!I126/'Tabel 1 B'!G124*100,\"-\"))","v":"-"},{"$f":"IF(OR('Tabel 1 B'!G124<5,'Tabel 2 B'!J126<0.5),\"-\",IFERROR('Tabel 2 B'!J126/'Tabel 1 B'!G124*100,\"-\"))","v":"-"}]
["Hortonom",null,{"$f":"IF(OR('Tabel 1 B'!C125<5, 'Tabel 2 B'!C127<0.5),\"-\",IFERROR('Tabel 2 B'!C127/'Tabel 1 B'!C125*100,\"-\"))","v":"-"},{"$f":"IF(OR('Tabel 1 B'!C125<5,'Tabel 2 B'!D127<0.5),\"-\",IFERROR('Tabel 2 B'!D127/'Tabel 1 B'!C125*100,\"-\"))","v":"-"},null,{"$f":"IF(OR('Tabel 1 B'!E125<5, 'Tabel 2 B'!F127<0.5),\"-\",IFERROR('Tabel 2 B'!F127/'Tabel 1 B'!E125*100,\"-\"))","v":"-"},{"$f":"IF(OR('Tabel 1 B'!E125<5,'Tabel 2 B'!G127<0.5),\"-\",IFERROR('Tabel 2 B'!G127/'Tabel 1 B'!E125*100,\"-\"))","v":"-"},null,{"$f":"IF(OR('Tabel 1 B'!G125<5,'Tabel 2 B'!I127<0.5),\"-\",IFERROR('Tabel 2 B'!I127/'Tabel 1 B'!G125*100,\"-\"))","v":"-"},{"$f":"IF(OR('Tabel 1 B'!G125<5,'Tabel 2 B'!J127<0.5),\"-\",IFERROR('Tabel 2 B'!J127/'Tabel 1 B'!G125*100,\"-\"))","v":"-"}]
["Forstkand.",null,{"$f":"IF(OR('Tabel 1 B'!C126<5, 'Tabel 2 B'!C128<0.5),\"-\",IFERROR('Tabel 2 B'!C128/'Tabel 1 B'!C126*100,\"-\"))","v":"-"},{"$f":"IF(OR('Tabel 1 B'!C126<5,'Tabel 2 B'!D128<0.5),\"-\",IFERROR('Tabel 2 B'!D128/'Tabel 1 B'!C126*100,\"-\"))","v":"-"},null,{"$f":"IF(OR('Tabel 1 B'!E126<5, 'Tabel 2 B'!F128<0.5),\"-\",IFERROR('Tabel 2 B'!F128/'Tabel 1 B'!E126*100,\"-\"))","v":"-"},{"$f":"IF(OR('Tabel 1 B'!E126<5,'Tabel 2 B'!G128<0.5),\"-\",IFERROR('Tabel 2 B'!G128/'Tabel 1 B'!E126*100,\"-\"))","v":"-"},null,{"$f":"IF(OR('Tabel 1 B'!G126<5,'Tabel 2 B'!I128<0.5),\"-\",IFERROR('Tabel 2 B'!I128/'Tabel 1 B'!G126*100,\"-\"))","v":"-"},{"$f":"IF(OR('Tabel 1 B'!G126<5,'Tabel 2 B'!J128<0.5),\"-\",IFERROR('Tabel 2 B'!J128/'Tabel 1 B'!G126*100,\"-\"))","v":"-"}]
["Jordbrugsakad.",null,{"$f":"IF(OR('Tabel 1 B'!C127<5, 'Tabel 2 B'!C129<0.5),\"-\",IFERROR('Tabel 2 B'!C129/'Tabel 1 B'!C127*100,\"-\"))","v":"-"},{"$f":"IF(OR('Tabel 1 B'!C127<5,'Tabel 2 B'!D129<0.5),\"-\",IFERROR('Tabel 2 B'!D129/'Tabel 1 B'!C127*100,\"-\"))","v":"-"},null,{"$f":"IF(OR('Tabel 1 B'!E127<5, 'Tabel 2 B'!F129<0.5),\"-\",IFERROR('Tabel 2 B'!F129/'Tabel 1 B'!E127*100,\"-\"))","v":"-"},{"$f":"IF(OR('Tabel 1 B'!E127<5,'Tabel 2 B'!G129<0.5),\"-\",IFERROR('Tabel 2 B'!G129/'Tabel 1 B'!E127*100,\"-\"))","v":"-"},null,{"$f":"IF(OR('Tabel 1 B'!G127<5,'Tabel 2 B'!I129<0.5),\"-\",IFERROR('Tabel 2 B'!I129/'Tabel 1 B'!G127*100,\"-\"))","v":"-"},{"$f":"IF(OR('Tabel 1 B'!G127<5,'Tabel 2 B'!J129<0.5),\"-\",IFERROR('Tabel 2 B'!J129/'Tabel 1 B'!G127*100,\"-\"))","v":"-"}]
["Mejeriing.",null,{"$f":"IF(OR('Tabel 1 B'!C128<5, 'Tabel 2 B'!C130<0.5),\"-\",IFERROR('Tabel 2 B'!C130/'Tabel 1 B'!C128*100,\"-\"))","v":"-"},{"$f":"IF(OR('Tabel 1 B'!C128<5,'Tabel 2 B'!D130<0.5),\"-\",IFERROR('Tabel 2 B'!D130/'Tabel 1 B'!C128*100,\"-\"))","v":"-"},null,{"$f":"IF(OR('Tabel 1 B'!E128<5, 'Tabel 2 B'!F130<0.5),\"-\",IFERROR('Tabel 2 B'!F130/'Tabel 1 B'!E128*100,\"-\"))","v":"-"},{"$f":"IF(OR('Tabel 1 B'!E128<5,'Tabel 2 B'!G130<0.5),\"-\",IFERROR('Tabel 2 B'!G130/'Tabel 1 B'!E128*100,\"-\"))","v":"-"},null,{"$f":"IF(OR('Tabel 1 B'!G128<5,'Tabel 2 B'!I130<0.5),\"-\",IFERROR('Tabel 2 B'!I130/'Tabel 1 B'!G128*100,\"-\"))","v":"-"},{"$f":"IF(OR('Tabel 1 B'!G128<5,'Tabel 2 B'!J130<0.5),\"-\",IFERROR('Tabel 2 B'!J130/'Tabel 1 B'!G128*100,\"-\"))","v":"-"}]
["Levn.m.kand.",null,{"$f":"IF(OR('Tabel 1 B'!C129<5, 'Tabel 2 B'!C131<0.5),\"-\",IFERROR('Tabel 2 B'!C131/'Tabel 1 B'!C129*100,\"-\"))","v":"-"},{"$f":"IF(OR('Tabel 1 B'!C129<5,'Tabel 2 B'!D131<0.5),\"-\",IFERROR('Tabel 2 B'!D131/'Tabel 1 B'!C129*100,\"-\"))","v":"-"},null,{"$f":"IF(OR('Tabel 1 B'!E129<5, 'Tabel 2 B'!F131<0.5),\"-\",IFERROR('Tabel 2 B'!F131/'Tabel 1 B'!E129*100,\"-\"))","v":"-"},{"$f":"IF(OR('Tabel 1 B'!E129<5,'Tabel 2 B'!G131<0.5),\"-\",IFERROR('Tabel 2 B'!G131/'Tabel 1 B'!E129*100,\"-\"))","v":"-"},null,{"$f":"IF(OR('Tabel 1 B'!G129<5,'Tabel 2 B'!I131<0.5),\"-\",IFERROR('Tabel 2 B'!I131/'Tabel 1 B'!G129*100,\"-\"))","v":"-"},{"$f":"IF(OR('Tabel 1 B'!G129<5,'Tabel 2 B'!J131<0.5),\"-\",IFERROR('Tabel 2 B'!J131/'Tabel 1 B'!G129*100,\"-\"))","v":"-"}]
["Dyrlæge",null,{"$f":"IF(OR('Tabel 1 B'!C130<5, 'Tabel 2 B'!C132<0.5),\"-\",IFERROR('Tabel 2 B'!C132/'Tabel 1 B'!C130*100,\"-\"))","v":"-"},{"$f":"IF(OR('Tabel 1 B'!C130<5,'Tabel 2 B'!D132<0.5),\"-\",IFERROR('Tabel 2 B'!D132/'Tabel 1 B'!C130*100,\"-\"))","v":"-"},null,{"$f":"IF(OR('Tabel 1 B'!E130<5, 'Tabel 2 B'!F132<0.5),\"-\",IFERROR('Tabel 2 B'!F132/'Tabel 1 B'!E130*100,\"-\"))","v":"-"},{"$f":"IF(OR('Tabel 1 B'!E130<5,'Tabel 2 B'!G132<0.5),\"-\",IFERROR('Tabel 2 B'!G132/'Tabel 1 B'!E130*100,\"-\"))","v":"-"},null,{"$f":"IF(OR('Tabel 1 B'!G130<5,'Tabel 2 B'!I132<0.5),\"-\",IFERROR('Tabel 2 B'!I132/'Tabel 1 B'!G130*100,\"-\"))","v":"-"},{"$f":"IF(OR('Tabel 1 B'!G130<5,'Tabel 2 B'!J132<0.5),\"-\",IFERROR('Tabel 2 B'!J132/'Tabel 1 B'!G130*100,\"-\"))","v":"-"}]
["Farmaceut",null,{"$f":"IF(OR('Tabel 1 B'!C131<5, 'Tabel 2 B'!C133<0.5),\"-\",IFERROR('Tabel 2 B'!C133/'Tabel 1 B'!C131*100,\"-\"))","v":"-"},{"$f":"IF(OR('Tabel 1 B'!C131<5,'Tabel 2 B'!D133<0.5),\"-\",IFERROR('Tabel 2 B'!D133/'Tabel 1 B'!C131*100,\"-\"))","v":"-"},null,{"$f":"IF(OR('Tabel 1 B'!E131<5, 'Tabel 2 B'!F133<0.5),\"-\",IFERROR('Tabel 2 B'!F133/'Tabel 1 B'!E131*100,\"-\"))","v":"-"},{"$f":"IF(OR('Tabel 1 B'!E131<5,'Tabel 2 B'!G133<0.5),\"-\",IFERROR('Tabel 2 B'!G133/'Tabel 1 B'!E131*100,\"-\"))","v":"-"},null,{"$f":"IF(OR('Tabel 1 B'!G131<5,'Tabel 2 B'!I133<0.5),\"-\",IFERROR('Tabel 2 B'!I133/'Tabel 1 B'!G131*100,\"-\"))","v":"-"},{"$f":"IF(OR('Tabel 1 B'!G131<5,'Tabel 2 B'!J133<0.5),\"-\",IFERROR('Tabel 2 B'!J133/'Tabel 1 B'!G131*100,\"-\"))","v":"-"}]
["Læge",null,{"$f":"IF(OR('Tabel 1 B'!C132<5, 'Tabel 2 B'!C134<0.5),\"-\",IFERROR('Tabel 2 B'!C134/'Tabel 1 B'!C132*100,\"-\"))","v":"-"},{"$f":"IF(OR('Tabel 1 B'!C132<5,'Tabel 2 B'!D134<0.5),\"-\",IFERROR('Tabel 2 B'!D134/'Tabel 1 B'!C132*100,\"-\"))","v":"-"},null,{"$f":"IF(OR('Tabel 1 B'!E132<5, 'Tabel 2 B'!F134<0.5),\"-\",IFERROR('Tabel 2 B'!F134/'Tabel 1 B'!E132*100,\"-\"))","v":"-"},{"$f":"IF(OR('Tabel 1 B'!E132<5,'Tabel 2 B'!G134<0.5),\"-\",IFERROR('Tabel 2 B'!G134/'Tabel 1 B'!E132*100,\"-\"))","v":"-"},null,{"$f":"IF(OR('Tabel 1 B'!G132<5,'Tabel 2 B'!I134<0.5),\"-\",IFERROR('Tabel 2 B'!I134/'Tabel 1 B'!G132*100,\"-\"))","v":"-"},{"$f":"IF(OR('Tabel 1 B'!G132<5,'Tabel 2 B'!J134<0.5),\"-\",IFERROR('Tabel 2 B'!J134/'Tabel 1 B'!G132*100,\"-\"))","v":"-"}]
["Tandlæge",null,{"$f":"IF(OR('Tabel 1 B'!C133<5, 'Tabel 2 B'!C135<0.5),\"-\",IFERROR('Tabel 2 B'!C135/'Tabel 1 B'!C133*100,\"-\"))","v":"-"},{"$f":"IF(OR('Tabel 1 B'!C133<5,'Tabel 2 B'!D135<0.5),\"-\",IFERROR('Tabel 2 B'!D135/'Tabel 1 B'!C133*100,\"-\"))","v":"-"},null,{"$f":"IF(OR('Tabel 1 B'!E133<5, 'Tabel 2 B'!F135<0.5),\"-\",IFERROR('Tabel 2 B'!F135/'Tabel 1 B'!E133*100,\"-\"))","v":"-"},{"$f":"IF(OR('Tabel 1 B'!E133<5,'Tabel 2 B'!G135<0.5),\"-\",IFERROR('Tabel 2 B'!G135/'Tabel 1 B'!E133*100,\"-\"))","v":"-"},null,{"$f":"IF(OR('Tabel 1 B'!G133<5,'Tabel 2 B'!I135<0.5),\"-\",IFERROR('Tabel 2 B'!I135/'Tabel 1 B'!G133*100,\"-\"))","v":"-"},{"$f":"IF(OR('Tabel 1 B'!G133<5,'Tabel 2 B'!J135<0.5),\"-\",IFERROR('Tabel 2 B'!J135/'Tabel 1 B'!G133*100,\"-\"))","v":"-"}]
["Arkitekt",null,{"$f":"IF(OR('Tabel 1 B'!C134<5, 'Tabel 2 B'!C136<0.5),\"-\",IFERROR('Tabel 2 B'!C136/'Tabel 1 B'!C134*100,\"-\"))","v":"-"},{"$f":"IF(OR('Tabel 1 B'!C134<5,'Tabel 2 B'!D136<0.5),\"-\",IFERROR('Tabel 2 B'!D136/'Tabel 1 B'!C134*100,\"-\"))","v":"-"},null,{"$f":"IF(OR('Tabel 1 B'!E134<5, 'Tabel 2 B'!F136<0.5),\"-\",IFERROR('Tabel 2 B'!F136/'Tabel 1 B'!E134*100,\"-\"))","v":"-"},{"$f":"IF(OR('Tabel 1 B'!E134<5,'Tabel 2 B'!G136<0.5),\"-\",IFERROR('Tabel 2 B'!G136/'Tabel 1 B'!E134*100,\"-\"))","v":"-"},null,{"$f":"IF(OR('Tabel 1 B'!G134<5,'Tabel 2 B'!I136<0.5),\"-\",IFERROR('Tabel 2 B'!I136/'Tabel 1 B'!G134*100,\"-\"))","v":"-"},{"$f":"IF(OR('Tabel 1 B'!G134<5,'Tabel 2 B'!J136<0.5),\"-\",IFERROR('Tabel 2 B'!J136/'Tabel 1 B'!G134*100,\"-\"))","v":"-"}]
["Landinspek.",null,{"$f":"IF(OR('Tabel 1 B'!C135<5, 'Tabel 2 B'!C137<0.5),\"-\",IFERROR('Tabel 2 B'!C137/'Tabel 1 B'!C135*100,\"-\"))","v":"-"},{"$f":"IF(OR('Tabel 1 B'!C135<5,'Tabel 2 B'!D137<0.5),\"-\",IFERROR('Tabel 2 B'!D137/'Tabel 1 B'!C135*100,\"-\"))","v":"-"},null,{"$f":"IF(OR('Tabel 1 B'!E135<5, 'Tabel 2 B'!F137<0.5),\"-\",IFERROR('Tabel 2 B'!F137/'Tabel 1 B'!E135*100,\"-\"))","v":"-"},{"$f":"IF(OR('Tabel 1 B'!E135<5,'Tabel 2 B'!G137<0.5),\"-\",IFERROR('Tabel 2 B'!G137/'Tabel 1 B'!E135*100,\"-\"))","v":"-"},null,{"$f":"IF(OR('Tabel 1 B'!G135<5,'Tabel 2 B'!I137<0.5),\"-\",IFERROR('Tabel 2 B'!I137/'Tabel 1 B'!G135*100,\"-\"))","v":"-"},{"$f":"IF(OR('Tabel 1 B'!G135<5,'Tabel 2 B'!J137<0.5),\"-\",IFERROR('Tabel 2 B'!J137/'Tabel 1 B'!G135*100,\"-\"))","v":"-"}]
["Bibliotekar",null,{"$f":"IF(OR('Tabel 1 B'!C136<5, 'Tabel 2 B'!C138<0.5),\"-\",IFERROR('Tabel 2 B'!C138/'Tabel 1 B'!C136*100,\"-\"))","v":"-"},{"$f":"IF(OR('Tabel 1 B'!C136<5,'Tabel 2 B'!D138<0.5),\"-\",IFERROR('Tabel 2 B'!D138/'Tabel 1 B'!C136*100,\"-\"))","v":"-"},null,{"$f":"IF(OR('Tabel 1 B'!E136<5, 'Tabel 2 B'!F138<0.5),\"-\",IFERROR('Tabel 2 B'!F138/'Tabel 1 B'!E136*100,\"-\"))","v":"-"},{"$f":"IF(OR('Tabel 1 B'!E136<5,'Tabel 2 B'!G138<0.5),\"-\",IFERROR('Tabel 2 B'!G138/'Tabel 1 B'!E136*100,\"-\"))","v":"-"},null,{"$f":"IF(OR('Tabel 1 B'!G136<5,'Tabel 2 B'!I138<0.5),\"-\",IFERROR('Tabel 2 B'!I138/'Tabel 1 B'!G136*100,\"-\"))","v":"-"},{"$f":"IF(OR('Tabel 1 B'!G136<5,'Tabel 2 B'!J138<0.5),\"-\",IFERROR('Tabel 2 B'!J138/'Tabel 1 B'!G136*100,\"-\"))","v":"-"}]
["Musikudd.",null,{"$f":"IF(OR('Tabel 1 B'!C137<5, 'Tabel 2 B'!C139<0.5),\"-\",IFERROR('Tabel 2 B'!C139/'Tabel 1 B'!C137*100,\"-\"))","v":"-"},{"$f":"IF(OR('Tabel 1 B'!C137<5,'Tabel 2 B'!D139<0.5),\"-\",IFERROR('Tabel 2 B'!D139/'Tabel 1 B'!C137*100,\"-\"))","v":"-"},null,{"$f":"IF(OR('Tabel 1 B'!E137<5, 'Tabel 2 B'!F139<0.5),\"-\",IFERROR('Tabel 2 B'!F139/'Tabel 1 B'!E137*100,\"-\"))","v":"-"},{"$f":"IF(OR('Tabel 1 B'!E137<5,'Tabel 2 B'!G139<0.5),\"-\",IFERROR('Tabel 2 B'!G139/'Tabel 1 B'!E137*100,\"-\"))","v":"-"},null,{"$f":"IF(OR('Tabel 1 B'!G137<5,'Tabel 2 B'!I139<0.5),\"-\",IFERROR('Tabel 2 B'!I139/'Tabel 1 B'!G137*100,\"-\"))","v":"-"},{"$f":"IF(OR('Tabel 1 B'!G137<5,'Tabel 2 B'!J139<0.5),\"-\",IFERROR('Tabel 2 B'!J139/'Tabel 1 B'!G137*100,\"-\"))","v":"-"}]
["Teolog",null,{"$f":"IF(OR('Tabel 1 B'!C138<5, 'Tabel 2 B'!C140<0.5),\"-\",IFERROR('Tabel 2 B'!C140/'Tabel 1 B'!C138*100,\"-\"))","v":"-"},{"$f":"IF(OR('Tabel 1 B'!C138<5,'Tabel 2 B'!D140<0.5),\"-\",IFERROR('Tabel 2 B'!D140/'Tabel 1 B'!C138*100,\"-\"))","v":"-"},null,{"$f":"IF(OR('Tabel 1 B'!E138<5, 'Tabel 2 B'!F140<0.5),\"-\",IFERROR('Tabel 2 B'!F140/'Tabel 1 B'!E138*100,\"-\"))","v":"-"},{"$f":"IF(OR('Tabel 1 B'!E138<5,'Tabel 2 B'!G140<0.5),\"-\",IFERROR('Tabel 2 B'!G140/'Tabel 1 B'!E138*100,\"-\"))","v":"-"},null,{"$f":"IF(OR('Tabel 1 B'!G138<5,'Tabel 2 B'!I140<0.5),\"-\",IFERROR('Tabel 2 B'!I140/'Tabel 1 B'!G138*100,\"-\"))","v":"-"},{"$f":"IF(OR('Tabel 1 B'!G138<5,'Tabel 2 B'!J140<0.5),\"-\",IFERROR('Tabel 2 B'!J140/'Tabel 1 B'!G138*100,\"-\"))","v":"-"}]
["Psykolog",null,{"$f":"IF(OR('Tabel 1 B'!C139<5, 'Tabel 2 B'!C141<0.5),\"-\",IFERROR('Tabel 2 B'!C141/'Tabel 1 B'!C139*100,\"-\"))","v":"-"},{"$f":"IF(OR('Tabel 1 B'!C139<5,'Tabel 2 B'!D141<0.5),\"-\",IFERROR('Tabel 2 B'!D141/'Tabel 1 B'!C139*100,\"-\"))","v":"-"},null,{"$f":"IF(OR('Tabel 1 B'!E139<5, 'Tabel 2 B'!F141<0.5),\"-\",IFERROR('Tabel 2 B'!F141/'Tabel 1 B'!E139*100,\"-\"))","v":"-"},{"$f":"IF(OR('Tabel 1 B'!E139<5,'Tabel 2 B'!G141<0.5),\"-\",IFERROR('Tabel 2 B'!G141/'Tabel 1 B'!E139*100,\"-\"))","v":"-"},null,{"$f":"IF(OR('Tabel 1 B'!G139<5,'Tabel 2 B'!I141<0.5),\"-\",IFERROR('Tabel 2 B'!I141/'Tabel 1 B'!G139*100,\"-\"))","v":"-"},{"$f":"IF(OR('Tabel 1 B'!G139<5,'Tabel 2 B'!J141<0.5),\"-\",IFERROR('Tabel 2 B'!J141/'Tabel 1 B'!G139*100,\"-\"))","v":"-"}]
["Jurist",null,{"$f":"IF(OR('Tabel 1 B'!C140<5, 'Tabel 2 B'!C142<0.5),\"-\",IFERROR('Tabel 2 B'!C142/'Tabel 1 B'!C140*100,\"-\"))","v":"-"},{"$f":"IF(OR('Tabel 1 B'!C140<5,'Tabel 2 B'!D142<0.5),\"-\",IFERROR('Tabel 2 B'!D142/'Tabel 1 B'!C140*100,\"-\"))","v":"-"},null,{"$f":"IF(OR('Tabel 1 B'!E140<5, 'Tabel 2 B'!F142<0.5),\"-\",IFERROR('Tabel 2 B'!F142/'Tabel 1 B'!E140*100,\"-\"))","v":"-"},{"$f":"IF(OR('Tabel 1 B'!E140<5,'Tabel 2 B'!G142<0.5),\"-\",IFERROR('Tabel 2 B'!G142/'Tabel 1 B'!E140*100,\"-\"))","v":"-"},null,{"$f":"IF(OR('Tabel 1 B'!G140<5,'Tabel 2 B'!I142<0.5),\"-\",IFERROR('Tabel 2 B'!I142/'Tabel 1 B'!G140*100,\"-\"))","v":"-"},{"$f":"IF(OR('Tabel 1 B'!G140<5,'Tabel 2 B'!J142<0.5),\"-\",IFERROR('Tabel 2 B'!J142/'Tabel 1 B'!G140*100,\"-\"))","v":"-"}]
["Økonom",null,{"$f":"IF(OR('Tabel 1 B'!C141<5, 'Tabel 2 B'!C143<0.5),\"-\",IFERROR('Tabel 2 B'!C143/'Tabel 1 B'!C141*100,\"-\"))","v":"-"},{"$f":"IF(OR('Tabel 1 B'!C141<5,'Tabel 2 B'!D143<0.5),\"-\",IFERROR('Tabel 2 B'!D143/'Tabel 1 B'!C141*100,\"-\"))","v":"-"},null,{"$f":"IF(OR('Tabel 1 B'!E141<5, 'Tabel 2 B'!F143<0.5),\"-\",IFERROR('Tabel 2 B'!F143/'Tabel 1 B'!E141*100,\"-\"))","v":"-"},{"$f":"IF(OR('Tabel 1 B'!E141<5,'Tabel 2 B'!G143<0.5),\"-\",IFERROR('Tabel 2 B'!G143/'Tabel 1 B'!E141*100,\"-\"))","v":"-"},null,{"$f":"IF(OR('Tabel 1 B'!G141<5,'Tabel 2 B'!I143<0.5),\"-\",IFERROR('Tabel 2 B'!I143/'Tabel 1 B'!G141*100,\"-\"))","v":"-"},{"$f":"IF(OR('Tabel 1 B'!G141<5,'Tabel 2 B'!J143<0.5),\"-\",IFERROR('Tabel 2 B'!J143/'Tabel 1 B'!G141*100,\"-\"))","v":"-"}]
["Samf. Adm.",null,{"$f":"IF(OR('Tabel 1 B'!C142<5, 'Tabel 2 B'!C144<0.5),\"-\",IFERROR('Tabel 2 B'!C144/'Tabel 1 B'!C142*100,\"-\"))","v":"-"},{"$f":"IF(OR('Tabel 1 B'!C142<5,'Tabel 2 B'!D144<0.5),\"-\",IFERROR('Tabel 2 B'!D144/'Tabel 1 B'!C142*100,\"-\"))","v":"-"},null,{"$f":"IF(OR('Tabel 1 B'!E142<5, 'Tabel 2 B'!F144<0.5),\"-\",IFERROR('Tabel 2 B'!F144/'Tabel 1 B'!E142*100,\"-\"))","v":"-"},{"$f":"IF(OR('Tabel 1 B'!E142<5,'Tabel 2 B'!G144<0.5),\"-\",IFERROR('Tabel 2 B'!G144/'Tabel 1 B'!E142*100,\"-\"))","v":"-"},null,{"$f":"IF(OR('Tabel 1 B'!G142<5,'Tabel 2 B'!I144<0.5),\"-\",IFERROR('Tabel 2 B'!I144/'Tabel 1 B'!G142*100,\"-\"))","v":"-"},{"$f":"IF(OR('Tabel 1 B'!G142<5,'Tabel 2 B'!J144<0.5),\"-\",IFERROR('Tabel 2 B'!J144/'Tabel 1 B'!G142*100,\"-\"))","v":"-"}]
["Cand. Merc.",null,{"$f":"IF(OR('Tabel 1 B'!C143<5, 'Tabel 2 B'!C145<0.5),\"-\",IFERROR('Tabel 2 B'!C145/'Tabel 1 B'!C143*100,\"-\"))","v":"-"},{"$f":"IF(OR('Tabel 1 B'!C143<5,'Tabel 2 B'!D145<0.5),\"-\",IFERROR('Tabel 2 B'!D145/'Tabel 1 B'!C143*100,\"-\"))","v":"-"},null,{"$f":"IF(OR('Tabel 1 B'!E143<5, 'Tabel 2 B'!F145<0.5),\"-\",IFERROR('Tabel 2 B'!F145/'Tabel 1 B'!E143*100,\"-\"))","v":"-"},{"$f":"IF(OR('Tabel 1 B'!E143<5,'Tabel 2 B'!G145<0.5),\"-\",IFERROR('Tabel 2 B'!G145/'Tabel 1 B'!E143*100,\"-\"))","v":"-"},null,{"$f":"IF(OR('Tabel 1 B'!G143<5,'Tabel 2 B'!I145<0.5),\"-\",IFERROR('Tabel 2 B'!I145/'Tabel 1 B'!G143*100,\"-\"))","v":"-"},{"$f":"IF(OR('Tabel 1 B'!G143<5,'Tabel 2 B'!J145<0.5),\"-\",IFERROR('Tabel 2 B'!J145/'Tabel 1 B'!G143*100,\"-\"))","v":"-"}]
["HA",null,{"$f":"IF(OR('Tabel 1 B'!C144<5, 'Tabel 2 B'!C146<0.5),\"-\",IFERROR('Tabel 2 B'!C146/'Tabel 1 B'!C144*100,\"-\"))","v":"-"},{"$f":"IF(OR('Tabel 1 B'!C144<5,'Tabel 2 B'!D146<0.5),\"-\",IFERROR('Tabel 2 B'!D146/'Tabel 1 B'!C144*100,\"-\"))","v":"-"},null,{"$f":"IF(OR('Tabel 1 B'!E144<5, 'Tabel 2 B'!F146<0.5),\"-\",IFERROR('Tabel 2 B'!F146/'Tabel 1 B'!E144*100,\"-\"))","v":"-"},{"$f":"IF(OR('Tabel 1 B'!E144<5,'Tabel 2 B'!G146<0.5),\"-\",IFERROR('Tabel 2 B'!G146/'Tabel 1 B'!E144*100,\"-\"))","v":"-"},null,{"$f":"IF(OR('Tabel 1 B'!G144<5,'Tabel 2 B'!I146<0.5),\"-\",IFERROR('Tabel 2 B'!I146/'Tabel 1 B'!G144*100,\"-\"))","v":"-"},{"$f":"IF(OR('Tabel 1 B'!G144<5,'Tabel 2 B'!J146<0.5),\"-\",IFERROR('Tabel 2 B'!J146/'Tabel 1 B'!G144*100,\"-\"))","v":"-"}]
["HD",null,{"$f":"IF(OR('Tabel 1 B'!C145<5, 'Tabel 2 B'!C147<0.5),\"-\",IFERROR('Tabel 2 B'!C147/'Tabel 1 B'!C145*100,\"-\"))","v":"-"},{"$f":"IF(OR('Tabel 1 B'!C145<5,'Tabel 2 B'!D147<0.5),\"-\",IFERROR('Tabel 2 B'!D147/'Tabel 1 B'!C145*100,\"-\"))","v":"-"},null,{"$f":"IF(OR('Tabel 1 B'!E145<5, 'Tabel 2 B'!F147<0.5),\"-\",IFERROR('Tabel 2 B'!F147/'Tabel 1 B'!E145*100,\"-\"))","v":"-"},{"$f":"IF(OR('Tabel 1 B'!E145<5,'Tabel 2 B'!G147<0.5),\"-\",IFERROR('Tabel 2 B'!G147/'Tabel 1 B'!E145*100,\"-\"))","v":"-"},null,{"$f":"IF(OR('Tabel 1 B'!G145<5,'Tabel 2 B'!I147<0.5),\"-\",IFERROR('Tabel 2 B'!I147/'Tabel 1 B'!G145*100,\"-\"))","v":"-"},{"$f":"IF(OR('Tabel 1 B'!G145<5,'Tabel 2 B'!J147<0.5),\"-\",IFERROR('Tabel 2 B'!J147/'Tabel 1 B'!G145*100,\"-\"))","v":"-"}]
["Komm. og Sprog",null,{"$f":"IF(OR('Tabel 1 B'!C146<5, 'Tabel 2 B'!C148<0.5),\"-\",IFERROR('Tabel 2 B'!C148/'Tabel 1 B'!C146*100,\"-\"))","v":"-"},{"$f":"IF(OR('Tabel 1 B'!C146<5,'Tabel 2 B'!D148<0.5),\"-\",IFERROR('Tabel 2 B'!D148/'Tabel 1 B'!C146*100,\"-\"))","v":"-"},null,{"$f":"IF(OR('Tabel 1 B'!E146<5, 'Tabel 2 B'!F148<0.5),\"-\",IFERROR('Tabel 2 B'!F148/'Tabel 1 B'!E146*100,\"-\"))","v":"-"},{"$f":"IF(OR('Tabel 1 B'!E146<5,'Tabel 2 B'!G148<0.5),\"-\",IFERROR('Tabel 2 B'!G148/'Tabel 1 B'!E146*100,\"-\"))","v":"-"},null,{"$f":"IF(OR('Tabel 1 B'!G146<5,'Tabel 2 B'!I148<0.5),\"-\",IFERROR('Tabel 2 B'!I148/'Tabel 1 B'!G146*100,\"-\"))","v":"-"},{"$f":"IF(OR('Tabel 1 B'!G146<5,'Tabel 2 B'!J148<0.5),\"-\",IFERROR('Tabel 2 B'!J148/'Tabel 1 B'!G146*100,\"-\"))","v":"-"}]
["Bygningskonst.",null,{"$f":"IF(OR('Tabel 1 B'!C147<5, 'Tabel 2 B'!C149<0.5),\"-\",IFERROR('Tabel 2 B'!C149/'Tabel 1 B'!C147*100,\"-\"))","v":"-"},{"$f":"IF(OR('Tabel 1 B'!C147<5,'Tabel 2 B'!D149<0.5),\"-\",IFERROR('Tabel 2 B'!D149/'Tabel 1 B'!C147*100,\"-\"))","v":"-"},null,{"$f":"IF(OR('Tabel 1 B'!E147<5, 'Tabel 2 B'!F149<0.5),\"-\",IFERROR('Tabel 2 B'!F149/'Tabel 1 B'!E147*100,\"-\"))","v":"-"},{"$f":"IF(OR('Tabel 1 B'!E147<5,'Tabel 2 B'!G149<0.5),\"-\",IFERROR('Tabel 2 B'!G149/'Tabel 1 B'!E147*100,\"-\"))","v":"-"},null,{"$f":"IF(OR('Tabel 1 B'!G147<5,'Tabel 2 B'!I149<0.5),\"-\",IFERROR('Tabel 2 B'!I149/'Tabel 1 B'!G147*100,\"-\"))","v":"-"},{"$f":"IF(OR('Tabel 1 B'!G147<5,'Tabel 2 B'!J149<0.5),\"-\",IFERROR('Tabel 2 B'!J149/'Tabel 1 B'!G147*100,\"-\"))","v":"-"}]
["Cand. IT.",null,{"$f":"IF(OR('Tabel 1 B'!C148<5, 'Tabel 2 B'!C150<0.5),\"-\",IFERROR('Tabel 2 B'!C150/'Tabel 1 B'!C148*100,\"-\"))","v":"-"},{"$f":"IF(OR('Tabel 1 B'!C148<5,'Tabel 2 B'!D150<0.5),\"-\",IFERROR('Tabel 2 B'!D150/'Tabel 1 B'!C148*100,\"-\"))","v":"-"},null,{"$f":"IF(OR('Tabel 1 B'!E148<5, 'Tabel 2 B'!F150<0.5),\"-\",IFERROR('Tabel 2 B'!F150/'Tabel 1 B'!E148*100,\"-\"))","v":"-"},{"$f":"IF(OR('Tabel 1 B'!E148<5,'Tabel 2 B'!G150<0.5),\"-\",IFERROR('Tabel 2 B'!G150/'Tabel 1 B'!E148*100,\"-\"))","v":"-"},null,{"$f":"IF(OR('Tabel 1 B'!G148<5,'Tabel 2 B'!I150<0.5),\"-\",IFERROR('Tabel 2 B'!I150/'Tabel 1 B'!G148*100,\"-\"))","v":"-"},{"$f":"IF(OR('Tabel 1 B'!G148<5,'Tabel 2 B'!J150<0.5),\"-\",IFERROR('Tabel 2 B'!J150/'Tabel 1 B'!G148*100,\"-\"))","v":"-"}]
["Bac. Samf.",null,{"$f":"IF(OR('Tabel 1 B'!C149<5, 'Tabel 2 B'!C151<0.5),\"-\",IFERROR('Tabel 2 B'!C151/'Tabel 1 B'!C149*100,\"-\"))","v":"-"},{"$f":"IF(OR('Tabel 1 B'!C149<5,'Tabel 2 B'!D151<0.5),\"-\",IFERROR('Tabel 2 B'!D151/'Tabel 1 B'!C149*100,\"-\"))","v":"-"},null,{"$f":"IF(OR('Tabel 1 B'!E149<5, 'Tabel 2 B'!F151<0.5),\"-\",IFERROR('Tabel 2 B'!F151/'Tabel 1 B'!E149*100,\"-\"))","v":"-"},{"$f":"IF(OR('Tabel 1 B'!E149<5,'Tabel 2 B'!G151<0.5),\"-\",IFERROR('Tabel 2 B'!G151/'Tabel 1 B'!E149*100,\"-\"))","v":"-"},null,{"$f":"IF(OR('Tabel 1 B'!G149<5,'Tabel 2 B'!I151<0.5),\"-\",IFERROR('Tabel 2 B'!I151/'Tabel 1 B'!G149*100,\"-\"))","v":"-"},{"$f":"IF(OR('Tabel 1 B'!G149<5,'Tabel 2 B'!J151<0.5),\"-\",IFERROR('Tabel 2 B'!J151/'Tabel 1 B'!G149*100,\"-\"))","v":"-"}]
["Bac. Hum.",null,{"$f":"IF(OR('Tabel 1 B'!C150<5, 'Tabel 2 B'!C152<0.5),\"-\",IFERROR('Tabel 2 B'!C152/'Tabel 1 B'!C150*100,\"-\"))","v":"-"},{"$f":"IF(OR('Tabel 1 B'!C150<5,'Tabel 2 B'!D152<0.5),\"-\",IFERROR('Tabel 2 B'!D152/'Tabel 1 B'!C150*100,\"-\"))","v":"-"},null,{"$f":"IF(OR('Tabel 1 B'!E150<5, 'Tabel 2 B'!F152<0.5),\"-\",IFERROR('Tabel 2 B'!F152/'Tabel 1 B'!E150*100,\"-\"))","v":"-"},{"$f":"IF(OR('Tabel 1 B'!E150<5,'Tabel 2 B'!G152<0.5),\"-\",IFERROR('Tabel 2 B'!G152/'Tabel 1 B'!E150*100,\"-\"))","v":"-"},null,{"$f":"IF(OR('Tabel 1 B'!G150<5,'Tabel 2 B'!I152<0.5),\"-\",IFERROR('Tabel 2 B'!I152/'Tabel 1 B'!G150*100,\"-\"))","v":"-"},{"$f":"IF(OR('Tabel 1 B'!G150<5,'Tabel 2 B'!J152<0.5),\"-\",IFERROR('Tabel 2 B'!J152/'Tabel 1 B'!G150*100,\"-\"))","v":"-"}]
["Bac. Nat.",null,{"$f":"IF(OR('Tabel 1 B'!C151<5, 'Tabel 2 B'!C153<0.5),\"-\",IFERROR('Tabel 2 B'!C153/'Tabel 1 B'!C151*100,\"-\"))","v":"-"},{"$f":"IF(OR('Tabel 1 B'!C151<5,'Tabel 2 B'!D153<0.5),\"-\",IFERROR('Tabel 2 B'!D153/'Tabel 1 B'!C151*100,\"-\"))","v":"-"},null,{"$f":"IF(OR('Tabel 1 B'!E151<5, 'Tabel 2 B'!F153<0.5),\"-\",IFERROR('Tabel 2 B'!F153/'Tabel 1 B'!E151*100,\"-\"))","v":"-"},{"$f":"IF(OR('Tabel 1 B'!E151<5,'Tabel 2 B'!G153<0.5),\"-\",IFERROR('Tabel 2 B'!G153/'Tabel 1 B'!E151*100,\"-\"))","v":"-"},null,{"$f":"IF(OR('Tabel 1 B'!G151<5,'Tabel 2 B'!I153<0.5),\"-\",IFERROR('Tabel 2 B'!I153/'Tabel 1 B'!G151*100,\"-\"))","v":"-"},{"$f":"IF(OR('Tabel 1 B'!G151<5,'Tabel 2 B'!J153<0.5),\"-\",IFERROR('Tabel 2 B'!J153/'Tabel 1 B'!G151*100,\"-\"))","v":"-"}]
["Andre",null,{"$f":"IF(OR('Tabel 1 B'!C152<5, 'Tabel 2 B'!C154<0.5),\"-\",IFERROR('Tabel 2 B'!C154/'Tabel 1 B'!C152*100,\"-\"))","v":"-"},{"$f":"IF(OR('Tabel 1 B'!C152<5,'Tabel 2 B'!D154<0.5),\"-\",IFERROR('Tabel 2 B'!D154/'Tabel 1 B'!C152*100,\"-\"))","v":"-"},null,{"$f":"IF(OR('Tabel 1 B'!E152<5, 'Tabel 2 B'!F154<0.5),\"-\",IFERROR('Tabel 2 B'!F154/'Tabel 1 B'!E152*100,\"-\"))","v":"-"},{"$f":"IF(OR('Tabel 1 B'!E152<5,'Tabel 2 B'!G154<0.5),\"-\",IFERROR('Tabel 2 B'!G154/'Tabel 1 B'!E152*100,\"-\"))","v":"-"},null,{"$f":"IF(OR('Tabel 1 B'!G152<5,'Tabel 2 B'!I154<0.5),\"-\",IFERROR('Tabel 2 B'!I154/'Tabel 1 B'!G152*100,\"-\"))","v":"-"},{"$f":"IF(OR('Tabel 1 B'!G152<5,'Tabel 2 B'!J154<0.5),\"-\",IFERROR('Tabel 2 B'!J154/'Tabel 1 B'!G152*100,\"-\"))","v":"-"}]
[]
["Total",null,{"$f":"IF(OR('Tabel 1 B'!C154<5, 'Tabel 2 B'!C156<0.5),\"-\",IFERROR('Tabel 2 B'!C156/'Tabel 1 B'!C154*100,\"-\"))","v":"-"},{"$f":"IF(OR('Tabel 1 B'!C154<5,'Tabel 2 B'!D156<0.5),\"-\",IFERROR('Tabel 2 B'!D156/'Tabel 1 B'!C154*100,\"-\"))","v":"-"},null,{"$f":"IF(OR('Tabel 1 B'!E154<5, 'Tabel 2 B'!F156<0.5),\"-\",IFERROR('Tabel 2 B'!F156/'Tabel 1 B'!E154*100,\"-\"))","v":"-"},{"$f":"IF(OR('Tabel 1 B'!E154<5,'Tabel 2 B'!G156<0.5),\"-\",IFERROR('Tabel 2 B'!G156/'Tabel 1 B'!E154*100,\"-\"))","v":"-"},null,{"$f":"IF(OR('Tabel 1 B'!G154<5,'Tabel 2 B'!I156<0.5),\"-\",IFERROR('Tabel 2 B'!I156/'Tabel 1 B'!G154*100,\"-\"))","v":"-"},{"$f":"IF(OR('Tabel 1 B'!G154<5,'Tabel 2 B'!J156<0.5),\"-\",IFERROR('Tabel 2 B'!J156/'Tabel 1 B'!G154*100,\"-\"))","v":"-"}]
[]
["Ingeniører i alt",null,{"$f":"IF(OR('Tabel 1 B'!C156<5, 'Tabel 2 B'!C158<0.5),\"-\",IFERROR('Tabel 2 B'!C158/'Tabel 1 B'!C156*100,\"-\"))","v":"-"},{"$f":"IF(OR('Tabel 1 B'!C156<5,'Tabel 2 B'!D158<0.5),\"-\",IFERROR('Tabel 2 B'!D158/'Tabel 1 B'!C156*100,\"-\"))","v":"-"},null,{"$f":"IF(OR('Tabel 1 B'!E156<5, 'Tabel 2 B'!F158<0.5),\"-\",IFERROR('Tabel 2 B'!F158/'Tabel 1 B'!E156*100,\"-\"))","v":"-"},{"$f":"IF(OR('Tabel 1 B'!E156<5,'Tabel 2 B'!G158<0.5),\"-\",IFERROR('Tabel 2 B'!G158/'Tabel 1 B'!E156*100,\"-\"))","v":"-"},null,{"$f":"IF(OR('Tabel 1 B'!G156<5,'Tabel 2 B'!I158<0.5),\"-\",IFERROR('Tabel 2 B'!I158/'Tabel 1 B'!G156*100,\"-\"))","v":"-"},{"$f":"IF(OR('Tabel 1 B'!G156<5,'Tabel 2 B'!J158<0.5),\"-\",IFERROR('Tabel 2 B'!J158/'Tabel 1 B'!G156*100,\"-\"))","v":"-"}]
["Magistre i alt",null,{"$f":"IF(OR('Tabel 1 B'!C157<5, 'Tabel 2 B'!C159<0.5),\"-\",IFERROR('Tabel 2 B'!C159/'Tabel 1 B'!C157*100,\"-\"))","v":"-"},{"$f":"IF(OR('Tabel 1 B'!C157<5,'Tabel 2 B'!D159<0.5),\"-\",IFERROR('Tabel 2 B'!D159/'Tabel 1 B'!C157*100,\"-\"))","v":"-"},null,{"$f":"IF(OR('Tabel 1 B'!E157<5, 'Tabel 2 B'!F159<0.5),\"-\",IFERROR('Tabel 2 B'!F159/'Tabel 1 B'!E157*100,\"-\"))","v":"-"},{"$f":"IF(OR('Tabel 1 B'!E157<5,'Tabel 2 B'!G159<0.5),\"-\",IFERROR('Tabel 2 B'!G159/'Tabel 1 B'!E157*100,\"-\"))","v":"-"},null,{"$f":"IF(OR('Tabel 1 B'!G157<5,'Tabel 2 B'!I159<0.5),\"-\",IFERROR('Tabel 2 B'!I159/'Tabel 1 B'!G157*100,\"-\"))","v":"-"},{"$f":"IF(OR('Tabel 1 B'!G157<5,'Tabel 2 B'!J159<0.5),\"-\",IFERROR('Tabel 2 B'!J159/'Tabel 1 B'!G157*100,\"-\"))","v":"-"}]
["DJØF'ere i alt",null,{"$f":"IF(OR('Tabel 1 B'!C158<5, 'Tabel 2 B'!C160<0.5),\"-\",IFERROR('Tabel 2 B'!C160/'Tabel 1 B'!C158*100,\"-\"))","v":"-"},{"$f":"IF(OR('Tabel 1 B'!C158<5,'Tabel 2 B'!D160<0.5),\"-\",IFERROR('Tabel 2 B'!D160/'Tabel 1 B'!C158*100,\"-\"))","v":"-"},null,{"$f":"IF(OR('Tabel 1 B'!E158<5, 'Tabel 2 B'!F160<0.5),\"-\",IFERROR('Tabel 2 B'!F160/'Tabel 1 B'!E158*100,\"-\"))","v":"-"},{"$f":"IF(OR('Tabel 1 B'!E158<5,'Tabel 2 B'!G160<0.5),\"-\",IFERROR('Tabel 2 B'!G160/'Tabel 1 B'!E158*100,\"-\"))","v":"-"},null,{"$f":"IF(OR('Tabel 1 B'!G158<5,'Tabel 2 B'!I160<0.5),\"-\",IFERROR('Tabel 2 B'!I160/'Tabel 1 B'!G158*100,\"-\"))","v":"-"},{"$f":"IF(OR('Tabel 1 B'!G158<5,'Tabel 2 B'!J160<0.5),\"-\",IFERROR('Tabel 2 B'!J160/'Tabel 1 B'!G158*100,\"-\"))","v":"-"}]

{"sheet":"Tabel 4F B","index":4,"n_rows":158,"n_cols":9,"rows_kept":158,"cut":false,"hidden":false,"merged":[]}
[{"$f":"'[1]Tabel 4F B DATA'!L1","v":"Tabel 4. Antal forsikrede - aldersfordelt"}]
[]
[{"$f":"'[1]Tabel 4F B DATA'!L3","v":"Bornholm"}]
[]
[null,null,{"$f":"'[1]Tabel 4F B DATA'!N5","v":"Under 30 år"},{"$f":"'[1]Tabel 4F B DATA'!O5","v":"30 - 39 år"},{"$f":"'[1]Tabel 4F B DATA'!P5","v":"40 - 49 år"},{"$f":"'[1]Tabel 4F B DATA'!Q5","v":"50 - 59 år"},{"$f":"'[1]Tabel 4F B DATA'!R5","v":"Over 60 år"},null,{"$f":"'[1]Tabel 4F B DATA'!T5","v":"I alt"}]
[]
[{"$f":"'[1]Tabel 4F B DATA'!L7","v":"Civ. ing."},null,{"$f":"'[1]Tabel 4F B DATA'!N7","v":3},{"$f":"'[1]Tabel 4F B DATA'!O7","v":13},{"$f":"'[1]Tabel 4F B DATA'!P7","v":8},{"$f":"'[1]Tabel 4F B DATA'!Q7","v":8},{"$f":"'[1]Tabel 4F B DATA'!R7","v":2},null,{"$f":"'[1]Tabel 4F B DATA'!T7","v":34}]
[{"$f":"'[1]Tabel 4F B DATA'!L8","v":"Diplom ing."},null,{"$f":"'[1]Tabel 4F B DATA'!N8","v":3},{"$f":"'[1]Tabel 4F B DATA'!O8","v":12},{"$f":"'[1]Tabel 4F B DATA'!P8","v":17},{"$f":"'[1]Tabel 4F B DATA'!Q8","v":21},{"$f":"'[1]Tabel 4F B DATA'!R8","v":10},null,{"$f":"'[1]Tabel 4F B DATA'!T8","v":63}]
[{"$f":"'[1]Tabel 4F B DATA'!L9","v":"Cand. Scient. Tek."},null,{"$f":"'[1]Tabel 4F B DATA'!N9","v":4},{"$f":"'[1]Tabel 4F B DATA'!O9","v":17},{"$f":"'[1]Tabel 4F B DATA'!P9","v":8},{"$f":"'[1]Tabel 4F B DATA'!Q9","v":2},{"$f":"'[1]Tabel 4F B DATA'!R9","v":1},null,{"$f":"'[1]Tabel 4F B DATA'!T9","v":32}]
[{"$f":"'[1]Tabel 4F B DATA'!L10","v":"MA. Hum."},null,{"$f":"'[1]Tabel 4F B DATA'!N10","v":5},{"$f":"'[1]Tabel 4F B DATA'!O10","v":54},{"$f":"'[1]Tabel 4F B DATA'!P10","v":30},{"$f":"'[1]Tabel 4F B DATA'!Q10","v":20},{"$f":"'[1]Tabel 4F B DATA'!R10","v":16},null,{"$f":"'[1]Tabel 4F B DATA'!T10","v":125}]
[{"$f":"'[1]Tabel 4F B DATA'!L11","v":"MA. Nat."},null,{"$f":"'[1]Tabel 4F B DATA'!N11","v":0},{"$f":"'[1]Tabel 4F B DATA'!O11","v":4},{"$f":"'[1]Tabel 4F B DATA'!P11","v":16},{"$f":"'[1]Tabel 4F B DATA'!Q11","v":20},{"$f":"'[1]Tabel 4F B DATA'!R11","v":6},null,{"$f":"'[1]Tabel 4F B DATA'!T11","v":46}]
[{"$f":"'[1]Tabel 4F B DATA'!L12","v":"MA. Ph.d."},null,{"$f":"'[1]Tabel 4F B DATA'!N12","v":0},{"$f":"'[1]Tabel 4F B DATA'!O12","v":1},{"$f":"'[1]Tabel 4F B DATA'!P12","v":3},{"$f":"'[1]Tabel 4F B DATA'!Q12","v":2},{"$f":"'[1]Tabel 4F B DATA'!R12","v":1},null,{"$f":"'[1]Tabel 4F B DATA'!T12","v":7}]
[{"$f":"'[1]Tabel 4F B DATA'!L13","v":"MA. Samf."},null,{"$f":"'[1]Tabel 4F B DATA'!N13","v":1},{"$f":"'[1]Tabel 4F B DATA'!O13","v":7},{"$f":"'[1]Tabel 4F B DATA'!P13","v":1},{"$f":"'[1]Tabel 4F B DATA'!Q13","v":4},{"$f":"'[1]Tabel 4F B DATA'!R13","v":2},null,{"$f":"'[1]Tabel 4F B DATA'!T13","v":15}]
[{"$f":"'[1]Tabel 4F B DATA'!L14","v":"Øvrige Mag."},null,{"$f":"'[1]Tabel 4F B DATA'!N14","v":2},{"$f":"'[1]Tabel 4F B DATA'!O14","v":6},{"$f":"'[1]Tabel 4F B DATA'!P14","v":5},{"$f":"'[1]Tabel 4F B DATA'!Q14","v":1},{"$f":"'[1]Tabel 4F B DATA'!R14","v":2},null,{"$f":"'[1]Tabel 4F B DATA'!T14","v":16}]
[{"$f":"'[1]Tabel 4F B DATA'!L15","v":"Agronom"},null,{"$f":"'[1]Tabel 4F B DATA'!N15","v":1},{"$f":"'[1]Tabel 4F B DATA'!O15","v":0},{"$f":"'[1]Tabel 4F B DATA'!P15","v":2},{"$f":"'[1]Tabel 4F B DATA'!Q15","v":6},{"$f":"'[1]Tabel 4F B DATA'!R15","v":1},null,{"$f":"'[1]Tabel 4F B DATA'!T15","v":10}]
[{"$f":"'[1]Tabel 4F B DATA'!L16","v":"Landsk. Arkt."},null,{"$f":"'[1]Tabel 4F B DATA'!N16","v":0},{"$f":"'[1]Tabel 4F B DATA'!O16","v":0},{"$f":"'[1]Tabel 4F B DATA'!P16","v":1},{"$f":"'[1]Tabel 4F B DATA'!Q16","v":1},{"$f":"'[1]Tabel 4F B DATA'!R16","v":1},null,{"$f":"'[1]Tabel 4F B DATA'!T16","v":3}]
[{"$f":"'[1]Tabel 4F B DATA'!L17","v":"Hortonom"},null,{"$f":"'[1]Tabel 4F B DATA'!N17","v":0},{"$f":"'[1]Tabel 4F B DATA'!O17","v":0},{"$f":"'[1]Tabel 4F B DATA'!P17","v":1},{"$f":"'[1]Tabel 4F B DATA'!Q17","v":0},{"$f":"'[1]Tabel 4F B DATA'!R17","v":1},null,{"$f":"'[1]Tabel 4F B DATA'!T17","v":2}]
[{"$f":"'[1]Tabel 4F B DATA'!L18","v":"Forstkand."},null,{"$f":"'[1]Tabel 4F B DATA'!N18","v":0},{"$f":"'[1]Tabel 4F B DATA'!O18","v":0},{"$f":"'[1]Tabel 4F B DATA'!P18","v":0},{"$f":"'[1]Tabel 4F B DATA'!Q18","v":1},{"$f":"'[1]Tabel 4F B DATA'!R18","v":0},null,{"$f":"'[1]Tabel 4F B DATA'!T18","v":1}]
[{"$f":"'[1]Tabel 4F B DATA'!L19","v":"Jordbrugsakad."},null,{"$f":"'[1]Tabel 4F B DATA'!N19","v":1},{"$f":"'[1]Tabel 4F B DATA'!O19","v":0},{"$f":"'[1]Tabel 4F B DATA'!P19","v":4},{"$f":"'[1]Tabel 4F B DATA'!Q19","v":8},{"$f":"'[1]Tabel 4F B DATA'!R19","v":3},null,{"$f":"'[1]Tabel 4F B DATA'!T19","v":16}]
[{"$f":"'[1]Tabel 4F B DATA'!L20","v":"Mejeriing."},null,{"$f":"'[1]Tabel 4F B DATA'!N20","v":0},{"$f":"'[1]Tabel 4F B DATA'!O20","v":0},{"$f":"'[1]Tabel 4F B DATA'!P20","v":0},{"$f":"'[1]Tabel 4F B DATA'!Q20","v":0},{"$f":"'[1]Tabel 4F B DATA'!R20","v":0},null,{"$f":"'[1]Tabel 4F B DATA'!T20","v":0}]
[{"$f":"'[1]Tabel 4F B DATA'!L21","v":"Levn.m.kand."},null,{"$f":"'[1]Tabel 4F B DATA'!N21","v":0},{"$f":"'[1]Tabel 4F B DATA'!O21","v":1},{"$f":"'[1]Tabel 4F B DATA'!P21","v":0},{"$f":"'[1]Tabel 4F B DATA'!Q21","v":0},{"$f":"'[1]Tabel 4F B DATA'!R21","v":0},null,{"$f":"'[1]Tabel 4F B DATA'!T21","v":1}]
[{"$f":"'[1]Tabel 4F B DATA'!L22","v":"Dyrlæge"},null,{"$f":"'[1]Tabel 4F B DATA'!N22","v":2},{"$f":"'[1]Tabel 4F B DATA'!O22","v":5},{"$f":"'[1]Tabel 4F B DATA'!P22","v":3},{"$f":"'[1]Tabel 4F B DATA'!Q22","v":3},{"$f":"'[1]Tabel 4F B DATA'!R22","v":2},null,{"$f":"'[1]Tabel 4F B DATA'!T22","v":15}]
[{"$f":"'[1]Tabel 4F B DATA'!L23","v":"Farmaceut"},null,{"$f":"'[1]Tabel 4F B DATA'!N23","v":0},{"$f":"'[1]Tabel 4F B DATA'!O23","v":1},{"$f":"'[1]Tabel 4F B DATA'!P23","v":2},{"$f":"'[1]Tabel 4F B DATA'!Q23","v":2},{"$f":"'[1]Tabel 4F B DATA'!R23","v":2},null,{"$f":"'[1]Tabel 4F B DATA'!T23","v":7}]
[{"$f":"'[1]Tabel 4F B DATA'!L24","v":"Læge"},null,{"$f":"'[1]Tabel 4F B DATA'!N24","v":7},{"$f":"'[1]Tabel 4F B DATA'!O24","v":11},{"$f":"'[1]Tabel 4F B DATA'!P24","v":3},{"$f":"'[1]Tabel 4F B DATA'!Q24","v":5},{"$f":"'[1]Tabel 4F B DATA'!R24","v":5},null,{"$f":"'[1]Tabel 4F B DATA'!T24","v":31}]
[{"$f":"'[1]Tabel 4F B DATA'!L25","v":"Tandlæge"},null,{"$f":"'[1]Tabel 4F B DATA'!N25","v":1},{"$f":"'[1]Tabel 4F B DATA'!O25","v":2},{"$f":"'[1]Tabel 4F B DATA'!P25","v":6},{"$f":"'[1]Tabel 4F B DATA'!Q25","v":1},{"$f":"'[1]Tabel 4F B DATA'!R25","v":0},null,{"$f":"'[1]Tabel 4F B DATA'!T25","v":10}]
[{"$f":"'[1]Tabel 4F B DATA'!L26","v":"Arkitekt"},null,{"$f":"'[1]Tabel 4F B DATA'!N26","v":0},{"$f":"'[1]Tabel 4F B DATA'!O26","v":2},{"$f":"'[1]Tabel 4F B DATA'!P26","v":5},{"$f":"'[1]Tabel 4F B DATA'!Q26","v":2},{"$f":"'[1]Tabel 4F B DATA'!R26","v":5},null,{"$f":"'[1]Tabel 4F B DATA'!T26","v":14}]
[{"$f":"'[1]Tabel 4F B DATA'!L27","v":"Landinspek."},null,{"$f":"'[1]Tabel 4F B DATA'!N27","v":0},{"$f":"'[1]Tabel 4F B DATA'!O27","v":0},{"$f":"'[1]Tabel 4F B DATA'!P27","v":1},{"$f":"'[1]Tabel 4F B DATA'!Q27","v":0},{"$f":"'[1]Tabel 4F B DATA'!R27","v":0},null,{"$f":"'[1]Tabel 4F B DATA'!T27","v":1}]
[{"$f":"'[1]Tabel 4F B DATA'!L28","v":"Bibliotekar"},null,{"$f":"'[1]Tabel 4F B DATA'!N28","v":1},{"$f":"'[1]Tabel 4F B DATA'!O28","v":4},{"$f":"'[1]Tabel 4F B DATA'!P28","v":4},{"$f":"'[1]Tabel 4F B DATA'!Q28","v":5},{"$f":"'[1]Tabel 4F B DATA'!R28","v":2},null,{"$f":"'[1]Tabel 4F B DATA'!T28","v":16}]
[{"$f":"'[1]Tabel 4F B DATA'!L29","v":"Musikudd."},null,{"$f":"'[1]Tabel 4F B DATA'!N29","v":0},{"$f":"'[1]Tabel 4F B DATA'!O29","v":0},{"$f":"'[1]Tabel 4F B DATA'!P29","v":0},{"$f":"'[1]Tabel 4F B DATA'!Q29","v":2},{"$f":"'[1]Tabel 4F B DATA'!R29","v":0},null,{"$f":"'[1]Tabel 4F B DATA'!T29","v":2}]
[{"$f":"'[1]Tabel 4F B DATA'!L30","v":"Teolog"},null,{"$f":"'[1]Tabel 4F B DATA'!N30","v":0},{"$f":"'[1]Tabel 4F B DATA'!O30","v":1},{"$f":"'[1]Tabel 4F B DATA'!P30","v":3},{"$f":"'[1]Tabel 4F B DATA'!Q30","v":3},{"$f":"'[1]Tabel 4F B DATA'!R30","v":5},null,{"$f":"'[1]Tabel 4F B DATA'!T30","v":12}]
[{"$f":"'[1]Tabel 4F B DATA'!L31","v":"Psykolog"},null,{"$f":"'[1]Tabel 4F B DATA'!N31","v":5},{"$f":"'[1]Tabel 4F B DATA'!O31","v":9},{"$f":"'[1]Tabel 4F B DATA'!P31","v":14},{"$f":"'[1]Tabel 4F B DATA'!Q31","v":2},{"$f":"'[1]Tabel 4F B DATA'!R31","v":1},null,{"$f":"'[1]Tabel 4F B DATA'!T31","v":31}]
[{"$f":"'[1]Tabel 4F B DATA'!L32","v":"Jurist"},null,{"$f":"'[1]Tabel 4F B DATA'!N32","v":2},{"$f":"'[1]Tabel 4F B DATA'!O32","v":10},{"$f":"'[1]Tabel 4F B DATA'!P32","v":8},{"$f":"'[1]Tabel 4F B DATA'!Q32","v":9},{"$f":"'[1]Tabel 4F B DATA'!R32","v":3},null,{"$f":"'[1]Tabel 4F B DATA'!T32","v":32}]
[{"$f":"'[1]Tabel 4F B DATA'!L33","v":"Økonom"},null,{"$f":"'[1]Tabel 4F B DATA'!N33","v":1},{"$f":"'[1]Tabel 4F B DATA'!O33","v":3},{"$f":"'[1]Tabel 4F B DATA'!P33","v":2},{"$f":"'[1]Tabel 4F B DATA'!Q33","v":4},{"$f":"'[1]Tabel 4F B DATA'!R33","v":0},null,{"$f":"'[1]Tabel 4F B DATA'!T33","v":10}]
[{"$f":"'[1]Tabel 4F B DATA'!L34","v":"Samf. Adm."},null,{"$f":"'[1]Tabel 4F B DATA'!N34","v":1},{"$f":"'[1]Tabel 4F B DATA'!O34","v":18},{"$f":"'[1]Tabel 4F B DATA'!P34","v":22},{"$f":"'[1]Tabel 4F B DATA'!Q34","v":10},{"$f":"'[1]Tabel 4F B DATA'!R34","v":4},null,{"$f":"'[1]Tabel 4F B DATA'!T34","v":55}]
[{"$f":"'[1]Tabel 4F B DATA'!L35","v":"Cand. Merc."},null,{"$f":"'[1]Tabel 4F B DATA'!N35","v":2},{"$f":"'[1]Tabel 4F B DATA'!O35","v":7},{"$f":"'[1]Tabel 4F B DATA'!P35","v":11},{"$f":"'[1]Tabel 4F B DATA'!Q35","v":10},{"$f":"'[1]Tabel 4F B DATA'!R35","v":2},null,{"$f":"'[1]Tabel 4F B DATA'!T35","v":32}]
[{"$f":"'[1]Tabel 4F B DATA'!L36","v":"HA"},null,{"$f":"'[1]Tabel 4F B DATA'!N36","v":0},{"$f":"'[1]Tabel 4F B DATA'!O36","v":2},{"$f":"'[1]Tabel 4F B DATA'!P36","v":2},{"$f":"'[1]Tabel 4F B DATA'!Q36","v":7},{"$f":"'[1]Tabel 4F B DATA'!R36","v":1},null,{"$f":"'[1]Tabel 4F B DATA'!T36","v":12}]
[{"$f":"'[1]Tabel 4F B DATA'!L37","v":"HD"},null,{"$f":"'[1]Tabel 4F B DATA'!N37","v":0},{"$f":"'[1]Tabel 4F B DATA'!O37","v":2},{"$f":"'[1]Tabel 4F B DATA'!P37","v":2},{"$f":"'[1]Tabel 4F B DATA'!Q37","v":2},{"$f":"'[1]Tabel 4F B DATA'!R37","v":3},null,{"$f":"'[1]Tabel 4F B DATA'!T37","v":9}]
[{"$f":"'[1]Tabel 4F B DATA'!L38","v":"Komm. og Sprog"},null,{"$f":"'[1]Tabel 4F B DATA'!N38","v":1},{"$f":"'[1]Tabel 4F B DATA'!O38","v":7},{"$f":"'[1]Tabel 4F B DATA'!P38","v":3},{"$f":"'[1]Tabel 4F B DATA'!Q38","v":3},{"$f":"'[1]Tabel 4F B DATA'!R38","v":1},null,{"$f":"'[1]Tabel 4F B DATA'!T38","v":15}]
[{"$f":"'[1]Tabel 4F B DATA'!L39","v":"Bygningskonst."},null,{"$f":"'[1]Tabel 4F B DATA'!N39","v":4},{"$f":"'[1]Tabel 4F B DATA'!O39","v":9},{"$f":"'[1]Tabel 4F B DATA'!P39","v":7},{"$f":"'[1]Tabel 4F B DATA'!Q39","v":6},{"$f":"'[1]Tabel 4F B DATA'!R39","v":2},null,{"$f":"'[1]Tabel 4F B DATA'!T39","v":28}]
[{"$f":"'[1]Tabel 4F B DATA'!L40","v":"Cand. IT."},null,{"$f":"'[1]Tabel 4F B DATA'!N40","v":0},{"$f":"'[1]Tabel 4F B DATA'!O40","v":1},{"$f":"'[1]Tabel 4F B DATA'!P40","v":1},{"$f":"'[1]Tabel 4F B DATA'!Q40","v":0},{"$f":"'[1]Tabel 4F B DATA'!R40","v":0},null,{"$f":"'[1]Tabel 4F B DATA'!T40","v":2}]
[{"$f":"'[1]Tabel 4F B DATA'!L41","v":"Bac. Samf."},null,{"$f":"'[1]Tabel 4F B DATA'!N41","v":0},{"$f":"'[1]Tabel 4F B DATA'!O41","v":3},{"$f":"'[1]Tabel 4F B DATA'!P41","v":1},{"$f":"'[1]Tabel 4F B DATA'!Q41","v":0},{"$f":"'[1]Tabel 4F B DATA'!R41","v":1},null,{"$f":"'[1]Tabel 4F B DATA'!T41","v":5}]
[{"$f":"'[1]Tabel 4F B DATA'!L42","v":"Bac. Hum."},null,{"$f":"'[1]Tabel 4F B DATA'!N42","v":2},{"$f":"'[1]Tabel 4F B DATA'!O42","v":4},{"$f":"'[1]Tabel 4F B DATA'!P42","v":4},{"$f":"'[1]Tabel 4F B DATA'!Q42","v":2},{"$f":"'[1]Tabel 4F B DATA'!R42","v":1},null,{"$f":"'[1]Tabel 4F B DATA'!T42","v":13}]
[{"$f":"'[1]Tabel 4F B DATA'!L43","v":"Bac. Nat."},null,{"$f":"'[1]Tabel 4F B DATA'!N43","v":3},{"$f":"'[1]Tabel 4F B DATA'!O43","v":3},{"$f":"'[1]Tabel 4F B DATA'!P43","v":2},{"$f":"'[1]Tabel 4F B DATA'!Q43","v":1},{"$f":"'[1]Tabel 4F B DATA'!R43","v":1},null,{"$f":"'[1]Tabel 4F B DATA'!T43","v":10}]
[{"$f":"'[1]Tabel 4F B DATA'!L44","v":"Andre"},null,{"$f":"'[1]Tabel 4F B DATA'!N44","v":4},{"$f":"'[1]Tabel 4F B DATA'!O44","v":18},{"$f":"'[1]Tabel 4F B DATA'!P44","v":27},{"$f":"'[1]Tabel 4F B DATA'!Q44","v":35},{"$f":"'[1]Tabel 4F B DATA'!R44","v":25},null,{"$f":"'[1]Tabel 4F B DATA'!T44","v":109}]
[]
[{"$f":"'[1]Tabel 4F B DATA'!L46","v":"Total"},null,{"$f":"'[1]Tabel 4F B DATA'!N46","v":55},{"$f":"'[1]Tabel 4F B DATA'!O46","v":237},{"$f":"'[1]Tabel 4F B DATA'!P46","v":225},{"$f":"'[1]Tabel 4F B DATA'!Q46","v":200},{"$f":"'[1]Tabel 4F B DATA'!R46","v":109},null,{"$f":"'[1]Tabel 4F B DATA'!T46","v":826}]
[]
[{"$f":"'[1]Tabel 4F B DATA'!L48","v":"Ingeniører i alt"},null,{"$f":"'[1]Tabel 4F B DATA'!N48","v":6},{"$f":"'[1]Tabel 4F B DATA'!O48","v":25},{"$f":"'[1]Tabel 4F B DATA'!P48","v":25},{"$f":"'[1]Tabel 4F B DATA'!Q48","v":29},{"$f":"'[1]Tabel 4F B DATA'!R48","v":12},null,{"$f":"'[1]Tabel 4F B DATA'!T48","v":97}]
[{"$f":"'[1]Tabel 4F B DATA'!L49","v":"Magistre i alt"},null,{"$f":"'[1]Tabel 4F B DATA'!N49","v":8},{"$f":"'[1]Tabel 4F B DATA'!O49","v":72},{"$f":"'[1]Tabel 4F B DATA'!P49","v":55},{"$f":"'[1]Tabel 4F B DATA'!Q49","v":47},{"$f":"'[1]Tabel 4F B DATA'!R49","v":27},null,{"$f":"'[1]Tabel 4F B DATA'!T49","v":209}]
[{"$f":"'[1]Tabel 4F B DATA'!L50","v":"DJØF'ere i alt"},null,{"$f":"'[1]Tabel 4F B DATA'!N50","v":6},{"$f":"'[1]Tabel 4F B DATA'!O50","v":40},{"$f":"'[1]Tabel 4F B DATA'!P50","v":45},{"$f":"'[1]Tabel 4F B DATA'!Q50","v":40},{"$f":"'[1]Tabel 4F B DATA'!R50","v":10},null,{"$f":"'[1]Tabel 4F B DATA'!T50","v":141}]
[]
[]
[]
[]
[]
[]
[{"$f":"'[1]Tabel 4F B DATA'!L107","v":"Bornholm"}]
[]
[null,null,{"$f":"'[1]Tabel 4F B DATA'!N109","v":"Under 30 år"},{"$f":"'[1]Tabel 4F B DATA'!O109","v":"30 - 39 år"},{"$f":"'[1]Tabel 4F B DATA'!P109","v":"40 - 49 år"},{"$f":"'[1]Tabel 4F B DATA'!Q109","v":"50 - 59 år"},{"$f":"'[1]Tabel 4F B DATA'!R109","v":"Over 60 år"},null,{"$f":"'[1]Tabel 4F B DATA'!T109","v":"I alt"}]
[]
[{"$f":"'[1]Tabel 4F B DATA'!L111","v":"Civ. ing."},null,{"$f":"'[1]Tabel 4F B DATA'!N111","v":3},{"$f":"'[1]Tabel 4F B DATA'!O111","v":13},{"$f":"'[1]Tabel 4F B DATA'!P111","v":8},{"$f":"'[1]Tabel 4F B DATA'!Q111","v":8},{"$f":"'[1]Tabel 4F B DATA'!R111","v":2},null,{"$f":"'[1]Tabel 4F B DATA'!T111","v":34}]
[{"$f":"'[1]Tabel 4F B DATA'!L112","v":"Diplom ing."},null,{"$f":"'[1]Tabel 4F B DATA'!N112","v":3},{"$f":"'[1]Tabel 4F B DATA'!O112","v":12},{"$f":"'[1]Tabel 4F B DATA'!P112","v":17},{"$f":"'[1]Tabel 4F B DATA'!Q112","v":21},{"$f":"'[1]Tabel 4F B DATA'!R112","v":10},null,{"$f":"'[1]Tabel 4F B DATA'!T112","v":63}]
[{"$f":"'[1]Tabel 4F B DATA'!L113","v":"Cand. Scient. Tek."},null,{"$f":"'[1]Tabel 4F B DATA'!N113","v":4},{"$f":"'[1]Tabel 4F B DATA'!O113","v":17},{"$f":"'[1]Tabel 4F B DATA'!P113","v":8},{"$f":"'[1]Tabel 4F B DATA'!Q113","v":2},{"$f":"'[1]Tabel 4F B DATA'!R113","v":1},null,{"$f":"'[1]Tabel 4F B DATA'!T113","v":32}]
[{"$f":"'[1]Tabel 4F B DATA'!L114","v":"MA. Hum."},null,{"$f":"'[1]Tabel 4F B DATA'!N114","v":5},{"$f":"'[1]Tabel 4F B DATA'!O114","v":54},{"$f":"'[1]Tabel 4F B DATA'!P114","v":30},{"$f":"'[1]Tabel 4F B DATA'!Q114","v":20},{"$f":"'[1]Tabel 4F B DATA'!R114","v":16},null,{"$f":"'[1]Tabel 4F B DATA'!T114","v":125}]
[{"$f":"'[1]Tabel 4F B DATA'!L115","v":"MA. Nat."},null,{"$f":"'[1]Tabel 4F B DATA'!N115","v":0},{"$f":"'[1]Tabel 4F B DATA'!O115","v":4},{"$f":"'[1]Tabel 4F B DATA'!P115","v":16},{"$f":"'[1]Tabel 4F B DATA'!Q115","v":20},{"$f":"'[1]Tabel 4F B DATA'!R115","v":6},null,{"$f":"'[1]Tabel 4F B DATA'!T115","v":46}]
[{"$f":"'[1]Tabel 4F B DATA'!L116","v":"MA. Ph.d."},null,{"$f":"'[1]Tabel 4F B DATA'!N116","v":0},{"$f":"'[1]Tabel 4F B DATA'!O116","v":1},{"$f":"'[1]Tabel 4F B DATA'!P116","v":3},{"$f":"'[1]Tabel 4F B DATA'!Q116","v":2},{"$f":"'[1]Tabel 4F B DATA'!R116","v":1},null,{"$f":"'[1]Tabel 4F B DATA'!T116","v":7}]
[{"$f":"'[1]Tabel 4F B DATA'!L117","v":"MA. Samf."},null,{"$f":"'[1]Tabel 4F B DATA'!N117","v":1},{"$f":"'[1]Tabel 4F B DATA'!O117","v":7},{"$f":"'[1]Tabel 4F B DATA'!P117","v":1},{"$f":"'[1]Tabel 4F B DATA'!Q117","v":4},{"$f":"'[1]Tabel 4F B DATA'!R117","v":2},null,{"$f":"'[1]Tabel 4F B DATA'!T117","v":15}]
[{"$f":"'[1]Tabel 4F B DATA'!L118","v":"Øvrige Mag."},null,{"$f":"'[1]Tabel 4F B DATA'!N118","v":2},{"$f":"'[1]Tabel 4F B DATA'!O118","v":6},{"$f":"'[1]Tabel 4F B DATA'!P118","v":5},{"$f":"'[1]Tabel 4F B DATA'!Q118","v":1},{"$f":"'[1]Tabel 4F B DATA'!R118","v":2},null,{"$f":"'[1]Tabel 4F B DATA'!T118","v":16}]
[{"$f":"'[1]Tabel 4F B DATA'!L119","v":"Agronom"},null,{"$f":"'[1]Tabel 4F B DATA'!N119","v":1},{"$f":"'[1]Tabel 4F B DATA'!O119","v":0},{"$f":"'[1]Tabel 4F B DATA'!P119","v":2},{"$f":"'[1]Tabel 4F B DATA'!Q119","v":6},{"$f":"'[1]Tabel 4F B DATA'!R119","v":1},null,{"$f":"'[1]Tabel 4F B DATA'!T119","v":10}]
[{"$f":"'[1]Tabel 4F B DATA'!L120","v":"Landsk. Arkt."},null,{"$f":"'[1]Tabel 4F B DATA'!N120","v":0},{"$f":"'[1]Tabel 4F B DATA'!O120","v":0},{"$f":"'[1]Tabel 4F B DATA'!P120","v":1},{"$f":"'[1]Tabel 4F B DATA'!Q120","v":1},{"$f":"'[1]Tabel 4F B DATA'!R120","v":1},null,{"$f":"'[1]Tabel 4F B DATA'!T120","v":3}]
[{"$f":"'[1]Tabel 4F B DATA'!L121","v":"Hortonom"},null,{"$f":"'[1]Tabel 4F B DATA'!N121","v":0},{"$f":"'[1]Tabel 4F B DATA'!O121","v":0},{"$f":"'[1]Tabel 4F B DATA'!P121","v":1},{"$f":"'[1]Tabel 4F B DATA'!Q121","v":0},{"$f":"'[1]Tabel 4F B DATA'!R121","v":1},null,{"$f":"'[1]Tabel 4F B DATA'!T121","v":2}]
[{"$f":"'[1]Tabel 4F B DATA'!L122","v":"Forstkand."},null,{"$f":"'[1]Tabel 4F B DATA'!N122","v":0},{"$f":"'[1]Tabel 4F B DATA'!O122","v":0},{"$f":"'[1]Tabel 4F B DATA'!P122","v":0},{"$f":"'[1]Tabel 4F B DATA'!Q122","v":1},{"$f":"'[1]Tabel 4F B DATA'!R122","v":0},null,{"$f":"'[1]Tabel 4F B DATA'!T122","v":1}]
[{"$f":"'[1]Tabel 4F B DATA'!L123","v":"Jordbrugsakad."},null,{"$f":"'[1]Tabel 4F B DATA'!N123","v":1},{"$f":"'[1]Tabel 4F B DATA'!O123","v":0},{"$f":"'[1]Tabel 4F B DATA'!P123","v":4},{"$f":"'[1]Tabel 4F B DATA'!Q123","v":8},{"$f":"'[1]Tabel 4F B DATA'!R123","v":3},null,{"$f":"'[1]Tabel 4F B DATA'!T123","v":16}]
[{"$f":"'[1]Tabel 4F B DATA'!L124","v":"Mejeriing."},null,{"$f":"'[1]Tabel 4F B DATA'!N124","v":0},{"$f":"'[1]Tabel 4F B DATA'!O124","v":0},{"$f":"'[1]Tabel 4F B DATA'!P124","v":0},{"$f":"'[1]Tabel 4F B DATA'!Q124","v":0},{"$f":"'[1]Tabel 4F B DATA'!R124","v":0},null,{"$f":"'[1]Tabel 4F B DATA'!T124","v":0}]
[{"$f":"'[1]Tabel 4F B DATA'!L125","v":"Levn.m.kand."},null,{"$f":"'[1]Tabel 4F B DATA'!N125","v":0},{"$f":"'[1]Tabel 4F B DATA'!O125","v":1},{"$f":"'[1]Tabel 4F B DATA'!P125","v":0},{"$f":"'[1]Tabel 4F B DATA'!Q125","v":0},{"$f":"'[1]Tabel 4F B DATA'!R125","v":0},null,{"$f":"'[1]Tabel 4F B DATA'!T125","v":1}]
[{"$f":"'[1]Tabel 4F B DATA'!L126","v":"Dyrlæge"},null,{"$f":"'[1]Tabel 4F B DATA'!N126","v":2},{"$f":"'[1]Tabel 4F B DATA'!O126","v":5},{"$f":"'[1]Tabel 4F B DATA'!P126","v":3},{"$f":"'[1]Tabel 4F B DATA'!Q126","v":3},{"$f":"'[1]Tabel 4F B DATA'!R126","v":2},null,{"$f":"'[1]Tabel 4F B DATA'!T126","v":15}]
[{"$f":"'[1]Tabel 4F B DATA'!L127","v":"Farmaceut"},null,{"$f":"'[1]Tabel 4F B DATA'!N127","v":0},{"$f":"'[1]Tabel 4F B DATA'!O127","v":1},{"$f":"'[1]Tabel 4F B DATA'!P127","v":2},{"$f":"'[1]Tabel 4F B DATA'!Q127","v":2},{"$f":"'[1]Tabel 4F B DATA'!R127","v":2},null,{"$f":"'[1]Tabel 4F B DATA'!T127","v":7}]
[{"$f":"'[1]Tabel 4F B DATA'!L128","v":"Læge"},null,{"$f":"'[1]Tabel 4F B DATA'!N128","v":7},{"$f":"'[1]Tabel 4F B DATA'!O128","v":11},{"$f":"'[1]Tabel 4F B DATA'!P128","v":3},{"$f":"'[1]Tabel 4F B DATA'!Q128","v":5},{"$f":"'[1]Tabel 4F B DATA'!R128","v":4},null,{"$f":"'[1]Tabel 4F B DATA'!T128","v":30}]
[{"$f":"'[1]Tabel 4F B DATA'!L129","v":"Tandlæge"},null,{"$f":"'[1]Tabel 4F B DATA'!N129","v":1},{"$f":"'[1]Tabel 4F B DATA'!O129","v":2},{"$f":"'[1]Tabel 4F B DATA'!P129","v":6},{"$f":"'[1]Tabel 4F B DATA'!Q129","v":1},{"$f":"'[1]Tabel 4F B DATA'!R129","v":0},null,{"$f":"'[1]Tabel 4F B DATA'!T129","v":10}]
[{"$f":"'[1]Tabel 4F B DATA'!L130","v":"Arkitekt"},null,{"$f":"'[1]Tabel 4F B DATA'!N130","v":0},{"$f":"'[1]Tabel 4F B DATA'!O130","v":2},{"$f":"'[1]Tabel 4F B DATA'!P130","v":5},{"$f":"'[1]Tabel 4F B DATA'!Q130","v":2},{"$f":"'[1]Tabel 4F B DATA'!R130","v":5},null,{"$f":"'[1]Tabel 4F B DATA'!T130","v":14}]
[{"$f":"'[1]Tabel 4F B DATA'!L131","v":"Landinspek."},null,{"$f":"'[1]Tabel 4F B DATA'!N131","v":0},{"$f":"'[1]Tabel 4F B DATA'!O131","v":0},{"$f":"'[1]Tabel 4F B DATA'!P131","v":1},{"$f":"'[1]Tabel 4F B DATA'!Q131","v":0},{"$f":"'[1]Tabel 4F B DATA'!R131","v":0},null,{"$f":"'[1]Tabel 4F B DATA'!T131","v":1}]
[{"$f":"'[1]Tabel 4F B DATA'!L132","v":"Bibliotekar"},null,{"$f":"'[1]Tabel 4F B DATA'!N132","v":1},{"$f":"'[1]Tabel 4F B DATA'!O132","v":4},{"$f":"'[1]Tabel 4F B DATA'!P132","v":4},{"$f":"'[1]Tabel 4F B DATA'!Q132","v":5},{"$f":"'[1]Tabel 4F B DATA'!R132","v":2},null,{"$f":"'[1]Tabel 4F B DATA'!T132","v":16}]
[{"$f":"'[1]Tabel 4F B DATA'!L133","v":"Musikudd."},null,{"$f":"'[1]Tabel 4F B DATA'!N133","v":0},{"$f":"'[1]Tabel 4F B DATA'!O133","v":0},{"$f":"'[1]Tabel 4F B DATA'!P133","v":0},{"$f":"'[1]Tabel 4F B DATA'!Q133","v":2},{"$f":"'[1]Tabel 4F B DATA'!R133","v":0},null,{"$f":"'[1]Tabel 4F B DATA'!T133","v":2}]
[{"$f":"'[1]Tabel 4F B DATA'!L134","v":"Teolog"},null,{"$f":"'[1]Tabel 4F B DATA'!N134","v":0},{"$f":"'[1]Tabel 4F B DATA'!O134","v":1},{"$f":"'[1]Tabel 4F B DATA'!P134","v":3},{"$f":"'[1]Tabel 4F B DATA'!Q134","v":3},{"$f":"'[1]Tabel 4F B DATA'!R134","v":5},null,{"$f":"'[1]Tabel 4F B DATA'!T134","v":12}]
[{"$f":"'[1]Tabel 4F B DATA'!L135","v":"Psykolog"},null,{"$f":"'[1]Tabel 4F B DATA'!N135","v":5},{"$f":"'[1]Tabel 4F B DATA'!O135","v":9},{"$f":"'[1]Tabel 4F B DATA'!P135","v":14},{"$f":"'[1]Tabel 4F B DATA'!Q135","v":2},{"$f":"'[1]Tabel 4F B DATA'!R135","v":1},null,{"$f":"'[1]Tabel 4F B DATA'!T135","v":31}]
[{"$f":"'[1]Tabel 4F B DATA'!L136","v":"Jurist"},null,{"$f":"'[1]Tabel 4F B DATA'!N136","v":2},{"$f":"'[1]Tabel 4F B DATA'!O136","v":10},{"$f":"'[1]Tabel 4F B DATA'!P136","v":8},{"$f":"'[1]Tabel 4F B DATA'!Q136","v":9},{"$f":"'[1]Tabel 4F B DATA'!R136","v":3},null,{"$f":"'[1]Tabel 4F B DATA'!T136","v":32}]
[{"$f":"'[1]Tabel 4F B DATA'!L137","v":"Økonom"},null,{"$f":"'[1]Tabel 4F B DATA'!N137","v":1},{"$f":"'[1]Tabel 4F B DATA'!O137","v":3},{"$f":"'[1]Tabel 4F B DATA'!P137","v":2},{"$f":"'[1]Tabel 4F B DATA'!Q137","v":4},{"$f":"'[1]Tabel 4F B DATA'!R137","v":0},null,{"$f":"'[1]Tabel 4F B DATA'!T137","v":10}]
[{"$f":"'[1]Tabel 4F B DATA'!L138","v":"Samf. Adm."},null,{"$f":"'[1]Tabel 4F B DATA'!N138","v":1},{"$f":"'[1]Tabel 4F B DATA'!O138","v":18},{"$f":"'[1]Tabel 4F B DATA'!P138","v":22},{"$f":"'[1]Tabel 4F B DATA'!Q138","v":10},{"$f":"'[1]Tabel 4F B DATA'!R138","v":4},null,{"$f":"'[1]Tabel 4F B DATA'!T138","v":55}]
[{"$f":"'[1]Tabel 4F B DATA'!L139","v":"Cand. Merc."},null,{"$f":"'[1]Tabel 4F B DATA'!N139","v":2},{"$f":"'[1]Tabel 4F B DATA'!O139","v":7},{"$f":"'[1]Tabel 4F B DATA'!P139","v":11},{"$f":"'[1]Tabel 4F B DATA'!Q139","v":10},{"$f":"'[1]Tabel 4F B DATA'!R139","v":2},null,{"$f":"'[1]Tabel 4F B DATA'!T139","v":32}]
[{"$f":"'[1]Tabel 4F B DATA'!L140","v":"HA"},null,{"$f":"'[1]Tabel 4F B DATA'!N140","v":0},{"$f":"'[1]Tabel 4F B DATA'!O140","v":2},{"$f":"'[1]Tabel 4F B DATA'!P140","v":2},{"$f":"'[1]Tabel 4F B DATA'!Q140","v":7},{"$f":"'[1]Tabel 4F B DATA'!R140","v":1},null,{"$f":"'[1]Tabel 4F B DATA'!T140","v":12}]
[{"$f":"'[1]Tabel 4F B DATA'!L141","v":"HD"},null,{"$f":"'[1]Tabel 4F B DATA'!N141","v":0},{"$f":"'[1]Tabel 4F B DATA'!O141","v":2},{"$f":"'[1]Tabel 4F B DATA'!P141","v":2},{"$f":"'[1]Tabel 4F B DATA'!Q141","v":2},{"$f":"'[1]Tabel 4F B DATA'!R141","v":3},null,{"$f":"'[1]Tabel 4F B DATA'!T141","v":9}]
[{"$f":"'[1]Tabel 4F B DATA'!L142","v":"Komm. og Sprog"},null,{"$f":"'[1]Tabel 4F B DATA'!N142","v":1},{"$f":"'[1]Tabel 4F B DATA'!O142","v":7},{"$f":"'[1]Tabel 4F B DATA'!P142","v":3},{"$f":"'[1]Tabel 4F B DATA'!Q142","v":3},{"$f":"'[1]Tabel 4F B DATA'!R142","v":1},null,{"$f":"'[1]Tabel 4F B DATA'!T142","v":15}]
[{"$f":"'[1]Tabel 4F B DATA'!L143","v":"Bygningskonst."},null,{"$f":"'[1]Tabel 4F B DATA'!N143","v":4},{"$f":"'[1]Tabel 4F B DATA'!O143","v":9},{"$f":"'[1]Tabel 4F B DATA'!P143","v":7},{"$f":"'[1]Tabel 4F B DATA'!Q143","v":6},{"$f":"'[1]Tabel 4F B DATA'!R143","v":2},null,{"$f":"'[1]Tabel 4F B DATA'!T143","v":28}]
[{"$f":"'[1]Tabel 4F B DATA'!L144","v":"Cand. IT."},null,{"$f":"'[1]Tabel 4F B DATA'!N144","v":0},{"$f":"'[1]Tabel 4F B DATA'!O144","v":1},{"$f":"'[1]Tabel 4F B DATA'!P144","v":1},{"$f":"'[1]Tabel 4F B DATA'!Q144","v":0},{"$f":"'[1]Tabel 4F B DATA'!R144","v":0},null,{"$f":"'[1]Tabel 4F B DATA'!T144","v":2}]
[{"$f":"'[1]Tabel 4F B DATA'!L145","v":"Bac. Samf."},null,{"$f":"'[1]Tabel 4F B DATA'!N145","v":0},{"$f":"'[1]Tabel 4F B DATA'!O145","v":3},{"$f":"'[1]Tabel 4F B DATA'!P145","v":1},{"$f":"'[1]Tabel 4F B DATA'!Q145","v":0},{"$f":"'[1]Tabel 4F B DATA'!R145","v":1},null,{"$f":"'[1]Tabel 4F B DATA'!T145","v":5}]
[{"$f":"'[1]Tabel 4F B DATA'!L146","v":"Bac. Hum."},null,{"$f":"'[1]Tabel 4F B DATA'!N146","v":2},{"$f":"'[1]Tabel 4F B DATA'!O146","v":4},{"$f":"'[1]Tabel 4F B DATA'!P146","v":4},{"$f":"'[1]Tabel 4F B DATA'!Q146","v":2},{"$f":"'[1]Tabel 4F B DATA'!R146","v":1},null,{"$f":"'[1]Tabel 4F B DATA'!T146","v":13}]
[{"$f":"'[1]Tabel 4F B DATA'!L147","v":"Bac. Nat."},null,{"$f":"'[1]Tabel 4F B DATA'!N147","v":3},{"$f":"'[1]Tabel 4F B DATA'!O147","v":3},{"$f":"'[1]Tabel 4F B DATA'!P147","v":2},{"$f":"'[1]Tabel 4F B DATA'!Q147","v":1},{"$f":"'[1]Tabel 4F B DATA'!R147","v":1},null,{"$f":"'[1]Tabel 4F B DATA'!T147","v":10}]
[{"$f":"'[1]Tabel 4F B DATA'!L148","v":"Andre"},null,{"$f":"'[1]Tabel 4F B DATA'!N148","v":4},{"$f":"'[1]Tabel 4F B DATA'!O148","v":18},{"$f":"'[1]Tabel 4F B DATA'!P148","v":27},{"$f":"'[1]Tabel 4F B DATA'!Q148","v":35},{"$f":"'[1]Tabel 4F B DATA'!R148","v":25},null,{"$f":"'[1]Tabel 4F B DATA'!T148","v":109}]
[]
[{"$f":"'[1]Tabel 4F B DATA'!L150","v":"Total"},null,{"$f":"'[1]Tabel 4F B DATA'!N150","v":55},{"$f":"'[1]Tabel 4F B DATA'!O150","v":237},{"$f":"'[1]Tabel 4F B DATA'!P150","v":225},{"$f":"'[1]Tabel 4F B DATA'!Q150","v":200},{"$f":"'[1]Tabel 4F B DATA'!R150","v":108},null,{"$f":"'[1]Tabel 4F B DATA'!T150","v":825}]
[]
[{"$f":"'[1]Tabel 4F B DATA'!L152","v":"Ingeniører i alt"},null,{"$f":"'[1]Tabel 4F B DATA'!N152","v":6},{"$f":"'[1]Tabel 4F B DATA'!O152","v":25},{"$f":"'[1]Tabel 4F B DATA'!P152","v":25},{"$f":"'[1]Tabel 4F B DATA'!Q152","v":29},{"$f":"'[1]Tabel 4F B DATA'!R152","v":12},null,{"$f":"'[1]Tabel 4F B DATA'!T152","v":97}]
[{"$f":"'[1]Tabel 4F B DATA'!L153","v":"Magistre i alt"},null,{"$f":"'[1]Tabel 4F B DATA'!N153","v":8},{"$f":"'[1]Tabel 4F B DATA'!O153","v":72},{"$f":"'[1]Tabel 4F B DATA'!P153","v":55},{"$f":"'[1]Tabel 4F B DATA'!Q153","v":47},{"$f":"'[1]Tabel 4F B DATA'!R153","v":27},null,{"$f":"'[1]Tabel 4F B DATA'!T153","v":209}]
[{"$f":"'[1]Tabel 4F B DATA'!L154","v":"DJØF'ere i alt"},null,{"$f":"'[1]Tabel 4F B DATA'!N154","v":6},{"$f":"'[1]Tabel 4F B DATA'!O154","v":40},{"$f":"'[1]Tabel 4F B DATA'!P154","v":45},{"$f":"'[1]Tabel 4F B DATA'!Q154","v":40},{"$f":"'[1]Tabel 4F B DATA'!R154","v":10},null,{"$f":"'[1]Tabel 4F B DATA'!T154","v":141}]
[]
[]
[]
[]
[]
[]
[{"$f":"'[1]Tabel 4F B DATA'!L159","v":"Christiansø"}]
[]
[null,null,{"$f":"'[1]Tabel 4F B DATA'!N161","v":"Under 30 år"},{"$f":"'[1]Tabel 4F B DATA'!O161","v":"30 - 39 år"},{"$f":"'[1]Tabel 4F B DATA'!P161","v":"40 - 49 år"},{"$f":"'[1]Tabel 4F B DATA'!Q161","v":"50 - 59 år"},{"$f":"'[1]Tabel 4F B DATA'!R161","v":"Over 60 år"},null,{"$f":"'[1]Tabel 4F B DATA'!T161","v":"I alt"}]
[]
[{"$f":"'[1]Tabel 4F B DATA'!L163","v":"Civ. ing."},null,{"$f":"'[1]Tabel 4F B DATA'!N163","v":0},{"$f":"'[1]Tabel 4F B DATA'!O163","v":0},{"$f":"'[1]Tabel 4F B DATA'!P163","v":0},{"$f":"'[1]Tabel 4F B DATA'!Q163","v":0},{"$f":"'[1]Tabel 4F B DATA'!R163","v":0},null,{"$f":"'[1]Tabel 4F B DATA'!T163","v":0}]
[{"$f":"'[1]Tabel 4F B DATA'!L164","v":"Diplom ing."},null,{"$f":"'[1]Tabel 4F B DATA'!N164","v":0},{"$f":"'[1]Tabel 4F B DATA'!O164","v":0},{"$f":"'[1]Tabel 4F B DATA'!P164","v":0},{"$f":"'[1]Tabel 4F B DATA'!Q164","v":0},{"$f":"'[1]Tabel 4F B DATA'!R164","v":0},null,{"$f":"'[1]Tabel 4F B DATA'!T164","v":0}]
[{"$f":"'[1]Tabel 4F B DATA'!L165","v":"Cand. Scient. Tek."},null,{"$f":"'[1]Tabel 4F B DATA'!N165","v":0},{"$f":"'[1]Tabel 4F B DATA'!O165","v":0},{"$f":"'[1]Tabel 4F B DATA'!P165","v":0},{"$f":"'[1]Tabel 4F B DATA'!Q165","v":0},{"$f":"'[1]Tabel 4F B DATA'!R165","v":0},null,{"$f":"'[1]Tabel 4F B DATA'!T165","v":0}]
[{"$f":"'[1]Tabel 4F B DATA'!L166","v":"MA. Hum."},null,{"$f":"'[1]Tabel 4F B DATA'!N166","v":0},{"$f":"'[1]Tabel 4F B DATA'!O166","v":0},{"$f":"'[1]Tabel 4F B DATA'!P166","v":0},{"$f":"'[1]Tabel 4F B DATA'!Q166","v":0},{"$f":"'[1]Tabel 4F B DATA'!R166","v":0},null,{"$f":"'[1]Tabel 4F B DATA'!T166","v":0}]
[{"$f":"'[1]Tabel 4F B DATA'!L167","v":"MA. Nat."},null,{"$f":"'[1]Tabel 4F B DATA'!N167","v":0},{"$f":"'[1]Tabel 4F B DATA'!O167","v":0},{"$f":"'[1]Tabel 4F B DATA'!P167","v":0},{"$f":"'[1]Tabel 4F B DATA'!Q167","v":0},{"$f":"'[1]Tabel 4F B DATA'!R167","v":0},null,{"$f":"'[1]Tabel 4F B DATA'!T167","v":0}]
[{"$f":"'[1]Tabel 4F B DATA'!L168","v":"MA. Ph.d."},null,{"$f":"'[1]Tabel 4F B DATA'!N168","v":0},{"$f":"'[1]Tabel 4F B DATA'!O168","v":0},{"$f":"'[1]Tabel 4F B DATA'!P168","v":0},{"$f":"'[1]Tabel 4F B DATA'!Q168","v":0},{"$f":"'[1]Tabel 4F B DATA'!R168","v":0},null,{"$f":"'[1]Tabel 4F B DATA'!T168","v":0}]
[{"$f":"'[1]Tabel 4F B DATA'!L169","v":"MA. Samf."},null,{"$f":"'[1]Tabel 4F B DATA'!N169","v":0},{"$f":"'[1]Tabel 4F B DATA'!O169","v":0},{"$f":"'[1]Tabel 4F B DATA'!P169","v":0},{"$f":"'[1]Tabel 4F B DATA'!Q169","v":0},{"$f":"'[1]Tabel 4F B DATA'!R169","v":0},null,{"$f":"'[1]Tabel 4F B DATA'!T169","v":0}]
[{"$f":"'[1]Tabel 4F B DATA'!L170","v":"Øvrige Mag."},null,{"$f":"'[1]Tabel 4F B DATA'!N170","v":0},{"$f":"'[1]Tabel 4F B DATA'!O170","v":0},{"$f":"'[1]Tabel 4F B DATA'!P170","v":0},{"$f":"'[1]Tabel 4F B DATA'!Q170","v":0},{"$f":"'[1]Tabel 4F B DATA'!R170","v":0},null,{"$f":"'[1]Tabel 4F B DATA'!T170","v":0}]
[{"$f":"'[1]Tabel 4F B DATA'!L171","v":"Agronom"},null,{"$f":"'[1]Tabel 4F B DATA'!N171","v":0},{"$f":"'[1]Tabel 4F B DATA'!O171","v":0},{"$f":"'[1]Tabel 4F B DATA'!P171","v":0},{"$f":"'[1]Tabel 4F B DATA'!Q171","v":0},{"$f":"'[1]Tabel 4F B DATA'!R171","v":0},null,{"$f":"'[1]Tabel 4F B DATA'!T171","v":0}]
[{"$f":"'[1]Tabel 4F B DATA'!L172","v":"Landsk. Arkt."},null,{"$f":"'[1]Tabel 4F B DATA'!N172","v":0},{"$f":"'[1]Tabel 4F B DATA'!O172","v":0},{"$f":"'[1]Tabel 4F B DATA'!P172","v":0},{"$f":"'[1]Tabel 4F B DATA'!Q172","v":0},{"$f":"'[1]Tabel 4F B DATA'!R172","v":0},null,{"$f":"'[1]Tabel 4F B DATA'!T172","v":0}]
[{"$f":"'[1]Tabel 4F B DATA'!L173","v":"Hortonom"},null,{"$f":"'[1]Tabel 4F B DATA'!N173","v":0},{"$f":"'[1]Tabel 4F B DATA'!O173","v":0},{"$f":"'[1]Tabel 4F B DATA'!P173","v":0},{"$f":"'[1]Tabel 4F B DATA'!Q173","v":0},{"$f":"'[1]Tabel 4F B DATA'!R173","v":0},null,{"$f":"'[1]Tabel 4F B DATA'!T173","v":0}]
[{"$f":"'[1]Tabel 4F B DATA'!L174","v":"Forstkand."},null,{"$f":"'[1]Tabel 4F B DATA'!N174","v":0},{"$f":"'[1]Tabel 4F B DATA'!O174","v":0},{"$f":"'[1]Tabel 4F B DATA'!P174","v":0},{"$f":"'[1]Tabel 4F B DATA'!Q174","v":0},{"$f":"'[1]Tabel 4F B DATA'!R174","v":0},null,{"$f":"'[1]Tabel 4F B DATA'!T174","v":0}]
[{"$f":"'[1]Tabel 4F B DATA'!L175","v":"Jordbrugsakad."},null,{"$f":"'[1]Tabel 4F B DATA'!N175","v":0},{"$f":"'[1]Tabel 4F B DATA'!O175","v":0},{"$f":"'[1]Tabel 4F B DATA'!P175","v":0},{"$f":"'[1]Tabel 4F B DATA'!Q175","v":0},{"$f":"'[1]Tabel 4F B DATA'!R175","v":0},null,{"$f":"'[1]Tabel 4F B DATA'!T175","v":0}]
[{"$f":"'[1]Tabel 4F B DATA'!L176","v":"Mejeriing."},null,{"$f":"'[1]Tabel 4F B DATA'!N176","v":0},{"$f":"'[1]Tabel 4F B DATA'!O176","v":0},{"$f":"'[1]Tabel 4F B DATA'!P176","v":0},{"$f":"'[1]Tabel 4F B DATA'!Q176","v":0},{"$f":"'[1]Tabel 4F B DATA'!R176","v":0},null,{"$f":"'[1]Tabel 4F B DATA'!T176","v":0}]
[{"$f":"'[1]Tabel 4F B DATA'!L177","v":"Levn.m.kand."},null,{"$f":"'[1]Tabel 4F B DATA'!N177","v":0},{"$f":"'[1]Tabel 4F B DATA'!O177","v":0},{"$f":"'[1]Tabel 4F B DATA'!P177","v":0},{"$f":"'[1]Tabel 4F B DATA'!Q177","v":0},{"$f":"'[1]Tabel 4F B DATA'!R177","v":0},null,{"$f":"'[1]Tabel 4F B DATA'!T177","v":0}]
[{"$f":"'[1]Tabel 4F B DATA'!L178","v":"Dyrlæge"},null,{"$f":"'[1]Tabel 4F B DATA'!N178","v":0},{"$f":"'[1]Tabel 4F B DATA'!O178","v":0},{"$f":"'[1]Tabel 4F B DATA'!P178","v":0},{"$f":"'[1]Tabel 4F B DATA'!Q178","v":0},{"$f":"'[1]Tabel 4F B DATA'!R178","v":0},null,{"$f":"'[1]Tabel 4F B DATA'!T178","v":0}]
[{"$f":"'[1]Tabel 4F B DATA'!L179","v":"Farmaceut"},null,{"$f":"'[1]Tabel 4F B DATA'!N179","v":0},{"$f":"'[1]Tabel 4F B DATA'!O179","v":0},{"$f":"'[1]Tabel 4F B DATA'!P179","v":0},{"$f":"'[1]Tabel 4F B DATA'!Q179","v":0},{"$f":"'[1]Tabel 4F B DATA'!R179","v":0},null,{"$f":"'[1]Tabel 4F B DATA'!T179","v":0}]
[{"$f":"'[1]Tabel 4F B DATA'!L180","v":"Læge"},null,{"$f":"'[1]Tabel 4F B DATA'!N180","v":0},{"$f":"'[1]Tabel 4F B DATA'!O180","v":0},{"$f":"'[1]Tabel 4F B DATA'!P180","v":0},{"$f":"'[1]Tabel 4F B DATA'!Q180","v":0},{"$f":"'[1]Tabel 4F B DATA'!R180","v":1},null,{"$f":"'[1]Tabel 4F B DATA'!T180","v":1}]
[{"$f":"'[1]Tabel 4F B DATA'!L181","v":"Tandlæge"},null,{"$f":"'[1]Tabel 4F B DATA'!N181","v":0},{"$f":"'[1]Tabel 4F B DATA'!O181","v":0},{"$f":"'[1]Tabel 4F B DATA'!P181","v":0},{"$f":"'[1]Tabel 4F B DATA'!Q181","v":0},{"$f":"'[1]Tabel 4F B DATA'!R181","v":0},null,{"$f":"'[1]Tabel 4F B DATA'!T181","v":0}]
[{"$f":"'[1]Tabel 4F B DATA'!L182","v":"Arkitekt"},null,{"$f":"'[1]Tabel 4F B DATA'!N182","v":0},{"$f":"'[1]Tabel 4F B DATA'!O182","v":0},{"$f":"'[1]Tabel 4F B DATA'!P182","v":0},{"$f":"'[1]Tabel 4F B DATA'!Q182","v":0},{"$f":"'[1]Tabel 4F B DATA'!R182","v":0},null,{"$f":"'[1]Tabel 4F B DATA'!T182","v":0}]
[{"$f":"'[1]Tabel 4F B DATA'!L183","v":"Landinspek."},null,{"$f":"'[1]Tabel 4F B DATA'!N183","v":0},{"$f":"'[1]Tabel 4F B DATA'!O183","v":0},{"$f":"'[1]Tabel 4F B DATA'!P183","v":0},{"$f":"'[1]Tabel 4F B DATA'!Q183","v":0},{"$f":"'[1]Tabel 4F B DATA'!R183","v":0},null,{"$f":"'[1]Tabel 4F B DATA'!T183","v":0}]
[{"$f":"'[1]Tabel 4F B DATA'!L184","v":"Bibliotekar"},null,{"$f":"'[1]Tabel 4F B DATA'!N184","v":0},{"$f":"'[1]Tabel 4F B DATA'!O184","v":0},{"$f":"'[1]Tabel 4F B DATA'!P184","v":0},{"$f":"'[1]Tabel 4F B DATA'!Q184","v":0},{"$f":"'[1]Tabel 4F B DATA'!R184","v":0},null,{"$f":"'[1]Tabel 4F B DATA'!T184","v":0}]
[{"$f":"'[1]Tabel 4F B DATA'!L185","v":"Musikudd."},null,{"$f":"'[1]Tabel 4F B DATA'!N185","v":0},{"$f":"'[1]Tabel 4F B DATA'!O185","v":0},{"$f":"'[1]Tabel 4F B DATA'!P185","v":0},{"$f":"'[1]Tabel 4F B DATA'!Q185","v":0},{"$f":"'[1]Tabel 4F B DATA'!R185","v":0},null,{"$f":"'[1]Tabel 4F B DATA'!T185","v":0}]
[{"$f":"'[1]Tabel 4F B DATA'!L186","v":"Teolog"},null,{"$f":"'[1]Tabel 4F B DATA'!N186","v":0},{"$f":"'[1]Tabel 4F B DATA'!O186","v":0},{"$f":"'[1]Tabel 4F B DATA'!P186","v":0},{"$f":"'[1]Tabel 4F B DATA'!Q186","v":0},{"$f":"'[1]Tabel 4F B DATA'!R186","v":0},null,{"$f":"'[1]Tabel 4F B DATA'!T186","v":0}]
[{"$f":"'[1]Tabel 4F B DATA'!L187","v":"Psykolog"},null,{"$f":"'[1]Tabel 4F B DATA'!N187","v":0},{"$f":"'[1]Tabel 4F B DATA'!O187","v":0},{"$f":"'[1]Tabel 4F B DATA'!P187","v":0},{"$f":"'[1]Tabel 4F B DATA'!Q187","v":0},{"$f":"'[1]Tabel 4F B DATA'!R187","v":0},null,{"$f":"'[1]Tabel 4F B DATA'!T187","v":0}]
[{"$f":"'[1]Tabel 4F B DATA'!L188","v":"Jurist"},null,{"$f":"'[1]Tabel 4F B DATA'!N188","v":0},{"$f":"'[1]Tabel 4F B DATA'!O188","v":0},{"$f":"'[1]Tabel 4F B DATA'!P188","v":0},{"$f":"'[1]Tabel 4F B DATA'!Q188","v":0},{"$f":"'[1]Tabel 4F B DATA'!R188","v":0},null,{"$f":"'[1]Tabel 4F B DATA'!T188","v":0}]
[{"$f":"'[1]Tabel 4F B DATA'!L189","v":"Økonom"},null,{"$f":"'[1]Tabel 4F B DATA'!N189","v":0},{"$f":"'[1]Tabel 4F B DATA'!O189","v":0},{"$f":"'[1]Tabel 4F B DATA'!P189","v":0},{"$f":"'[1]Tabel 4F B DATA'!Q189","v":0},{"$f":"'[1]Tabel 4F B DATA'!R189","v":0},null,{"$f":"'[1]Tabel 4F B DATA'!T189","v":0}]
[{"$f":"'[1]Tabel 4F B DATA'!L190","v":"Samf. Adm."},null,{"$f":"'[1]Tabel 4F B DATA'!N190","v":0},{"$f":"'[1]Tabel 4F B DATA'!O190","v":0},{"$f":"'[1]Tabel 4F B DATA'!P190","v":0},{"$f":"'[1]Tabel 4F B DATA'!Q190","v":0},{"$f":"'[1]Tabel 4F B DATA'!R190","v":0},null,{"$f":"'[1]Tabel 4F B DATA'!T190","v":0}]
[{"$f":"'[1]Tabel 4F B DATA'!L191","v":"Cand. Merc."},null,{"$f":"'[1]Tabel 4F B DATA'!N191","v":0},{"$f":"'[1]Tabel 4F B DATA'!O191","v":0},{"$f":"'[1]Tabel 4F B DATA'!P191","v":0},{"$f":"'[1]Tabel 4F B DATA'!Q191","v":0},{"$f":"'[1]Tabel 4F B DATA'!R191","v":0},null,{"$f":"'[1]Tabel 4F B DATA'!T191","v":0}]
[{"$f":"'[1]Tabel 4F B DATA'!L192","v":"HA"},null,{"$f":"'[1]Tabel 4F B DATA'!N192","v":0},{"$f":"'[1]Tabel 4F B DATA'!O192","v":0},{"$f":"'[1]Tabel 4F B DATA'!P192","v":0},{"$f":"'[1]Tabel 4F B DATA'!Q192","v":0},{"$f":"'[1]Tabel 4F B DATA'!R192","v":0},null,{"$f":"'[1]Tabel 4F B DATA'!T192","v":0}]
[{"$f":"'[1]Tabel 4F B DATA'!L193","v":"HD"},null,{"$f":"'[1]Tabel 4F B DATA'!N193","v":0},{"$f":"'[1]Tabel 4F B DATA'!O193","v":0},{"$f":"'[1]Tabel 4F B DATA'!P193","v":0},{"$f":"'[1]Tabel 4F B DATA'!Q193","v":0},{"$f":"'[1]Tabel 4F B DATA'!R193","v":0},null,{"$f":"'[1]Tabel 4F B DATA'!T193","v":0}]
[{"$f":"'[1]Tabel 4F B DATA'!L194","v":"Komm. og Sprog"},null,{"$f":"'[1]Tabel 4F B DATA'!N194","v":0},{"$f":"'[1]Tabel 4F B DATA'!O194","v":0},{"$f":"'[1]Tabel 4F B DATA'!P194","v":0},{"$f":"'[1]Tabel 4F B DATA'!Q194","v":0},{"$f":"'[1]Tabel 4F B DATA'!R194","v":0},null,{"$f":"'[1]Tabel 4F B DATA'!T194","v":0}]
[{"$f":"'[1]Tabel 4F B DATA'!L195","v":"Bygningskonst."},null,{"$f":"'[1]Tabel 4F B DATA'!N195","v":0},{"$f":"'[1]Tabel 4F B DATA'!O195","v":0},{"$f":"'[1]Tabel 4F B DATA'!P195","v":0},{"$f":"'[1]Tabel 4F B DATA'!Q195","v":0},{"$f":"'[1]Tabel 4F B DATA'!R195","v":0},null,{"$f":"'[1]Tabel 4F B DATA'!T195","v":0}]
[{"$f":"'[1]Tabel 4F B DATA'!L196","v":"Cand. IT."},null,{"$f":"'[1]Tabel 4F B DATA'!N196","v":0},{"$f":"'[1]Tabel 4F B DATA'!O196","v":0},{"$f":"'[1]Tabel 4F B DATA'!P196","v":0},{"$f":"'[1]Tabel 4F B DATA'!Q196","v":0},{"$f":"'[1]Tabel 4F B DATA'!R196","v":0},null,{"$f":"'[1]Tabel 4F B DATA'!T196","v":0}]
[{"$f":"'[1]Tabel 4F B DATA'!L197","v":"Bac. Samf."},null,{"$f":"'[1]Tabel 4F B DATA'!N197","v":0},{"$f":"'[1]Tabel 4F B DATA'!O197","v":0},{"$f":"'[1]Tabel 4F B DATA'!P197","v":0},{"$f":"'[1]Tabel 4F B DATA'!Q197","v":0},{"$f":"'[1]Tabel 4F B DATA'!R197","v":0},null,{"$f":"'[1]Tabel 4F B DATA'!T197","v":0}]
[{"$f":"'[1]Tabel 4F B DATA'!L198","v":"Bac. Hum."},null,{"$f":"'[1]Tabel 4F B DATA'!N198","v":0},{"$f":"'[1]Tabel 4F B DATA'!O198","v":0},{"$f":"'[1]Tabel 4F B DATA'!P198","v":0},{"$f":"'[1]Tabel 4F B DATA'!Q198","v":0},{"$f":"'[1]Tabel 4F B DATA'!R198","v":0},null,{"$f":"'[1]Tabel 4F B DATA'!T198","v":0}]
[{"$f":"'[1]Tabel 4F B DATA'!L199","v":"Bac. Nat."},null,{"$f":"'[1]Tabel 4F B DATA'!N199","v":0},{"$f":"'[1]Tabel 4F B DATA'!O199","v":0},{"$f":"'[1]Tabel 4F B DATA'!P199","v":0},{"$f":"'[1]Tabel 4F B DATA'!Q199","v":0},{"$f":"'[1]Tabel 4F B DATA'!R199","v":0},null,{"$f":"'[1]Tabel 4F B DATA'!T199","v":0}]
[{"$f":"'[1]Tabel 4F B DATA'!L200","v":"Andre"},null,{"$f":"'[1]Tabel 4F B DATA'!N200","v":0},{"$f":"'[1]Tabel 4F B DATA'!O200","v":0},{"$f":"'[1]Tabel 4F B DATA'!P200","v":0},{"$f":"'[1]Tabel 4F B DATA'!Q200","v":0},{"$f":"'[1]Tabel 4F B DATA'!R200","v":0},null,{"$f":"'[1]Tabel 4F B DATA'!T200","v":0}]
[]
[{"$f":"'[1]Tabel 4F B DATA'!L202","v":"Total"},null,{"$f":"'[1]Tabel 4F B DATA'!N202","v":0},{"$f":"'[1]Tabel 4F B DATA'!O202","v":0},{"$f":"'[1]Tabel 4F B DATA'!P202","v":0},{"$f":"'[1]Tabel 4F B DATA'!Q202","v":0},{"$f":"'[1]Tabel 4F B DATA'!R202","v":1},null,{"$f":"'[1]Tabel 4F B DATA'!T202","v":1}]
[]
[{"$f":"'[1]Tabel 4F B DATA'!L204","v":"Ingeniører i alt"},null,{"$f":"'[1]Tabel 4F B DATA'!N204","v":0},{"$f":"'[1]Tabel 4F B DATA'!O204","v":0},{"$f":"'[1]Tabel 4F B DATA'!P204","v":0},{"$f":"'[1]Tabel 4F B DATA'!Q204","v":0},{"$f":"'[1]Tabel 4F B DATA'!R204","v":0},null,{"$f":"'[1]Tabel 4F B DATA'!T204","v":0}]
[{"$f":"'[1]Tabel 4F B DATA'!L205","v":"Magistre i alt"},null,{"$f":"'[1]Tabel 4F B DATA'!N205","v":0},{"$f":"'[1]Tabel 4F B DATA'!O205","v":0},{"$f":"'[1]Tabel 4F B DATA'!P205","v":0},{"$f":"'[1]Tabel 4F B DATA'!Q205","v":0},{"$f":"'[1]Tabel 4F B DATA'!R205","v":0},null,{"$f":"'[1]Tabel 4F B DATA'!T205","v":0}]
[{"$f":"'[1]Tabel 4F B DATA'!L206","v":"DJØF'ere i alt"},null,{"$f":"'[1]Tabel 4F B DATA'!N206","v":0},{"$f":"'[1]Tabel 4F B DATA'!O206","v":0},{"$f":"'[1]Tabel 4F B DATA'!P206","v":0},{"$f":"'[1]Tabel 4F B DATA'!Q206","v":0},{"$f":"'[1]Tabel 4F B DATA'!R206","v":0},null,{"$f":"'[1]Tabel 4F B DATA'!T206","v":0}]

{"sheet":"Tabel 4 B","index":5,"n_rows":158,"n_cols":9,"rows_kept":158,"cut":false,"hidden":false,"merged":[]}
[{"$f":"'[1]Tabel 4 B DATA'!I1","v":"Tabel 4. Ledighedsberørte - aldersfordelt"}]
[]
[{"$f":"'[1]Tabel 4 B DATA'!I2","v":"Bornholm"}]
[]
[null,null,{"$f":"'[1]Tabel 4 B DATA'!K4","v":"Under 30 år"},{"$f":"'[1]Tabel 4 B DATA'!L4","v":"30 - 39 år"},{"$f":"'[1]Tabel 4 B DATA'!M4","v":"40 - 49 år"},{"$f":"'[1]Tabel 4 B DATA'!N4","v":"50 - 59 år"},{"$f":"'[1]Tabel 4 B DATA'!O4","v":"Over 60 år"},null,{"$f":"'[1]Tabel 4 B DATA'!Q4","v":"I alt"}]
[]
[{"$f":"'[1]Tabel 4 B DATA'!I6","v":"Civ. ing."},null,{"$f":"'[1]Tabel 4 B DATA'!K6","v":0},{"$f":"'[1]Tabel 4 B DATA'!L6","v":2},{"$f":"'[1]Tabel 4 B DATA'!M6","v":1},{"$f":"'[1]Tabel 4 B DATA'!N6","v":0},{"$f":"'[1]Tabel 4 B DATA'!O6","v":0},null,{"$f":"'[1]Tabel 4 B DATA'!Q6","v":3}]
[{"$f":"'[1]Tabel 4 B DATA'!I7","v":"Diplom ing."},null,{"$f":"'[1]Tabel 4 B DATA'!K7","v":0},{"$f":"'[1]Tabel 4 B DATA'!L7","v":0},{"$f":"'[1]Tabel 4 B DATA'!M7","v":2},{"$f":"'[1]Tabel 4 B DATA'!N7","v":2},{"$f":"'[1]Tabel 4 B DATA'!O7","v":1},null,{"$f":"'[1]Tabel 4 B DATA'!Q7","v":5}]
[{"$f":"'[1]Tabel 4 B DATA'!I8","v":"Cand. Scient. Tek"},null,{"$f":"'[1]Tabel 4 B DATA'!K8","v":0},{"$f":"'[1]Tabel 4 B DATA'!L8","v":4},{"$f":"'[1]Tabel 4 B DATA'!M8","v":1},{"$f":"'[1]Tabel 4 B DATA'!N8","v":0},{"$f":"'[1]Tabel 4 B DATA'!O8","v":0},null,{"$f":"'[1]Tabel 4 B DATA'!Q8","v":5}]
[{"$f":"'[1]Tabel 4 B DATA'!I9","v":"MA. Hum."},null,{"$f":"'[1]Tabel 4 B DATA'!K9","v":1},{"$f":"'[1]Tabel 4 B DATA'!L9","v":7},{"$f":"'[1]Tabel 4 B DATA'!M9","v":5},{"$f":"'[1]Tabel 4 B DATA'!N9","v":1},{"$f":"'[1]Tabel 4 B DATA'!O9","v":4},null,{"$f":"'[1]Tabel 4 B DATA'!Q9","v":18}]
[{"$f":"'[1]Tabel 4 B DATA'!I10","v":"MA. Nat."},null,{"$f":"'[1]Tabel 4 B DATA'!K10","v":0},{"$f":"'[1]Tabel 4 B DATA'!L10","v":0},{"$f":"'[1]Tabel 4 B DATA'!M10","v":2},{"$f":"'[1]Tabel 4 B DATA'!N10","v":0},{"$f":"'[1]Tabel 4 B DATA'!O10","v":1},null,{"$f":"'[1]Tabel 4 B DATA'!Q10","v":3}]
[{"$f":"'[1]Tabel 4 B DATA'!I11","v":"MA. Ph.d."},null,{"$f":"'[1]Tabel 4 B DATA'!K11","v":0},{"$f":"'[1]Tabel 4 B DATA'!L11","v":0},{"$f":"'[1]Tabel 4 B DATA'!M11","v":1},{"$f":"'[1]Tabel 4 B DATA'!N11","v":0},{"$f":"'[1]Tabel 4 B DATA'!O11","v":0},null,{"$f":"'[1]Tabel 4 B DATA'!Q11","v":1}]
[{"$f":"'[1]Tabel 4 B DATA'!I12","v":"MA. Samf."},null,{"$f":"'[1]Tabel 4 B DATA'!K12","v":0},{"$f":"'[1]Tabel 4 B DATA'!L12","v":0},{"$f":"'[1]Tabel 4 B DATA'!M12","v":0},{"$f":"'[1]Tabel 4 B DATA'!N12","v":1},{"$f":"'[1]Tabel 4 B DATA'!O12","v":0},null,{"$f":"'[1]Tabel 4 B DATA'!Q12","v":1}]
[{"$f":"'[1]Tabel 4 B DATA'!I13","v":"Øvrige Mag."},null,{"$f":"'[1]Tabel 4 B DATA'!K13","v":0},{"$f":"'[1]Tabel 4 B DATA'!L13","v":3},{"$f":"'[1]Tabel 4 B DATA'!M13","v":2},{"$f":"'[1]Tabel 4 B DATA'!N13","v":0},{"$f":"'[1]Tabel 4 B DATA'!O13","v":0},null,{"$f":"'[1]Tabel 4 B DATA'!Q13","v":5}]
[{"$f":"'[1]Tabel 4 B DATA'!I14","v":"Agronom"},null,{"$f":"'[1]Tabel 4 B DATA'!K14","v":0},{"$f":"'[1]Tabel 4 B DATA'!L14","v":0},{"$f":"'[1]Tabel 4 B DATA'!M14","v":0},{"$f":"'[1]Tabel 4 B DATA'!N14","v":0},{"$f":"'[1]Tabel 4 B DATA'!O14","v":0},null,{"$f":"'[1]Tabel 4 B DATA'!Q14","v":0}]
[{"$f":"'[1]Tabel 4 B DATA'!I15","v":"Landsk. Arkt."},null,{"$f":"'[1]Tabel 4 B DATA'!K15","v":0},{"$f":"'[1]Tabel 4 B DATA'!L15","v":0},{"$f":"'[1]Tabel 4 B DATA'!M15","v":0},{"$f":"'[1]Tabel 4 B DATA'!N15","v":0},{"$f":"'[1]Tabel 4 B DATA'!O15","v":0},null,{"$f":"'[1]Tabel 4 B DATA'!Q15","v":0}]
[{"$f":"'[1]Tabel 4 B DATA'!I16","v":"Hortonom"},null,{"$f":"'[1]Tabel 4 B DATA'!K16","v":0},{"$f":"'[1]Tabel 4 B DATA'!L16","v":0},{"$f":"'[1]Tabel 4 B DATA'!M16","v":0},{"$f":"'[1]Tabel 4 B DATA'!N16","v":0},{"$f":"'[1]Tabel 4 B DATA'!O16","v":0},null,{"$f":"'[1]Tabel 4 B DATA'!Q16","v":0}]
[{"$f":"'[1]Tabel 4 B DATA'!I17","v":"Forstkand."},null,{"$f":"'[1]Tabel 4 B DATA'!K17","v":0},{"$f":"'[1]Tabel 4 B DATA'!L17","v":0},{"$f":"'[1]Tabel 4 B DATA'!M17","v":0},{"$f":"'[1]Tabel 4 B DATA'!N17","v":0},{"$f":"'[1]Tabel 4 B DATA'!O17","v":0},null,{"$f":"'[1]Tabel 4 B DATA'!Q17","v":0}]
[{"$f":"'[1]Tabel 4 B DATA'!I18","v":"Jordbrugsakad."},null,{"$f":"'[1]Tabel 4 B DATA'!K18","v":0},{"$f":"'[1]Tabel 4 B DATA'!L18","v":0},{"$f":"'[1]Tabel 4 B DATA'!M18","v":0},{"$f":"'[1]Tabel 4 B DATA'!N18","v":0},{"$f":"'[1]Tabel 4 B DATA'!O18","v":0},null,{"$f":"'[1]Tabel 4 B DATA'!Q18","v":0}]
[{"$f":"'[1]Tabel 4 B DATA'!I19","v":"Mejeriing."},null,{"$f":"'[1]Tabel 4 B DATA'!K19","v":0},{"$f":"'[1]Tabel 4 B DATA'!L19","v":0},{"$f":"'[1]Tabel 4 B DATA'!M19","v":0},{"$f":"'[1]Tabel 4 B DATA'!N19","v":0},{"$f":"'[1]Tabel 4 B DATA'!O19","v":0},null,{"$f":"'[1]Tabel 4 B DATA'!Q19","v":0}]
[{"$f":"'[1]Tabel 4 B DATA'!I20","v":"Levn.m.kand."},null,{"$f":"'[1]Tabel 4 B DATA'!K20","v":0},{"$f":"'[1]Tabel 4 B DATA'!L20","v":1},{"$f":"'[1]Tabel 4 B DATA'!M20","v":0},{"$f":"'[1]Tabel 4 B DATA'!N20","v":0},{"$f":"'[1]Tabel 4 B DATA'!O20","v":0},null,{"$f":"'[1]Tabel 4 B DATA'!Q20","v":1}]
[{"$f":"'[1]Tabel 4 B DATA'!I21","v":"Dyrlæge"},null,{"$f":"'[1]Tabel 4 B DATA'!K21","v":0},{"$f":"'[1]Tabel 4 B DATA'!L21","v":0},{"$f":"'[1]Tabel 4 B DATA'!M21","v":0},{"$f":"'[1]Tabel 4 B DATA'!N21","v":0},{"$f":"'[1]Tabel 4 B DATA'!O21","v":0},null,{"$f":"'[1]Tabel 4 B DATA'!Q21","v":0}]
[{"$f":"'[1]Tabel 4 B DATA'!I22","v":"Farmaceut"},null,{"$f":"'[1]Tabel 4 B DATA'!K22","v":0},{"$f":"'[1]Tabel 4 B DATA'!L22","v":0},{"$f":"'[1]Tabel 4 B DATA'!M22","v":0},{"$f":"'[1]Tabel 4 B DATA'!N22","v":0},{"$f":"'[1]Tabel 4 B DATA'!O22","v":0},null,{"$f":"'[1]Tabel 4 B DATA'!Q22","v":0}]
[{"$f":"'[1]Tabel 4 B DATA'!I23","v":"Læge"},null,{"$f":"'[1]Tabel 4 B DATA'!K23","v":1},{"$f":"'[1]Tabel 4 B DATA'!L23","v":0},{"$f":"'[1]Tabel 4 B DATA'!M23","v":0},{"$f":"'[1]Tabel 4 B DATA'!N23","v":0},{"$f":"'[1]Tabel 4 B DATA'!O23","v":0},null,{"$f":"'[1]Tabel 4 B DATA'!Q23","v":1}]
[{"$f":"'[1]Tabel 4 B DATA'!I24","v":"Tandlæge"},null,{"$f":"'[1]Tabel 4 B DATA'!K24","v":0},{"$f":"'[1]Tabel 4 B DATA'!L24","v":0},{"$f":"'[1]Tabel 4 B DATA'!M24","v":0},{"$f":"'[1]Tabel 4 B DATA'!N24","v":0},{"$f":"'[1]Tabel 4 B DATA'!O24","v":0},null,{"$f":"'[1]Tabel 4 B DATA'!Q24","v":0}]
[{"$f":"'[1]Tabel 4 B DATA'!I25","v":"Arkitekt"},null,{"$f":"'[1]Tabel 4 B DATA'!K25","v":0},{"$f":"'[1]Tabel 4 B DATA'!L25","v":0},{"$f":"'[1]Tabel 4 B DATA'!M25","v":0},{"$f":"'[1]Tabel 4 B DATA'!N25","v":1},{"$f":"'[1]Tabel 4 B DATA'!O25","v":0},null,{"$f":"'[1]Tabel 4 B DATA'!Q25","v":1}]
[{"$f":"'[1]Tabel 4 B DATA'!I26","v":"Landinspek."},null,{"$f":"'[1]Tabel 4 B DATA'!K26","v":0},{"$f":"'[1]Tabel 4 B DATA'!L26","v":0},{"$f":"'[1]Tabel 4 B DATA'!M26","v":0},{"$f":"'[1]Tabel 4 B DATA'!N26","v":0},{"$f":"'[1]Tabel 4 B DATA'!O26","v":0},null,{"$f":"'[1]Tabel 4 B DATA'!Q26","v":0}]
[{"$f":"'[1]Tabel 4 B DATA'!I27","v":"Bibliotekar"},null,{"$f":"'[1]Tabel 4 B DATA'!K27","v":0},{"$f":"'[1]Tabel 4 B DATA'!L27","v":0},{"$f":"'[1]Tabel 4 B DATA'!M27","v":0},{"$f":"'[1]Tabel 4 B DATA'!N27","v":0},{"$f":"'[1]Tabel 4 B DATA'!O27","v":1},null,{"$f":"'[1]Tabel 4 B DATA'!Q27","v":1}]
[{"$f":"'[1]Tabel 4 B DATA'!I28","v":"Musikudd."},null,{"$f":"'[1]Tabel 4 B DATA'!K28","v":0},{"$f":"'[1]Tabel 4 B DATA'!L28","v":0},{"$f":"'[1]Tabel 4 B DATA'!M28","v":0},{"$f":"'[1]Tabel 4 B DATA'!N28","v":1},{"$f":"'[1]Tabel 4 B DATA'!O28","v":0},null,{"$f":"'[1]Tabel 4 B DATA'!Q28","v":1}]
[{"$f":"'[1]Tabel 4 B DATA'!I29","v":"Teolog"},null,{"$f":"'[1]Tabel 4 B DATA'!K29","v":0},{"$f":"'[1]Tabel 4 B DATA'!L29","v":0},{"$f":"'[1]Tabel 4 B DATA'!M29","v":0},{"$f":"'[1]Tabel 4 B DATA'!N29","v":0},{"$f":"'[1]Tabel 4 B DATA'!O29","v":0},null,{"$f":"'[1]Tabel 4 B DATA'!Q29","v":0}]
[{"$f":"'[1]Tabel 4 B DATA'!I30","v":"Psykolog"},null,{"$f":"'[1]Tabel 4 B DATA'!K30","v":0},{"$f":"'[1]Tabel 4 B DATA'!L30","v":1},{"$f":"'[1]Tabel 4 B DATA'!M30","v":0},{"$f":"'[1]Tabel 4 B DATA'!N30","v":0},{"$f":"'[1]Tabel 4 B DATA'!O30","v":0},null,{"$f":"'[1]Tabel 4 B DATA'!Q30","v":1}]
[{"$f":"'[1]Tabel 4 B DATA'!I31","v":"Jurist"},null,{"$f":"'[1]Tabel 4 B DATA'!K31","v":0},{"$f":"'[1]Tabel 4 B DATA'!L31","v":0},{"$f":"'[1]Tabel 4 B DATA'!M31","v":0},{"$f":"'[1]Tabel 4 B DATA'!N31","v":0},{"$f":"'[1]Tabel 4 B DATA'!O31","v":0},null,{"$f":"'[1]Tabel 4 B DATA'!Q31","v":0}]
[{"$f":"'[1]Tabel 4 B DATA'!I32","v":"Økonom"},null,{"$f":"'[1]Tabel 4 B DATA'!K32","v":0},{"$f":"'[1]Tabel 4 B DATA'!L32","v":0},{"$f":"'[1]Tabel 4 B DATA'!M32","v":0},{"$f":"'[1]Tabel 4 B DATA'!N32","v":0},{"$f":"'[1]Tabel 4 B DATA'!O32","v":0},null,{"$f":"'[1]Tabel 4 B DATA'!Q32","v":0}]
[{"$f":"'[1]Tabel 4 B DATA'!I33","v":"Samf. Adm."},null,{"$f":"'[1]Tabel 4 B DATA'!K33","v":0},{"$f":"'[1]Tabel 4 B DATA'!L33","v":0},{"$f":"'[1]Tabel 4 B DATA'!M33","v":1},{"$f":"'[1]Tabel 4 B DATA'!N33","v":2},{"$f":"'[1]Tabel 4 B DATA'!O33","v":0},null,{"$f":"'[1]Tabel 4 B DATA'!Q33","v":3}]
[{"$f":"'[1]Tabel 4 B DATA'!I34","v":"Cand. Merc."},null,{"$f":"'[1]Tabel 4 B DATA'!K34","v":0},{"$f":"'[1]Tabel 4 B DATA'!L34","v":0},{"$f":"'[1]Tabel 4 B DATA'!M34","v":3},{"$f":"'[1]Tabel 4 B DATA'!N34","v":1},{"$f":"'[1]Tabel 4 B DATA'!O34","v":0},null,{"$f":"'[1]Tabel 4 B DATA'!Q34","v":4}]
[{"$f":"'[1]Tabel 4 B DATA'!I35","v":"HA"},null,{"$f":"'[1]Tabel 4 B DATA'!K35","v":0},{"$f":"'[1]Tabel 4 B DATA'!L35","v":0},{"$f":"'[1]Tabel 4 B DATA'!M35","v":0},{"$f":"'[1]Tabel 4 B DATA'!N35","v":1},{"$f":"'[1]Tabel 4 B DATA'!O35","v":0},null,{"$f":"'[1]Tabel 4 B DATA'!Q35","v":1}]
[{"$f":"'[1]Tabel 4 B DATA'!I36","v":"HD"},null,{"$f":"'[1]Tabel 4 B DATA'!K36","v":0},{"$f":"'[1]Tabel 4 B DATA'!L36","v":0},{"$f":"'[1]Tabel 4 B DATA'!M36","v":0},{"$f":"'[1]Tabel 4 B DATA'!N36","v":0},{"$f":"'[1]Tabel 4 B DATA'!O36","v":0},null,{"$f":"'[1]Tabel 4 B DATA'!Q36","v":0}]
[{"$f":"'[1]Tabel 4 B DATA'!I37","v":"Komm. og Sprog"},null,{"$f":"'[1]Tabel 4 B DATA'!K37","v":0},{"$f":"'[1]Tabel 4 B DATA'!L37","v":1},{"$f":"'[1]Tabel 4 B DATA'!M37","v":0},{"$f":"'[1]Tabel 4 B DATA'!N37","v":2},{"$f":"'[1]Tabel 4 B DATA'!O37","v":1},null,{"$f":"'[1]Tabel 4 B DATA'!Q37","v":4}]
[{"$f":"'[1]Tabel 4 B DATA'!I38","v":"Bygningskonst"},null,{"$f":"'[1]Tabel 4 B DATA'!K38","v":0},{"$f":"'[1]Tabel 4 B DATA'!L38","v":0},{"$f":"'[1]Tabel 4 B DATA'!M38","v":0},{"$f":"'[1]Tabel 4 B DATA'!N38","v":0},{"$f":"'[1]Tabel 4 B DATA'!O38","v":0},null,{"$f":"'[1]Tabel 4 B DATA'!Q38","v":0}]
[{"$f":"'[1]Tabel 4 B DATA'!I39","v":"Cand. IT."},null,{"$f":"'[1]Tabel 4 B DATA'!K39","v":0},{"$f":"'[1]Tabel 4 B DATA'!L39","v":0},{"$f":"'[1]Tabel 4 B DATA'!M39","v":0},{"$f":"'[1]Tabel 4 B DATA'!N39","v":0},{"$f":"'[1]Tabel 4 B DATA'!O39","v":0},null,{"$f":"'[1]Tabel 4 B DATA'!Q39","v":0}]
[{"$f":"'[1]Tabel 4 B DATA'!I40","v":"Bac. Samf."},null,{"$f":"'[1]Tabel 4 B DATA'!K40","v":0},{"$f":"'[1]Tabel 4 B DATA'!L40","v":0},{"$f":"'[1]Tabel 4 B DATA'!M40","v":0},{"$f":"'[1]Tabel 4 B DATA'!N40","v":0},{"$f":"'[1]Tabel 4 B DATA'!O40","v":0},null,{"$f":"'[1]Tabel 4 B DATA'!Q40","v":0}]
[{"$f":"'[1]Tabel 4 B DATA'!I41","v":"Bac. Hum."},null,{"$f":"'[1]Tabel 4 B DATA'!K41","v":1},{"$f":"'[1]Tabel 4 B DATA'!L41","v":1},{"$f":"'[1]Tabel 4 B DATA'!M41","v":1},{"$f":"'[1]Tabel 4 B DATA'!N41","v":0},{"$f":"'[1]Tabel 4 B DATA'!O41","v":0},null,{"$f":"'[1]Tabel 4 B DATA'!Q41","v":3}]
[{"$f":"'[1]Tabel 4 B DATA'!I42","v":"Bac. Nat."},null,{"$f":"'[1]Tabel 4 B DATA'!K42","v":0},{"$f":"'[1]Tabel 4 B DATA'!L42","v":1},{"$f":"'[1]Tabel 4 B DATA'!M42","v":0},{"$f":"'[1]Tabel 4 B DATA'!N42","v":1},{"$f":"'[1]Tabel 4 B DATA'!O42","v":0},null,{"$f":"'[1]Tabel 4 B DATA'!Q42","v":2}]
[{"$f":"'[1]Tabel 4 B DATA'!I43","v":"Andre"},null,{"$f":"'[1]Tabel 4 B DATA'!K43","v":1},{"$f":"'[1]Tabel 4 B DATA'!L43","v":3},{"$f":"'[1]Tabel 4 B DATA'!M43","v":4},{"$f":"'[1]Tabel 4 B DATA'!N43","v":2},{"$f":"'[1]Tabel 4 B DATA'!O43","v":2},null,{"$f":"'[1]Tabel 4 B DATA'!Q43","v":12}]
[]
[{"$f":"'[1]Tabel 4 B DATA'!I45","v":"Total"},null,{"$f":"'[1]Tabel 4 B DATA'!K45","v":4},{"$f":"'[1]Tabel 4 B DATA'!L45","v":24},{"$f":"'[1]Tabel 4 B DATA'!M45","v":23},{"$f":"'[1]Tabel 4 B DATA'!N45","v":15},{"$f":"'[1]Tabel 4 B DATA'!O45","v":10},null,{"$f":"'[1]Tabel 4 B DATA'!Q45","v":76}]
[]
[{"$f":"'[1]Tabel 4 B DATA'!I47","v":"Ingeniører i alt"},null,{"$f":"'[1]Tabel 4 B DATA'!K47","v":0},{"$f":"'[1]Tabel 4 B DATA'!L47","v":2},{"$f":"'[1]Tabel 4 B DATA'!M47","v":3},{"$f":"'[1]Tabel 4 B DATA'!N47","v":2},{"$f":"'[1]Tabel 4 B DATA'!O47","v":1},null,{"$f":"'[1]Tabel 4 B DATA'!Q47","v":8}]
[{"$f":"'[1]Tabel 4 B DATA'!I48","v":"Magistre i alt"},null,{"$f":"'[1]Tabel 4 B DATA'!K48","v":1},{"$f":"'[1]Tabel 4 B DATA'!L48","v":10},{"$f":"'[1]Tabel 4 B DATA'!M48","v":10},{"$f":"'[1]Tabel 4 B DATA'!N48","v":2},{"$f":"'[1]Tabel 4 B DATA'!O48","v":5},null,{"$f":"'[1]Tabel 4 B DATA'!Q48","v":28}]
[{"$f":"'[1]Tabel 4 B DATA'!I49","v":"DJØF'ere i alt"},null,{"$f":"'[1]Tabel 4 B DATA'!K49","v":0},{"$f":"'[1]Tabel 4 B DATA'!L49","v":0},{"$f":"'[1]Tabel 4 B DATA'!M49","v":4},{"$f":"'[1]Tabel 4 B DATA'!N49","v":4},{"$f":"'[1]Tabel 4 B DATA'!O49","v":0},null,{"$f":"'[1]Tabel 4 B DATA'!Q49","v":8}]
[]
[]
[]
[]
[]
[]
[{"$f":"'[1]Tabel 4 B DATA'!I106","v":"Bornholm"}]
[]
[null,null,{"$f":"'[1]Tabel 4 B DATA'!K108","v":"Under 30 år"},{"$f":"'[1]Tabel 4 B DATA'!L108","v":"30 - 39 år"},{"$f":"'[1]Tabel 4 B DATA'!M108","v":"40 - 49 år"},{"$f":"'[1]Tabel 4 B DATA'!N108","v":"50 - 59 år"},{"$f":"'[1]Tabel 4 B DATA'!O108","v":"Over 60 år"},null,{"$f":"'[1]Tabel 4 B DATA'!Q108","v":"I alt"}]
[]
[{"$f":"'[1]Tabel 4 B DATA'!I110","v":"Civ. ing."},null,{"$f":"'[1]Tabel 4 B DATA'!K110","v":0},{"$f":"'[1]Tabel 4 B DATA'!L110","v":2},{"$f":"'[1]Tabel 4 B DATA'!M110","v":1},{"$f":"'[1]Tabel 4 B DATA'!N110","v":0},{"$f":"'[1]Tabel 4 B DATA'!O110","v":0},null,{"$f":"'[1]Tabel 4 B DATA'!Q110","v":3}]
[{"$f":"'[1]Tabel 4 B DATA'!I111","v":"Diplom ing."},null,{"$f":"'[1]Tabel 4 B DATA'!K111","v":0},{"$f":"'[1]Tabel 4 B DATA'!L111","v":0},{"$f":"'[1]Tabel 4 B DATA'!M111","v":2},{"$f":"'[1]Tabel 4 B DATA'!N111","v":2},{"$f":"'[1]Tabel 4 B DATA'!O111","v":1},null,{"$f":"'[1]Tabel 4 B DATA'!Q111","v":5}]
[{"$f":"'[1]Tabel 4 B DATA'!I112","v":"Cand. Scient. Tek"},null,{"$f":"'[1]Tabel 4 B DATA'!K112","v":0},{"$f":"'[1]Tabel 4 B DATA'!L112","v":4},{"$f":"'[1]Tabel 4 B DATA'!M112","v":1},{"$f":"'[1]Tabel 4 B DATA'!N112","v":0},{"$f":"'[1]Tabel 4 B DATA'!O112","v":0},null,{"$f":"'[1]Tabel 4 B DATA'!Q112","v":5}]
[{"$f":"'[1]Tabel 4 B DATA'!I113","v":"MA. Hum."},null,{"$f":"'[1]Tabel 4 B DATA'!K113","v":1},{"$f":"'[1]Tabel 4 B DATA'!L113","v":7},{"$f":"'[1]Tabel 4 B DATA'!M113","v":5},{"$f":"'[1]Tabel 4 B DATA'!N113","v":1},{"$f":"'[1]Tabel 4 B DATA'!O113","v":4},null,{"$f":"'[1]Tabel 4 B DATA'!Q113","v":18}]
[{"$f":"'[1]Tabel 4 B DATA'!I114","v":"MA. Nat."},null,{"$f":"'[1]Tabel 4 B DATA'!K114","v":0},{"$f":"'[1]Tabel 4 B DATA'!L114","v":0},{"$f":"'[1]Tabel 4 B DATA'!M114","v":2},{"$f":"'[1]Tabel 4 B DATA'!N114","v":0},{"$f":"'[1]Tabel 4 B DATA'!O114","v":1},null,{"$f":"'[1]Tabel 4 B DATA'!Q114","v":3}]
[{"$f":"'[1]Tabel 4 B DATA'!I115","v":"MA. Ph.d."},null,{"$f":"'[1]Tabel 4 B DATA'!K115","v":0},{"$f":"'[1]Tabel 4 B DATA'!L115","v":0},{"$f":"'[1]Tabel 4 B DATA'!M115","v":1},{"$f":"'[1]Tabel 4 B DATA'!N115","v":0},{"$f":"'[1]Tabel 4 B DATA'!O115","v":0},null,{"$f":"'[1]Tabel 4 B DATA'!Q115","v":1}]
[{"$f":"'[1]Tabel 4 B DATA'!I116","v":"MA. Samf."},null,{"$f":"'[1]Tabel 4 B DATA'!K116","v":0},{"$f":"'[1]Tabel 4 B DATA'!L116","v":0},{"$f":"'[1]Tabel 4 B DATA'!M116","v":0},{"$f":"'[1]Tabel 4 B DATA'!N116","v":1},{"$f":"'[1]Tabel 4 B DATA'!O116","v":0},null,{"$f":"'[1]Tabel 4 B DATA'!Q116","v":1}]
[{"$f":"'[1]Tabel 4 B DATA'!I117","v":"Øvrige Mag."},null,{"$f":"'[1]Tabel 4 B DATA'!K117","v":0},{"$f":"'[1]Tabel 4 B DATA'!L117","v":3},{"$f":"'[1]Tabel 4 B DATA'!M117","v":2},{"$f":"'[1]Tabel 4 B DATA'!N117","v":0},{"$f":"'[1]Tabel 4 B DATA'!O117","v":0},null,{"$f":"'[1]Tabel 4 B DATA'!Q117","v":5}]
[{"$f":"'[1]Tabel 4 B DATA'!I118","v":"Agronom"},null,{"$f":"'[1]Tabel 4 B DATA'!K118","v":0},{"$f":"'[1]Tabel 4 B DATA'!L118","v":0},{"$f":"'[1]Tabel 4 B DATA'!M118","v":0},{"$f":"'[1]Tabel 4 B DATA'!N118","v":0},{"$f":"'[1]Tabel 4 B DATA'!O118","v":0},null,{"$f":"'[1]Tabel 4 B DATA'!Q118","v":0}]
[{"$f":"'[1]Tabel 4 B DATA'!I119","v":"Landsk. Arkt."},null,{"$f":"'[1]Tabel 4 B DATA'!K119","v":0},{"$f":"'[1]Tabel 4 B DATA'!L119","v":0},{"$f":"'[1]Tabel 4 B DATA'!M119","v":0},{"$f":"'[1]Tabel 4 B DATA'!N119","v":0},{"$f":"'[1]Tabel 4 B DATA'!O119","v":0},null,{"$f":"'[1]Tabel 4 B DATA'!Q119","v":0}]
[{"$f":"'[1]Tabel 4 B DATA'!I120","v":"Hortonom"},null,{"$f":"'[1]Tabel 4 B DATA'!K120","v":0},{"$f":"'[1]Tabel 4 B DATA'!L120","v":0},{"$f":"'[1]Tabel 4 B DATA'!M120","v":0},{"$f":"'[1]Tabel 4 B DATA'!N120","v":0},{"$f":"'[1]Tabel 4 B DATA'!O120","v":0},null,{"$f":"'[1]Tabel 4 B DATA'!Q120","v":0}]
[{"$f":"'[1]Tabel 4 B DATA'!I121","v":"Forstkand."},null,{"$f":"'[1]Tabel 4 B DATA'!K121","v":0},{"$f":"'[1]Tabel 4 B DATA'!L121","v":0},{"$f":"'[1]Tabel 4 B DATA'!M121","v":0},{"$f":"'[1]Tabel 4 B DATA'!N121","v":0},{"$f":"'[1]Tabel 4 B DATA'!O121","v":0},null,{"$f":"'[1]Tabel 4 B DATA'!Q121","v":0}]
[{"$f":"'[1]Tabel 4 B DATA'!I122","v":"Jordbrugsakad."},null,{"$f":"'[1]Tabel 4 B DATA'!K122","v":0},{"$f":"'[1]Tabel 4 B DATA'!L122","v":0},{"$f":"'[1]Tabel 4 B DATA'!M122","v":0},{"$f":"'[1]Tabel 4 B DATA'!N122","v":0},{"$f":"'[1]Tabel 4 B DATA'!O122","v":0},null,{"$f":"'[1]Tabel 4 B DATA'!Q122","v":0}]
[{"$f":"'[1]Tabel 4 B DATA'!I123","v":"Mejeriing."},null,{"$f":"'[1]Tabel 4 B DATA'!K123","v":0},{"$f":"'[1]Tabel 4 B DATA'!L123","v":0},{"$f":"'[1]Tabel 4 B DATA'!M123","v":0},{"$f":"'[1]Tabel 4 B DATA'!N123","v":0},{"$f":"'[1]Tabel 4 B DATA'!O123","v":0},null,{"$f":"'[1]Tabel 4 B DATA'!Q123","v":0}]
[{"$f":"'[1]Tabel 4 B DATA'!I124","v":"Levn.m.kand."},null,{"$f":"'[1]Tabel 4 B DATA'!K124","v":0},{"$f":"'[1]Tabel 4 B DATA'!L124","v":1},{"$f":"'[1]Tabel 4 B DATA'!M124","v":0},{"$f":"'[1]Tabel 4 B DATA'!N124","v":0},{"$f":"'[1]Tabel 4 B DATA'!O124","v":0},null,{"$f":"'[1]Tabel 4 B DATA'!Q124","v":1}]
[{"$f":"'[1]Tabel 4 B DATA'!I125","v":"Dyrlæge"},null,{"$f":"'[1]Tabel 4 B DATA'!K125","v":0},{"$f":"'[1]Tabel 4 B DATA'!L125","v":0},{"$f":"'[1]Tabel 4 B DATA'!M125","v":0},{"$f":"'[1]Tabel 4 B DATA'!N125","v":0},{"$f":"'[1]Tabel 4 B DATA'!O125","v":0},null,{"$f":"'[1]Tabel 4 B DATA'!Q125","v":0}]
[{"$f":"'[1]Tabel 4 B DATA'!I126","v":"Farmaceut"},null,{"$f":"'[1]Tabel 4 B DATA'!K126","v":0},{"$f":"'[1]Tabel 4 B DATA'!L126","v":0},{"$f":"'[1]Tabel 4 B DATA'!M126","v":0},{"$f":"'[1]Tabel 4 B DATA'!N126","v":0},{"$f":"'[1]Tabel 4 B DATA'!O126","v":0},null,{"$f":"'[1]Tabel 4 B DATA'!Q126","v":0}]
[{"$f":"'[1]Tabel 4 B DATA'!I127","v":"Læge"},null,{"$f":"'[1]Tabel 4 B DATA'!K127","v":1},{"$f":"'[1]Tabel 4 B DATA'!L127","v":0},{"$f":"'[1]Tabel 4 B DATA'!M127","v":0},{"$f":"'[1]Tabel 4 B DATA'!N127","v":0},{"$f":"'[1]Tabel 4 B DATA'!O127","v":0},null,{"$f":"'[1]Tabel 4 B DATA'!Q127","v":1}]
[{"$f":"'[1]Tabel 4 B DATA'!I128","v":"Tandlæge"},null,{"$f":"'[1]Tabel 4 B DATA'!K128","v":0},{"$f":"'[1]Tabel 4 B DATA'!L128","v":0},{"$f":"'[1]Tabel 4 B DATA'!M128","v":0},{"$f":"'[1]Tabel 4 B DATA'!N128","v":0},{"$f":"'[1]Tabel 4 B DATA'!O128","v":0},null,{"$f":"'[1]Tabel 4 B DATA'!Q128","v":0}]
[{"$f":"'[1]Tabel 4 B DATA'!I129","v":"Arkitekt"},null,{"$f":"'[1]Tabel 4 B DATA'!K129","v":0},{"$f":"'[1]Tabel 4 B DATA'!L129","v":0},{"$f":"'[1]Tabel 4 B DATA'!M129","v":0},{"$f":"'[1]Tabel 4 B DATA'!N129","v":1},{"$f":"'[1]Tabel 4 B DATA'!O129","v":0},null,{"$f":"'[1]Tabel 4 B DATA'!Q129","v":1}]
[{"$f":"'[1]Tabel 4 B DATA'!I130","v":"Landinspek."},null,{"$f":"'[1]Tabel 4 B DATA'!K130","v":0},{"$f":"'[1]Tabel 4 B DATA'!L130","v":0},{"$f":"'[1]Tabel 4 B DATA'!M130","v":0},{"$f":"'[1]Tabel 4 B DATA'!N130","v":0},{"$f":"'[1]Tabel 4 B DATA'!O130","v":0},null,{"$f":"'[1]Tabel 4 B DATA'!Q130","v":0}]
[{"$f":"'[1]Tabel 4 B DATA'!I131","v":"Bibliotekar"},null,{"$f":"'[1]Tabel 4 B DATA'!K131","v":0},{"$f":"'[1]Tabel 4 B DATA'!L131","v":0},{"$f":"'[1]Tabel 4 B DATA'!M131","v":0},{"$f":"'[1]Tabel 4 B DATA'!N131","v":0},{"$f":"'[1]Tabel 4 B DATA'!O131","v":1},null,{"$f":"'[1]Tabel 4 B DATA'!Q131","v":1}]
[{"$f":"'[1]Tabel 4 B DATA'!I132","v":"Musikudd."},null,{"$f":"'[1]Tabel 4 B DATA'!K132","v":0},{"$f":"'[1]Tabel 4 B DATA'!L132","v":0},{"$f":"'[1]Tabel 4 B DATA'!M132","v":0},{"$f":"'[1]Tabel 4 B DATA'!N132","v":1},{"$f":"'[1]Tabel 4 B DATA'!O132","v":0},null,{"$f":"'[1]Tabel 4 B DATA'!Q132","v":1}]
[{"$f":"'[1]Tabel 4 B DATA'!I133","v":"Teolog"},null,{"$f":"'[1]Tabel 4 B DATA'!K133","v":0},{"$f":"'[1]Tabel 4 B DATA'!L133","v":0},{"$f":"'[1]Tabel 4 B DATA'!M133","v":0},{"$f":"'[1]Tabel 4 B DATA'!N133","v":0},{"$f":"'[1]Tabel 4 B DATA'!O133","v":0},null,{"$f":"'[1]Tabel 4 B DATA'!Q133","v":0}]
[{"$f":"'[1]Tabel 4 B DATA'!I134","v":"Psykolog"},null,{"$f":"'[1]Tabel 4 B DATA'!K134","v":0},{"$f":"'[1]Tabel 4 B DATA'!L134","v":1},{"$f":"'[1]Tabel 4 B DATA'!M134","v":0},{"$f":"'[1]Tabel 4 B DATA'!N134","v":0},{"$f":"'[1]Tabel 4 B DATA'!O134","v":0},null,{"$f":"'[1]Tabel 4 B DATA'!Q134","v":1}]
[{"$f":"'[1]Tabel 4 B DATA'!I135","v":"Jurist"},null,{"$f":"'[1]Tabel 4 B DATA'!K135","v":0},{"$f":"'[1]Tabel 4 B DATA'!L135","v":0},{"$f":"'[1]Tabel 4 B DATA'!M135","v":0},{"$f":"'[1]Tabel 4 B DATA'!N135","v":0},{"$f":"'[1]Tabel 4 B DATA'!O135","v":0},null,{"$f":"'[1]Tabel 4 B DATA'!Q135","v":0}]
[{"$f":"'[1]Tabel 4 B DATA'!I136","v":"Økonom"},null,{"$f":"'[1]Tabel 4 B DATA'!K136","v":0},{"$f":"'[1]Tabel 4 B DATA'!L136","v":0},{"$f":"'[1]Tabel 4 B DATA'!M136","v":0},{"$f":"'[1]Tabel 4 B DATA'!N136","v":0},{"$f":"'[1]Tabel 4 B DATA'!O136","v":0},null,{"$f":"'[1]Tabel 4 B DATA'!Q136","v":0}]
[{"$f":"'[1]Tabel 4 B DATA'!I137","v":"Samf. Adm."},null,{"$f":"'[1]Tabel 4 B DATA'!K137","v":0},{"$f":"'[1]Tabel 4 B DATA'!L137","v":0},{"$f":"'[1]Tabel 4 B DATA'!M137","v":1},{"$f":"'[1]Tabel 4 B DATA'!N137","v":2},{"$f":"'[1]Tabel 4 B DATA'!O137","v":0},null,{"$f":"'[1]Tabel 4 B DATA'!Q137","v":3}]
[{"$f":"'[1]Tabel 4 B DATA'!I138","v":"Cand. Merc."},null,{"$f":"'[1]Tabel 4 B DATA'!K138","v":0},{"$f":"'[1]Tabel 4 B DATA'!L138","v":0},{"$f":"'[1]Tabel 4 B DATA'!M138","v":3},{"$f":"'[1]Tabel 4 B DATA'!N138","v":1},{"$f":"'[1]Tabel 4 B DATA'!O138","v":0},null,{"$f":"'[1]Tabel 4 B DATA'!Q138","v":4}]
[{"$f":"'[1]Tabel 4 B DATA'!I139","v":"HA"},null,{"$f":"'[1]Tabel 4 B DATA'!K139","v":0},{"$f":"'[1]Tabel 4 B DATA'!L139","v":0},{"$f":"'[1]Tabel 4 B DATA'!M139","v":0},{"$f":"'[1]Tabel 4 B DATA'!N139","v":1},{"$f":"'[1]Tabel 4 B DATA'!O139","v":0},null,{"$f":"'[1]Tabel 4 B DATA'!Q139","v":1}]
[{"$f":"'[1]Tabel 4 B DATA'!I140","v":"HD"},null,{"$f":"'[1]Tabel 4 B DATA'!K140","v":0},{"$f":"'[1]Tabel 4 B DATA'!L140","v":0},{"$f":"'[1]Tabel 4 B DATA'!M140","v":0},{"$f":"'[1]Tabel 4 B DATA'!N140","v":0},{"$f":"'[1]Tabel 4 B DATA'!O140","v":0},null,{"$f":"'[1]Tabel 4 B DATA'!Q140","v":0}]
[{"$f":"'[1]Tabel 4 B DATA'!I141","v":"Komm. og Sprog"},null,{"$f":"'[1]Tabel 4 B DATA'!K141","v":0},{"$f":"'[1]Tabel 4 B DATA'!L141","v":1},{"$f":"'[1]Tabel 4 B DATA'!M141","v":0},{"$f":"'[1]Tabel 4 B DATA'!N141","v":2},{"$f":"'[1]Tabel 4 B DATA'!O141","v":1},null,{"$f":"'[1]Tabel 4 B DATA'!Q141","v":4}]
[{"$f":"'[1]Tabel 4 B DATA'!I142","v":"Bygningskonst."},null,{"$f":"'[1]Tabel 4 B DATA'!K142","v":0},{"$f":"'[1]Tabel 4 B DATA'!L142","v":0},{"$f":"'[1]Tabel 4 B DATA'!M142","v":0},{"$f":"'[1]Tabel 4 B DATA'!N142","v":0},{"$f":"'[1]Tabel 4 B DATA'!O142","v":0},null,{"$f":"'[1]Tabel 4 B DATA'!Q142","v":0}]
[{"$f":"'[1]Tabel 4 B DATA'!I143","v":"Cand. IT."},null,{"$f":"'[1]Tabel 4 B DATA'!K143","v":0},{"$f":"'[1]Tabel 4 B DATA'!L143","v":0},{"$f":"'[1]Tabel 4 B DATA'!M143","v":0},{"$f":"'[1]Tabel 4 B DATA'!N143","v":0},{"$f":"'[1]Tabel 4 B DATA'!O143","v":0},null,{"$f":"'[1]Tabel 4 B DATA'!Q143","v":0}]
[{"$f":"'[1]Tabel 4 B DATA'!I144","v":"Bac. Samf."},null,{"$f":"'[1]Tabel 4 B DATA'!K144","v":0},{"$f":"'[1]Tabel 4 B DATA'!L144","v":0},{"$f":"'[1]Tabel 4 B DATA'!M144","v":0},{"$f":"'[1]Tabel 4 B DATA'!N144","v":0},{"$f":"'[1]Tabel 4 B DATA'!O144","v":0},null,{"$f":"'[1]Tabel 4 B DATA'!Q144","v":0}]
[{"$f":"'[1]Tabel 4 B DATA'!I145","v":"Bac. Hum."},null,{"$f":"'[1]Tabel 4 B DATA'!K145","v":1},{"$f":"'[1]Tabel 4 B DATA'!L145","v":1},{"$f":"'[1]Tabel 4 B DATA'!M145","v":1},{"$f":"'[1]Tabel 4 B DATA'!N145","v":0},{"$f":"'[1]Tabel 4 B DATA'!O145","v":0},null,{"$f":"'[1]Tabel 4 B DATA'!Q145","v":3}]
[{"$f":"'[1]Tabel 4 B DATA'!I146","v":"Bac. Nat."},null,{"$f":"'[1]Tabel 4 B DATA'!K146","v":0},{"$f":"'[1]Tabel 4 B DATA'!L146","v":1},{"$f":"'[1]Tabel 4 B DATA'!M146","v":0},{"$f":"'[1]Tabel 4 B DATA'!N146","v":1},{"$f":"'[1]Tabel 4 B DATA'!O146","v":0},null,{"$f":"'[1]Tabel 4 B DATA'!Q146","v":2}]
[{"$f":"'[1]Tabel 4 B DATA'!I147","v":"Andre"},null,{"$f":"'[1]Tabel 4 B DATA'!K147","v":1},{"$f":"'[1]Tabel 4 B DATA'!L147","v":3},{"$f":"'[1]Tabel 4 B DATA'!M147","v":4},{"$f":"'[1]Tabel 4 B DATA'!N147","v":2},{"$f":"'[1]Tabel 4 B DATA'!O147","v":2},null,{"$f":"'[1]Tabel 4 B DATA'!Q147","v":12}]
[]
[{"$f":"'[1]Tabel 4 B DATA'!I149","v":"Total"},null,{"$f":"'[1]Tabel 4 B DATA'!K149","v":4},{"$f":"'[1]Tabel 4 B DATA'!L149","v":24},{"$f":"'[1]Tabel 4 B DATA'!M149","v":23},{"$f":"'[1]Tabel 4 B DATA'!N149","v":15},{"$f":"'[1]Tabel 4 B DATA'!O149","v":10},null,{"$f":"'[1]Tabel 4 B DATA'!Q149","v":76}]
[]
[{"$f":"'[1]Tabel 4 B DATA'!I151","v":"Ingeniører i alt"},null,{"$f":"'[1]Tabel 4 B DATA'!K151","v":0},{"$f":"'[1]Tabel 4 B DATA'!L151","v":2},{"$f":"'[1]Tabel 4 B DATA'!M151","v":3},{"$f":"'[1]Tabel 4 B DATA'!N151","v":2},{"$f":"'[1]Tabel 4 B DATA'!O151","v":1},null,{"$f":"'[1]Tabel 4 B DATA'!Q151","v":8}]
[{"$f":"'[1]Tabel 4 B DATA'!I152","v":"Magistre i alt"},null,{"$f":"'[1]Tabel 4 B DATA'!K152","v":1},{"$f":"'[1]Tabel 4 B DATA'!L152","v":10},{"$f":"'[1]Tabel 4 B DATA'!M152","v":10},{"$f":"'[1]Tabel 4 B DATA'!N152","v":2},{"$f":"'[1]Tabel 4 B DATA'!O152","v":5},null,{"$f":"'[1]Tabel 4 B DATA'!Q152","v":28}]
[{"$f":"'[1]Tabel 4 B DATA'!I153","v":"DJØF'ere i alt"},null,{"$f":"'[1]Tabel 4 B DATA'!K153","v":0},{"$f":"'[1]Tabel 4 B DATA'!L153","v":0},{"$f":"'[1]Tabel 4 B DATA'!M153","v":4},{"$f":"'[1]Tabel 4 B DATA'!N153","v":4},{"$f":"'[1]Tabel 4 B DATA'!O153","v":0},null,{"$f":"'[1]Tabel 4 B DATA'!Q153","v":8}]
[]
[]
[]
[]
[]
[]
[{"$f":"'[1]Tabel 4 B DATA'!I158","v":"Christiansø"}]
[]
[null,null,{"$f":"'[1]Tabel 4 B DATA'!K160","v":"Under 30 år"},{"$f":"'[1]Tabel 4 B DATA'!L160","v":"30 - 39 år"},{"$f":"'[1]Tabel 4 B DATA'!M160","v":"40 - 49 år"},{"$f":"'[1]Tabel 4 B DATA'!N160","v":"50 - 59 år"},{"$f":"'[1]Tabel 4 B DATA'!O160","v":"Over 60 år"},null,{"$f":"'[1]Tabel 4 B DATA'!Q160","v":"I alt"}]
[]
[{"$f":"'[1]Tabel 4 B DATA'!I162","v":"Civ. ing."},null,{"$f":"'[1]Tabel 4 B DATA'!K162","v":0},{"$f":"'[1]Tabel 4 B DATA'!L162","v":0},{"$f":"'[1]Tabel 4 B DATA'!M162","v":0},{"$f":"'[1]Tabel 4 B DATA'!N162","v":0},{"$f":"'[1]Tabel 4 B DATA'!O162","v":0},null,{"$f":"'[1]Tabel 4 B DATA'!Q162","v":0}]
[{"$f":"'[1]Tabel 4 B DATA'!I163","v":"Diplom ing."},null,{"$f":"'[1]Tabel 4 B DATA'!K163","v":0},{"$f":"'[1]Tabel 4 B DATA'!L163","v":0},{"$f":"'[1]Tabel 4 B DATA'!M163","v":0},{"$f":"'[1]Tabel 4 B DATA'!N163","v":0},{"$f":"'[1]Tabel 4 B DATA'!O163","v":0},null,{"$f":"'[1]Tabel 4 B DATA'!Q163","v":0}]
[{"$f":"'[1]Tabel 4 B DATA'!I164","v":"Cand. Scient. Tek"},null,{"$f":"'[1]Tabel 4 B DATA'!K164","v":0},{"$f":"'[1]Tabel 4 B DATA'!L164","v":0},{"$f":"'[1]Tabel 4 B DATA'!M164","v":0},{"$f":"'[1]Tabel 4 B DATA'!N164","v":0},{"$f":"'[1]Tabel 4 B DATA'!O164","v":0},null,{"$f":"'[1]Tabel 4 B DATA'!Q164","v":0}]
[{"$f":"'[1]Tabel 4 B DATA'!I165","v":"MA. Hum."},null,{"$f":"'[1]Tabel 4 B DATA'!K165","v":0},{"$f":"'[1]Tabel 4 B DATA'!L165","v":0},{"$f":"'[1]Tabel 4 B DATA'!M165","v":0},{"$f":"'[1]Tabel 4 B DATA'!N165","v":0},{"$f":"'[1]Tabel 4 B DATA'!O165","v":0},null,{"$f":"'[1]Tabel 4 B DATA'!Q165","v":0}]
[{"$f":"'[1]Tabel 4 B DATA'!I166","v":"MA. Nat."},null,{"$f":"'[1]Tabel 4 B DATA'!K166","v":0},{"$f":"'[1]Tabel 4 B DATA'!L166","v":0},{"$f":"'[1]Tabel 4 B DATA'!M166","v":0},{"$f":"'[1]Tabel 4 B DATA'!N166","v":0},{"$f":"'[1]Tabel 4 B DATA'!O166","v":0},null,{"$f":"'[1]Tabel 4 B DATA'!Q166","v":0}]
[{"$f":"'[1]Tabel 4 B DATA'!I167","v":"MA. Ph.d."},null,{"$f":"'[1]Tabel 4 B DATA'!K167","v":0},{"$f":"'[1]Tabel 4 B DATA'!L167","v":0},{"$f":"'[1]Tabel 4 B DATA'!M167","v":0},{"$f":"'[1]Tabel 4 B DATA'!N167","v":0},{"$f":"'[1]Tabel 4 B DATA'!O167","v":0},null,{"$f":"'[1]Tabel 4 B DATA'!Q167","v":0}]
[{"$f":"'[1]Tabel 4 B DATA'!I168","v":"MA. Samf."},null,{"$f":"'[1]Tabel 4 B DATA'!K168","v":0},{"$f":"'[1]Tabel 4 B DATA'!L168","v":0},{"$f":"'[1]Tabel 4 B DATA'!M168","v":0},{"$f":"'[1]Tabel 4 B DATA'!N168","v":0},{"$f":"'[1]Tabel 4 B DATA'!O168","v":0},null,{"$f":"'[1]Tabel 4 B DATA'!Q168","v":0}]
[{"$f":"'[1]Tabel 4 B DATA'!I169","v":"Øvrige Mag."},null,{"$f":"'[1]Tabel 4 B DATA'!K169","v":0},{"$f":"'[1]Tabel 4 B DATA'!L169","v":0},{"$f":"'[1]Tabel 4 B DATA'!M169","v":0},{"$f":"'[1]Tabel 4 B DATA'!N169","v":0},{"$f":"'[1]Tabel 4 B DATA'!O169","v":0},null,{"$f":"'[1]Tabel 4 B DATA'!Q169","v":0}]
[{"$f":"'[1]Tabel 4 B DATA'!I170","v":"Agronom"},null,{"$f":"'[1]Tabel 4 B DATA'!K170","v":0},{"$f":"'[1]Tabel 4 B DATA'!L170","v":0},{"$f":"'[1]Tabel 4 B DATA'!M170","v":0},{"$f":"'[1]Tabel 4 B DATA'!N170","v":0},{"$f":"'[1]Tabel 4 B DATA'!O170","v":0},null,{"$f":"'[1]Tabel 4 B DATA'!Q170","v":0}]
[{"$f":"'[1]Tabel 4 B DATA'!I171","v":"Landsk. Arkt."},null,{"$f":"'[1]Tabel 4 B DATA'!K171","v":0},{"$f":"'[1]Tabel 4 B DATA'!L171","v":0},{"$f":"'[1]Tabel 4 B DATA'!M171","v":0},{"$f":"'[1]Tabel 4 B DATA'!N171","v":0},{"$f":"'[1]Tabel 4 B DATA'!O171","v":0},null,{"$f":"'[1]Tabel 4 B DATA'!Q171","v":0}]
[{"$f":"'[1]Tabel 4 B DATA'!I172","v":"Hortonom"},null,{"$f":"'[1]Tabel 4 B DATA'!K172","v":0},{"$f":"'[1]Tabel 4 B DATA'!L172","v":0},{"$f":"'[1]Tabel 4 B DATA'!M172","v":0},{"$f":"'[1]Tabel 4 B DATA'!N172","v":0},{"$f":"'[1]Tabel 4 B DATA'!O172","v":0},null,{"$f":"'[1]Tabel 4 B DATA'!Q172","v":0}]
[{"$f":"'[1]Tabel 4 B DATA'!I173","v":"Forstkand."},null,{"$f":"'[1]Tabel 4 B DATA'!K173","v":0},{"$f":"'[1]Tabel 4 B DATA'!L173","v":0},{"$f":"'[1]Tabel 4 B DATA'!M173","v":0},{"$f":"'[1]Tabel 4 B DATA'!N173","v":0},{"$f":"'[1]Tabel 4 B DATA'!O173","v":0},null,{"$f":"'[1]Tabel 4 B DATA'!Q173","v":0}]
[{"$f":"'[1]Tabel 4 B DATA'!I174","v":"Jordbrugsakad."},null,{"$f":"'[1]Tabel 4 B DATA'!K174","v":0},{"$f":"'[1]Tabel 4 B DATA'!L174","v":0},{"$f":"'[1]Tabel 4 B DATA'!M174","v":0},{"$f":"'[1]Tabel 4 B DATA'!N174","v":0},{"$f":"'[1]Tabel 4 B DATA'!O174","v":0},null,{"$f":"'[1]Tabel 4 B DATA'!Q174","v":0}]
[{"$f":"'[1]Tabel 4 B DATA'!I175","v":"Mejeriing."},null,{"$f":"'[1]Tabel 4 B DATA'!K175","v":0},{"$f":"'[1]Tabel 4 B DATA'!L175","v":0},{"$f":"'[1]Tabel 4 B DATA'!M175","v":0},{"$f":"'[1]Tabel 4 B DATA'!N175","v":0},{"$f":"'[1]Tabel 4 B DATA'!O175","v":0},null,{"$f":"'[1]Tabel 4 B DATA'!Q175","v":0}]
[{"$f":"'[1]Tabel 4 B DATA'!I176","v":"Levn.m.kand."},null,{"$f":"'[1]Tabel 4 B DATA'!K176","v":0},{"$f":"'[1]Tabel 4 B DATA'!L176","v":0},{"$f":"'[1]Tabel 4 B DATA'!M176","v":0},{"$f":"'[1]Tabel 4 B DATA'!N176","v":0},{"$f":"'[1]Tabel 4 B DATA'!O176","v":0},null,{"$f":"'[1]Tabel 4 B DATA'!Q176","v":0}]
[{"$f":"'[1]Tabel 4 B DATA'!I177","v":"Dyrlæge"},null,{"$f":"'[1]Tabel 4 B DATA'!K177","v":0},{"$f":"'[1]Tabel 4 B DATA'!L177","v":0},{"$f":"'[1]Tabel 4 B DATA'!M177","v":0},{"$f":"'[1]Tabel 4 B DATA'!N177","v":0},{"$f":"'[1]Tabel 4 B DATA'!O177","v":0},null,{"$f":"'[1]Tabel 4 B DATA'!Q177","v":0}]
[{"$f":"'[1]Tabel 4 B DATA'!I178","v":"Farmaceut"},null,{"$f":"'[1]Tabel 4 B DATA'!K178","v":0},{"$f":"'[1]Tabel 4 B DATA'!L178","v":0},{"$f":"'[1]Tabel 4 B DATA'!M178","v":0},{"$f":"'[1]Tabel 4 B DATA'!N178","v":0},{"$f":"'[1]Tabel 4 B DATA'!O178","v":0},null,{"$f":"'[1]Tabel 4 B DATA'!Q178","v":0}]
[{"$f":"'[1]Tabel 4 B DATA'!I179","v":"Læge"},null,{"$f":"'[1]Tabel 4 B DATA'!K179","v":0},{"$f":"'[1]Tabel 4 B DATA'!L179","v":0},{"$f":"'[1]Tabel 4 B DATA'!M179","v":0},{"$f":"'[1]Tabel 4 B DATA'!N179","v":0},{"$f":"'[1]Tabel 4 B DATA'!O179","v":0},null,{"$f":"'[1]Tabel 4 B DATA'!Q179","v":0}]
[{"$f":"'[1]Tabel 4 B DATA'!I180","v":"Tandlæge"},null,{"$f":"'[1]Tabel 4 B DATA'!K180","v":0},{"$f":"'[1]Tabel 4 B DATA'!L180","v":0},{"$f":"'[1]Tabel 4 B DATA'!M180","v":0},{"$f":"'[1]Tabel 4 B DATA'!N180","v":0},{"$f":"'[1]Tabel 4 B DATA'!O180","v":0},null,{"$f":"'[1]Tabel 4 B DATA'!Q180","v":0}]
[{"$f":"'[1]Tabel 4 B DATA'!I181","v":"Arkitekt"},null,{"$f":"'[1]Tabel 4 B DATA'!K181","v":0},{"$f":"'[1]Tabel 4 B DATA'!L181","v":0},{"$f":"'[1]Tabel 4 B DATA'!M181","v":0},{"$f":"'[1]Tabel 4 B DATA'!N181","v":0},{"$f":"'[1]Tabel 4 B DATA'!O181","v":0},null,{"$f":"'[1]Tabel 4 B DATA'!Q181","v":0}]
[{"$f":"'[1]Tabel 4 B DATA'!I182","v":"Landinspek."},null,{"$f":"'[1]Tabel 4 B DATA'!K182","v":0},{"$f":"'[1]Tabel 4 B DATA'!L182","v":0},{"$f":"'[1]Tabel 4 B DATA'!M182","v":0},{"$f":"'[1]Tabel 4 B DATA'!N182","v":0},{"$f":"'[1]Tabel 4 B DATA'!O182","v":0},null,{"$f":"'[1]Tabel 4 B DATA'!Q182","v":0}]
[{"$f":"'[1]Tabel 4 B DATA'!I183","v":"Bibliotekar"},null,{"$f":"'[1]Tabel 4 B DATA'!K183","v":0},{"$f":"'[1]Tabel 4 B DATA'!L183","v":0},{"$f":"'[1]Tabel 4 B DATA'!M183","v":0},{"$f":"'[1]Tabel 4 B DATA'!N183","v":0},{"$f":"'[1]Tabel 4 B DATA'!O183","v":0},null,{"$f":"'[1]Tabel 4 B DATA'!Q183","v":0}]
[{"$f":"'[1]Tabel 4 B DATA'!I184","v":"Musikudd."},null,{"$f":"'[1]Tabel 4 B DATA'!K184","v":0},{"$f":"'[1]Tabel 4 B DATA'!L184","v":0},{"$f":"'[1]Tabel 4 B DATA'!M184","v":0},{"$f":"'[1]Tabel 4 B DATA'!N184","v":0},{"$f":"'[1]Tabel 4 B DATA'!O184","v":0},null,{"$f":"'[1]Tabel 4 B DATA'!Q184","v":0}]
[{"$f":"'[1]Tabel 4 B DATA'!I185","v":"Teolog"},null,{"$f":"'[1]Tabel 4 B DATA'!K185","v":0},{"$f":"'[1]Tabel 4 B DATA'!L185","v":0},{"$f":"'[1]Tabel 4 B DATA'!M185","v":0},{"$f":"'[1]Tabel 4 B DATA'!N185","v":0},{"$f":"'[1]Tabel 4 B DATA'!O185","v":0},null,{"$f":"'[1]Tabel 4 B DATA'!Q185","v":0}]
[{"$f":"'[1]Tabel 4 B DATA'!I186","v":"Psykolog"},null,{"$f":"'[1]Tabel 4 B DATA'!K186","v":0},{"$f":"'[1]Tabel 4 B DATA'!L186","v":0},{"$f":"'[1]Tabel 4 B DATA'!M186","v":0},{"$f":"'[1]Tabel 4 B DATA'!N186","v":0},{"$f":"'[1]Tabel 4 B DATA'!O186","v":0},null,{"$f":"'[1]Tabel 4 B DATA'!Q186","v":0}]
[{"$f":"'[1]Tabel 4 B DATA'!I187","v":"Jurist"},null,{"$f":"'[1]Tabel 4 B DATA'!K187","v":0},{"$f":"'[1]Tabel 4 B DATA'!L187","v":0},{"$f":"'[1]Tabel 4 B DATA'!M187","v":0},{"$f":"'[1]Tabel 4 B DATA'!N187","v":0},{"$f":"'[1]Tabel 4 B DATA'!O187","v":0},null,{"$f":"'[1]Tabel 4 B DATA'!Q187","v":0}]
[{"$f":"'[1]Tabel 4 B DATA'!I188","v":"Økonom"},null,{"$f":"'[1]Tabel 4 B DATA'!K188","v":0},{"$f":"'[1]Tabel 4 B DATA'!L188","v":0},{"$f":"'[1]Tabel 4 B DATA'!M188","v":0},{"$f":"'[1]Tabel 4 B DATA'!N188","v":0},{"$f":"'[1]Tabel 4 B DATA'!O188","v":0},null,{"$f":"'[1]Tabel 4 B DATA'!Q188","v":0}]
[{"$f":"'[1]Tabel 4 B DATA'!I189","v":"Samf. Adm."},null,{"$f":"'[1]Tabel 4 B DATA'!K189","v":0},{"$f":"'[1]Tabel 4 B DATA'!L189","v":0},{"$f":"'[1]Tabel 4 B DATA'!M189","v":0},{"$f":"'[1]Tabel 4 B DATA'!N189","v":0},{"$f":"'[1]Tabel 4 B DATA'!O189","v":0},null,{"$f":"'[1]Tabel 4 B DATA'!Q189","v":0}]
[{"$f":"'[1]Tabel 4 B DATA'!I190","v":"Cand. Merc."},null,{"$f":"'[1]Tabel 4 B DATA'!K190","v":0},{"$f":"'[1]Tabel 4 B DATA'!L190","v":0},{"$f":"'[1]Tabel 4 B DATA'!M190","v":0},{"$f":"'[1]Tabel 4 B DATA'!N190","v":0},{"$f":"'[1]Tabel 4 B DATA'!O190","v":0},null,{"$f":"'[1]Tabel 4 B DATA'!Q190","v":0}]
[{"$f":"'[1]Tabel 4 B DATA'!I191","v":"HA"},null,{"$f":"'[1]Tabel 4 B DATA'!K191","v":0},{"$f":"'[1]Tabel 4 B DATA'!L191","v":0},{"$f":"'[1]Tabel 4 B DATA'!M191","v":0},{"$f":"'[1]Tabel 4 B DATA'!N191","v":0},{"$f":"'[1]Tabel 4 B DATA'!O191","v":0},null,{"$f":"'[1]Tabel 4 B DATA'!Q191","v":0}]
[{"$f":"'[1]Tabel 4 B DATA'!I192","v":"HD"},null,{"$f":"'[1]Tabel 4 B DATA'!K192","v":0},{"$f":"'[1]Tabel 4 B DATA'!L192","v":0},{"$f":"'[1]Tabel 4 B DATA'!M192","v":0},{"$f":"'[1]Tabel 4 B DATA'!N192","v":0},{"$f":"'[1]Tabel 4 B DATA'!O192","v":0},null,{"$f":"'[1]Tabel 4 B DATA'!Q192","v":0}]
[{"$f":"'[1]Tabel 4 B DATA'!I193","v":"Komm. og Sprog"},null,{"$f":"'[1]Tabel 4 B DATA'!K193","v":0},{"$f":"'[1]Tabel 4 B DATA'!L193","v":0},{"$f":"'[1]Tabel 4 B DATA'!M193","v":0},{"$f":"'[1]Tabel 4 B DATA'!N193","v":0},{"$f":"'[1]Tabel 4 B DATA'!O193","v":0},null,{"$f":"'[1]Tabel 4 B DATA'!Q193","v":0}]
[{"$f":"'[1]Tabel 4 B DATA'!I194","v":"Bygningskonst."},null,{"$f":"'[1]Tabel 4 B DATA'!K194","v":0},{"$f":"'[1]Tabel 4 B DATA'!L194","v":0},{"$f":"'[1]Tabel 4 B DATA'!M194","v":0},{"$f":"'[1]Tabel 4 B DATA'!N194","v":0},{"$f":"'[1]Tabel 4 B DATA'!O194","v":0},null,{"$f":"'[1]Tabel 4 B DATA'!Q194","v":0}]
[{"$f":"'[1]Tabel 4 B DATA'!I195","v":"Cand. IT."},null,{"$f":"'[1]Tabel 4 B DATA'!K195","v":0},{"$f":"'[1]Tabel 4 B DATA'!L195","v":0},{"$f":"'[1]Tabel 4 B DATA'!M195","v":0},{"$f":"'[1]Tabel 4 B DATA'!N195","v":0},{"$f":"'[1]Tabel 4 B DATA'!O195","v":0},null,{"$f":"'[1]Tabel 4 B DATA'!Q195","v":0}]
[{"$f":"'[1]Tabel 4 B DATA'!I196","v":"Bac. Samf."},null,{"$f":"'[1]Tabel 4 B DATA'!K196","v":0},{"$f":"'[1]Tabel 4 B DATA'!L196","v":0},{"$f":"'[1]Tabel 4 B DATA'!M196","v":0},{"$f":"'[1]Tabel 4 B DATA'!N196","v":0},{"$f":"'[1]Tabel 4 B DATA'!O196","v":0},null,{"$f":"'[1]Tabel 4 B DATA'!Q196","v":0}]
[{"$f":"'[1]Tabel 4 B DATA'!I197","v":"Bac. Hum."},null,{"$f":"'[1]Tabel 4 B DATA'!K197","v":0},{"$f":"'[1]Tabel 4 B DATA'!L197","v":0},{"$f":"'[1]Tabel 4 B DATA'!M197","v":0},{"$f":"'[1]Tabel 4 B DATA'!N197","v":0},{"$f":"'[1]Tabel 4 B DATA'!O197","v":0},null,{"$f":"'[1]Tabel 4 B DATA'!Q197","v":0}]
[{"$f":"'[1]Tabel 4 B DATA'!I198","v":"Bac. Nat."},null,{"$f":"'[1]Tabel 4 B DATA'!K198","v":0},{"$f":"'[1]Tabel 4 B DATA'!L198","v":0},{"$f":"'[1]Tabel 4 B DATA'!M198","v":0},{"$f":"'[1]Tabel 4 B DATA'!N198","v":0},{"$f":"'[1]Tabel 4 B DATA'!O198","v":0},null,{"$f":"'[1]Tabel 4 B DATA'!Q198","v":0}]
[{"$f":"'[1]Tabel 4 B DATA'!I199","v":"Andre"},null,{"$f":"'[1]Tabel 4 B DATA'!K199","v":0},{"$f":"'[1]Tabel 4 B DATA'!L199","v":0},{"$f":"'[1]Tabel 4 B DATA'!M199","v":0},{"$f":"'[1]Tabel 4 B DATA'!N199","v":0},{"$f":"'[1]Tabel 4 B DATA'!O199","v":0},null,{"$f":"'[1]Tabel 4 B DATA'!Q199","v":0}]
[]
[{"$f":"'[1]Tabel 4 B DATA'!I201","v":"Total"},null,{"$f":"'[1]Tabel 4 B DATA'!K201","v":0},{"$f":"'[1]Tabel 4 B DATA'!L201","v":0},{"$f":"'[1]Tabel 4 B DATA'!M201","v":0},{"$f":"'[1]Tabel 4 B DATA'!N201","v":0},{"$f":"'[1]Tabel 4 B DATA'!O201","v":0},null,{"$f":"'[1]Tabel 4 B DATA'!Q201","v":0}]
[]
[{"$f":"'[1]Tabel 4 B DATA'!I203","v":"Ingeniører i alt"},null,{"$f":"'[1]Tabel 4 B DATA'!K203","v":0},{"$f":"'[1]Tabel 4 B DATA'!L203","v":0},{"$f":"'[1]Tabel 4 B DATA'!M203","v":0},{"$f":"'[1]Tabel 4 B DATA'!N203","v":0},{"$f":"'[1]Tabel 4 B DATA'!O203","v":0},null,{"$f":"'[1]Tabel 4 B DATA'!Q203","v":0}]
[{"$f":"'[1]Tabel 4 B DATA'!I204","v":"Magistre i alt"},null,{"$f":"'[1]Tabel 4 B DATA'!K204","v":0},{"$f":"'[1]Tabel 4 B DATA'!L204","v":0},{"$f":"'[1]Tabel 4 B DATA'!M204","v":0},{"$f":"'[1]Tabel 4 B DATA'!N204","v":0},{"$f":"'[1]Tabel 4 B DATA'!O204","v":0},null,{"$f":"'[1]Tabel 4 B DATA'!Q204","v":0}]
[{"$f":"'[1]Tabel 4 B DATA'!I205","v":"DJØF'ere i alt"},null,{"$f":"'[1]Tabel 4 B DATA'!K205","v":0},{"$f":"'[1]Tabel 4 B DATA'!L205","v":0},{"$f":"'[1]Tabel 4 B DATA'!M205","v":0},{"$f":"'[1]Tabel 4 B DATA'!N205","v":0},{"$f":"'[1]Tabel 4 B DATA'!O205","v":0},null,{"$f":"'[1]Tabel 4 B DATA'!Q205","v":0}]

{"sheet":"Tabel 4(Br) B","index":6,"n_rows":158,"n_cols":9,"rows_kept":158,"cut":false,"hidden":false,"merged":[]}
[{"$f":"'[1]Tabel 4(Br) B DATA'!I1","v":"Tabel 4. Ledighedsberørte - aldersfordelt"}]
[]
[{"$f":"'[1]Tabel 4(Br) B DATA'!I2","v":"Bornholm"}]
[]
[null,null,{"$f":"'[1]Tabel 4(Br) B DATA'!K4","v":"Under 30 år"},{"$f":"'[1]Tabel 4(Br) B DATA'!L4","v":"30 - 39 år"},{"$f":"'[1]Tabel 4(Br) B DATA'!M4","v":"40 - 49 år"},{"$f":"'[1]Tabel 4(Br) B DATA'!N4","v":"50 - 59 år"},{"$f":"'[1]Tabel 4(Br) B DATA'!O4","v":"Over 60 år"},null,{"$f":"'[1]Tabel 4(Br) B DATA'!Q4","v":"I alt"}]
[]
[{"$f":"'[1]Tabel 4(Br) B DATA'!I6","v":"Civ. ing."},null,{"$f":"'[1]Tabel 4(Br) B DATA'!K6","v":0},{"$f":"'[1]Tabel 4(Br) B DATA'!L6","v":1.9996257718455581},{"$f":"'[1]Tabel 4(Br) B DATA'!M6","v":0.37485186802220483},{"$f":"'[1]Tabel 4(Br) B DATA'!N6","v":0},{"$f":"'[1]Tabel 4(Br) B DATA'!O6","v":0},null,{"$f":"'[1]Tabel 4(Br) B DATA'!Q6","v":2.3744776398677629}]
[{"$f":"'[1]Tabel 4(Br) B DATA'!I7","v":"Diplom ing."},null,{"$f":"'[1]Tabel 4(Br) B DATA'!K7","v":0},{"$f":"'[1]Tabel 4(Br) B DATA'!L7","v":0},{"$f":"'[1]Tabel 4(Br) B DATA'!M7","v":1.0908750701677796},{"$f":"'[1]Tabel 4(Br) B DATA'!N7","v":1.9341358448200587},{"$f":"'[1]Tabel 4(Br) B DATA'!O7","v":0.99981288592278439},null,{"$f":"'[1]Tabel 4(Br) B DATA'!Q7","v":4.0248238009106228}]
[{"$f":"'[1]Tabel 4(Br) B DATA'!I8","v":"Cand. Scient. Tek"},null,{"$f":"'[1]Tabel 4(Br) B DATA'!K8","v":0},{"$f":"'[1]Tabel 4(Br) B DATA'!L8","v":2.3663693631883973},{"$f":"'[1]Tabel 4(Br) B DATA'!M8","v":0.19896463543940612},{"$f":"'[1]Tabel 4(Br) B DATA'!N8","v":0},{"$f":"'[1]Tabel 4(Br) B DATA'!O8","v":0},null,{"$f":"'[1]Tabel 4(Br) B DATA'!Q8","v":2.5653339986278034}]
[{"$f":"'[1]Tabel 4(Br) B DATA'!I9","v":"MA. Hum."},null,{"$f":"'[1]Tabel 4(Br) B DATA'!K9","v":0.36986215929653099},{"$f":"'[1]Tabel 4(Br) B DATA'!L9","v":5.883490301253687},{"$f":"'[1]Tabel 4(Br) B DATA'!M9","v":4.2169275868521083},{"$f":"'[1]Tabel 4(Br) B DATA'!N9","v":0.99981288592277906},{"$f":"'[1]Tabel 4(Br) B DATA'!O9","v":3.4254350402295373},null,{"$f":"'[1]Tabel 4(Br) B DATA'!Q9","v":14.895527973554643}]
[{"$f":"'[1]Tabel 4(Br) B DATA'!I10","v":"MA. Nat."},null,{"$f":"'[1]Tabel 4(Br) B DATA'!K10","v":0},{"$f":"'[1]Tabel 4(Br) B DATA'!L10","v":0},{"$f":"'[1]Tabel 4(Br) B DATA'!M10","v":1.2611488804341029},{"$f":"'[1]Tabel 4(Br) B DATA'!N10","v":0},{"$f":"'[1]Tabel 4(Br) B DATA'!O10","v":0.91873011912929492},null,{"$f":"'[1]Tabel 4(Br) B DATA'!Q10","v":2.1798789995633978}]
[{"$f":"'[1]Tabel 4(Br) B DATA'!I11","v":"MA. Ph.d."},null,{"$f":"'[1]Tabel 4(Br) B DATA'!K11","v":0},{"$f":"'[1]Tabel 4(Br) B DATA'!L11","v":0},{"$f":"'[1]Tabel 4(Br) B DATA'!M11","v":0.99981288592278439},{"$f":"'[1]Tabel 4(Br) B DATA'!N11","v":0},{"$f":"'[1]Tabel 4(Br) B DATA'!O11","v":0},null,{"$f":"'[1]Tabel 4(Br) B DATA'!Q11","v":0.99981288592278439}]
[{"$f":"'[1]Tabel 4(Br) B DATA'!I12","v":"MA. Samf."},null,{"$f":"'[1]Tabel 4(Br) B DATA'!K12","v":0},{"$f":"'[1]Tabel 4(Br) B DATA'!L12","v":0},{"$f":"'[1]Tabel 4(Br) B DATA'!M12","v":0},{"$f":"'[1]Tabel 4(Br) B DATA'!N12","v":0.99981288592278439},{"$f":"'[1]Tabel 4(Br) B DATA'!O12","v":0},null,{"$f":"'[1]Tabel 4(Br) B DATA'!Q12","v":0.99981288592278439}]
[{"$f":"'[1]Tabel 4(Br) B DATA'!I13","v":"Øvrige Mag."},null,{"$f":"'[1]Tabel 4(Br) B DATA'!K13","v":0},{"$f":"'[1]Tabel 4(Br) B DATA'!L13","v":2.6763550177758368},{"$f":"'[1]Tabel 4(Br) B DATA'!M13","v":1.9996257718455688},{"$f":"'[1]Tabel 4(Br) B DATA'!N13","v":0},{"$f":"'[1]Tabel 4(Br) B DATA'!O13","v":0},null,{"$f":"'[1]Tabel 4(Br) B DATA'!Q13","v":4.6759807896214056}]
[{"$f":"'[1]Tabel 4(Br) B DATA'!I14","v":"Agronom"},null,{"$f":"'[1]Tabel 4(Br) B DATA'!K14","v":0},{"$f":"'[1]Tabel 4(Br) B DATA'!L14","v":0},{"$f":"'[1]Tabel 4(Br) B DATA'!M14","v":0},{"$f":"'[1]Tabel 4(Br) B DATA'!N14","v":0},{"$f":"'[1]Tabel 4(Br) B DATA'!O14","v":0},null,{"$f":"'[1]Tabel 4(Br) B DATA'!Q14","v":0}]
[{"$f":"'[1]Tabel 4(Br) B DATA'!I15","v":"Landsk. Arkt."},null,{"$f":"'[1]Tabel 4(Br) B DATA'!K15","v":0},{"$f":"'[1]Tabel 4(Br) B DATA'!L15","v":0},{"$f":"'[1]Tabel 4(Br) B DATA'!M15","v":0},{"$f":"'[1]Tabel 4(Br) B DATA'!N15","v":0},{"$f":"'[1]Tabel 4(Br) B DATA'!O15","v":0},null,{"$f":"'[1]Tabel 4(Br) B DATA'!Q15","v":0}]
[{"$f":"'[1]Tabel 4(Br) B DATA'!I16","v":"Hortonom"},null,{"$f":"'[1]Tabel 4(Br) B DATA'!K16","v":0},{"$f":"'[1]Tabel 4(Br) B DATA'!L16","v":0},{"$f":"'[1]Tabel 4(Br) B DATA'!M16","v":0},{"$f":"'[1]Tabel 4(Br) B DATA'!N16","v":0},{"$f":"'[1]Tabel 4(Br) B DATA'!O16","v":0},null,{"$f":"'[1]Tabel 4(Br) B DATA'!Q16","v":0}]
[{"$f":"'[1]Tabel 4(Br) B DATA'!I17","v":"Forstkand."},null,{"$f":"'[1]Tabel 4(Br) B DATA'!K17","v":0},{"$f":"'[1]Tabel 4(Br) B DATA'!L17","v":0},{"$f":"'[1]Tabel 4(Br) B DATA'!M17","v":0},{"$f":"'[1]Tabel 4(Br) B DATA'!N17","v":0},{"$f":"'[1]Tabel 4(Br) B DATA'!O17","v":0},null,{"$f":"'[1]Tabel 4(Br) B DATA'!Q17","v":0}]
[{"$f":"'[1]Tabel 4(Br) B DATA'!I18","v":"Jordbrugsakad."},null,{"$f":"'[1]Tabel 4(Br) B DATA'!K18","v":0},{"$f":"'[1]Tabel 4(Br) B DATA'!L18","v":0},{"$f":"'[1]Tabel 4(Br) B DATA'!M18","v":0},{"$f":"'[1]Tabel 4(Br) B DATA'!N18","v":0},{"$f":"'[1]Tabel 4(Br) B DATA'!O18","v":0},null,{"$f":"'[1]Tabel 4(Br) B DATA'!Q18","v":0}]
[{"$f":"'[1]Tabel 4(Br) B DATA'!I19","v":"Mejeriing."},null,{"$f":"'[1]Tabel 4(Br) B DATA'!K19","v":0},{"$f":"'[1]Tabel 4(Br) B DATA'!L19","v":0},{"$f":"'[1]Tabel 4(Br) B DATA'!M19","v":0},{"$f":"'[1]Tabel 4(Br) B DATA'!N19","v":0},{"$f":"'[1]Tabel 4(Br) B DATA'!O19","v":0},null,{"$f":"'[1]Tabel 4(Br) B DATA'!Q19","v":0}]
[{"$f":"'[1]Tabel 4(Br) B DATA'!I20","v":"Levn.m.kand."},null,{"$f":"'[1]Tabel 4(Br) B DATA'!K20","v":0},{"$f":"'[1]Tabel 4(Br) B DATA'!L20","v":0.99981288592278439},{"$f":"'[1]Tabel 4(Br) B DATA'!M20","v":0},{"$f":"'[1]Tabel 4(Br) B DATA'!N20","v":0},{"$f":"'[1]Tabel 4(Br) B DATA'!O20","v":0},null,{"$f":"'[1]Tabel 4(Br) B DATA'!Q20","v":0.99981288592278439}]
[{"$f":"'[1]Tabel 4(Br) B DATA'!I21","v":"Dyrlæge"},null,{"$f":"'[1]Tabel 4(Br) B DATA'!K21","v":0},{"$f":"'[1]Tabel 4(Br) B DATA'!L21","v":0},{"$f":"'[1]Tabel 4(Br) B DATA'!M21","v":0},{"$f":"'[1]Tabel 4(Br) B DATA'!N21","v":0},{"$f":"'[1]Tabel 4(Br) B DATA'!O21","v":0},null,{"$f":"'[1]Tabel 4(Br) B DATA'!Q21","v":0}]
[{"$f":"'[1]Tabel 4(Br) B DATA'!I22","v":"Farmaceut"},null,{"$f":"'[1]Tabel 4(Br) B DATA'!K22","v":0},{"$f":"'[1]Tabel 4(Br) B DATA'!L22","v":0},{"$f":"'[1]Tabel 4(Br) B DATA'!M22","v":0},{"$f":"'[1]Tabel 4(Br) B DATA'!N22","v":0},{"$f":"'[1]Tabel 4(Br) B DATA'!O22","v":0},null,{"$f":"'[1]Tabel 4(Br) B DATA'!Q22","v":0}]
[{"$f":"'[1]Tabel 4(Br) B DATA'!I23","v":"Læge"},null,{"$f":"'[1]Tabel 4(Br) B DATA'!K23","v":0.99981288592277906},{"$f":"'[1]Tabel 4(Br) B DATA'!L23","v":0},{"$f":"'[1]Tabel 4(Br) B DATA'!M23","v":0},{"$f":"'[1]Tabel 4(Br) B DATA'!N23","v":0},{"$f":"'[1]Tabel 4(Br) B DATA'!O23","v":0},null,{"$f":"'[1]Tabel 4(Br) B DATA'!Q23","v":0.99981288592277906}]
[{"$f":"'[1]Tabel 4(Br) B DATA'!I24","v":"Tandlæge"},null,{"$f":"'[1]Tabel 4(Br) B DATA'!K24","v":0},{"$f":"'[1]Tabel 4(Br) B DATA'!L24","v":0},{"$f":"'[1]Tabel 4(Br) B DATA'!M24","v":0},{"$f":"'[1]Tabel 4(Br) B DATA'!N24","v":0},{"$f":"'[1]Tabel 4(Br) B DATA'!O24","v":0},null,{"$f":"'[1]Tabel 4(Br) B DATA'!Q24","v":0}]
[{"$f":"'[1]Tabel 4(Br) B DATA'!I25","v":"Arkitekt"},null,{"$f":"'[1]Tabel 4(Br) B DATA'!K25","v":0},{"$f":"'[1]Tabel 4(Br) B DATA'!L25","v":0},{"$f":"'[1]Tabel 4(Br) B DATA'!M25","v":0},{"$f":"'[1]Tabel 4(Br) B DATA'!N25","v":0.42599638246117166},{"$f":"'[1]Tabel 4(Br) B DATA'!O25","v":0},null,{"$f":"'[1]Tabel 4(Br) B DATA'!Q25","v":0.42599638246117166}]
[{"$f":"'[1]Tabel 4(Br) B DATA'!I26","v":"Landinspek."},null,{"$f":"'[1]Tabel 4(Br) B DATA'!K26","v":0},{"$f":"'[1]Tabel 4(Br) B DATA'!L26","v":0},{"$f":"'[1]Tabel 4(Br) B DATA'!M26","v":0},{"$f":"'[1]Tabel 4(Br) B DATA'!N26","v":0},{"$f":"'[1]Tabel 4(Br) B DATA'!O26","v":0},null,{"$f":"'[1]Tabel 4(Br) B DATA'!Q26","v":0}]
[{"$f":"'[1]Tabel 4(Br) B DATA'!I27","v":"Bibliotekar"},null,{"$f":"'[1]Tabel 4(Br) B DATA'!K27","v":0},{"$f":"'[1]Tabel 4(Br) B DATA'!L27","v":0},{"$f":"'[1]Tabel 4(Br) B DATA'!M27","v":0},{"$f":"'[1]Tabel 4(Br) B DATA'!N27","v":0},{"$f":"'[1]Tabel 4(Br) B DATA'!O27","v":0.99981288592278417},null,{"$f":"'[1]Tabel 4(Br) B DATA'!Q27","v":0.99981288592278417}]
[{"$f":"'[1]Tabel 4(Br) B DATA'!I28","v":"Musikudd."},null,{"$f":"'[1]Tabel 4(Br) B DATA'!K28","v":0},{"$f":"'[1]Tabel 4(Br) B DATA'!L28","v":0},{"$f":"'[1]Tabel 4(Br) B DATA'!M28","v":0},{"$f":"'[1]Tabel 4(Br) B DATA'!N28","v":0.9998128859227835},{"$f":"'[1]Tabel 4(Br) B DATA'!O28","v":0},null,{"$f":"'[1]Tabel 4(Br) B DATA'!Q28","v":0.9998128859227835}]
[{"$f":"'[1]Tabel 4(Br) B DATA'!I29","v":"Teolog"},null,{"$f":"'[1]Tabel 4(Br) B DATA'!K29","v":0},{"$f":"'[1]Tabel 4(Br) B DATA'!L29","v":0},{"$f":"'[1]Tabel 4(Br) B DATA'!M29","v":0},{"$f":"'[1]Tabel 4(Br) B DATA'!N29","v":0},{"$f":"'[1]Tabel 4(Br) B DATA'!O29","v":0},null,{"$f":"'[1]Tabel 4(Br) B DATA'!Q29","v":0}]
[{"$f":"'[1]Tabel 4(Br) B DATA'!I30","v":"Psykolog"},null,{"$f":"'[1]Tabel 4(Br) B DATA'!K30","v":0},{"$f":"'[1]Tabel 4(Br) B DATA'!L30","v":0.85012162415019787},{"$f":"'[1]Tabel 4(Br) B DATA'!M30","v":0},{"$f":"'[1]Tabel 4(Br) B DATA'!N30","v":0},{"$f":"'[1]Tabel 4(Br) B DATA'!O30","v":0},null,{"$f":"'[1]Tabel 4(Br) B DATA'!Q30","v":0.85012162415019787}]
[{"$f":"'[1]Tabel 4(Br) B DATA'!I31","v":"Jurist"},null,{"$f":"'[1]Tabel 4(Br) B DATA'!K31","v":0},{"$f":"'[1]Tabel 4(Br) B DATA'!L31","v":0},{"$f":"'[1]Tabel 4(Br) B DATA'!M31","v":0},{"$f":"'[1]Tabel 4(Br) B DATA'!N31","v":0},{"$f":"'[1]Tabel 4(Br) B DATA'!O31","v":0},null,{"$f":"'[1]Tabel 4(Br) B DATA'!Q31","v":0}]
[{"$f":"'[1]Tabel 4(Br) B DATA'!I32","v":"Økonom"},null,{"$f":"'[1]Tabel 4(Br) B DATA'!K32","v":0},{"$f":"'[1]Tabel 4(Br) B DATA'!L32","v":0},{"$f":"'[1]Tabel 4(Br) B DATA'!M32","v":0},{"$f":"'[1]Tabel 4(Br) B DATA'!N32","v":0},{"$f":"'[1]Tabel 4(Br) B DATA'!O32","v":0},null,{"$f":"'[1]Tabel 4(Br) B DATA'!Q32","v":0}]
[{"$f":"'[1]Tabel 4(Br) B DATA'!I33","v":"Samf. Adm."},null,{"$f":"'[1]Tabel 4(Br) B DATA'!K33","v":0},{"$f":"'[1]Tabel 4(Br) B DATA'!L33","v":0},{"$f":"'[1]Tabel 4(Br) B DATA'!M33","v":0.99981288592277906},{"$f":"'[1]Tabel 4(Br) B DATA'!N33","v":1.9996257718455723},{"$f":"'[1]Tabel 4(Br) B DATA'!O33","v":0},null,{"$f":"'[1]Tabel 4(Br) B DATA'!Q33","v":2.9994386577683514}]
[{"$f":"'[1]Tabel 4(Br) B DATA'!I34","v":"Cand. Merc."},null,{"$f":"'[1]Tabel 4(Br) B DATA'!K34","v":0},{"$f":"'[1]Tabel 4(Br) B DATA'!L34","v":0},{"$f":"'[1]Tabel 4(Br) B DATA'!M34","v":2.5378906006361746},{"$f":"'[1]Tabel 4(Br) B DATA'!N34","v":0.99981288592278261},{"$f":"'[1]Tabel 4(Br) B DATA'!O34","v":0},null,{"$f":"'[1]Tabel 4(Br) B DATA'!Q34","v":3.5377034865589572}]
[{"$f":"'[1]Tabel 4(Br) B DATA'!I35","v":"HA"},null,{"$f":"'[1]Tabel 4(Br) B DATA'!K35","v":0},{"$f":"'[1]Tabel 4(Br) B DATA'!L35","v":0},{"$f":"'[1]Tabel 4(Br) B DATA'!M35","v":0},{"$f":"'[1]Tabel 4(Br) B DATA'!N35","v":0.23264516933824009},{"$f":"'[1]Tabel 4(Br) B DATA'!O35","v":0},null,{"$f":"'[1]Tabel 4(Br) B DATA'!Q35","v":0.23264516933824009}]
[{"$f":"'[1]Tabel 4(Br) B DATA'!I36","v":"HD"},null,{"$f":"'[1]Tabel 4(Br) B DATA'!K36","v":0},{"$f":"'[1]Tabel 4(Br) B DATA'!L36","v":0},{"$f":"'[1]Tabel 4(Br) B DATA'!M36","v":0},{"$f":"'[1]Tabel 4(Br) B DATA'!N36","v":0},{"$f":"'[1]Tabel 4(Br) B DATA'!O36","v":0},null,{"$f":"'[1]Tabel 4(Br) B DATA'!Q36","v":0}]
[{"$f":"'[1]Tabel 4(Br) B DATA'!I37","v":"Komm. og Sprog"},null,{"$f":"'[1]Tabel 4(Br) B DATA'!K37","v":0},{"$f":"'[1]Tabel 4(Br) B DATA'!L37","v":0.86134846878313454},{"$f":"'[1]Tabel 4(Br) B DATA'!M37","v":0},{"$f":"'[1]Tabel 4(Br) B DATA'!N37","v":1.1613547059190417},{"$f":"'[1]Tabel 4(Br) B DATA'!O37","v":0.90750327449635115},null,{"$f":"'[1]Tabel 4(Br) B DATA'!Q37","v":2.9302064491985274}]
[{"$f":"'[1]Tabel 4(Br) B DATA'!I38","v":"Bygningskonst."},null,{"$f":"'[1]Tabel 4(Br) B DATA'!K38","v":0},{"$f":"'[1]Tabel 4(Br) B DATA'!L38","v":0},{"$f":"'[1]Tabel 4(Br) B DATA'!M38","v":0},{"$f":"'[1]Tabel 4(Br) B DATA'!N38","v":0},{"$f":"'[1]Tabel 4(Br) B DATA'!O38","v":0},null,{"$f":"'[1]Tabel 4(Br) B DATA'!Q38","v":0}]
[{"$f":"'[1]Tabel 4(Br) B DATA'!I39","v":"Cand. IT."},null,{"$f":"'[1]Tabel 4(Br) B DATA'!K39","v":0},{"$f":"'[1]Tabel 4(Br) B DATA'!L39","v":0},{"$f":"'[1]Tabel 4(Br) B DATA'!M39","v":0},{"$f":"'[1]Tabel 4(Br) B DATA'!N39","v":0},{"$f":"'[1]Tabel 4(Br) B DATA'!O39","v":0},null,{"$f":"'[1]Tabel 4(Br) B DATA'!Q39","v":0}]
[{"$f":"'[1]Tabel 4(Br) B DATA'!I40","v":"Bac. Samf."},null,{"$f":"'[1]Tabel 4(Br) B DATA'!K40","v":0},{"$f":"'[1]Tabel 4(Br) B DATA'!L40","v":0},{"$f":"'[1]Tabel 4(Br) B DATA'!M40","v":0},{"$f":"'[1]Tabel 4(Br) B DATA'!N40","v":0},{"$f":"'[1]Tabel 4(Br) B DATA'!O40","v":0},null,{"$f":"'[1]Tabel 4(Br) B DATA'!Q40","v":0}]
[{"$f":"'[1]Tabel 4(Br) B DATA'!I41","v":"Bac. Hum."},null,{"$f":"'[1]Tabel 4(Br) B DATA'!K41","v":0.16902638308488349},{"$f":"'[1]Tabel 4(Br) B DATA'!L41","v":0.99981288592277906},{"$f":"'[1]Tabel 4(Br) B DATA'!M41","v":0.99981288592278617},{"$f":"'[1]Tabel 4(Br) B DATA'!N41","v":0},{"$f":"'[1]Tabel 4(Br) B DATA'!O41","v":0},null,{"$f":"'[1]Tabel 4(Br) B DATA'!Q41","v":2.1686521549304487}]
[{"$f":"'[1]Tabel 4(Br) B DATA'!I42","v":"Bac. Nat."},null,{"$f":"'[1]Tabel 4(Br) B DATA'!K42","v":0},{"$f":"'[1]Tabel 4(Br) B DATA'!L42","v":0.99981288592278261},{"$f":"'[1]Tabel 4(Br) B DATA'!M42","v":0},{"$f":"'[1]Tabel 4(Br) B DATA'!N42","v":0.99981288592278439},{"$f":"'[1]Tabel 4(Br) B DATA'!O42","v":0},null,{"$f":"'[1]Tabel 4(Br) B DATA'!Q42","v":1.999625771845567}]
[{"$f":"'[1]Tabel 4(Br) B DATA'!I43","v":"Andre"},null,{"$f":"'[1]Tabel 4(Br) B DATA'!K43","v":0.99981288592277906},{"$f":"'[1]Tabel 4(Br) B DATA'!L43","v":1.3253913802782336},{"$f":"'[1]Tabel 4(Br) B DATA'!M43","v":2.970747832595265},{"$f":"'[1]Tabel 4(Br) B DATA'!N43","v":1.6721761367180221},{"$f":"'[1]Tabel 4(Br) B DATA'!O43","v":1.4239381276117982},null,{"$f":"'[1]Tabel 4(Br) B DATA'!Q43","v":8.3920663631260979}]
[]
[{"$f":"'[1]Tabel 4(Br) B DATA'!I45","v":"Total"},null,{"$f":"'[1]Tabel 4(Br) B DATA'!K45","v":2.5385143142269726},{"$f":"'[1]Tabel 4(Br) B DATA'!L45","v":18.96214058504339},{"$f":"'[1]Tabel 4(Br) B DATA'!M45","v":17.650470903760962},{"$f":"'[1]Tabel 4(Br) B DATA'!N45","v":12.424998440716022},{"$f":"'[1]Tabel 4(Br) B DATA'!O45","v":8.6752323333125503},null,{"$f":"'[1]Tabel 4(Br) B DATA'!Q45","v":60.251356577059894}]
[]
[{"$f":"'[1]Tabel 4(Br) B DATA'!I47","v":"Ingeniører i alt"},null,{"$f":"'[1]Tabel 4(Br) B DATA'!K47","v":0},{"$f":"'[1]Tabel 4(Br) B DATA'!L47","v":1.9996257718455581},{"$f":"'[1]Tabel 4(Br) B DATA'!M47","v":1.4657269381899845},{"$f":"'[1]Tabel 4(Br) B DATA'!N47","v":1.9341358448200587},{"$f":"'[1]Tabel 4(Br) B DATA'!O47","v":0.99981288592278439},null,{"$f":"'[1]Tabel 4(Br) B DATA'!Q47","v":6.3993014407783857}]
[{"$f":"'[1]Tabel 4(Br) B DATA'!I48","v":"Magistre i alt"},null,{"$f":"'[1]Tabel 4(Br) B DATA'!K48","v":0.36986215929653099},{"$f":"'[1]Tabel 4(Br) B DATA'!L48","v":8.5598453190295238},{"$f":"'[1]Tabel 4(Br) B DATA'!M48","v":8.4775151250545644},{"$f":"'[1]Tabel 4(Br) B DATA'!N48","v":1.9996257718455634},{"$f":"'[1]Tabel 4(Br) B DATA'!O48","v":4.3441651593588322},null,{"$f":"'[1]Tabel 4(Br) B DATA'!Q48","v":23.751013534585013}]
[{"$f":"'[1]Tabel 4(Br) B DATA'!I49","v":"DJØF'ere i alt"},null,{"$f":"'[1]Tabel 4(Br) B DATA'!K49","v":0},{"$f":"'[1]Tabel 4(Br) B DATA'!L49","v":0},{"$f":"'[1]Tabel 4(Br) B DATA'!M49","v":3.5377034865589536},{"$f":"'[1]Tabel 4(Br) B DATA'!N49","v":3.232083827106595},{"$f":"'[1]Tabel 4(Br) B DATA'!O49","v":0},null,{"$f":"'[1]Tabel 4(Br) B DATA'!Q49","v":6.7697873136655486}]
[]
[]
[]
[]
[]
[]
[{"$f":"'[1]Tabel 4(Br) B DATA'!I106","v":"Bornholm"}]
[]
[null,null,{"$f":"'[1]Tabel 4(Br) B DATA'!K108","v":"Under 30 år"},{"$f":"'[1]Tabel 4(Br) B DATA'!L108","v":"30 - 39 år"},{"$f":"'[1]Tabel 4(Br) B DATA'!M108","v":"40 - 49 år"},{"$f":"'[1]Tabel 4(Br) B DATA'!N108","v":"50 - 59 år"},{"$f":"'[1]Tabel 4(Br) B DATA'!O108","v":"Over 60 år"},null,{"$f":"'[1]Tabel 4(Br) B DATA'!Q108","v":"I alt"}]
[]
[{"$f":"'[1]Tabel 4(Br) B DATA'!I110","v":"Civ. ing."},null,{"$f":"'[1]Tabel 4(Br) B DATA'!K110","v":0},{"$f":"'[1]Tabel 4(Br) B DATA'!L110","v":1.9996257718455686},{"$f":"'[1]Tabel 4(Br) B DATA'!M110","v":0.37485186802220416},{"$f":"'[1]Tabel 4(Br) B DATA'!N110","v":0},{"$f":"'[1]Tabel 4(Br) B DATA'!O110","v":0},null,{"$f":"'[1]Tabel 4(Br) B DATA'!Q110","v":2.3744776398677727}]
[{"$f":"'[1]Tabel 4(Br) B DATA'!I111","v":"Diplom ing."},null,{"$f":"'[1]Tabel 4(Br) B DATA'!K111","v":0},{"$f":"'[1]Tabel 4(Br) B DATA'!L111","v":0},{"$f":"'[1]Tabel 4(Br) B DATA'!M111","v":1.0908750701677787},{"$f":"'[1]Tabel 4(Br) B DATA'!N111","v":1.9341358448200587},{"$f":"'[1]Tabel 4(Br) B DATA'!O111","v":0.99981288592278428},null,{"$f":"'[1]Tabel 4(Br) B DATA'!Q111","v":4.0248238009106219}]
[{"$f":"'[1]Tabel 4(Br) B DATA'!I112","v":"Cand. Scient. Tek"},null,{"$f":"'[1]Tabel 4(Br) B DATA'!K112","v":0},{"$f":"'[1]Tabel 4(Br) B DATA'!L112","v":2.3663693631884239},{"$f":"'[1]Tabel 4(Br) B DATA'!M112","v":0.19896463543940621},{"$f":"'[1]Tabel 4(Br) B DATA'!N112","v":0},{"$f":"'[1]Tabel 4(Br) B DATA'!O112","v":0},null,{"$f":"'[1]Tabel 4(Br) B DATA'!Q112","v":2.5653339986278301}]
[{"$f":"'[1]Tabel 4(Br) B DATA'!I113","v":"MA. Hum."},null,{"$f":"'[1]Tabel 4(Br) B DATA'!K113","v":0.369862159296451},{"$f":"'[1]Tabel 4(Br) B DATA'!L113","v":5.8834903012536639},{"$f":"'[1]Tabel 4(Br) B DATA'!M113","v":4.2169275868521172},{"$f":"'[1]Tabel 4(Br) B DATA'!N113","v":0.99981288592278428},{"$f":"'[1]Tabel 4(Br) B DATA'!O113","v":3.4254350402295266},null,{"$f":"'[1]Tabel 4(Br) B DATA'!Q113","v":14.895527973554543}]
[{"$f":"'[1]Tabel 4(Br) B DATA'!I114","v":"MA. Nat."},null,{"$f":"'[1]Tabel 4(Br) B DATA'!K114","v":0},{"$f":"'[1]Tabel 4(Br) B DATA'!L114","v":0},{"$f":"'[1]Tabel 4(Br) B DATA'!M114","v":1.2611488804341047},{"$f":"'[1]Tabel 4(Br) B DATA'!N114","v":0},{"$f":"'[1]Tabel 4(Br) B DATA'!O114","v":0.91873011912929581},null,{"$f":"'[1]Tabel 4(Br) B DATA'!Q114","v":2.1798789995634005}]
[{"$f":"'[1]Tabel 4(Br) B DATA'!I115","v":"MA. Ph.d."},null,{"$f":"'[1]Tabel 4(Br) B DATA'!K115","v":0},{"$f":"'[1]Tabel 4(Br) B DATA'!L115","v":0},{"$f":"'[1]Tabel 4(Br) B DATA'!M115","v":0.99981288592278428},{"$f":"'[1]Tabel 4(Br) B DATA'!N115","v":0},{"$f":"'[1]Tabel 4(Br) B DATA'!O115","v":0},null,{"$f":"'[1]Tabel 4(Br) B DATA'!Q115","v":0.99981288592278428}]
[{"$f":"'[1]Tabel 4(Br) B DATA'!I116","v":"MA. Samf."},null,{"$f":"'[1]Tabel 4(Br) B DATA'!K116","v":0},{"$f":"'[1]Tabel 4(Br) B DATA'!L116","v":0},{"$f":"'[1]Tabel 4(Br) B DATA'!M116","v":0},{"$f":"'[1]Tabel 4(Br) B DATA'!N116","v":0.99981288592278428},{"$f":"'[1]Tabel 4(Br) B DATA'!O116","v":0},null,{"$f":"'[1]Tabel 4(Br) B DATA'!Q116","v":0.99981288592278428}]
[{"$f":"'[1]Tabel 4(Br) B DATA'!I117","v":"Øvrige Mag."},null,{"$f":"'[1]Tabel 4(Br) B DATA'!K117","v":0},{"$f":"'[1]Tabel 4(Br) B DATA'!L117","v":2.6763550177758373},{"$f":"'[1]Tabel 4(Br) B DATA'!M117","v":1.9996257718455686},{"$f":"'[1]Tabel 4(Br) B DATA'!N117","v":0},{"$f":"'[1]Tabel 4(Br) B DATA'!O117","v":0},null,{"$f":"'[1]Tabel 4(Br) B DATA'!Q117","v":4.6759807896214056}]
[{"$f":"'[1]Tabel 4(Br) B DATA'!I118","v":"Agronom"},null,{"$f":"'[1]Tabel 4(Br) B DATA'!K118","v":0},{"$f":"'[1]Tabel 4(Br) B DATA'!L118","v":0},{"$f":"'[1]Tabel 4(Br) B DATA'!M118","v":0},{"$f":"'[1]Tabel 4(Br) B DATA'!N118","v":0},{"$f":"'[1]Tabel 4(Br) B DATA'!O118","v":0},null,{"$f":"'[1]Tabel 4(Br) B DATA'!Q118","v":0}]
[{"$f":"'[1]Tabel 4(Br) B DATA'!I119","v":"Landsk. Arkt."},null,{"$f":"'[1]Tabel 4(Br) B DATA'!K119","v":0},{"$f":"'[1]Tabel 4(Br) B DATA'!L119","v":0},{"$f":"'[1]Tabel 4(Br) B DATA'!M119","v":0},{"$f":"'[1]Tabel 4(Br) B DATA'!N119","v":0},{"$f":"'[1]Tabel 4(Br) B DATA'!O119","v":0},null,{"$f":"'[1]Tabel 4(Br) B DATA'!Q119","v":0}]
[{"$f":"'[1]Tabel 4(Br) B DATA'!I120","v":"Hortonom"},null,{"$f":"'[1]Tabel 4(Br) B DATA'!K120","v":0},{"$f":"'[1]Tabel 4(Br) B DATA'!L120","v":0},{"$f":"'[1]Tabel 4(Br) B DATA'!M120","v":0},{"$f":"'[1]Tabel 4(Br) B DATA'!N120","v":0},{"$f":"'[1]Tabel 4(Br) B DATA'!O120","v":0},null,{"$f":"'[1]Tabel 4(Br) B DATA'!Q120","v":0}]
[{"$f":"'[1]Tabel 4(Br) B DATA'!I121","v":"Forstkand."},null,{"$f":"'[1]Tabel 4(Br) B DATA'!K121","v":0},{"$f":"'[1]Tabel 4(Br) B DATA'!L121","v":0},{"$f":"'[1]Tabel 4(Br) B DATA'!M121","v":0},{"$f":"'[1]Tabel 4(Br) B DATA'!N121","v":0},{"$f":"'[1]Tabel 4(Br) B DATA'!O121","v":0},null,{"$f":"'[1]Tabel 4(Br) B DATA'!Q121","v":0}]
[{"$f":"'[1]Tabel 4(Br) B DATA'!I122","v":"Jordbrugsakad."},null,{"$f":"'[1]Tabel 4(Br) B DATA'!K122","v":0},{"$f":"'[1]Tabel 4(Br) B DATA'!L122","v":0},{"$f":"'[1]Tabel 4(Br) B DATA'!M122","v":0},{"$f":"'[1]Tabel 4(Br) B DATA'!N122","v":0},{"$f":"'[1]Tabel 4(Br) B DATA'!O122","v":0},null,{"$f":"'[1]Tabel 4(Br) B DATA'!Q122","v":0}]
[{"$f":"'[1]Tabel 4(Br) B DATA'!I123","v":"Mejeriing."},null,{"$f":"'[1]Tabel 4(Br) B DATA'!K123","v":0},{"$f":"'[1]Tabel 4(Br) B DATA'!L123","v":0},{"$f":"'[1]Tabel 4(Br) B DATA'!M123","v":0},{"$f":"'[1]Tabel 4(Br) B DATA'!N123","v":0},{"$f":"'[1]Tabel 4(Br) B DATA'!O123","v":0},null,{"$f":"'[1]Tabel 4(Br) B DATA'!Q123","v":0}]
[{"$f":"'[1]Tabel 4(Br) B DATA'!I124","v":"Levn.m.kand."},null,{"$f":"'[1]Tabel 4(Br) B DATA'!K124","v":0},{"$f":"'[1]Tabel 4(Br) B DATA'!L124","v":0.99981288592278428},{"$f":"'[1]Tabel 4(Br) B DATA'!M124","v":0},{"$f":"'[1]Tabel 4(Br) B DATA'!N124","v":0},{"$f":"'[1]Tabel 4(Br) B DATA'!O124","v":0},null,{"$f":"'[1]Tabel 4(Br) B DATA'!Q124","v":0.99981288592278428}]
[{"$f":"'[1]Tabel 4(Br) B DATA'!I125","v":"Dyrlæge"},null,{"$f":"'[1]Tabel 4(Br) B DATA'!K125","v":0},{"$f":"'[1]Tabel 4(Br) B DATA'!L125","v":0},{"$f":"'[1]Tabel 4(Br) B DATA'!M125","v":0},{"$f":"'[1]Tabel 4(Br) B DATA'!N125","v":0},{"$f":"'[1]Tabel 4(Br) B DATA'!O125","v":0},null,{"$f":"'[1]Tabel 4(Br) B DATA'!Q125","v":0}]
[{"$f":"'[1]Tabel 4(Br) B DATA'!I126","v":"Farmaceut"},null,{"$f":"'[1]Tabel 4(Br) B DATA'!K126","v":0},{"$f":"'[1]Tabel 4(Br) B DATA'!L126","v":0},{"$f":"'[1]Tabel 4(Br) B DATA'!M126","v":0},{"$f":"'[1]Tabel 4(Br) B DATA'!N126","v":0},{"$f":"'[1]Tabel 4(Br) B DATA'!O126","v":0},null,{"$f":"'[1]Tabel 4(Br) B DATA'!Q126","v":0}]
[{"$f":"'[1]Tabel 4(Br) B DATA'!I127","v":"Læge"},null,{"$f":"'[1]Tabel 4(Br) B DATA'!K127","v":0.99981288592278428},{"$f":"'[1]Tabel 4(Br) B DATA'!L127","v":0},{"$f":"'[1]Tabel 4(Br) B DATA'!M127","v":0},{"$f":"'[1]Tabel 4(Br) B DATA'!N127","v":0},{"$f":"'[1]Tabel 4(Br) B DATA'!O127","v":0},null,{"$f":"'[1]Tabel 4(Br) B DATA'!Q127","v":0.99981288592278428}]
[{"$f":"'[1]Tabel 4(Br) B DATA'!I128","v":"Tandlæge"},null,{"$f":"'[1]Tabel 4(Br) B DATA'!K128","v":0},{"$f":"'[1]Tabel 4(Br) B DATA'!L128","v":0},{"$f":"'[1]Tabel 4(Br) B DATA'!M128","v":0},{"$f":"'[1]Tabel 4(Br) B DATA'!N128","v":0},{"$f":"'[1]Tabel 4(Br) B DATA'!O128","v":0},null,{"$f":"'[1]Tabel 4(Br) B DATA'!Q128","v":0}]
[{"$f":"'[1]Tabel 4(Br) B DATA'!I129","v":"Arkitekt"},null,{"$f":"'[1]Tabel 4(Br) B DATA'!K129","v":0},{"$f":"'[1]Tabel 4(Br) B DATA'!L129","v":0},{"$f":"'[1]Tabel 4(Br) B DATA'!M129","v":0},{"$f":"'[1]Tabel 4(Br) B DATA'!N129","v":0.42599638246117377},{"$f":"'[1]Tabel 4(Br) B DATA'!O129","v":0},null,{"$f":"'[1]Tabel 4(Br) B DATA'!Q129","v":0.42599638246117377}]
[{"$f":"'[1]Tabel 4(Br) B DATA'!I130","v":"Landinspek."},null,{"$f":"'[1]Tabel 4(Br) B DATA'!K130","v":0},{"$f":"'[1]Tabel 4(Br) B DATA'!L130","v":0},{"$f":"'[1]Tabel 4(Br) B DATA'!M130","v":0},{"$f":"'[1]Tabel 4(Br) B DATA'!N130","v":0},{"$f":"'[1]Tabel 4(Br) B DATA'!O130","v":0},null,{"$f":"'[1]Tabel 4(Br) B DATA'!Q130","v":0}]
[{"$f":"'[1]Tabel 4(Br) B DATA'!I131","v":"Bibliotekar"},null,{"$f":"'[1]Tabel 4(Br) B DATA'!K131","v":0},{"$f":"'[1]Tabel 4(Br) B DATA'!L131","v":0},{"$f":"'[1]Tabel 4(Br) B DATA'!M131","v":0},{"$f":"'[1]Tabel 4(Br) B DATA'!N131","v":0},{"$f":"'[1]Tabel 4(Br) B DATA'!O131","v":0.99981288592278428},null,{"$f":"'[1]Tabel 4(Br) B DATA'!Q131","v":0.99981288592278428}]
[{"$f":"'[1]Tabel 4(Br) B DATA'!I132","v":"Musikudd."},null,{"$f":"'[1]Tabel 4(Br) B DATA'!K132","v":0},{"$f":"'[1]Tabel 4(Br) B DATA'!L132","v":0},{"$f":"'[1]Tabel 4(Br) B DATA'!M132","v":0},{"$f":"'[1]Tabel 4(Br) B DATA'!N132","v":0.99981288592278428},{"$f":"'[1]Tabel 4(Br) B DATA'!O132","v":0},null,{"$f":"'[1]Tabel 4(Br) B DATA'!Q132","v":0.99981288592278428}]
[{"$f":"'[1]Tabel 4(Br) B DATA'!I133","v":"Teolog"},null,{"$f":"'[1]Tabel 4(Br) B DATA'!K133","v":0},{"$f":"'[1]Tabel 4(Br) B DATA'!L133","v":0},{"$f":"'[1]Tabel 4(Br) B DATA'!M133","v":0},{"$f":"'[1]Tabel 4(Br) B DATA'!N133","v":0},{"$f":"'[1]Tabel 4(Br) B DATA'!O133","v":0},null,{"$f":"'[1]Tabel 4(Br) B DATA'!Q133","v":0}]
[{"$f":"'[1]Tabel 4(Br) B DATA'!I134","v":"Psykolog"},null,{"$f":"'[1]Tabel 4(Br) B DATA'!K134","v":0},{"$f":"'[1]Tabel 4(Br) B DATA'!L134","v":0.85012162415019021},{"$f":"'[1]Tabel 4(Br) B DATA'!M134","v":0},{"$f":"'[1]Tabel 4(Br) B DATA'!N134","v":0},{"$f":"'[1]Tabel 4(Br) B DATA'!O134","v":0},null,{"$f":"'[1]Tabel 4(Br) B DATA'!Q134","v":0.85012162415019021}]
[{"$f":"'[1]Tabel 4(Br) B DATA'!I135","v":"Jurist"},null,{"$f":"'[1]Tabel 4(Br) B DATA'!K135","v":0},{"$f":"'[1]Tabel 4(Br) B DATA'!L135","v":0},{"$f":"'[1]Tabel 4(Br) B DATA'!M135","v":0},{"$f":"'[1]Tabel 4(Br) B DATA'!N135","v":0},{"$f":"'[1]Tabel 4(Br) B DATA'!O135","v":0},null,{"$f":"'[1]Tabel 4(Br) B DATA'!Q135","v":0}]
[{"$f":"'[1]Tabel 4(Br) B DATA'!I136","v":"Økonom"},null,{"$f":"'[1]Tabel 4(Br) B DATA'!K136","v":0},{"$f":"'[1]Tabel 4(Br) B DATA'!L136","v":0},{"$f":"'[1]Tabel 4(Br) B DATA'!M136","v":0},{"$f":"'[1]Tabel 4(Br) B DATA'!N136","v":0},{"$f":"'[1]Tabel 4(Br) B DATA'!O136","v":0},null,{"$f":"'[1]Tabel 4(Br) B DATA'!Q136","v":0}]
[{"$f":"'[1]Tabel 4(Br) B DATA'!I137","v":"Samf. Adm."},null,{"$f":"'[1]Tabel 4(Br) B DATA'!K137","v":0},{"$f":"'[1]Tabel 4(Br) B DATA'!L137","v":0},{"$f":"'[1]Tabel 4(Br) B DATA'!M137","v":0.99981288592278428},{"$f":"'[1]Tabel 4(Br) B DATA'!N137","v":1.9996257718455686},{"$f":"'[1]Tabel 4(Br) B DATA'!O137","v":0},null,{"$f":"'[1]Tabel 4(Br) B DATA'!Q137","v":2.9994386577683527}]
[{"$f":"'[1]Tabel 4(Br) B DATA'!I138","v":"Cand. Merc."},null,{"$f":"'[1]Tabel 4(Br) B DATA'!K138","v":0},{"$f":"'[1]Tabel 4(Br) B DATA'!L138","v":0},{"$f":"'[1]Tabel 4(Br) B DATA'!M138","v":2.5378906006361879},{"$f":"'[1]Tabel 4(Br) B DATA'!N138","v":0.99981288592278428},{"$f":"'[1]Tabel 4(Br) B DATA'!O138","v":0},null,{"$f":"'[1]Tabel 4(Br) B DATA'!Q138","v":3.5377034865589723}]
[{"$f":"'[1]Tabel 4(Br) B DATA'!I139","v":"HA"},null,{"$f":"'[1]Tabel 4(Br) B DATA'!K139","v":0},{"$f":"'[1]Tabel 4(Br) B DATA'!L139","v":0},{"$f":"'[1]Tabel 4(Br) B DATA'!M139","v":0},{"$f":"'[1]Tabel 4(Br) B DATA'!N139","v":0.23264516933823984},{"$f":"'[1]Tabel 4(Br) B DATA'!O139","v":0},null,{"$f":"'[1]Tabel 4(Br) B DATA'!Q139","v":0.23264516933823984}]
[{"$f":"'[1]Tabel 4(Br) B DATA'!I140","v":"HD"},null,{"$f":"'[1]Tabel 4(Br) B DATA'!K140","v":0},{"$f":"'[1]Tabel 4(Br) B DATA'!L140","v":0},{"$f":"'[1]Tabel 4(Br) B DATA'!M140","v":0},{"$f":"'[1]Tabel 4(Br) B DATA'!N140","v":0},{"$f":"'[1]Tabel 4(Br) B DATA'!O140","v":0},null,{"$f":"'[1]Tabel 4(Br) B DATA'!Q140","v":0}]
[{"$f":"'[1]Tabel 4(Br) B DATA'!I141","v":"Komm. og Sprog"},null,{"$f":"'[1]Tabel 4(Br) B DATA'!K141","v":0},{"$f":"'[1]Tabel 4(Br) B DATA'!L141","v":0.86134846878313465},{"$f":"'[1]Tabel 4(Br) B DATA'!M141","v":0},{"$f":"'[1]Tabel 4(Br) B DATA'!N141","v":1.1613547059190419},{"$f":"'[1]Tabel 4(Br) B DATA'!O141","v":0.90750327449635115},null,{"$f":"'[1]Tabel 4(Br) B DATA'!Q141","v":2.9302064491985278}]
[{"$f":"'[1]Tabel 4(Br) B DATA'!I142","v":"Bygningskonst."},null,{"$f":"'[1]Tabel 4(Br) B DATA'!K142","v":0},{"$f":"'[1]Tabel 4(Br) B DATA'!L142","v":0},{"$f":"'[1]Tabel 4(Br) B DATA'!M142","v":0},{"$f":"'[1]Tabel 4(Br) B DATA'!N142","v":0},{"$f":"'[1]Tabel 4(Br) B DATA'!O142","v":0},null,{"$f":"'[1]Tabel 4(Br) B DATA'!Q142","v":0}]
[{"$f":"'[1]Tabel 4(Br) B DATA'!I143","v":"Cand. IT."},null,{"$f":"'[1]Tabel 4(Br) B DATA'!K143","v":0},{"$f":"'[1]Tabel 4(Br) B DATA'!L143","v":0},{"$f":"'[1]Tabel 4(Br) B DATA'!M143","v":0},{"$f":"'[1]Tabel 4(Br) B DATA'!N143","v":0},{"$f":"'[1]Tabel 4(Br) B DATA'!O143","v":0},null,{"$f":"'[1]Tabel 4(Br) B DATA'!Q143","v":0}]
[{"$f":"'[1]Tabel 4(Br) B DATA'!I144","v":"Bac. Samf."},null,{"$f":"'[1]Tabel 4(Br) B DATA'!K144","v":0},{"$f":"'[1]Tabel 4(Br) B DATA'!L144","v":0},{"$f":"'[1]Tabel 4(Br) B DATA'!M144","v":0},{"$f":"'[1]Tabel 4(Br) B DATA'!N144","v":0},{"$f":"'[1]Tabel 4(Br) B DATA'!O144","v":0},null,{"$f":"'[1]Tabel 4(Br) B DATA'!Q144","v":0}]
[{"$f":"'[1]Tabel 4(Br) B DATA'!I145","v":"Bac. Hum."},null,{"$f":"'[1]Tabel 4(Br) B DATA'!K145","v":0.1690263830848874},{"$f":"'[1]Tabel 4(Br) B DATA'!L145","v":0.99981288592278428},{"$f":"'[1]Tabel 4(Br) B DATA'!M145","v":0.99981288592278428},{"$f":"'[1]Tabel 4(Br) B DATA'!N145","v":0},{"$f":"'[1]Tabel 4(Br) B DATA'!O145","v":0},null,{"$f":"'[1]Tabel 4(Br) B DATA'!Q145","v":2.1686521549304558}]
[{"$f":"'[1]Tabel 4(Br) B DATA'!I146","v":"Bac. Nat."},null,{"$f":"'[1]Tabel 4(Br) B DATA'!K146","v":0},{"$f":"'[1]Tabel 4(Br) B DATA'!L146","v":0.99981288592278428},{"$f":"'[1]Tabel 4(Br) B DATA'!M146","v":0},{"$f":"'[1]Tabel 4(Br) B DATA'!N146","v":0.99981288592278428},{"$f":"'[1]Tabel 4(Br) B DATA'!O146","v":0},null,{"$f":"'[1]Tabel 4(Br) B DATA'!Q146","v":1.9996257718455686}]
[{"$f":"'[1]Tabel 4(Br) B DATA'!I147","v":"Andre"},null,{"$f":"'[1]Tabel 4(Br) B DATA'!K147","v":0.99981288592278428},{"$f":"'[1]Tabel 4(Br) B DATA'!L147","v":1.3253913802781763},{"$f":"'[1]Tabel 4(Br) B DATA'!M147","v":2.9707478325952725},{"$f":"'[1]Tabel 4(Br) B DATA'!N147","v":1.672176136718019},{"$f":"'[1]Tabel 4(Br) B DATA'!O147","v":1.4239381276118006},null,{"$f":"'[1]Tabel 4(Br) B DATA'!Q147","v":8.3920663631260517}]
[]
[{"$f":"'[1]Tabel 4(Br) B DATA'!I149","v":"Total"},null,{"$f":"'[1]Tabel 4(Br) B DATA'!K149","v":2.5385143142269069},{"$f":"'[1]Tabel 4(Br) B DATA'!L149","v":18.962140585043347},{"$f":"'[1]Tabel 4(Br) B DATA'!M149","v":17.650470903760993},{"$f":"'[1]Tabel 4(Br) B DATA'!N149","v":12.424998440716022},{"$f":"'[1]Tabel 4(Br) B DATA'!O149","v":8.6752323333125432},null,{"$f":"'[1]Tabel 4(Br) B DATA'!Q149","v":60.251356577059816}]
[]
[{"$f":"'[1]Tabel 4(Br) B DATA'!I151","v":"Ingeniører i alt"},null,{"$f":"'[1]Tabel 4(Br) B DATA'!K151","v":0},{"$f":"'[1]Tabel 4(Br) B DATA'!L151","v":1.9996257718455686},{"$f":"'[1]Tabel 4(Br) B DATA'!M151","v":1.4657269381899829},{"$f":"'[1]Tabel 4(Br) B DATA'!N151","v":1.9341358448200587},{"$f":"'[1]Tabel 4(Br) B DATA'!O151","v":0.99981288592278428},null,{"$f":"'[1]Tabel 4(Br) B DATA'!Q151","v":6.3993014407783946}]
[{"$f":"'[1]Tabel 4(Br) B DATA'!I152","v":"Magistre i alt"},null,{"$f":"'[1]Tabel 4(Br) B DATA'!K152","v":0.369862159296451},{"$f":"'[1]Tabel 4(Br) B DATA'!L152","v":8.5598453190295007},{"$f":"'[1]Tabel 4(Br) B DATA'!M152","v":8.4775151250545751},{"$f":"'[1]Tabel 4(Br) B DATA'!N152","v":1.9996257718455686},{"$f":"'[1]Tabel 4(Br) B DATA'!O152","v":4.3441651593588224},null,{"$f":"'[1]Tabel 4(Br) B DATA'!Q152","v":23.751013534584917}]
[{"$f":"'[1]Tabel 4(Br) B DATA'!I153","v":"DJØF'ere i alt"},null,{"$f":"'[1]Tabel 4(Br) B DATA'!K153","v":0},{"$f":"'[1]Tabel 4(Br) B DATA'!L153","v":0},{"$f":"'[1]Tabel 4(Br) B DATA'!M153","v":3.5377034865589723},{"$f":"'[1]Tabel 4(Br) B DATA'!N153","v":3.2320838271065924},{"$f":"'[1]Tabel 4(Br) B DATA'!O153","v":0},null,{"$f":"'[1]Tabel 4(Br) B DATA'!Q153","v":6.7697873136655646}]
[]
[]
[]
[]
[]
[]
[{"$f":"'[1]Tabel 4(Br) B DATA'!I158","v":"Christiansø"}]
[]
[null,null,{"$f":"'[1]Tabel 4(Br) B DATA'!K160","v":"Under 30 år"},{"$f":"'[1]Tabel 4(Br) B DATA'!L160","v":"30 - 39 år"},{"$f":"'[1]Tabel 4(Br) B DATA'!M160","v":"40 - 49 år"},{"$f":"'[1]Tabel 4(Br) B DATA'!N160","v":"50 - 59 år"},{"$f":"'[1]Tabel 4(Br) B DATA'!O160","v":"Over 60 år"},null,{"$f":"'[1]Tabel 4(Br) B DATA'!Q160","v":"I alt"}]
[]
[{"$f":"'[1]Tabel 4(Br) B DATA'!I162","v":"Civ. ing."},null,{"$f":"'[1]Tabel 4(Br) B DATA'!K162","v":0},{"$f":"'[1]Tabel 4(Br) B DATA'!L162","v":0},{"$f":"'[1]Tabel 4(Br) B DATA'!M162","v":0},{"$f":"'[1]Tabel 4(Br) B DATA'!N162","v":0},{"$f":"'[1]Tabel 4(Br) B DATA'!O162","v":0},null,{"$f":"'[1]Tabel 4(Br) B DATA'!Q162","v":0}]
[{"$f":"'[1]Tabel 4(Br) B DATA'!I163","v":"Diplom ing."},null,{"$f":"'[1]Tabel 4(Br) B DATA'!K163","v":0},{"$f":"'[1]Tabel 4(Br) B DATA'!L163","v":0},{"$f":"'[1]Tabel 4(Br) B DATA'!M163","v":0},{"$f":"'[1]Tabel 4(Br) B DATA'!N163","v":0},{"$f":"'[1]Tabel 4(Br) B DATA'!O163","v":0},null,{"$f":"'[1]Tabel 4(Br) B DATA'!Q163","v":0}]
[{"$f":"'[1]Tabel 4(Br) B DATA'!I164","v":"Cand. Scient. Tek"},null,{"$f":"'[1]Tabel 4(Br) B DATA'!K164","v":0},{"$f":"'[1]Tabel 4(Br) B DATA'!L164","v":0},{"$f":"'[1]Tabel 4(Br) B DATA'!M164","v":0},{"$f":"'[1]Tabel 4(Br) B DATA'!N164","v":0},{"$f":"'[1]Tabel 4(Br) B DATA'!O164","v":0},null,{"$f":"'[1]Tabel 4(Br) B DATA'!Q164","v":0}]
[{"$f":"'[1]Tabel 4(Br) B DATA'!I165","v":"MA. Hum."},null,{"$f":"'[1]Tabel 4(Br) B DATA'!K165","v":0},{"$f":"'[1]Tabel 4(Br) B DATA'!L165","v":0},{"$f":"'[1]Tabel 4(Br) B DATA'!M165","v":0},{"$f":"'[1]Tabel 4(Br) B DATA'!N165","v":0},{"$f":"'[1]Tabel 4(Br) B DATA'!O165","v":0},null,{"$f":"'[1]Tabel 4(Br) B DATA'!Q165","v":0}]
[{"$f":"'[1]Tabel 4(Br) B DATA'!I166","v":"MA. Nat."},null,{"$f":"'[1]Tabel 4(Br) B DATA'!K166","v":0},{"$f":"'[1]Tabel 4(Br) B DATA'!L166","v":0},{"$f":"'[1]Tabel 4(Br) B DATA'!M166","v":0},{"$f":"'[1]Tabel 4(Br) B DATA'!N166","v":0},{"$f":"'[1]Tabel 4(Br) B DATA'!O166","v":0},null,{"$f":"'[1]Tabel 4(Br) B DATA'!Q166","v":0}]
[{"$f":"'[1]Tabel 4(Br) B DATA'!I167","v":"MA. Ph.d."},null,{"$f":"'[1]Tabel 4(Br) B DATA'!K167","v":0},{"$f":"'[1]Tabel 4(Br) B DATA'!L167","v":0},{"$f":"'[1]Tabel 4(Br) B DATA'!M167","v":0},{"$f":"'[1]Tabel 4(Br) B DATA'!N167","v":0},{"$f":"'[1]Tabel 4(Br) B DATA'!O167","v":0},null,{"$f":"'[1]Tabel 4(Br) B DATA'!Q167","v":0}]
[{"$f":"'[1]Tabel 4(Br) B DATA'!I168","v":"MA. Samf."},null,{"$f":"'[1]Tabel 4(Br) B DATA'!K168","v":0},{"$f":"'[1]Tabel 4(Br) B DATA'!L168","v":0},{"$f":"'[1]Tabel 4(Br) B DATA'!M168","v":0},{"$f":"'[1]Tabel 4(Br) B DATA'!N168","v":0},{"$f":"'[1]Tabel 4(Br) B DATA'!O168","v":0},null,{"$f":"'[1]Tabel 4(Br) B DATA'!Q168","v":0}]
[{"$f":"'[1]Tabel 4(Br) B DATA'!I169","v":"Øvrige Mag."},null,{"$f":"'[1]Tabel 4(Br) B DATA'!K169","v":0},{"$f":"'[1]Tabel 4(Br) B DATA'!L169","v":0},{"$f":"'[1]Tabel 4(Br) B DATA'!M169","v":0},{"$f":"'[1]Tabel 4(Br) B DATA'!N169","v":0},{"$f":"'[1]Tabel 4(Br) B DATA'!O169","v":0},null,{"$f":"'[1]Tabel 4(Br) B DATA'!Q169","v":0}]
[{"$f":"'[1]Tabel 4(Br) B DATA'!I170","v":"Agronom"},null,{"$f":"'[1]Tabel 4(Br) B DATA'!K170","v":0},{"$f":"'[1]Tabel 4(Br) B DATA'!L170","v":0},{"$f":"'[1]Tabel 4(Br) B DATA'!M170","v":0},{"$f":"'[1]Tabel 4(Br) B DATA'!N170","v":0},{"$f":"'[1]Tabel 4(Br) B DATA'!O170","v":0},null,{"$f":"'[1]Tabel 4(Br) B DATA'!Q170","v":0}]
[{"$f":"'[1]Tabel 4(Br) B DATA'!I171","v":"Landsk. Arkt."},null,{"$f":"'[1]Tabel 4(Br) B DATA'!K171","v":0},{"$f":"'[1]Tabel 4(Br) B DATA'!L171","v":0},{"$f":"'[1]Tabel 4(Br) B DATA'!M171","v":0},{"$f":"'[1]Tabel 4(Br) B DATA'!N171","v":0},{"$f":"'[1]Tabel 4(Br) B DATA'!O171","v":0},null,{"$f":"'[1]Tabel 4(Br) B DATA'!Q171","v":0}]
[{"$f":"'[1]Tabel 4(Br) B DATA'!I172","v":"Hortonom"},null,{"$f":"'[1]Tabel 4(Br) B DATA'!K172","v":0},{"$f":"'[1]Tabel 4(Br) B DATA'!L172","v":0},{"$f":"'[1]Tabel 4(Br) B DATA'!M172","v":0},{"$f":"'[1]Tabel 4(Br) B DATA'!N172","v":0},{"$f":"'[1]Tabel 4(Br) B DATA'!O172","v":0},null,{"$f":"'[1]Tabel 4(Br) B DATA'!Q172","v":0}]
[{"$f":"'[1]Tabel 4(Br) B DATA'!I173","v":"Forstkand."},null,{"$f":"'[1]Tabel 4(Br) B DATA'!K173","v":0},{"$f":"'[1]Tabel 4(Br) B DATA'!L173","v":0},{"$f":"'[1]Tabel 4(Br) B DATA'!M173","v":0},{"$f":"'[1]Tabel 4(Br) B DATA'!N173","v":0},{"$f":"'[1]Tabel 4(Br) B DATA'!O173","v":0},null,{"$f":"'[1]Tabel 4(Br) B DATA'!Q173","v":0}]
[{"$f":"'[1]Tabel 4(Br) B DATA'!I174","v":"Jordbrugsakad."},null,{"$f":"'[1]Tabel 4(Br) B DATA'!K174","v":0},{"$f":"'[1]Tabel 4(Br) B DATA'!L174","v":0},{"$f":"'[1]Tabel 4(Br) B DATA'!M174","v":0},{"$f":"'[1]Tabel 4(Br) B DATA'!N174","v":0},{"$f":"'[1]Tabel 4(Br) B DATA'!O174","v":0},null,{"$f":"'[1]Tabel 4(Br) B DATA'!Q174","v":0}]
[{"$f":"'[1]Tabel 4(Br) B DATA'!I175","v":"Mejeriing."},null,{"$f":"'[1]Tabel 4(Br) B DATA'!K175","v":0},{"$f":"'[1]Tabel 4(Br) B DATA'!L175","v":0},{"$f":"'[1]Tabel 4(Br) B DATA'!M175","v":0},{"$f":"'[1]Tabel 4(Br) B DATA'!N175","v":0},{"$f":"'[1]Tabel 4(Br) B DATA'!O175","v":0},null,{"$f":"'[1]Tabel 4(Br) B DATA'!Q175","v":0}]
[{"$f":"'[1]Tabel 4(Br) B DATA'!I176","v":"Levn.m.kand."},null,{"$f":"'[1]Tabel 4(Br) B DATA'!K176","v":0},{"$f":"'[1]Tabel 4(Br) B DATA'!L176","v":0},{"$f":"'[1]Tabel 4(Br) B DATA'!M176","v":0},{"$f":"'[1]Tabel 4(Br) B DATA'!N176","v":0},{"$f":"'[1]Tabel 4(Br) B DATA'!O176","v":0},null,{"$f":"'[1]Tabel 4(Br) B DATA'!Q176","v":0}]
[{"$f":"'[1]Tabel 4(Br) B DATA'!I177","v":"Dyrlæge"},null,{"$f":"'[1]Tabel 4(Br) B DATA'!K177","v":0},{"$f":"'[1]Tabel 4(Br) B DATA'!L177","v":0},{"$f":"'[1]Tabel 4(Br) B DATA'!M177","v":0},{"$f":"'[1]Tabel 4(Br) B DATA'!N177","v":0},{"$f":"'[1]Tabel 4(Br) B DATA'!O177","v":0},null,{"$f":"'[1]Tabel 4(Br) B DATA'!Q177","v":0}]
[{"$f":"'[1]Tabel 4(Br) B DATA'!I178","v":"Farmaceut"},null,{"$f":"'[1]Tabel 4(Br) B DATA'!K178","v":0},{"$f":"'[1]Tabel 4(Br) B DATA'!L178","v":0},{"$f":"'[1]Tabel 4(Br) B DATA'!M178","v":0},{"$f":"'[1]Tabel 4(Br) B DATA'!N178","v":0},{"$f":"'[1]Tabel 4(Br) B DATA'!O178","v":0},null,{"$f":"'[1]Tabel 4(Br) B DATA'!Q178","v":0}]
[{"$f":"'[1]Tabel 4(Br) B DATA'!I179","v":"Læge"},null,{"$f":"'[1]Tabel 4(Br) B DATA'!K179","v":0},{"$f":"'[1]Tabel 4(Br) B DATA'!L179","v":0},{"$f":"'[1]Tabel 4(Br) B DATA'!M179","v":0},{"$f":"'[1]Tabel 4(Br) B DATA'!N179","v":0},{"$f":"'[1]Tabel 4(Br) B DATA'!O179","v":0},null,{"$f":"'[1]Tabel 4(Br) B DATA'!Q179","v":0}]
[{"$f":"'[1]Tabel 4(Br) B DATA'!I180","v":"Tandlæge"},null,{"$f":"'[1]Tabel 4(Br) B DATA'!K180","v":0},{"$f":"'[1]Tabel 4(Br) B DATA'!L180","v":0},{"$f":"'[1]Tabel 4(Br) B DATA'!M180","v":0},{"$f":"'[1]Tabel 4(Br) B DATA'!N180","v":0},{"$f":"'[1]Tabel 4(Br) B DATA'!O180","v":0},null,{"$f":"'[1]Tabel 4(Br) B DATA'!Q180","v":0}]
[{"$f":"'[1]Tabel 4(Br) B DATA'!I181","v":"Arkitekt"},null,{"$f":"'[1]Tabel 4(Br) B DATA'!K181","v":0},{"$f":"'[1]Tabel 4(Br) B DATA'!L181","v":0},{"$f":"'[1]Tabel 4(Br) B DATA'!M181","v":0},{"$f":"'[1]Tabel 4(Br) B DATA'!N181","v":0},{"$f":"'[1]Tabel 4(Br) B DATA'!O181","v":0},null,{"$f":"'[1]Tabel 4(Br) B DATA'!Q181","v":0}]
[{"$f":"'[1]Tabel 4(Br) B DATA'!I182","v":"Landinspek."},null,{"$f":"'[1]Tabel 4(Br) B DATA'!K182","v":0},{"$f":"'[1]Tabel 4(Br) B DATA'!L182","v":0},{"$f":"'[1]Tabel 4(Br) B DATA'!M182","v":0},{"$f":"'[1]Tabel 4(Br) B DATA'!N182","v":0},{"$f":"'[1]Tabel 4(Br) B DATA'!O182","v":0},null,{"$f":"'[1]Tabel 4(Br) B DATA'!Q182","v":0}]
[{"$f":"'[1]Tabel 4(Br) B DATA'!I183","v":"Bibliotekar"},null,{"$f":"'[1]Tabel 4(Br) B DATA'!K183","v":0},{"$f":"'[1]Tabel 4(Br) B DATA'!L183","v":0},{"$f":"'[1]Tabel 4(Br) B DATA'!M183","v":0},{"$f":"'[1]Tabel 4(Br) B DATA'!N183","v":0},{"$f":"'[1]Tabel 4(Br) B DATA'!O183","v":0},null,{"$f":"'[1]Tabel 4(Br) B DATA'!Q183","v":0}]
[{"$f":"'[1]Tabel 4(Br) B DATA'!I184","v":"Musikudd."},null,{"$f":"'[1]Tabel 4(Br) B DATA'!K184","v":0},{"$f":"'[1]Tabel 4(Br) B DATA'!L184","v":0},{"$f":"'[1]Tabel 4(Br) B DATA'!M184","v":0},{"$f":"'[1]Tabel 4(Br) B DATA'!N184","v":0},{"$f":"'[1]Tabel 4(Br) B DATA'!O184","v":0},null,{"$f":"'[1]Tabel 4(Br) B DATA'!Q184","v":0}]
[{"$f":"'[1]Tabel 4(Br) B DATA'!I185","v":"Teolog"},null,{"$f":"'[1]Tabel 4(Br) B DATA'!K185","v":0},{"$f":"'[1]Tabel 4(Br) B DATA'!L185","v":0},{"$f":"'[1]Tabel 4(Br) B DATA'!M185","v":0},{"$f":"'[1]Tabel 4(Br) B DATA'!N185","v":0},{"$f":"'[1]Tabel 4(Br) B DATA'!O185","v":0},null,{"$f":"'[1]Tabel 4(Br) B DATA'!Q185","v":0}]
[{"$f":"'[1]Tabel 4(Br) B DATA'!I186","v":"Psykolog"},null,{"$f":"'[1]Tabel 4(Br) B DATA'!K186","v":0},{"$f":"'[1]Tabel 4(Br) B DATA'!L186","v":0},{"$f":"'[1]Tabel 4(Br) B DATA'!M186","v":0},{"$f":"'[1]Tabel 4(Br) B DATA'!N186","v":0},{"$f":"'[1]Tabel 4(Br) B DATA'!O186","v":0},null,{"$f":"'[1]Tabel 4(Br) B DATA'!Q186","v":0}]
[{"$f":"'[1]Tabel 4(Br) B DATA'!I187","v":"Jurist"},null,{"$f":"'[1]Tabel 4(Br) B DATA'!K187","v":0},{"$f":"'[1]Tabel 4(Br) B DATA'!L187","v":0},{"$f":"'[1]Tabel 4(Br) B DATA'!M187","v":0},{"$f":"'[1]Tabel 4(Br) B DATA'!N187","v":0},{"$f":"'[1]Tabel 4(Br) B DATA'!O187","v":0},null,{"$f":"'[1]Tabel 4(Br) B DATA'!Q187","v":0}]
[{"$f":"'[1]Tabel 4(Br) B DATA'!I188","v":"Økonom"},null,{"$f":"'[1]Tabel 4(Br) B DATA'!K188","v":0},{"$f":"'[1]Tabel 4(Br) B DATA'!L188","v":0},{"$f":"'[1]Tabel 4(Br) B DATA'!M188","v":0},{"$f":"'[1]Tabel 4(Br) B DATA'!N188","v":0},{"$f":"'[1]Tabel 4(Br) B DATA'!O188","v":0},null,{"$f":"'[1]Tabel 4(Br) B DATA'!Q188","v":0}]
[{"$f":"'[1]Tabel 4(Br) B DATA'!I189","v":"Samf. Adm."},null,{"$f":"'[1]Tabel 4(Br) B DATA'!K189","v":0},{"$f":"'[1]Tabel 4(Br) B DATA'!L189","v":0},{"$f":"'[1]Tabel 4(Br) B DATA'!M189","v":0},{"$f":"'[1]Tabel 4(Br) B DATA'!N189","v":0},{"$f":"'[1]Tabel 4(Br) B DATA'!O189","v":0},null,{"$f":"'[1]Tabel 4(Br) B DATA'!Q189","v":0}]
[{"$f":"'[1]Tabel 4(Br) B DATA'!I190","v":"Cand. Merc."},null,{"$f":"'[1]Tabel 4(Br) B DATA'!K190","v":0},{"$f":"'[1]Tabel 4(Br) B DATA'!L190","v":0},{"$f":"'[1]Tabel 4(Br) B DATA'!M190","v":0},{"$f":"'[1]Tabel 4(Br) B DATA'!N190","v":0},{"$f":"'[1]Tabel 4(Br) B DATA'!O190","v":0},null,{"$f":"'[1]Tabel 4(Br) B DATA'!Q190","v":0}]
[{"$f":"'[1]Tabel 4(Br) B DATA'!I191","v":"HA"},null,{"$f":"'[1]Tabel 4(Br) B DATA'!K191","v":0},{"$f":"'[1]Tabel 4(Br) B DATA'!L191","v":0},{"$f":"'[1]Tabel 4(Br) B DATA'!M191","v":0},{"$f":"'[1]Tabel 4(Br) B DATA'!N191","v":0},{"$f":"'[1]Tabel 4(Br) B DATA'!O191","v":0},null,{"$f":"'[1]Tabel 4(Br) B DATA'!Q191","v":0}]
[{"$f":"'[1]Tabel 4(Br) B DATA'!I192","v":"HD"},null,{"$f":"'[1]Tabel 4(Br) B DATA'!K192","v":0},{"$f":"'[1]Tabel 4(Br) B DATA'!L192","v":0},{"$f":"'[1]Tabel 4(Br) B DATA'!M192","v":0},{"$f":"'[1]Tabel 4(Br) B DATA'!N192","v":0},{"$f":"'[1]Tabel 4(Br) B DATA'!O192","v":0},null,{"$f":"'[1]Tabel 4(Br) B DATA'!Q192","v":0}]
[{"$f":"'[1]Tabel 4(Br) B DATA'!I193","v":"Komm. og Sprog"},null,{"$f":"'[1]Tabel 4(Br) B DATA'!K193","v":0},{"$f":"'[1]Tabel 4(Br) B DATA'!L193","v":0},{"$f":"'[1]Tabel 4(Br) B DATA'!M193","v":0},{"$f":"'[1]Tabel 4(Br) B DATA'!N193","v":0},{"$f":"'[1]Tabel 4(Br) B DATA'!O193","v":0},null,{"$f":"'[1]Tabel 4(Br) B DATA'!Q193","v":0}]
[{"$f":"'[1]Tabel 4(Br) B DATA'!I194","v":"Bygningskonst."},null,{"$f":"'[1]Tabel 4(Br) B DATA'!K194","v":0},{"$f":"'[1]Tabel 4(Br) B DATA'!L194","v":0},{"$f":"'[1]Tabel 4(Br) B DATA'!M194","v":0},{"$f":"'[1]Tabel 4(Br) B DATA'!N194","v":0},{"$f":"'[1]Tabel 4(Br) B DATA'!O194","v":0},null,{"$f":"'[1]Tabel 4(Br) B DATA'!Q194","v":0}]
[{"$f":"'[1]Tabel 4(Br) B DATA'!I195","v":"Cand. IT."},null,{"$f":"'[1]Tabel 4(Br) B DATA'!K195","v":0},{"$f":"'[1]Tabel 4(Br) B DATA'!L195","v":0},{"$f":"'[1]Tabel 4(Br) B DATA'!M195","v":0},{"$f":"'[1]Tabel 4(Br) B DATA'!N195","v":0},{"$f":"'[1]Tabel 4(Br) B DATA'!O195","v":0},null,{"$f":"'[1]Tabel 4(Br) B DATA'!Q195","v":0}]
[{"$f":"'[1]Tabel 4(Br) B DATA'!I196","v":"Bac. Samf."},null,{"$f":"'[1]Tabel 4(Br) B DATA'!K196","v":0},{"$f":"'[1]Tabel 4(Br) B DATA'!L196","v":0},{"$f":"'[1]Tabel 4(Br) B DATA'!M196","v":0},{"$f":"'[1]Tabel 4(Br) B DATA'!N196","v":0},{"$f":"'[1]Tabel 4(Br) B DATA'!O196","v":0},null,{"$f":"'[1]Tabel 4(Br) B DATA'!Q196","v":0}]
[{"$f":"'[1]Tabel 4(Br) B DATA'!I197","v":"Bac. Hum."},null,{"$f":"'[1]Tabel 4(Br) B DATA'!K197","v":0},{"$f":"'[1]Tabel 4(Br) B DATA'!L197","v":0},{"$f":"'[1]Tabel 4(Br) B DATA'!M197","v":0},{"$f":"'[1]Tabel 4(Br) B DATA'!N197","v":0},{"$f":"'[1]Tabel 4(Br) B DATA'!O197","v":0},null,{"$f":"'[1]Tabel 4(Br) B DATA'!Q197","v":0}]
[{"$f":"'[1]Tabel 4(Br) B DATA'!I198","v":"Bac. Nat."},null,{"$f":"'[1]Tabel 4(Br) B DATA'!K198","v":0},{"$f":"'[1]Tabel 4(Br) B DATA'!L198","v":0},{"$f":"'[1]Tabel 4(Br) B DATA'!M198","v":0},{"$f":"'[1]Tabel 4(Br) B DATA'!N198","v":0},{"$f":"'[1]Tabel 4(Br) B DATA'!O198","v":0},null,{"$f":"'[1]Tabel 4(Br) B DATA'!Q198","v":0}]
[{"$f":"'[1]Tabel 4(Br) B DATA'!I199","v":"Andre"},null,{"$f":"'[1]Tabel 4(Br) B DATA'!K199","v":0},{"$f":"'[1]Tabel 4(Br) B DATA'!L199","v":0},{"$f":"'[1]Tabel 4(Br) B DATA'!M199","v":0},{"$f":"'[1]Tabel 4(Br) B DATA'!N199","v":0},{"$f":"'[1]Tabel 4(Br) B DATA'!O199","v":0},null,{"$f":"'[1]Tabel 4(Br) B DATA'!Q199","v":0}]
[]
[{"$f":"'[1]Tabel 4(Br) B DATA'!I201","v":"Total"},null,{"$f":"'[1]Tabel 4(Br) B DATA'!K201","v":0},{"$f":"'[1]Tabel 4(Br) B DATA'!L201","v":0},{"$f":"'[1]Tabel 4(Br) B DATA'!M201","v":0},{"$f":"'[1]Tabel 4(Br) B DATA'!N201","v":0},{"$f":"'[1]Tabel 4(Br) B DATA'!O201","v":0},null,{"$f":"'[1]Tabel 4(Br) B DATA'!Q201","v":0}]
[]
[{"$f":"'[1]Tabel 4(Br) B DATA'!I203","v":"Ingeniører i alt"},null,{"$f":"'[1]Tabel 4(Br) B DATA'!K203","v":0},{"$f":"'[1]Tabel 4(Br) B DATA'!L203","v":0},{"$f":"'[1]Tabel 4(Br) B DATA'!M203","v":0},{"$f":"'[1]Tabel 4(Br) B DATA'!N203","v":0},{"$f":"'[1]Tabel 4(Br) B DATA'!O203","v":0},null,{"$f":"'[1]Tabel 4(Br) B DATA'!Q203","v":0}]
[{"$f":"'[1]Tabel 4(Br) B DATA'!I204","v":"Magistre i alt"},null,{"$f":"'[1]Tabel 4(Br) B DATA'!K204","v":0},{"$f":"'[1]Tabel 4(Br) B DATA'!L204","v":0},{"$f":"'[1]Tabel 4(Br) B DATA'!M204","v":0},{"$f":"'[1]Tabel 4(Br) B DATA'!N204","v":0},{"$f":"'[1]Tabel 4(Br) B DATA'!O204","v":0},null,{"$f":"'[1]Tabel 4(Br) B DATA'!Q204","v":0}]
[{"$f":"'[1]Tabel 4(Br) B DATA'!I205","v":"DJØF'ere i alt"},null,{"$f":"'[1]Tabel 4(Br) B DATA'!K205","v":0},{"$f":"'[1]Tabel 4(Br) B DATA'!L205","v":0},{"$f":"'[1]Tabel 4(Br) B DATA'!M205","v":0},{"$f":"'[1]Tabel 4(Br) B DATA'!N205","v":0},{"$f":"'[1]Tabel 4(Br) B DATA'!O205","v":0},null,{"$f":"'[1]Tabel 4(Br) B DATA'!Q205","v":0}]

{"sheet":"Tabel 4P B","index":7,"n_rows":158,"n_cols":9,"rows_kept":158,"cut":false,"hidden":false,"merged":[]}
[{"$f":"'[1]Tabel 4 B DATA'!I1","v":"Tabel 4. Ledighedsberørte - aldersfordelt"}]
[]
[{"$f":"'[1]Tabel 4 B DATA'!I2","v":"Bornholm"}]
[]
[null,null,{"$f":"'[1]Tabel 4 B DATA'!K4","v":"Under 30 år"},{"$f":"'[1]Tabel 4 B DATA'!L4","v":"30 - 39 år"},{"$f":"'[1]Tabel 4 B DATA'!M4","v":"40 - 49 år"},{"$f":"'[1]Tabel 4 B DATA'!N4","v":"50 - 59 år"},{"$f":"'[1]Tabel 4 B DATA'!O4","v":"Over 60 år"},null,{"$f":"'[1]Tabel 4 B DATA'!Q4","v":"I alt"}]
[]
[{"$f":"'[1]Tabel 4 B DATA'!I6","v":"Civ. ing."},null,{"$f":"IF(OR('Tabel 4F B'!C7<5, 'Tabel 4 B'!C7<0.5),\"-\",IFERROR('Tabel 4 B'!C7/'Tabel 4F B'!C7*100,\"-\"))","v":"-"},{"$f":"IF(OR('Tabel 4F B'!D7<5, 'Tabel 4 B'!D7<0.5),\"-\",IFERROR('Tabel 4 B'!D7/'Tabel 4F B'!D7*100,\"-\"))","v":15.384615384615385},{"$f":"IF(OR('Tabel 4F B'!E7<5, 'Tabel 4 B'!E7<0.5),\"-\",IFERROR('Tabel 4 B'!E7/'Tabel 4F B'!E7*100,\"-\"))","v":12.5},{"$f":"IF(OR('Tabel 4F B'!F7<5, 'Tabel 4 B'!F7<0.5),\"-\",IFERROR('Tabel 4 B'!F7/'Tabel 4F B'!F7*100,\"-\"))","v":"-"},{"$f":"IF(OR('Tabel 4F B'!G7<5, 'Tabel 4 B'!G7<0.5),\"-\",IFERROR('Tabel 4 B'!G7/'Tabel 4F B'!G7*100,\"-\"))","v":"-"},null,{"$f":"IF(OR('Tabel 4F B'!I7<5, 'Tabel 4 B'!I7<0.5),\"-\",IFERROR('Tabel 4 B'!I7/'Tabel 4F B'!I7*100,\"-\"))","v":8.8235294117647065}]
[{"$f":"'[1]Tabel 4 B DATA'!I7","v":"Diplom ing."},null,{"$f":"IF(OR('Tabel 4F B'!C8<5, 'Tabel 4 B'!C8<0.5),\"-\",IFERROR('Tabel 4 B'!C8/'Tabel 4F B'!C8*100,\"-\"))","v":"-"},{"$f":"IF(OR('Tabel 4F B'!D8<5, 'Tabel 4 B'!D8<0.5),\"-\",IFERROR('Tabel 4 B'!D8/'Tabel 4F B'!D8*100,\"-\"))","v":"-"},{"$f":"IF(OR('Tabel 4F B'!E8<5, 'Tabel 4 B'!E8<0.5),\"-\",IFERROR('Tabel 4 B'!E8/'Tabel 4F B'!E8*100,\"-\"))","v":11.76470588235294},{"$f":"IF(OR('Tabel 4F B'!F8<5, 'Tabel 4 B'!F8<0.5),\"-\",IFERROR('Tabel 4 B'!F8/'Tabel 4F B'!F8*100,\"-\"))","v":9.5238095238095237},{"$f":"IF(OR('Tabel 4F B'!G8<5, 'Tabel 4 B'!G8<0.5),\"-\",IFERROR('Tabel 4 B'!G8/'Tabel 4F B'!G8*100,\"-\"))","v":10},null,{"$f":"IF(OR('Tabel 4F B'!I8<5, 'Tabel 4 B'!I8<0.5),\"-\",IFERROR('Tabel 4 B'!I8/'Tabel 4F B'!I8*100,\"-\"))","v":7.9365079365079358}]
[{"$f":"'[1]Tabel 4 B DATA'!I8","v":"Cand. Scient. Tek"},null,{"$f":"IF(OR('Tabel 4F B'!C9<5, 'Tabel 4 B'!C9<0.5),\"-\",IFERROR('Tabel 4 B'!C9/'Tabel 4F B'!C9*100,\"-\"))","v":"-"},{"$f":"IF(OR('Tabel 4F B'!D9<5, 'Tabel 4 B'!D9<0.5),\"-\",IFERROR('Tabel 4 B'!D9/'Tabel 4F B'!D9*100,\"-\"))","v":23.52941176470588},{"$f":"IF(OR('Tabel 4F B'!E9<5, 'Tabel 4 B'!E9<0.5),\"-\",IFERROR('Tabel 4 B'!E9/'Tabel 4F B'!E9*100,\"-\"))","v":12.5},{"$f":"IF(OR('Tabel 4F B'!F9<5, 'Tabel 4 B'!F9<0.5),\"-\",IFERROR('Tabel 4 B'!F9/'Tabel 4F B'!F9*100,\"-\"))","v":"-"},{"$f":"IF(OR('Tabel 4F B'!G9<5, 'Tabel 4 B'!G9<0.5),\"-\",IFERROR('Tabel 4 B'!G9/'Tabel 4F B'!G9*100,\"-\"))","v":"-"},null,{"$f":"IF(OR('Tabel 4F B'!I9<5, 'Tabel 4 B'!I9<0.5),\"-\",IFERROR('Tabel 4 B'!I9/'Tabel 4F B'!I9*100,\"-\"))","v":15.625}]
[{"$f":"'[1]Tabel 4 B DATA'!I9","v":"MA. Hum."},null,{"$f":"IF(OR('Tabel 4F B'!C10<5, 'Tabel 4 B'!C10<0.5),\"-\",IFERROR('Tabel 4 B'!C10/'Tabel 4F B'!C10*100,\"-\"))","v":20},{"$f":"IF(OR('Tabel 4F B'!D10<5, 'Tabel 4 B'!D10<0.5),\"-\",IFERROR('Tabel 4 B'!D10/'Tabel 4F B'!D10*100,\"-\"))","v":12.962962962962962},{"$f":"IF(OR('Tabel 4F B'!E10<5, 'Tabel 4 B'!E10<0.5),\"-\",IFERROR('Tabel 4 B'!E10/'Tabel 4F B'!E10*100,\"-\"))","v":16.666666666666664},{"$f":"IF(OR('Tabel 4F B'!F10<5, 'Tabel 4 B'!F10<0.5),\"-\",IFERROR('Tabel 4 B'!F10/'Tabel 4F B'!F10*100,\"-\"))","v":5},{"$f":"IF(OR('Tabel 4F B'!G10<5, 'Tabel 4 B'!G10<0.5),\"-\",IFERROR('Tabel 4 B'!G10/'Tabel 4F B'!G10*100,\"-\"))","v":25},null,{"$f":"IF(OR('Tabel 4F B'!I10<5, 'Tabel 4 B'!I10<0.5),\"-\",IFERROR('Tabel 4 B'!I10/'Tabel 4F B'!I10*100,\"-\"))","v":14.399999999999999}]
[{"$f":"'[1]Tabel 4 B DATA'!I10","v":"MA. Nat."},null,{"$f":"IF(OR('Tabel 4F B'!C11<5, 'Tabel 4 B'!C11<0.5),\"-\",IFERROR('Tabel 4 B'!C11/'Tabel 4F B'!C11*100,\"-\"))","v":"-"},{"$f":"IF(OR('Tabel 4F B'!D11<5, 'Tabel 4 B'!D11<0.5),\"-\",IFERROR('Tabel 4 B'!D11/'Tabel 4F B'!D11*100,\"-\"))","v":"-"},{"$f":"IF(OR('Tabel 4F B'!E11<5, 'Tabel 4 B'!E11<0.5),\"-\",IFERROR('Tabel 4 B'!E11/'Tabel 4F B'!E11*100,\"-\"))","v":12.5},{"$f":"IF(OR('Tabel 4F B'!F11<5, 'Tabel 4 B'!F11<0.5),\"-\",IFERROR('Tabel 4 B'!F11/'Tabel 4F B'!F11*100,\"-\"))","v":"-"},{"$f":"IF(OR('Tabel 4F B'!G11<5, 'Tabel 4 B'!G11<0.5),\"-\",IFERROR('Tabel 4 B'!G11/'Tabel 4F B'!G11*100,\"-\"))","v":16.666666666666664},null,{"$f":"IF(OR('Tabel 4F B'!I11<5, 'Tabel 4 B'!I11<0.5),\"-\",IFERROR('Tabel 4 B'!I11/'Tabel 4F B'!I11*100,\"-\"))","v":6.5217391304347823}]
[{"$f":"'[1]Tabel 4 B DATA'!I11","v":"MA. Ph.d."},null,{"$f":"IF(OR('Tabel 4F B'!C12<5, 'Tabel 4 B'!C12<0.5),\"-\",IFERROR('Tabel 4 B'!C12/'Tabel 4F B'!C12*100,\"-\"))","v":"-"},{"$f":"IF(OR('Tabel 4F B'!D12<5, 'Tabel 4 B'!D12<0.5),\"-\",IFERROR('Tabel 4 B'!D12/'Tabel 4F B'!D12*100,\"-\"))","v":"-"},{"$f":"IF(OR('Tabel 4F B'!E12<5, 'Tabel 4 B'!E12<0.5),\"-\",IFERROR('Tabel 4 B'!E12/'Tabel 4F B'!E12*100,\"-\"))","v":"-"},{"$f":"IF(OR('Tabel 4F B'!F12<5, 'Tabel 4 B'!F12<0.5),\"-\",IFERROR('Tabel 4 B'!F12/'Tabel 4F B'!F12*100,\"-\"))","v":"-"},{"$f":"IF(OR('Tabel 4F B'!G12<5, 'Tabel 4 B'!G12<0.5),\"-\",IFERROR('Tabel 4 B'!G12/'Tabel 4F B'!G12*100,\"-\"))","v":"-"},null,{"$f":"IF(OR('Tabel 4F B'!I12<5, 'Tabel 4 B'!I12<0.5),\"-\",IFERROR('Tabel 4 B'!I12/'Tabel 4F B'!I12*100,\"-\"))","v":14.285714285714285}]
[{"$f":"'[1]Tabel 4 B DATA'!I12","v":"MA. Samf."},null,{"$f":"IF(OR('Tabel 4F B'!C13<5, 'Tabel 4 B'!C13<0.5),\"-\",IFERROR('Tabel 4 B'!C13/'Tabel 4F B'!C13*100,\"-\"))","v":"-"},{"$f":"IF(OR('Tabel 4F B'!D13<5, 'Tabel 4 B'!D13<0.5),\"-\",IFERROR('Tabel 4 B'!D13/'Tabel 4F B'!D13*100,\"-\"))","v":"-"},{"$f":"IF(OR('Tabel 4F B'!E13<5, 'Tabel 4 B'!E13<0.5),\"-\",IFERROR('Tabel 4 B'!E13/'Tabel 4F B'!E13*100,\"-\"))","v":"-"},{"$f":"IF(OR('Tabel 4F B'!F13<5, 'Tabel 4 B'!F13<0.5),\"-\",IFERROR('Tabel 4 B'!F13/'Tabel 4F B'!F13*100,\"-\"))","v":"-"},{"$f":"IF(OR('Tabel 4F B'!G13<5, 'Tabel 4 B'!G13<0.5),\"-\",IFERROR('Tabel 4 B'!G13/'Tabel 4F B'!G13*100,\"-\"))","v":"-"},null,{"$f":"IF(OR('Tabel 4F B'!I13<5, 'Tabel 4 B'!I13<0.5),\"-\",IFERROR('Tabel 4 B'!I13/'Tabel 4F B'!I13*100,\"-\"))","v":6.666666666666667}]
[{"$f":"'[1]Tabel 4 B DATA'!I13","v":"Øvrige Mag."},null,{"$f":"IF(OR('Tabel 4F B'!C14<5, 'Tabel 4 B'!C14<0.5),\"-\",IFERROR('Tabel 4 B'!C14/'Tabel 4F B'!C14*100,\"-\"))","v":"-"},{"$f":"IF(OR('Tabel 4F B'!D14<5, 'Tabel 4 B'!D14<0.5),\"-\",IFERROR('Tabel 4 B'!D14/'Tabel 4F B'!D14*100,\"-\"))","v":50},{"$f":"IF(OR('Tabel 4F B'!E14<5, 'Tabel 4 B'!E14<0.5),\"-\",IFERROR('Tabel 4 B'!E14/'Tabel 4F B'!E14*100,\"-\"))","v":40},{"$f":"IF(OR('Tabel 4F B'!F14<5, 'Tabel 4 B'!F14<0.5),\"-\",IFERROR('Tabel 4 B'!F14/'Tabel 4F B'!F14*100,\"-\"))","v":"-"},{"$f":"IF(OR('Tabel 4F B'!G14<5, 'Tabel 4 B'!G14<0.5),\"-\",IFERROR('Tabel 4 B'!G14/'Tabel 4F B'!G14*100,\"-\"))","v":"-"},null,{"$f":"IF(OR('Tabel 4F B'!I14<5, 'Tabel 4 B'!I14<0.5),\"-\",IFERROR('Tabel 4 B'!I14/'Tabel 4F B'!I14*100,\"-\"))","v":31.25}]
[{"$f":"'[1]Tabel 4 B DATA'!I14","v":"Agronom"},null,{"$f":"IF(OR('Tabel 4F B'!C15<5, 'Tabel 4 B'!C15<0.5),\"-\",IFERROR('Tabel 4 B'!C15/'Tabel 4F B'!C15*100,\"-\"))","v":"-"},{"$f":"IF(OR('Tabel 4F B'!D15<5, 'Tabel 4 B'!D15<0.5),\"-\",IFERROR('Tabel 4 B'!D15/'Tabel 4F B'!D15*100,\"-\"))","v":"-"},{"$f":"IF(OR('Tabel 4F B'!E15<5, 'Tabel 4 B'!E15<0.5),\"-\",IFERROR('Tabel 4 B'!E15/'Tabel 4F B'!E15*100,\"-\"))","v":"-"},{"$f":"IF(OR('Tabel 4F B'!F15<5, 'Tabel 4 B'!F15<0.5),\"-\",IFERROR('Tabel 4 B'!F15/'Tabel 4F B'!F15*100,\"-\"))","v":"-"},{"$f":"IF(OR('Tabel 4F B'!G15<5, 'Tabel 4 B'!G15<0.5),\"-\",IFERROR('Tabel 4 B'!G15/'Tabel 4F B'!G15*100,\"-\"))","v":"-"},null,{"$f":"IF(OR('Tabel 4F B'!I15<5, 'Tabel 4 B'!I15<0.5),\"-\",IFERROR('Tabel 4 B'!I15/'Tabel 4F B'!I15*100,\"-\"))","v":"-"}]
[{"$f":"'[1]Tabel 4 B DATA'!I15","v":"Landsk. Arkt."},null,{"$f":"IF(OR('Tabel 4F B'!C16<5, 'Tabel 4 B'!C16<0.5),\"-\",IFERROR('Tabel 4 B'!C16/'Tabel 4F B'!C16*100,\"-\"))","v":"-"},{"$f":"IF(OR('Tabel 4F B'!D16<5, 'Tabel 4 B'!D16<0.5),\"-\",IFERROR('Tabel 4 B'!D16/'Tabel 4F B'!D16*100,\"-\"))","v":"-"},{"$f":"IF(OR('Tabel 4F B'!E16<5, 'Tabel 4 B'!E16<0.5),\"-\",IFERROR('Tabel 4 B'!E16/'Tabel 4F B'!E16*100,\"-\"))","v":"-"},{"$f":"IF(OR('Tabel 4F B'!F16<5, 'Tabel 4 B'!F16<0.5),\"-\",IFERROR('Tabel 4 B'!F16/'Tabel 4F B'!F16*100,\"-\"))","v":"-"},{"$f":"IF(OR('Tabel 4F B'!G16<5, 'Tabel 4 B'!G16<0.5),\"-\",IFERROR('Tabel 4 B'!G16/'Tabel 4F B'!G16*100,\"-\"))","v":"-"},null,{"$f":"IF(OR('Tabel 4F B'!I16<5, 'Tabel 4 B'!I16<0.5),\"-\",IFERROR('Tabel 4 B'!I16/'Tabel 4F B'!I16*100,\"-\"))","v":"-"}]
[{"$f":"'[1]Tabel 4 B DATA'!I16","v":"Hortonom"},null,{"$f":"IF(OR('Tabel 4F B'!C17<5, 'Tabel 4 B'!C17<0.5),\"-\",IFERROR('Tabel 4 B'!C17/'Tabel 4F B'!C17*100,\"-\"))","v":"-"},{"$f":"IF(OR('Tabel 4F B'!D17<5, 'Tabel 4 B'!D17<0.5),\"-\",IFERROR('Tabel 4 B'!D17/'Tabel 4F B'!D17*100,\"-\"))","v":"-"},{"$f":"IF(OR('Tabel 4F B'!E17<5, 'Tabel 4 B'!E17<0.5),\"-\",IFERROR('Tabel 4 B'!E17/'Tabel 4F B'!E17*100,\"-\"))","v":"-"},{"$f":"IF(OR('Tabel 4F B'!F17<5, 'Tabel 4 B'!F17<0.5),\"-\",IFERROR('Tabel 4 B'!F17/'Tabel 4F B'!F17*100,\"-\"))","v":"-"},{"$f":"IF(OR('Tabel 4F B'!G17<5, 'Tabel 4 B'!G17<0.5),\"-\",IFERROR('Tabel 4 B'!G17/'Tabel 4F B'!G17*100,\"-\"))","v":"-"},null,{"$f":"IF(OR('Tabel 4F B'!I17<5, 'Tabel 4 B'!I17<0.5),\"-\",IFERROR('Tabel 4 B'!I17/'Tabel 4F B'!I17*100,\"-\"))","v":"-"}]
[{"$f":"'[1]Tabel 4 B DATA'!I17","v":"Forstkand."},null,{"$f":"IF(OR('Tabel 4F B'!C18<5, 'Tabel 4 B'!C18<0.5),\"-\",IFERROR('Tabel 4 B'!C18/'Tabel 4F B'!C18*100,\"-\"))","v":"-"},{"$f":"IF(OR('Tabel 4F B'!D18<5, 'Tabel 4 B'!D18<0.5),\"-\",IFERROR('Tabel 4 B'!D18/'Tabel 4F B'!D18*100,\"-\"))","v":"-"},{"$f":"IF(OR('Tabel 4F B'!E18<5, 'Tabel 4 B'!E18<0.5),\"-\",IFERROR('Tabel 4 B'!E18/'Tabel 4F B'!E18*100,\"-\"))","v":"-"},{"$f":"IF(OR('Tabel 4F B'!F18<5, 'Tabel 4 B'!F18<0.5),\"-\",IFERROR('Tabel 4 B'!F18/'Tabel 4F B'!F18*100,\"-\"))","v":"-"},{"$f":"IF(OR('Tabel 4F B'!G18<5, 'Tabel 4 B'!G18<0.5),\"-\",IFERROR('Tabel 4 B'!G18/'Tabel 4F B'!G18*100,\"-\"))","v":"-"},null,{"$f":"IF(OR('Tabel 4F B'!I18<5, 'Tabel 4 B'!I18<0.5),\"-\",IFERROR('Tabel 4 B'!I18/'Tabel 4F B'!I18*100,\"-\"))","v":"-"}]
[{"$f":"'[1]Tabel 4 B DATA'!I18","v":"Jordbrugsakad."},null,{"$f":"IF(OR('Tabel 4F B'!C19<5, 'Tabel 4 B'!C19<0.5),\"-\",IFERROR('Tabel 4 B'!C19/'Tabel 4F B'!C19*100,\"-\"))","v":"-"},{"$f":"IF(OR('Tabel 4F B'!D19<5, 'Tabel 4 B'!D19<0.5),\"-\",IFERROR('Tabel 4 B'!D19/'Tabel 4F B'!D19*100,\"-\"))","v":"-"},{"$f":"IF(OR('Tabel 4F B'!E19<5, 'Tabel 4 B'!E19<0.5),\"-\",IFERROR('Tabel 4 B'!E19/'Tabel 4F B'!E19*100,\"-\"))","v":"-"},{"$f":"IF(OR('Tabel 4F B'!F19<5, 'Tabel 4 B'!F19<0.5),\"-\",IFERROR('Tabel 4 B'!F19/'Tabel 4F B'!F19*100,\"-\"))","v":"-"},{"$f":"IF(OR('Tabel 4F B'!G19<5, 'Tabel 4 B'!G19<0.5),\"-\",IFERROR('Tabel 4 B'!G19/'Tabel 4F B'!G19*100,\"-\"))","v":"-"},null,{"$f":"IF(OR('Tabel 4F B'!I19<5, 'Tabel 4 B'!I19<0.5),\"-\",IFERROR('Tabel 4 B'!I19/'Tabel 4F B'!I19*100,\"-\"))","v":"-"}]
[{"$f":"'[1]Tabel 4 B DATA'!I19","v":"Mejeriing."},null,{"$f":"IF(OR('Tabel 4F B'!C20<5, 'Tabel 4 B'!C20<0.5),\"-\",IFERROR('Tabel 4 B'!C20/'Tabel 4F B'!C20*100,\"-\"))","v":"-"},{"$f":"IF(OR('Tabel 4F B'!D20<5, 'Tabel 4 B'!D20<0.5),\"-\",IFERROR('Tabel 4 B'!D20/'Tabel 4F B'!D20*100,\"-\"))","v":"-"},{"$f":"IF(OR('Tabel 4F B'!E20<5, 'Tabel 4 B'!E20<0.5),\"-\",IFERROR('Tabel 4 B'!E20/'Tabel 4F B'!E20*100,\"-\"))","v":"-"},{"$f":"IF(OR('Tabel 4F B'!F20<5, 'Tabel 4 B'!F20<0.5),\"-\",IFERROR('Tabel 4 B'!F20/'Tabel 4F B'!F20*100,\"-\"))","v":"-"},{"$f":"IF(OR('Tabel 4F B'!G20<5, 'Tabel 4 B'!G20<0.5),\"-\",IFERROR('Tabel 4 B'!G20/'Tabel 4F B'!G20*100,\"-\"))","v":"-"},null,{"$f":"IF(OR('Tabel 4F B'!I20<5, 'Tabel 4 B'!I20<0.5),\"-\",IFERROR('Tabel 4 B'!I20/'Tabel 4F B'!I20*100,\"-\"))","v":"-"}]
[{"$f":"'[1]Tabel 4 B DATA'!I20","v":"Levn.m.kand."},null,{"$f":"IF(OR('Tabel 4F B'!C21<5, 'Tabel 4 B'!C21<0.5),\"-\",IFERROR('Tabel 4 B'!C21/'Tabel 4F B'!C21*100,\"-\"))","v":"-"},{"$f":"IF(OR('Tabel 4F B'!D21<5, 'Tabel 4 B'!D21<0.5),\"-\",IFERROR('Tabel 4 B'!D21/'Tabel 4F B'!D21*100,\"-\"))","v":"-"},{"$f":"IF(OR('Tabel 4F B'!E21<5, 'Tabel 4 B'!E21<0.5),\"-\",IFERROR('Tabel 4 B'!E21/'Tabel 4F B'!E21*100,\"-\"))","v":"-"},{"$f":"IF(OR('Tabel 4F B'!F21<5, 'Tabel 4 B'!F21<0.5),\"-\",IFERROR('Tabel 4 B'!F21/'Tabel 4F B'!F21*100,\"-\"))","v":"-"},{"$f":"IF(OR('Tabel 4F B'!G21<5, 'Tabel 4 B'!G21<0.5),\"-\",IFERROR('Tabel 4 B'!G21/'Tabel 4F B'!G21*100,\"-\"))","v":"-"},null,{"$f":"IF(OR('Tabel 4F B'!I21<5, 'Tabel 4 B'!I21<0.5),\"-\",IFERROR('Tabel 4 B'!I21/'Tabel 4F B'!I21*100,\"-\"))","v":"-"}]
[{"$f":"'[1]Tabel 4 B DATA'!I21","v":"Dyrlæge"},null,{"$f":"IF(OR('Tabel 4F B'!C22<5, 'Tabel 4 B'!C22<0.5),\"-\",IFERROR('Tabel 4 B'!C22/'Tabel 4F B'!C22*100,\"-\"))","v":"-"},{"$f":"IF(OR('Tabel 4F B'!D22<5, 'Tabel 4 B'!D22<0.5),\"-\",IFERROR('Tabel 4 B'!D22/'Tabel 4F B'!D22*100,\"-\"))","v":"-"},{"$f":"IF(OR('Tabel 4F B'!E22<5, 'Tabel 4 B'!E22<0.5),\"-\",IFERROR('Tabel 4 B'!E22/'Tabel 4F B'!E22*100,\"-\"))","v":"-"},{"$f":"IF(OR('Tabel 4F B'!F22<5, 'Tabel 4 B'!F22<0.5),\"-\",IFERROR('Tabel 4 B'!F22/'Tabel 4F B'!F22*100,\"-\"))","v":"-"},{"$f":"IF(OR('Tabel 4F B'!G22<5, 'Tabel 4 B'!G22<0.5),\"-\",IFERROR('Tabel 4 B'!G22/'Tabel 4F B'!G22*100,\"-\"))","v":"-"},null,{"$f":"IF(OR('Tabel 4F B'!I22<5, 'Tabel 4 B'!I22<0.5),\"-\",IFERROR('Tabel 4 B'!I22/'Tabel 4F B'!I22*100,\"-\"))","v":"-"}]
[{"$f":"'[1]Tabel 4 B DATA'!I22","v":"Farmaceut"},null,{"$f":"IF(OR('Tabel 4F B'!C23<5, 'Tabel 4 B'!C23<0.5),\"-\",IFERROR('Tabel 4 B'!C23/'Tabel 4F B'!C23*100,\"-\"))","v":"-"},{"$f":"IF(OR('Tabel 4F B'!D23<5, 'Tabel 4 B'!D23<0.5),\"-\",IFERROR('Tabel 4 B'!D23/'Tabel 4F B'!D23*100,\"-\"))","v":"-"},{"$f":"IF(OR('Tabel 4F B'!E23<5, 'Tabel 4 B'!E23<0.5),\"-\",IFERROR('Tabel 4 B'!E23/'Tabel 4F B'!E23*100,\"-\"))","v":"-"},{"$f":"IF(OR('Tabel 4F B'!F23<5, 'Tabel 4 B'!F23<0.5),\"-\",IFERROR('Tabel 4 B'!F23/'Tabel 4F B'!F23*100,\"-\"))","v":"-"},{"$f":"IF(OR('Tabel 4F B'!G23<5, 'Tabel 4 B'!G23<0.5),\"-\",IFERROR('Tabel 4 B'!G23/'Tabel 4F B'!G23*100,\"-\"))","v":"-"},null,{"$f":"IF(OR('Tabel 4F B'!I23<5, 'Tabel 4 B'!I23<0.5),\"-\",IFERROR('Tabel 4 B'!I23/'Tabel 4F B'!I23*100,\"-\"))","v":"-"}]
[{"$f":"'[1]Tabel 4 B DATA'!I23","v":"Læge"},null,{"$f":"IF(OR('Tabel 4F B'!C24<5, 'Tabel 4 B'!C24<0.5),\"-\",IFERROR('Tabel 4 B'!C24/'Tabel 4F B'!C24*100,\"-\"))","v":14.285714285714285},{"$f":"IF(OR('Tabel 4F B'!D24<5, 'Tabel 4 B'!D24<0.5),\"-\",IFERROR('Tabel 4 B'!D24/'Tabel 4F B'!D24*100,\"-\"))","v":"-"},{"$f":"IF(OR('Tabel 4F B'!E24<5, 'Tabel 4 B'!E24<0.5),\"-\",IFERROR('Tabel 4 B'!E24/'Tabel 4F B'!E24*100,\"-\"))","v":"-"},{"$f":"IF(OR('Tabel 4F B'!F24<5, 'Tabel 4 B'!F24<0.5),\"-\",IFERROR('Tabel 4 B'!F24/'Tabel 4F B'!F24*100,\"-\"))","v":"-"},{"$f":"IF(OR('Tabel 4F B'!G24<5, 'Tabel 4 B'!G24<0.5),\"-\",IFERROR('Tabel 4 B'!G24/'Tabel 4F B'!G24*100,\"-\"))","v":"-"},null,{"$f":"IF(OR('Tabel 4F B'!I24<5, 'Tabel 4 B'!I24<0.5),\"-\",IFERROR('Tabel 4 B'!I24/'Tabel 4F B'!I24*100,\"-\"))","v":3.225806451612903}]
[{"$f":"'[1]Tabel 4 B DATA'!I24","v":"Tandlæge"},null,{"$f":"IF(OR('Tabel 4F B'!C25<5, 'Tabel 4 B'!C25<0.5),\"-\",IFERROR('Tabel 4 B'!C25/'Tabel 4F B'!C25*100,\"-\"))","v":"-"},{"$f":"IF(OR('Tabel 4F B'!D25<5, 'Tabel 4 B'!D25<0.5),\"-\",IFERROR('Tabel 4 B'!D25/'Tabel 4F B'!D25*100,\"-\"))","v":"-"},{"$f":"IF(OR('Tabel 4F B'!E25<5, 'Tabel 4 B'!E25<0.5),\"-\",IFERROR('Tabel 4 B'!E25/'Tabel 4F B'!E25*100,\"-\"))","v":"-"},{"$f":"IF(OR('Tabel 4F B'!F25<5, 'Tabel 4 B'!F25<0.5),\"-\",IFERROR('Tabel 4 B'!F25/'Tabel 4F B'!F25*100,\"-\"))","v":"-"},{"$f":"IF(OR('Tabel 4F B'!G25<5, 'Tabel 4 B'!G25<0.5),\"-\",IFERROR('Tabel 4 B'!G25/'Tabel 4F B'!G25*100,\"-\"))","v":"-"},null,{"$f":"IF(OR('Tabel 4F B'!I25<5, 'Tabel 4 B'!I25<0.5),\"-\",IFERROR('Tabel 4 B'!I25/'Tabel 4F B'!I25*100,\"-\"))","v":"-"}]
[{"$f":"'[1]Tabel 4 B DATA'!I25","v":"Arkitekt"},null,{"$f":"IF(OR('Tabel 4F B'!C26<5, 'Tabel 4 B'!C26<0.5),\"-\",IFERROR('Tabel 4 B'!C26/'Tabel 4F B'!C26*100,\"-\"))","v":"-"},{"$f":"IF(OR('Tabel 4F B'!D26<5, 'Tabel 4 B'!D26<0.5),\"-\",IFERROR('Tabel 4 B'!D26/'Tabel 4F B'!D26*100,\"-\"))","v":"-"},{"$f":"IF(OR('Tabel 4F B'!E26<5, 'Tabel 4 B'!E26<0.5),\"-\",IFERROR('Tabel 4 B'!E26/'Tabel 4F B'!E26*100,\"-\"))","v":"-"},{"$f":"IF(OR('Tabel 4F B'!F26<5, 'Tabel 4 B'!F26<0.5),\"-\",IFERROR('Tabel 4 B'!F26/'Tabel 4F B'!F26*100,\"-\"))","v":"-"},{"$f":"IF(OR('Tabel 4F B'!G26<5, 'Tabel 4 B'!G26<0.5),\"-\",IFERROR('Tabel 4 B'!G26/'Tabel 4F B'!G26*100,\"-\"))","v":"-"},null,{"$f":"IF(OR('Tabel 4F B'!I26<5, 'Tabel 4 B'!I26<0.5),\"-\",IFERROR('Tabel 4 B'!I26/'Tabel 4F B'!I26*100,\"-\"))","v":7.1428571428571423}]
[{"$f":"'[1]Tabel 4 B DATA'!I26","v":"Landinspek."},null,{"$f":"IF(OR('Tabel 4F B'!C27<5, 'Tabel 4 B'!C27<0.5),\"-\",IFERROR('Tabel 4 B'!C27/'Tabel 4F B'!C27*100,\"-\"))","v":"-"},{"$f":"IF(OR('Tabel 4F B'!D27<5, 'Tabel 4 B'!D27<0.5),\"-\",IFERROR('Tabel 4 B'!D27/'Tabel 4F B'!D27*100,\"-\"))","v":"-"},{"$f":"IF(OR('Tabel 4F B'!E27<5, 'Tabel 4 B'!E27<0.5),\"-\",IFERROR('Tabel 4 B'!E27/'Tabel 4F B'!E27*100,\"-\"))","v":"-"},{"$f":"IF(OR('Tabel 4F B'!F27<5, 'Tabel 4 B'!F27<0.5),\"-\",IFERROR('Tabel 4 B'!F27/'Tabel 4F B'!F27*100,\"-\"))","v":"-"},{"$f":"IF(OR('Tabel 4F B'!G27<5, 'Tabel 4 B'!G27<0.5),\"-\",IFERROR('Tabel 4 B'!G27/'Tabel 4F B'!G27*100,\"-\"))","v":"-"},null,{"$f":"IF(OR('Tabel 4F B'!I27<5, 'Tabel 4 B'!I27<0.5),\"-\",IFERROR('Tabel 4 B'!I27/'Tabel 4F B'!I27*100,\"-\"))","v":"-"}]
[{"$f":"'[1]Tabel 4 B DATA'!I27","v":"Bibliotekar"},null,{"$f":"IF(OR('Tabel 4F B'!C28<5, 'Tabel 4 B'!C28<0.5),\"-\",IFERROR('Tabel 4 B'!C28/'Tabel 4F B'!C28*100,\"-\"))","v":"-"},{"$f":"IF(OR('Tabel 4F B'!D28<5, 'Tabel 4 B'!D28<0.5),\"-\",IFERROR('Tabel 4 B'!D28/'Tabel 4F B'!D28*100,\"-\"))","v":"-"},{"$f":"IF(OR('Tabel 4F B'!E28<5, 'Tabel 4 B'!E28<0.5),\"-\",IFERROR('Tabel 4 B'!E28/'Tabel 4F B'!E28*100,\"-\"))","v":"-"},{"$f":"IF(OR('Tabel 4F B'!F28<5, 'Tabel 4 B'!F28<0.5),\"-\",IFERROR('Tabel 4 B'!F28/'Tabel 4F B'!F28*100,\"-\"))","v":"-"},{"$f":"IF(OR('Tabel 4F B'!G28<5, 'Tabel 4 B'!G28<0.5),\"-\",IFERROR('Tabel 4 B'!G28/'Tabel 4F B'!G28*100,\"-\"))","v":"-"},null,{"$f":"IF(OR('Tabel 4F B'!I28<5, 'Tabel 4 B'!I28<0.5),\"-\",IFERROR('Tabel 4 B'!I28/'Tabel 4F B'!I28*100,\"-\"))","v":6.25}]
[{"$f":"'[1]Tabel 4 B DATA'!I28","v":"Musikudd."},null,{"$f":"IF(OR('Tabel 4F B'!C29<5, 'Tabel 4 B'!C29<0.5),\"-\",IFERROR('Tabel 4 B'!C29/'Tabel 4F B'!C29*100,\"-\"))","v":"-"},{"$f":"IF(OR('Tabel 4F B'!D29<5, 'Tabel 4 B'!D29<0.5),\"-\",IFERROR('Tabel 4 B'!D29/'Tabel 4F B'!D29*100,\"-\"))","v":"-"},{"$f":"IF(OR('Tabel 4F B'!E29<5, 'Tabel 4 B'!E29<0.5),\"-\",IFERROR('Tabel 4 B'!E29/'Tabel 4F B'!E29*100,\"-\"))","v":"-"},{"$f":"IF(OR('Tabel 4F B'!F29<5, 'Tabel 4 B'!F29<0.5),\"-\",IFERROR('Tabel 4 B'!F29/'Tabel 4F B'!F29*100,\"-\"))","v":"-"},{"$f":"IF(OR('Tabel 4F B'!G29<5, 'Tabel 4 B'!G29<0.5),\"-\",IFERROR('Tabel 4 B'!G29/'Tabel 4F B'!G29*100,\"-\"))","v":"-"},null,{"$f":"IF(OR('Tabel 4F B'!I29<5, 'Tabel 4 B'!I29<0.5),\"-\",IFERROR('Tabel 4 B'!I29/'Tabel 4F B'!I29*100,\"-\"))","v":"-"}]
[{"$f":"'[1]Tabel 4 B DATA'!I29","v":"Teolog"},null,{"$f":"IF(OR('Tabel 4F B'!C30<5, 'Tabel 4 B'!C30<0.5),\"-\",IFERROR('Tabel 4 B'!C30/'Tabel 4F B'!C30*100,\"-\"))","v":"-"},{"$f":"IF(OR('Tabel 4F B'!D30<5, 'Tabel 4 B'!D30<0.5),\"-\",IFERROR('Tabel 4 B'!D30/'Tabel 4F B'!D30*100,\"-\"))","v":"-"},{"$f":"IF(OR('Tabel 4F B'!E30<5, 'Tabel 4 B'!E30<0.5),\"-\",IFERROR('Tabel 4 B'!E30/'Tabel 4F B'!E30*100,\"-\"))","v":"-"},{"$f":"IF(OR('Tabel 4F B'!F30<5, 'Tabel 4 B'!F30<0.5),\"-\",IFERROR('Tabel 4 B'!F30/'Tabel 4F B'!F30*100,\"-\"))","v":"-"},{"$f":"IF(OR('Tabel 4F B'!G30<5, 'Tabel 4 B'!G30<0.5),\"-\",IFERROR('Tabel 4 B'!G30/'Tabel 4F B'!G30*100,\"-\"))","v":"-"},null,{"$f":"IF(OR('Tabel 4F B'!I30<5, 'Tabel 4 B'!I30<0.5),\"-\",IFERROR('Tabel 4 B'!I30/'Tabel 4F B'!I30*100,\"-\"))","v":"-"}]
[{"$f":"'[1]Tabel 4 B DATA'!I30","v":"Psykolog"},null,{"$f":"IF(OR('Tabel 4F B'!C31<5, 'Tabel 4 B'!C31<0.5),\"-\",IFERROR('Tabel 4 B'!C31/'Tabel 4F B'!C31*100,\"-\"))","v":"-"},{"$f":"IF(OR('Tabel 4F B'!D31<5, 'Tabel 4 B'!D31<0.5),\"-\",IFERROR('Tabel 4 B'!D31/'Tabel 4F B'!D31*100,\"-\"))","v":11.111111111111111},{"$f":"IF(OR('Tabel 4F B'!E31<5, 'Tabel 4 B'!E31<0.5),\"-\",IFERROR('Tabel 4 B'!E31/'Tabel 4F B'!E31*100,\"-\"))","v":"-"},{"$f":"IF(OR('Tabel 4F B'!F31<5, 'Tabel 4 B'!F31<0.5),\"-\",IFERROR('Tabel 4 B'!F31/'Tabel 4F B'!F31*100,\"-\"))","v":"-"},{"$f":"IF(OR('Tabel 4F B'!G31<5, 'Tabel 4 B'!G31<0.5),\"-\",IFERROR('Tabel 4 B'!G31/'Tabel 4F B'!G31*100,\"-\"))","v":"-"},null,{"$f":"IF(OR('Tabel 4F B'!I31<5, 'Tabel 4 B'!I31<0.5),\"-\",IFERROR('Tabel 4 B'!I31/'Tabel 4F B'!I31*100,\"-\"))","v":3.225806451612903}]
[{"$f":"'[1]Tabel 4 B DATA'!I31","v":"Jurist"},null,{"$f":"IF(OR('Tabel 4F B'!C32<5, 'Tabel 4 B'!C32<0.5),\"-\",IFERROR('Tabel 4 B'!C32/'Tabel 4F B'!C32*100,\"-\"))","v":"-"},{"$f":"IF(OR('Tabel 4F B'!D32<5, 'Tabel 4 B'!D32<0.5),\"-\",IFERROR('Tabel 4 B'!D32/'Tabel 4F B'!D32*100,\"-\"))","v":"-"},{"$f":"IF(OR('Tabel 4F B'!E32<5, 'Tabel 4 B'!E32<0.5),\"-\",IFERROR('Tabel 4 B'!E32/'Tabel 4F B'!E32*100,\"-\"))","v":"-"},{"$f":"IF(OR('Tabel 4F B'!F32<5, 'Tabel 4 B'!F32<0.5),\"-\",IFERROR('Tabel 4 B'!F32/'Tabel 4F B'!F32*100,\"-\"))","v":"-"},{"$f":"IF(OR('Tabel 4F B'!G32<5, 'Tabel 4 B'!G32<0.5),\"-\",IFERROR('Tabel 4 B'!G32/'Tabel 4F B'!G32*100,\"-\"))","v":"-"},null,{"$f":"IF(OR('Tabel 4F B'!I32<5, 'Tabel 4 B'!I32<0.5),\"-\",IFERROR('Tabel 4 B'!I32/'Tabel 4F B'!I32*100,\"-\"))","v":"-"}]
[{"$f":"'[1]Tabel 4 B DATA'!I32","v":"Økonom"},null,{"$f":"IF(OR('Tabel 4F B'!C33<5, 'Tabel 4 B'!C33<0.5),\"-\",IFERROR('Tabel 4 B'!C33/'Tabel 4F B'!C33*100,\"-\"))","v":"-"},{"$f":"IF(OR('Tabel 4F B'!D33<5, 'Tabel 4 B'!D33<0.5),\"-\",IFERROR('Tabel 4 B'!D33/'Tabel 4F B'!D33*100,\"-\"))","v":"-"},{"$f":"IF(OR('Tabel 4F B'!E33<5, 'Tabel 4 B'!E33<0.5),\"-\",IFERROR('Tabel 4 B'!E33/'Tabel 4F B'!E33*100,\"-\"))","v":"-"},{"$f":"IF(OR('Tabel 4F B'!F33<5, 'Tabel 4 B'!F33<0.5),\"-\",IFERROR('Tabel 4 B'!F33/'Tabel 4F B'!F33*100,\"-\"))","v":"-"},{"$f":"IF(OR('Tabel 4F B'!G33<5, 'Tabel 4 B'!G33<0.5),\"-\",IFERROR('Tabel 4 B'!G33/'Tabel 4F B'!G33*100,\"-\"))","v":"-"},null,{"$f":"IF(OR('Tabel 4F B'!I33<5, 'Tabel 4 B'!I33<0.5),\"-\",IFERROR('Tabel 4 B'!I33/'Tabel 4F B'!I33*100,\"-\"))","v":"-"}]
[{"$f":"'[1]Tabel 4 B DATA'!I33","v":"Samf. Adm."},null,{"$f":"IF(OR('Tabel 4F B'!C34<5, 'Tabel 4 B'!C34<0.5),\"-\",IFERROR('Tabel 4 B'!C34/'Tabel 4F B'!C34*100,\"-\"))","v":"-"},{"$f":"IF(OR('Tabel 4F B'!D34<5, 'Tabel 4 B'!D34<0.5),\"-\",IFERROR('Tabel 4 B'!D34/'Tabel 4F B'!D34*100,\"-\"))","v":"-"},{"$f":"IF(OR('Tabel 4F B'!E34<5, 'Tabel 4 B'!E34<0.5),\"-\",IFERROR('Tabel 4 B'!E34/'Tabel 4F B'!E34*100,\"-\"))","v":4.5454545454545459},{"$f":"IF(OR('Tabel 4F B'!F34<5, 'Tabel 4 B'!F34<0.5),\"-\",IFERROR('Tabel 4 B'!F34/'Tabel 4F B'!F34*100,\"-\"))","v":20},{"$f":"IF(OR('Tabel 4F B'!G34<5, 'Tabel 4 B'!G34<0.5),\"-\",IFERROR('Tabel 4 B'!G34/'Tabel 4F B'!G34*100,\"-\"))","v":"-"},null,{"$f":"IF(OR('Tabel 4F B'!I34<5, 'Tabel 4 B'!I34<0.5),\"-\",IFERROR('Tabel 4 B'!I34/'Tabel 4F B'!I34*100,\"-\"))","v":5.4545454545454541}]
[{"$f":"'[1]Tabel 4 B DATA'!I34","v":"Cand. Merc."},null,{"$f":"IF(OR('Tabel 4F B'!C35<5, 'Tabel 4 B'!C35<0.5),\"-\",IFERROR('Tabel 4 B'!C35/'Tabel 4F B'!C35*100,\"-\"))","v":"-"},{"$f":"IF(OR('Tabel 4F B'!D35<5, 'Tabel 4 B'!D35<0.5),\"-\",IFERROR('Tabel 4 B'!D35/'Tabel 4F B'!D35*100,\"-\"))","v":"-"},{"$f":"IF(OR('Tabel 4F B'!E35<5, 'Tabel 4 B'!E35<0.5),\"-\",IFERROR('Tabel 4 B'!E35/'Tabel 4F B'!E35*100,\"-\"))","v":27.27272727272727},{"$f":"IF(OR('Tabel 4F B'!F35<5, 'Tabel 4 B'!F35<0.5),\"-\",IFERROR('Tabel 4 B'!F35/'Tabel 4F B'!F35*100,\"-\"))","v":10},{"$f":"IF(OR('Tabel 4F B'!G35<5, 'Tabel 4 B'!G35<0.5),\"-\",IFERROR('Tabel 4 B'!G35/'Tabel 4F B'!G35*100,\"-\"))","v":"-"},null,{"$f":"IF(OR('Tabel 4F B'!I35<5, 'Tabel 4 B'!I35<0.5),\"-\",IFERROR('Tabel 4 B'!I35/'Tabel 4F B'!I35*100,\"-\"))","v":12.5}]
[{"$f":"'[1]Tabel 4 B DATA'!I35","v":"HA"},null,{"$f":"IF(OR('Tabel 4F B'!C36<5, 'Tabel 4 B'!C36<0.5),\"-\",IFERROR('Tabel 4 B'!C36/'Tabel 4F B'!C36*100,\"-\"))","v":"-"},{"$f":"IF(OR('Tabel 4F B'!D36<5, 'Tabel 4 B'!D36<0.5),\"-\",IFERROR('Tabel 4 B'!D36/'Tabel 4F B'!D36*100,\"-\"))","v":"-"},{"$f":"IF(OR('Tabel 4F B'!E36<5, 'Tabel 4 B'!E36<0.5),\"-\",IFERROR('Tabel 4 B'!E36/'Tabel 4F B'!E36*100,\"-\"))","v":"-"},{"$f":"IF(OR('Tabel 4F B'!F36<5, 'Tabel 4 B'!F36<0.5),\"-\",IFERROR('Tabel 4 B'!F36/'Tabel 4F B'!F36*100,\"-\"))","v":14.285714285714285},{"$f":"IF(OR('Tabel 4F B'!G36<5, 'Tabel 4 B'!G36<0.5),\"-\",IFERROR('Tabel 4 B'!G36/'Tabel 4F B'!G36*100,\"-\"))","v":"-"},null,{"$f":"IF(OR('Tabel 4F B'!I36<5, 'Tabel 4 B'!I36<0.5),\"-\",IFERROR('Tabel 4 B'!I36/'Tabel 4F B'!I36*100,\"-\"))","v":8.3333333333333321}]
[{"$f":"'[1]Tabel 4 B DATA'!I36","v":"HD"},null,{"$f":"IF(OR('Tabel 4F B'!C37<5, 'Tabel 4 B'!C37<0.5),\"-\",IFERROR('Tabel 4 B'!C37/'Tabel 4F B'!C37*100,\"-\"))","v":"-"},{"$f":"IF(OR('Tabel 4F B'!D37<5, 'Tabel 4 B'!D37<0.5),\"-\",IFERROR('Tabel 4 B'!D37/'Tabel 4F B'!D37*100,\"-\"))","v":"-"},{"$f":"IF(OR('Tabel 4F B'!E37<5, 'Tabel 4 B'!E37<0.5),\"-\",IFERROR('Tabel 4 B'!E37/'Tabel 4F B'!E37*100,\"-\"))","v":"-"},{"$f":"IF(OR('Tabel 4F B'!F37<5, 'Tabel 4 B'!F37<0.5),\"-\",IFERROR('Tabel 4 B'!F37/'Tabel 4F B'!F37*100,\"-\"))","v":"-"},{"$f":"IF(OR('Tabel 4F B'!G37<5, 'Tabel 4 B'!G37<0.5),\"-\",IFERROR('Tabel 4 B'!G37/'Tabel 4F B'!G37*100,\"-\"))","v":"-"},null,{"$f":"IF(OR('Tabel 4F B'!I37<5, 'Tabel 4 B'!I37<0.5),\"-\",IFERROR('Tabel 4 B'!I37/'Tabel 4F B'!I37*100,\"-\"))","v":"-"}]
[{"$f":"'[1]Tabel 4 B DATA'!I37","v":"Komm. og Sprog"},null,{"$f":"IF(OR('Tabel 4F B'!C38<5, 'Tabel 4 B'!C38<0.5),\"-\",IFERROR('Tabel 4 B'!C38/'Tabel 4F B'!C38*100,\"-\"))","v":"-"},{"$f":"IF(OR('Tabel 4F B'!D38<5, 'Tabel 4 B'!D38<0.5),\"-\",IFERROR('Tabel 4 B'!D38/'Tabel 4F B'!D38*100,\"-\"))","v":14.285714285714285},{"$f":"IF(OR('Tabel 4F B'!E38<5, 'Tabel 4 B'!E38<0.5),\"-\",IFERROR('Tabel 4 B'!E38/'Tabel 4F B'!E38*100,\"-\"))","v":"-"},{"$f":"IF(OR('Tabel 4F B'!F38<5, 'Tabel 4 B'!F38<0.5),\"-\",IFERROR('Tabel 4 B'!F38/'Tabel 4F B'!F38*100,\"-\"))","v":"-"},{"$f":"IF(OR('Tabel 4F B'!G38<5, 'Tabel 4 B'!G38<0.5),\"-\",IFERROR('Tabel 4 B'!G38/'Tabel 4F B'!G38*100,\"-\"))","v":"-"},null,{"$f":"IF(OR('Tabel 4F B'!I38<5, 'Tabel 4 B'!I38<0.5),\"-\",IFERROR('Tabel 4 B'!I38/'Tabel 4F B'!I38*100,\"-\"))","v":26.666666666666668}]
["Bygningskonst.",null,{"$f":"IF(OR('Tabel 4F B'!C39<5, 'Tabel 4 B'!C39<0.5),\"-\",IFERROR('Tabel 4 B'!C39/'Tabel 4F B'!C39*100,\"-\"))","v":"-"},{"$f":"IF(OR('Tabel 4F B'!D39<5, 'Tabel 4 B'!D39<0.5),\"-\",IFERROR('Tabel 4 B'!D39/'Tabel 4F B'!D39*100,\"-\"))","v":"-"},{"$f":"IF(OR('Tabel 4F B'!E39<5, 'Tabel 4 B'!E39<0.5),\"-\",IFERROR('Tabel 4 B'!E39/'Tabel 4F B'!E39*100,\"-\"))","v":"-"},{"$f":"IF(OR('Tabel 4F B'!F39<5, 'Tabel 4 B'!F39<0.5),\"-\",IFERROR('Tabel 4 B'!F39/'Tabel 4F B'!F39*100,\"-\"))","v":"-"},{"$f":"IF(OR('Tabel 4F B'!G39<5, 'Tabel 4 B'!G39<0.5),\"-\",IFERROR('Tabel 4 B'!G39/'Tabel 4F B'!G39*100,\"-\"))","v":"-"},null,{"$f":"IF(OR('Tabel 4F B'!I39<5, 'Tabel 4 B'!I39<0.5),\"-\",IFERROR('Tabel 4 B'!I39/'Tabel 4F B'!I39*100,\"-\"))","v":"-"}]
[{"$f":"'[1]Tabel 4 B DATA'!I39","v":"Cand. IT."},null,{"$f":"IF(OR('Tabel 4F B'!C40<5, 'Tabel 4 B'!C40<0.5),\"-\",IFERROR('Tabel 4 B'!C40/'Tabel 4F B'!C40*100,\"-\"))","v":"-"},{"$f":"IF(OR('Tabel 4F B'!D40<5, 'Tabel 4 B'!D40<0.5),\"-\",IFERROR('Tabel 4 B'!D40/'Tabel 4F B'!D40*100,\"-\"))","v":"-"},{"$f":"IF(OR('Tabel 4F B'!E40<5, 'Tabel 4 B'!E40<0.5),\"-\",IFERROR('Tabel 4 B'!E40/'Tabel 4F B'!E40*100,\"-\"))","v":"-"},{"$f":"IF(OR('Tabel 4F B'!F40<5, 'Tabel 4 B'!F40<0.5),\"-\",IFERROR('Tabel 4 B'!F40/'Tabel 4F B'!F40*100,\"-\"))","v":"-"},{"$f":"IF(OR('Tabel 4F B'!G40<5, 'Tabel 4 B'!G40<0.5),\"-\",IFERROR('Tabel 4 B'!G40/'Tabel 4F B'!G40*100,\"-\"))","v":"-"},null,{"$f":"IF(OR('Tabel 4F B'!I40<5, 'Tabel 4 B'!I40<0.5),\"-\",IFERROR('Tabel 4 B'!I40/'Tabel 4F B'!I40*100,\"-\"))","v":"-"}]
[{"$f":"'[1]Tabel 4 B DATA'!I40","v":"Bac. Samf."},null,{"$f":"IF(OR('Tabel 4F B'!C41<5, 'Tabel 4 B'!C41<0.5),\"-\",IFERROR('Tabel 4 B'!C41/'Tabel 4F B'!C41*100,\"-\"))","v":"-"},{"$f":"IF(OR('Tabel 4F B'!D41<5, 'Tabel 4 B'!D41<0.5),\"-\",IFERROR('Tabel 4 B'!D41/'Tabel 4F B'!D41*100,\"-\"))","v":"-"},{"$f":"IF(OR('Tabel 4F B'!E41<5, 'Tabel 4 B'!E41<0.5),\"-\",IFERROR('Tabel 4 B'!E41/'Tabel 4F B'!E41*100,\"-\"))","v":"-"},{"$f":"IF(OR('Tabel 4F B'!F41<5, 'Tabel 4 B'!F41<0.5),\"-\",IFERROR('Tabel 4 B'!F41/'Tabel 4F B'!F41*100,\"-\"))","v":"-"},{"$f":"IF(OR('Tabel 4F B'!G41<5, 'Tabel 4 B'!G41<0.5),\"-\",IFERROR('Tabel 4 B'!G41/'Tabel 4F B'!G41*100,\"-\"))","v":"-"},null,{"$f":"IF(OR('Tabel 4F B'!I41<5, 'Tabel 4 B'!I41<0.5),\"-\",IFERROR('Tabel 4 B'!I41/'Tabel 4F B'!I41*100,\"-\"))","v":"-"}]
[{"$f":"'[1]Tabel 4 B DATA'!I41","v":"Bac. Hum."},null,{"$f":"IF(OR('Tabel 4F B'!C42<5, 'Tabel 4 B'!C42<0.5),\"-\",IFERROR('Tabel 4 B'!C42/'Tabel 4F B'!C42*100,\"-\"))","v":"-"},{"$f":"IF(OR('Tabel 4F B'!D42<5, 'Tabel 4 B'!D42<0.5),\"-\",IFERROR('Tabel 4 B'!D42/'Tabel 4F B'!D42*100,\"-\"))","v":"-"},{"$f":"IF(OR('Tabel 4F B'!E42<5, 'Tabel 4 B'!E42<0.5),\"-\",IFERROR('Tabel 4 B'!E42/'Tabel 4F B'!E42*100,\"-\"))","v":"-"},{"$f":"IF(OR('Tabel 4F B'!F42<5, 'Tabel 4 B'!F42<0.5),\"-\",IFERROR('Tabel 4 B'!F42/'Tabel 4F B'!F42*100,\"-\"))","v":"-"},{"$f":"IF(OR('Tabel 4F B'!G42<5, 'Tabel 4 B'!G42<0.5),\"-\",IFERROR('Tabel 4 B'!G42/'Tabel 4F B'!G42*100,\"-\"))","v":"-"},null,{"$f":"IF(OR('Tabel 4F B'!I42<5, 'Tabel 4 B'!I42<0.5),\"-\",IFERROR('Tabel 4 B'!I42/'Tabel 4F B'!I42*100,\"-\"))","v":23.076923076923077}]
[{"$f":"'[1]Tabel 4 B DATA'!I42","v":"Bac. Nat."},null,{"$f":"IF(OR('Tabel 4F B'!C43<5, 'Tabel 4 B'!C43<0.5),\"-\",IFERROR('Tabel 4 B'!C43/'Tabel 4F B'!C43*100,\"-\"))","v":"-"},{"$f":"IF(OR('Tabel 4F B'!D43<5, 'Tabel 4 B'!D43<0.5),\"-\",IFERROR('Tabel 4 B'!D43/'Tabel 4F B'!D43*100,\"-\"))","v":"-"},{"$f":"IF(OR('Tabel 4F B'!E43<5, 'Tabel 4 B'!E43<0.5),\"-\",IFERROR('Tabel 4 B'!E43/'Tabel 4F B'!E43*100,\"-\"))","v":"-"},{"$f":"IF(OR('Tabel 4F B'!F43<5, 'Tabel 4 B'!F43<0.5),\"-\",IFERROR('Tabel 4 B'!F43/'Tabel 4F B'!F43*100,\"-\"))","v":"-"},{"$f":"IF(OR('Tabel 4F B'!G43<5, 'Tabel 4 B'!G43<0.5),\"-\",IFERROR('Tabel 4 B'!G43/'Tabel 4F B'!G43*100,\"-\"))","v":"-"},null,{"$f":"IF(OR('Tabel 4F B'!I43<5, 'Tabel 4 B'!I43<0.5),\"-\",IFERROR('Tabel 4 B'!I43/'Tabel 4F B'!I43*100,\"-\"))","v":20}]
[{"$f":"'[1]Tabel 4 B DATA'!I43","v":"Andre"},null,{"$f":"IF(OR('Tabel 4F B'!C44<5, 'Tabel 4 B'!C44<0.5),\"-\",IFERROR('Tabel 4 B'!C44/'Tabel 4F B'!C44*100,\"-\"))","v":"-"},{"$f":"IF(OR('Tabel 4F B'!D44<5, 'Tabel 4 B'!D44<0.5),\"-\",IFERROR('Tabel 4 B'!D44/'Tabel 4F B'!D44*100,\"-\"))","v":16.666666666666664},{"$f":"IF(OR('Tabel 4F B'!E44<5, 'Tabel 4 B'!E44<0.5),\"-\",IFERROR('Tabel 4 B'!E44/'Tabel 4F B'!E44*100,\"-\"))","v":14.814814814814813},{"$f":"IF(OR('Tabel 4F B'!F44<5, 'Tabel 4 B'!F44<0.5),\"-\",IFERROR('Tabel 4 B'!F44/'Tabel 4F B'!F44*100,\"-\"))","v":5.7142857142857144},{"$f":"IF(OR('Tabel 4F B'!G44<5, 'Tabel 4 B'!G44<0.5),\"-\",IFERROR('Tabel 4 B'!G44/'Tabel 4F B'!G44*100,\"-\"))","v":8},null,{"$f":"IF(OR('Tabel 4F B'!I44<5, 'Tabel 4 B'!I44<0.5),\"-\",IFERROR('Tabel 4 B'!I44/'Tabel 4F B'!I44*100,\"-\"))","v":11.009174311926607}]
[]
[{"$f":"'[1]Tabel 4 B DATA'!I45","v":"Total"},null,{"$f":"IF(OR('Tabel 4F B'!C46<5, 'Tabel 4 B'!C46<0.5),\"-\",IFERROR('Tabel 4 B'!C46/'Tabel 4F B'!C46*100,\"-\"))","v":7.2727272727272725},{"$f":"IF(OR('Tabel 4F B'!D46<5, 'Tabel 4 B'!D46<0.5),\"-\",IFERROR('Tabel 4 B'!D46/'Tabel 4F B'!D46*100,\"-\"))","v":10.126582278481013},{"$f":"IF(OR('Tabel 4F B'!E46<5, 'Tabel 4 B'!E46<0.5),\"-\",IFERROR('Tabel 4 B'!E46/'Tabel 4F B'!E46*100,\"-\"))","v":10.222222222222223},{"$f":"IF(OR('Tabel 4F B'!F46<5, 'Tabel 4 B'!F46<0.5),\"-\",IFERROR('Tabel 4 B'!F46/'Tabel 4F B'!F46*100,\"-\"))","v":7.5},{"$f":"IF(OR('Tabel 4F B'!G46<5, 'Tabel 4 B'!G46<0.5),\"-\",IFERROR('Tabel 4 B'!G46/'Tabel 4F B'!G46*100,\"-\"))","v":9.1743119266055047},null,{"$f":"IF(OR('Tabel 4F B'!I46<5, 'Tabel 4 B'!I46<0.5),\"-\",IFERROR('Tabel 4 B'!I46/'Tabel 4F B'!I46*100,\"-\"))","v":9.2009685230024214}]
[]
[{"$f":"'[1]Tabel 4 B DATA'!I47","v":"Ingeniører i alt"},null,{"$f":"IF(OR('Tabel 4F B'!C48<5, 'Tabel 4 B'!C48<0.5),\"-\",IFERROR('Tabel 4 B'!C48/'Tabel 4F B'!C48*100,\"-\"))","v":"-"},{"$f":"IF(OR('Tabel 4F B'!D48<5, 'Tabel 4 B'!D48<0.5),\"-\",IFERROR('Tabel 4 B'!D48/'Tabel 4F B'!D48*100,\"-\"))","v":8},{"$f":"IF(OR('Tabel 4F B'!E48<5, 'Tabel 4 B'!E48<0.5),\"-\",IFERROR('Tabel 4 B'!E48/'Tabel 4F B'!E48*100,\"-\"))","v":12},{"$f":"IF(OR('Tabel 4F B'!F48<5, 'Tabel 4 B'!F48<0.5),\"-\",IFERROR('Tabel 4 B'!F48/'Tabel 4F B'!F48*100,\"-\"))","v":6.8965517241379306},{"$f":"IF(OR('Tabel 4F B'!G48<5, 'Tabel 4 B'!G48<0.5),\"-\",IFERROR('Tabel 4 B'!G48/'Tabel 4F B'!G48*100,\"-\"))","v":8.3333333333333321},null,{"$f":"IF(OR('Tabel 4F B'!I48<5, 'Tabel 4 B'!I48<0.5),\"-\",IFERROR('Tabel 4 B'!I48/'Tabel 4F B'!I48*100,\"-\"))","v":8.2474226804123703}]
[{"$f":"'[1]Tabel 4 B DATA'!I48","v":"Magistre i alt"},null,{"$f":"IF(OR('Tabel 4F B'!C49<5, 'Tabel 4 B'!C49<0.5),\"-\",IFERROR('Tabel 4 B'!C49/'Tabel 4F B'!C49*100,\"-\"))","v":12.5},{"$f":"IF(OR('Tabel 4F B'!D49<5, 'Tabel 4 B'!D49<0.5),\"-\",IFERROR('Tabel 4 B'!D49/'Tabel 4F B'!D49*100,\"-\"))","v":13.888888888888889},{"$f":"IF(OR('Tabel 4F B'!E49<5, 'Tabel 4 B'!E49<0.5),\"-\",IFERROR('Tabel 4 B'!E49/'Tabel 4F B'!E49*100,\"-\"))","v":18.181818181818183},{"$f":"IF(OR('Tabel 4F B'!F49<5, 'Tabel 4 B'!F49<0.5),\"-\",IFERROR('Tabel 4 B'!F49/'Tabel 4F B'!F49*100,\"-\"))","v":4.2553191489361701},{"$f":"IF(OR('Tabel 4F B'!G49<5, 'Tabel 4 B'!G49<0.5),\"-\",IFERROR('Tabel 4 B'!G49/'Tabel 4F B'!G49*100,\"-\"))","v":18.518518518518519},null,{"$f":"IF(OR('Tabel 4F B'!I49<5, 'Tabel 4 B'!I49<0.5),\"-\",IFERROR('Tabel 4 B'!I49/'Tabel 4F B'!I49*100,\"-\"))","v":13.397129186602871}]
[{"$f":"'[1]Tabel 4 B DATA'!I49","v":"DJØF'ere i alt"},null,{"$f":"IF(OR('Tabel 4F B'!C50<5, 'Tabel 4 B'!C50<0.5),\"-\",IFERROR('Tabel 4 B'!C50/'Tabel 4F B'!C50*100,\"-\"))","v":"-"},{"$f":"IF(OR('Tabel 4F B'!D50<5, 'Tabel 4 B'!D50<0.5),\"-\",IFERROR('Tabel 4 B'!D50/'Tabel 4F B'!D50*100,\"-\"))","v":"-"},{"$f":"IF(OR('Tabel 4F B'!E50<5, 'Tabel 4 B'!E50<0.5),\"-\",IFERROR('Tabel 4 B'!E50/'Tabel 4F B'!E50*100,\"-\"))","v":8.8888888888888893},{"$f":"IF(OR('Tabel 4F B'!F50<5, 'Tabel 4 B'!F50<0.5),\"-\",IFERROR('Tabel 4 B'!F50/'Tabel 4F B'!F50*100,\"-\"))","v":10},{"$f":"IF(OR('Tabel 4F B'!G50<5, 'Tabel 4 B'!G50<0.5),\"-\",IFERROR('Tabel 4 B'!G50/'Tabel 4F B'!G50*100,\"-\"))","v":"-"},null,{"$f":"IF(OR('Tabel 4F B'!I50<5, 'Tabel 4 B'!I50<0.5),\"-\",IFERROR('Tabel 4 B'!I50/'Tabel 4F B'!I50*100,\"-\"))","v":5.6737588652482271}]
[]
[]
[]
[]
[]
[]
[{"$f":"'[1]Tabel 4 B DATA'!I106","v":"Bornholm"}]
[]
[null,null,{"$f":"'[1]Tabel 4 B DATA'!K108","v":"Under 30 år"},{"$f":"'[1]Tabel 4 B DATA'!L108","v":"30 - 39 år"},{"$f":"'[1]Tabel 4 B DATA'!M108","v":"40 - 49 år"},{"$f":"'[1]Tabel 4 B DATA'!N108","v":"50 - 59 år"},{"$f":"'[1]Tabel 4 B DATA'!O108","v":"Over 60 år"},null,{"$f":"'[1]Tabel 4 B DATA'!Q108","v":"I alt"}]
[]
[{"$f":"'[1]Tabel 4 B DATA'!I110","v":"Civ. ing."},null,{"$f":"IF(OR('Tabel 4F B'!C61<5, 'Tabel 4 B'!C61<0.5),\"-\",IFERROR('Tabel 4 B'!C61/'Tabel 4F B'!C61*100,\"-\"))","v":"-"},{"$f":"IF(OR('Tabel 4F B'!D61<5, 'Tabel 4 B'!D61<0.5),\"-\",IFERROR('Tabel 4 B'!D61/'Tabel 4F B'!D61*100,\"-\"))","v":15.384615384615385},{"$f":"IF(OR('Tabel 4F B'!E61<5, 'Tabel 4 B'!E61<0.5),\"-\",IFERROR('Tabel 4 B'!E61/'Tabel 4F B'!E61*100,\"-\"))","v":12.5},{"$f":"IF(OR('Tabel 4F B'!F61<5, 'Tabel 4 B'!F61<0.5),\"-\",IFERROR('Tabel 4 B'!F61/'Tabel 4F B'!F61*100,\"-\"))","v":"-"},{"$f":"IF(OR('Tabel 4F B'!G61<5, 'Tabel 4 B'!G61<0.5),\"-\",IFERROR('Tabel 4 B'!G61/'Tabel 4F B'!G61*100,\"-\"))","v":"-"},null,{"$f":"IF(OR('Tabel 4F B'!I61<5, 'Tabel 4 B'!I61<0.5),\"-\",IFERROR('Tabel 4 B'!I61/'Tabel 4F B'!I61*100,\"-\"))","v":8.8235294117647065}]
[{"$f":"'[1]Tabel 4 B DATA'!I111","v":"Diplom ing."},null,{"$f":"IF(OR('Tabel 4F B'!C62<5, 'Tabel 4 B'!C62<0.5),\"-\",IFERROR('Tabel 4 B'!C62/'Tabel 4F B'!C62*100,\"-\"))","v":"-"},{"$f":"IF(OR('Tabel 4F B'!D62<5, 'Tabel 4 B'!D62<0.5),\"-\",IFERROR('Tabel 4 B'!D62/'Tabel 4F B'!D62*100,\"-\"))","v":"-"},{"$f":"IF(OR('Tabel 4F B'!E62<5, 'Tabel 4 B'!E62<0.5),\"-\",IFERROR('Tabel 4 B'!E62/'Tabel 4F B'!E62*100,\"-\"))","v":11.76470588235294},{"$f":"IF(OR('Tabel 4F B'!F62<5, 'Tabel 4 B'!F62<0.5),\"-\",IFERROR('Tabel 4 B'!F62/'Tabel 4F B'!F62*100,\"-\"))","v":9.5238095238095237},{"$f":"IF(OR('Tabel 4F B'!G62<5, 'Tabel 4 B'!G62<0.5),\"-\",IFERROR('Tabel 4 B'!G62/'Tabel 4F B'!G62*100,\"-\"))","v":10},null,{"$f":"IF(OR('Tabel 4F B'!I62<5, 'Tabel 4 B'!I62<0.5),\"-\",IFERROR('Tabel 4 B'!I62/'Tabel 4F B'!I62*100,\"-\"))","v":7.9365079365079358}]
[{"$f":"'[1]Tabel 4 B DATA'!I112","v":"Cand. Scient. Tek"},null,{"$f":"IF(OR('Tabel 4F B'!C63<5, 'Tabel 4 B'!C63<0.5),\"-\",IFERROR('Tabel 4 B'!C63/'Tabel 4F B'!C63*100,\"-\"))","v":"-"},{"$f":"IF(OR('Tabel 4F B'!D63<5, 'Tabel 4 B'!D63<0.5),\"-\",IFERROR('Tabel 4 B'!D63/'Tabel 4F B'!D63*100,\"-\"))","v":23.52941176470588},{"$f":"IF(OR('Tabel 4F B'!E63<5, 'Tabel 4 B'!E63<0.5),\"-\",IFERROR('Tabel 4 B'!E63/'Tabel 4F B'!E63*100,\"-\"))","v":12.5},{"$f":"IF(OR('Tabel 4F B'!F63<5, 'Tabel 4 B'!F63<0.5),\"-\",IFERROR('Tabel 4 B'!F63/'Tabel 4F B'!F63*100,\"-\"))","v":"-"},{"$f":"IF(OR('Tabel 4F B'!G63<5, 'Tabel 4 B'!G63<0.5),\"-\",IFERROR('Tabel 4 B'!G63/'Tabel 4F B'!G63*100,\"-\"))","v":"-"},null,{"$f":"IF(OR('Tabel 4F B'!I63<5, 'Tabel 4 B'!I63<0.5),\"-\",IFERROR('Tabel 4 B'!I63/'Tabel 4F B'!I63*100,\"-\"))","v":15.625}]
[{"$f":"'[1]Tabel 4 B DATA'!I113","v":"MA. Hum."},null,{"$f":"IF(OR('Tabel 4F B'!C64<5, 'Tabel 4 B'!C64<0.5),\"-\",IFERROR('Tabel 4 B'!C64/'Tabel 4F B'!C64*100,\"-\"))","v":20},{"$f":"IF(OR('Tabel 4F B'!D64<5, 'Tabel 4 B'!D64<0.5),\"-\",IFERROR('Tabel 4 B'!D64/'Tabel 4F B'!D64*100,\"-\"))","v":12.962962962962962},{"$f":"IF(OR('Tabel 4F B'!E64<5, 'Tabel 4 B'!E64<0.5),\"-\",IFERROR('Tabel 4 B'!E64/'Tabel 4F B'!E64*100,\"-\"))","v":16.666666666666664},{"$f":"IF(OR('Tabel 4F B'!F64<5, 'Tabel 4 B'!F64<0.5),\"-\",IFERROR('Tabel 4 B'!F64/'Tabel 4F B'!F64*100,\"-\"))","v":5},{"$f":"IF(OR('Tabel 4F B'!G64<5, 'Tabel 4 B'!G64<0.5),\"-\",IFERROR('Tabel 4 B'!G64/'Tabel 4F B'!G64*100,\"-\"))","v":25},null,{"$f":"IF(OR('Tabel 4F B'!I64<5, 'Tabel 4 B'!I64<0.5),\"-\",IFERROR('Tabel 4 B'!I64/'Tabel 4F B'!I64*100,\"-\"))","v":14.399999999999999}]
[{"$f":"'[1]Tabel 4 B DATA'!I114","v":"MA. Nat."},null,{"$f":"IF(OR('Tabel 4F B'!C65<5, 'Tabel 4 B'!C65<0.5),\"-\",IFERROR('Tabel 4 B'!C65/'Tabel 4F B'!C65*100,\"-\"))","v":"-"},{"$f":"IF(OR('Tabel 4F B'!D65<5, 'Tabel 4 B'!D65<0.5),\"-\",IFERROR('Tabel 4 B'!D65/'Tabel 4F B'!D65*100,\"-\"))","v":"-"},{"$f":"IF(OR('Tabel 4F B'!E65<5, 'Tabel 4 B'!E65<0.5),\"-\",IFERROR('Tabel 4 B'!E65/'Tabel 4F B'!E65*100,\"-\"))","v":12.5},{"$f":"IF(OR('Tabel 4F B'!F65<5, 'Tabel 4 B'!F65<0.5),\"-\",IFERROR('Tabel 4 B'!F65/'Tabel 4F B'!F65*100,\"-\"))","v":"-"},{"$f":"IF(OR('Tabel 4F B'!G65<5, 'Tabel 4 B'!G65<0.5),\"-\",IFERROR('Tabel 4 B'!G65/'Tabel 4F B'!G65*100,\"-\"))","v":16.666666666666664},null,{"$f":"IF(OR('Tabel 4F B'!I65<5, 'Tabel 4 B'!I65<0.5),\"-\",IFERROR('Tabel 4 B'!I65/'Tabel 4F B'!I65*100,\"-\"))","v":6.5217391304347823}]
[{"$f":"'[1]Tabel 4 B DATA'!I115","v":"MA. Ph.d."},null,{"$f":"IF(OR('Tabel 4F B'!C66<5, 'Tabel 4 B'!C66<0.5),\"-\",IFERROR('Tabel 4 B'!C66/'Tabel 4F B'!C66*100,\"-\"))","v":"-"},{"$f":"IF(OR('Tabel 4F B'!D66<5, 'Tabel 4 B'!D66<0.5),\"-\",IFERROR('Tabel 4 B'!D66/'Tabel 4F B'!D66*100,\"-\"))","v":"-"},{"$f":"IF(OR('Tabel 4F B'!E66<5, 'Tabel 4 B'!E66<0.5),\"-\",IFERROR('Tabel 4 B'!E66/'Tabel 4F B'!E66*100,\"-\"))","v":"-"},{"$f":"IF(OR('Tabel 4F B'!F66<5, 'Tabel 4 B'!F66<0.5),\"-\",IFERROR('Tabel 4 B'!F66/'Tabel 4F B'!F66*100,\"-\"))","v":"-"},{"$f":"IF(OR('Tabel 4F B'!G66<5, 'Tabel 4 B'!G66<0.5),\"-\",IFERROR('Tabel 4 B'!G66/'Tabel 4F B'!G66*100,\"-\"))","v":"-"},null,{"$f":"IF(OR('Tabel 4F B'!I66<5, 'Tabel 4 B'!I66<0.5),\"-\",IFERROR('Tabel 4 B'!I66/'Tabel 4F B'!I66*100,\"-\"))","v":14.285714285714285}]
[{"$f":"'[1]Tabel 4 B DATA'!I116","v":"MA. Samf."},null,{"$f":"IF(OR('Tabel 4F B'!C67<5, 'Tabel 4 B'!C67<0.5),\"-\",IFERROR('Tabel 4 B'!C67/'Tabel 4F B'!C67*100,\"-\"))","v":"-"},{"$f":"IF(OR('Tabel 4F B'!D67<5, 'Tabel 4 B'!D67<0.5),\"-\",IFERROR('Tabel 4 B'!D67/'Tabel 4F B'!D67*100,\"-\"))","v":"-"},{"$f":"IF(OR('Tabel 4F B'!E67<5, 'Tabel 4 B'!E67<0.5),\"-\",IFERROR('Tabel 4 B'!E67/'Tabel 4F B'!E67*100,\"-\"))","v":"-"},{"$f":"IF(OR('Tabel 4F B'!F67<5, 'Tabel 4 B'!F67<0.5),\"-\",IFERROR('Tabel 4 B'!F67/'Tabel 4F B'!F67*100,\"-\"))","v":"-"},{"$f":"IF(OR('Tabel 4F B'!G67<5, 'Tabel 4 B'!G67<0.5),\"-\",IFERROR('Tabel 4 B'!G67/'Tabel 4F B'!G67*100,\"-\"))","v":"-"},null,{"$f":"IF(OR('Tabel 4F B'!I67<5, 'Tabel 4 B'!I67<0.5),\"-\",IFERROR('Tabel 4 B'!I67/'Tabel 4F B'!I67*100,\"-\"))","v":6.666666666666667}]
[{"$f":"'[1]Tabel 4 B DATA'!I117","v":"Øvrige Mag."},null,{"$f":"IF(OR('Tabel 4F B'!C68<5, 'Tabel 4 B'!C68<0.5),\"-\",IFERROR('Tabel 4 B'!C68/'Tabel 4F B'!C68*100,\"-\"))","v":"-"},{"$f":"IF(OR('Tabel 4F B'!D68<5, 'Tabel 4 B'!D68<0.5),\"-\",IFERROR('Tabel 4 B'!D68/'Tabel 4F B'!D68*100,\"-\"))","v":50},{"$f":"IF(OR('Tabel 4F B'!E68<5, 'Tabel 4 B'!E68<0.5),\"-\",IFERROR('Tabel 4 B'!E68/'Tabel 4F B'!E68*100,\"-\"))","v":40},{"$f":"IF(OR('Tabel 4F B'!F68<5, 'Tabel 4 B'!F68<0.5),\"-\",IFERROR('Tabel 4 B'!F68/'Tabel 4F B'!F68*100,\"-\"))","v":"-"},{"$f":"IF(OR('Tabel 4F B'!G68<5, 'Tabel 4 B'!G68<0.5),\"-\",IFERROR('Tabel 4 B'!G68/'Tabel 4F B'!G68*100,\"-\"))","v":"-"},null,{"$f":"IF(OR('Tabel 4F B'!I68<5, 'Tabel 4 B'!I68<0.5),\"-\",IFERROR('Tabel 4 B'!I68/'Tabel 4F B'!I68*100,\"-\"))","v":31.25}]
[{"$f":"'[1]Tabel 4 B DATA'!I118","v":"Agronom"},null,{"$f":"IF(OR('Tabel 4F B'!C69<5, 'Tabel 4 B'!C69<0.5),\"-\",IFERROR('Tabel 4 B'!C69/'Tabel 4F B'!C69*100,\"-\"))","v":"-"},{"$f":"IF(OR('Tabel 4F B'!D69<5, 'Tabel 4 B'!D69<0.5),\"-\",IFERROR('Tabel 4 B'!D69/'Tabel 4F B'!D69*100,\"-\"))","v":"-"},{"$f":"IF(OR('Tabel 4F B'!E69<5, 'Tabel 4 B'!E69<0.5),\"-\",IFERROR('Tabel 4 B'!E69/'Tabel 4F B'!E69*100,\"-\"))","v":"-"},{"$f":"IF(OR('Tabel 4F B'!F69<5, 'Tabel 4 B'!F69<0.5),\"-\",IFERROR('Tabel 4 B'!F69/'Tabel 4F B'!F69*100,\"-\"))","v":"-"},{"$f":"IF(OR('Tabel 4F B'!G69<5, 'Tabel 4 B'!G69<0.5),\"-\",IFERROR('Tabel 4 B'!G69/'Tabel 4F B'!G69*100,\"-\"))","v":"-"},null,{"$f":"IF(OR('Tabel 4F B'!I69<5, 'Tabel 4 B'!I69<0.5),\"-\",IFERROR('Tabel 4 B'!I69/'Tabel 4F B'!I69*100,\"-\"))","v":"-"}]
[{"$f":"'[1]Tabel 4 B DATA'!I119","v":"Landsk. Arkt."},null,{"$f":"IF(OR('Tabel 4F B'!C70<5, 'Tabel 4 B'!C70<0.5),\"-\",IFERROR('Tabel 4 B'!C70/'Tabel 4F B'!C70*100,\"-\"))","v":"-"},{"$f":"IF(OR('Tabel 4F B'!D70<5, 'Tabel 4 B'!D70<0.5),\"-\",IFERROR('Tabel 4 B'!D70/'Tabel 4F B'!D70*100,\"-\"))","v":"-"},{"$f":"IF(OR('Tabel 4F B'!E70<5, 'Tabel 4 B'!E70<0.5),\"-\",IFERROR('Tabel 4 B'!E70/'Tabel 4F B'!E70*100,\"-\"))","v":"-"},{"$f":"IF(OR('Tabel 4F B'!F70<5, 'Tabel 4 B'!F70<0.5),\"-\",IFERROR('Tabel 4 B'!F70/'Tabel 4F B'!F70*100,\"-\"))","v":"-"},{"$f":"IF(OR('Tabel 4F B'!G70<5, 'Tabel 4 B'!G70<0.5),\"-\",IFERROR('Tabel 4 B'!G70/'Tabel 4F B'!G70*100,\"-\"))","v":"-"},null,{"$f":"IF(OR('Tabel 4F B'!I70<5, 'Tabel 4 B'!I70<0.5),\"-\",IFERROR('Tabel 4 B'!I70/'Tabel 4F B'!I70*100,\"-\"))","v":"-"}]
[{"$f":"'[1]Tabel 4 B DATA'!I120","v":"Hortonom"},null,{"$f":"IF(OR('Tabel 4F B'!C71<5, 'Tabel 4 B'!C71<0.5),\"-\",IFERROR('Tabel 4 B'!C71/'Tabel 4F B'!C71*100,\"-\"))","v":"-"},{"$f":"IF(OR('Tabel 4F B'!D71<5, 'Tabel 4 B'!D71<0.5),\"-\",IFERROR('Tabel 4 B'!D71/'Tabel 4F B'!D71*100,\"-\"))","v":"-"},{"$f":"IF(OR('Tabel 4F B'!E71<5, 'Tabel 4 B'!E71<0.5),\"-\",IFERROR('Tabel 4 B'!E71/'Tabel 4F B'!E71*100,\"-\"))","v":"-"},{"$f":"IF(OR('Tabel 4F B'!F71<5, 'Tabel 4 B'!F71<0.5),\"-\",IFERROR('Tabel 4 B'!F71/'Tabel 4F B'!F71*100,\"-\"))","v":"-"},{"$f":"IF(OR('Tabel 4F B'!G71<5, 'Tabel 4 B'!G71<0.5),\"-\",IFERROR('Tabel 4 B'!G71/'Tabel 4F B'!G71*100,\"-\"))","v":"-"},null,{"$f":"IF(OR('Tabel 4F B'!I71<5, 'Tabel 4 B'!I71<0.5),\"-\",IFERROR('Tabel 4 B'!I71/'Tabel 4F B'!I71*100,\"-\"))","v":"-"}]
[{"$f":"'[1]Tabel 4 B DATA'!I121","v":"Forstkand."},null,{"$f":"IF(OR('Tabel 4F B'!C72<5, 'Tabel 4 B'!C72<0.5),\"-\",IFERROR('Tabel 4 B'!C72/'Tabel 4F B'!C72*100,\"-\"))","v":"-"},{"$f":"IF(OR('Tabel 4F B'!D72<5, 'Tabel 4 B'!D72<0.5),\"-\",IFERROR('Tabel 4 B'!D72/'Tabel 4F B'!D72*100,\"-\"))","v":"-"},{"$f":"IF(OR('Tabel 4F B'!E72<5, 'Tabel 4 B'!E72<0.5),\"-\",IFERROR('Tabel 4 B'!E72/'Tabel 4F B'!E72*100,\"-\"))","v":"-"},{"$f":"IF(OR('Tabel 4F B'!F72<5, 'Tabel 4 B'!F72<0.5),\"-\",IFERROR('Tabel 4 B'!F72/'Tabel 4F B'!F72*100,\"-\"))","v":"-"},{"$f":"IF(OR('Tabel 4F B'!G72<5, 'Tabel 4 B'!G72<0.5),\"-\",IFERROR('Tabel 4 B'!G72/'Tabel 4F B'!G72*100,\"-\"))","v":"-"},null,{"$f":"IF(OR('Tabel 4F B'!I72<5, 'Tabel 4 B'!I72<0.5),\"-\",IFERROR('Tabel 4 B'!I72/'Tabel 4F B'!I72*100,\"-\"))","v":"-"}]
[{"$f":"'[1]Tabel 4 B DATA'!I122","v":"Jordbrugsakad."},null,{"$f":"IF(OR('Tabel 4F B'!C73<5, 'Tabel 4 B'!C73<0.5),\"-\",IFERROR('Tabel 4 B'!C73/'Tabel 4F B'!C73*100,\"-\"))","v":"-"},{"$f":"IF(OR('Tabel 4F B'!D73<5, 'Tabel 4 B'!D73<0.5),\"-\",IFERROR('Tabel 4 B'!D73/'Tabel 4F B'!D73*100,\"-\"))","v":"-"},{"$f":"IF(OR('Tabel 4F B'!E73<5, 'Tabel 4 B'!E73<0.5),\"-\",IFERROR('Tabel 4 B'!E73/'Tabel 4F B'!E73*100,\"-\"))","v":"-"},{"$f":"IF(OR('Tabel 4F B'!F73<5, 'Tabel 4 B'!F73<0.5),\"-\",IFERROR('Tabel 4 B'!F73/'Tabel 4F B'!F73*100,\"-\"))","v":"-"},{"$f":"IF(OR('Tabel 4F B'!G73<5, 'Tabel 4 B'!G73<0.5),\"-\",IFERROR('Tabel 4 B'!G73/'Tabel 4F B'!G73*100,\"-\"))","v":"-"},null,{"$f":"IF(OR('Tabel 4F B'!I73<5, 'Tabel 4 B'!I73<0.5),\"-\",IFERROR('Tabel 4 B'!I73/'Tabel 4F B'!I73*100,\"-\"))","v":"-"}]
[{"$f":"'[1]Tabel 4 B DATA'!I123","v":"Mejeriing."},null,{"$f":"IF(OR('Tabel 4F B'!C74<5, 'Tabel 4 B'!C74<0.5),\"-\",IFERROR('Tabel 4 B'!C74/'Tabel 4F B'!C74*100,\"-\"))","v":"-"},{"$f":"IF(OR('Tabel 4F B'!D74<5, 'Tabel 4 B'!D74<0.5),\"-\",IFERROR('Tabel 4 B'!D74/'Tabel 4F B'!D74*100,\"-\"))","v":"-"},{"$f":"IF(OR('Tabel 4F B'!E74<5, 'Tabel 4 B'!E74<0.5),\"-\",IFERROR('Tabel 4 B'!E74/'Tabel 4F B'!E74*100,\"-\"))","v":"-"},{"$f":"IF(OR('Tabel 4F B'!F74<5, 'Tabel 4 B'!F74<0.5),\"-\",IFERROR('Tabel 4 B'!F74/'Tabel 4F B'!F74*100,\"-\"))","v":"-"},{"$f":"IF(OR('Tabel 4F B'!G74<5, 'Tabel 4 B'!G74<0.5),\"-\",IFERROR('Tabel 4 B'!G74/'Tabel 4F B'!G74*100,\"-\"))","v":"-"},null,{"$f":"IF(OR('Tabel 4F B'!I74<5, 'Tabel 4 B'!I74<0.5),\"-\",IFERROR('Tabel 4 B'!I74/'Tabel 4F B'!I74*100,\"-\"))","v":"-"}]
[{"$f":"'[1]Tabel 4 B DATA'!I124","v":"Levn.m.kand."},null,{"$f":"IF(OR('Tabel 4F B'!C75<5, 'Tabel 4 B'!C75<0.5),\"-\",IFERROR('Tabel 4 B'!C75/'Tabel 4F B'!C75*100,\"-\"))","v":"-"},{"$f":"IF(OR('Tabel 4F B'!D75<5, 'Tabel 4 B'!D75<0.5),\"-\",IFERROR('Tabel 4 B'!D75/'Tabel 4F B'!D75*100,\"-\"))","v":"-"},{"$f":"IF(OR('Tabel 4F B'!E75<5, 'Tabel 4 B'!E75<0.5),\"-\",IFERROR('Tabel 4 B'!E75/'Tabel 4F B'!E75*100,\"-\"))","v":"-"},{"$f":"IF(OR('Tabel 4F B'!F75<5, 'Tabel 4 B'!F75<0.5),\"-\",IFERROR('Tabel 4 B'!F75/'Tabel 4F B'!F75*100,\"-\"))","v":"-"},{"$f":"IF(OR('Tabel 4F B'!G75<5, 'Tabel 4 B'!G75<0.5),\"-\",IFERROR('Tabel 4 B'!G75/'Tabel 4F B'!G75*100,\"-\"))","v":"-"},null,{"$f":"IF(OR('Tabel 4F B'!I75<5, 'Tabel 4 B'!I75<0.5),\"-\",IFERROR('Tabel 4 B'!I75/'Tabel 4F B'!I75*100,\"-\"))","v":"-"}]
[{"$f":"'[1]Tabel 4 B DATA'!I125","v":"Dyrlæge"},null,{"$f":"IF(OR('Tabel 4F B'!C76<5, 'Tabel 4 B'!C76<0.5),\"-\",IFERROR('Tabel 4 B'!C76/'Tabel 4F B'!C76*100,\"-\"))","v":"-"},{"$f":"IF(OR('Tabel 4F B'!D76<5, 'Tabel 4 B'!D76<0.5),\"-\",IFERROR('Tabel 4 B'!D76/'Tabel 4F B'!D76*100,\"-\"))","v":"-"},{"$f":"IF(OR('Tabel 4F B'!E76<5, 'Tabel 4 B'!E76<0.5),\"-\",IFERROR('Tabel 4 B'!E76/'Tabel 4F B'!E76*100,\"-\"))","v":"-"},{"$f":"IF(OR('Tabel 4F B'!F76<5, 'Tabel 4 B'!F76<0.5),\"-\",IFERROR('Tabel 4 B'!F76/'Tabel 4F B'!F76*100,\"-\"))","v":"-"},{"$f":"IF(OR('Tabel 4F B'!G76<5, 'Tabel 4 B'!G76<0.5),\"-\",IFERROR('Tabel 4 B'!G76/'Tabel 4F B'!G76*100,\"-\"))","v":"-"},null,{"$f":"IF(OR('Tabel 4F B'!I76<5, 'Tabel 4 B'!I76<0.5),\"-\",IFERROR('Tabel 4 B'!I76/'Tabel 4F B'!I76*100,\"-\"))","v":"-"}]
[{"$f":"'[1]Tabel 4 B DATA'!I126","v":"Farmaceut"},null,{"$f":"IF(OR('Tabel 4F B'!C77<5, 'Tabel 4 B'!C77<0.5),\"-\",IFERROR('Tabel 4 B'!C77/'Tabel 4F B'!C77*100,\"-\"))","v":"-"},{"$f":"IF(OR('Tabel 4F B'!D77<5, 'Tabel 4 B'!D77<0.5),\"-\",IFERROR('Tabel 4 B'!D77/'Tabel 4F B'!D77*100,\"-\"))","v":"-"},{"$f":"IF(OR('Tabel 4F B'!E77<5, 'Tabel 4 B'!E77<0.5),\"-\",IFERROR('Tabel 4 B'!E77/'Tabel 4F B'!E77*100,\"-\"))","v":"-"},{"$f":"IF(OR('Tabel 4F B'!F77<5, 'Tabel 4 B'!F77<0.5),\"-\",IFERROR('Tabel 4 B'!F77/'Tabel 4F B'!F77*100,\"-\"))","v":"-"},{"$f":"IF(OR('Tabel 4F B'!G77<5, 'Tabel 4 B'!G77<0.5),\"-\",IFERROR('Tabel 4 B'!G77/'Tabel 4F B'!G77*100,\"-\"))","v":"-"},null,{"$f":"IF(OR('Tabel 4F B'!I77<5, 'Tabel 4 B'!I77<0.5),\"-\",IFERROR('Tabel 4 B'!I77/'Tabel 4F B'!I77*100,\"-\"))","v":"-"}]
[{"$f":"'[1]Tabel 4 B DATA'!I127","v":"Læge"},null,{"$f":"IF(OR('Tabel 4F B'!C78<5, 'Tabel 4 B'!C78<0.5),\"-\",IFERROR('Tabel 4 B'!C78/'Tabel 4F B'!C78*100,\"-\"))","v":14.285714285714285},{"$f":"IF(OR('Tabel 4F B'!D78<5, 'Tabel 4 B'!D78<0.5),\"-\",IFERROR('Tabel 4 B'!D78/'Tabel 4F B'!D78*100,\"-\"))","v":"-"},{"$f":"IF(OR('Tabel 4F B'!E78<5, 'Tabel 4 B'!E78<0.5),\"-\",IFERROR('Tabel 4 B'!E78/'Tabel 4F B'!E78*100,\"-\"))","v":"-"},{"$f":"IF(OR('Tabel 4F B'!F78<5, 'Tabel 4 B'!F78<0.5),\"-\",IFERROR('Tabel 4 B'!F78/'Tabel 4F B'!F78*100,\"-\"))","v":"-"},{"$f":"IF(OR('Tabel 4F B'!G78<5, 'Tabel 4 B'!G78<0.5),\"-\",IFERROR('Tabel 4 B'!G78/'Tabel 4F B'!G78*100,\"-\"))","v":"-"},null,{"$f":"IF(OR('Tabel 4F B'!I78<5, 'Tabel 4 B'!I78<0.5),\"-\",IFERROR('Tabel 4 B'!I78/'Tabel 4F B'!I78*100,\"-\"))","v":3.3333333333333335}]
[{"$f":"'[1]Tabel 4 B DATA'!I128","v":"Tandlæge"},null,{"$f":"IF(OR('Tabel 4F B'!C79<5, 'Tabel 4 B'!C79<0.5),\"-\",IFERROR('Tabel 4 B'!C79/'Tabel 4F B'!C79*100,\"-\"))","v":"-"},{"$f":"IF(OR('Tabel 4F B'!D79<5, 'Tabel 4 B'!D79<0.5),\"-\",IFERROR('Tabel 4 B'!D79/'Tabel 4F B'!D79*100,\"-\"))","v":"-"},{"$f":"IF(OR('Tabel 4F B'!E79<5, 'Tabel 4 B'!E79<0.5),\"-\",IFERROR('Tabel 4 B'!E79/'Tabel 4F B'!E79*100,\"-\"))","v":"-"},{"$f":"IF(OR('Tabel 4F B'!F79<5, 'Tabel 4 B'!F79<0.5),\"-\",IFERROR('Tabel 4 B'!F79/'Tabel 4F B'!F79*100,\"-\"))","v":"-"},{"$f":"IF(OR('Tabel 4F B'!G79<5, 'Tabel 4 B'!G79<0.5),\"-\",IFERROR('Tabel 4 B'!G79/'Tabel 4F B'!G79*100,\"-\"))","v":"-"},null,{"$f":"IF(OR('Tabel 4F B'!I79<5, 'Tabel 4 B'!I79<0.5),\"-\",IFERROR('Tabel 4 B'!I79/'Tabel 4F B'!I79*100,\"-\"))","v":"-"}]
[{"$f":"'[1]Tabel 4 B DATA'!I129","v":"Arkitekt"},null,{"$f":"IF(OR('Tabel 4F B'!C80<5, 'Tabel 4 B'!C80<0.5),\"-\",IFERROR('Tabel 4 B'!C80/'Tabel 4F B'!C80*100,\"-\"))","v":"-"},{"$f":"IF(OR('Tabel 4F B'!D80<5, 'Tabel 4 B'!D80<0.5),\"-\",IFERROR('Tabel 4 B'!D80/'Tabel 4F B'!D80*100,\"-\"))","v":"-"},{"$f":"IF(OR('Tabel 4F B'!E80<5, 'Tabel 4 B'!E80<0.5),\"-\",IFERROR('Tabel 4 B'!E80/'Tabel 4F B'!E80*100,\"-\"))","v":"-"},{"$f":"IF(OR('Tabel 4F B'!F80<5, 'Tabel 4 B'!F80<0.5),\"-\",IFERROR('Tabel 4 B'!F80/'Tabel 4F B'!F80*100,\"-\"))","v":"-"},{"$f":"IF(OR('Tabel 4F B'!G80<5, 'Tabel 4 B'!G80<0.5),\"-\",IFERROR('Tabel 4 B'!G80/'Tabel 4F B'!G80*100,\"-\"))","v":"-"},null,{"$f":"IF(OR('Tabel 4F B'!I80<5, 'Tabel 4 B'!I80<0.5),\"-\",IFERROR('Tabel 4 B'!I80/'Tabel 4F B'!I80*100,\"-\"))","v":7.1428571428571423}]
[{"$f":"'[1]Tabel 4 B DATA'!I130","v":"Landinspek."},null,{"$f":"IF(OR('Tabel 4F B'!C81<5, 'Tabel 4 B'!C81<0.5),\"-\",IFERROR('Tabel 4 B'!C81/'Tabel 4F B'!C81*100,\"-\"))","v":"-"},{"$f":"IF(OR('Tabel 4F B'!D81<5, 'Tabel 4 B'!D81<0.5),\"-\",IFERROR('Tabel 4 B'!D81/'Tabel 4F B'!D81*100,\"-\"))","v":"-"},{"$f":"IF(OR('Tabel 4F B'!E81<5, 'Tabel 4 B'!E81<0.5),\"-\",IFERROR('Tabel 4 B'!E81/'Tabel 4F B'!E81*100,\"-\"))","v":"-"},{"$f":"IF(OR('Tabel 4F B'!F81<5, 'Tabel 4 B'!F81<0.5),\"-\",IFERROR('Tabel 4 B'!F81/'Tabel 4F B'!F81*100,\"-\"))","v":"-"},{"$f":"IF(OR('Tabel 4F B'!G81<5, 'Tabel 4 B'!G81<0.5),\"-\",IFERROR('Tabel 4 B'!G81/'Tabel 4F B'!G81*100,\"-\"))","v":"-"},null,{"$f":"IF(OR('Tabel 4F B'!I81<5, 'Tabel 4 B'!I81<0.5),\"-\",IFERROR('Tabel 4 B'!I81/'Tabel 4F B'!I81*100,\"-\"))","v":"-"}]
[{"$f":"'[1]Tabel 4 B DATA'!I131","v":"Bibliotekar"},null,{"$f":"IF(OR('Tabel 4F B'!C82<5, 'Tabel 4 B'!C82<0.5),\"-\",IFERROR('Tabel 4 B'!C82/'Tabel 4F B'!C82*100,\"-\"))","v":"-"},{"$f":"IF(OR('Tabel 4F B'!D82<5, 'Tabel 4 B'!D82<0.5),\"-\",IFERROR('Tabel 4 B'!D82/'Tabel 4F B'!D82*100,\"-\"))","v":"-"},{"$f":"IF(OR('Tabel 4F B'!E82<5, 'Tabel 4 B'!E82<0.5),\"-\",IFERROR('Tabel 4 B'!E82/'Tabel 4F B'!E82*100,\"-\"))","v":"-"},{"$f":"IF(OR('Tabel 4F B'!F82<5, 'Tabel 4 B'!F82<0.5),\"-\",IFERROR('Tabel 4 B'!F82/'Tabel 4F B'!F82*100,\"-\"))","v":"-"},{"$f":"IF(OR('Tabel 4F B'!G82<5, 'Tabel 4 B'!G82<0.5),\"-\",IFERROR('Tabel 4 B'!G82/'Tabel 4F B'!G82*100,\"-\"))","v":"-"},null,{"$f":"IF(OR('Tabel 4F B'!I82<5, 'Tabel 4 B'!I82<0.5),\"-\",IFERROR('Tabel 4 B'!I82/'Tabel 4F B'!I82*100,\"-\"))","v":6.25}]
[{"$f":"'[1]Tabel 4 B DATA'!I132","v":"Musikudd."},null,{"$f":"IF(OR('Tabel 4F B'!C83<5, 'Tabel 4 B'!C83<0.5),\"-\",IFERROR('Tabel 4 B'!C83/'Tabel 4F B'!C83*100,\"-\"))","v":"-"},{"$f":"IF(OR('Tabel 4F B'!D83<5, 'Tabel 4 B'!D83<0.5),\"-\",IFERROR('Tabel 4 B'!D83/'Tabel 4F B'!D83*100,\"-\"))","v":"-"},{"$f":"IF(OR('Tabel 4F B'!E83<5, 'Tabel 4 B'!E83<0.5),\"-\",IFERROR('Tabel 4 B'!E83/'Tabel 4F B'!E83*100,\"-\"))","v":"-"},{"$f":"IF(OR('Tabel 4F B'!F83<5, 'Tabel 4 B'!F83<0.5),\"-\",IFERROR('Tabel 4 B'!F83/'Tabel 4F B'!F83*100,\"-\"))","v":"-"},{"$f":"IF(OR('Tabel 4F B'!G83<5, 'Tabel 4 B'!G83<0.5),\"-\",IFERROR('Tabel 4 B'!G83/'Tabel 4F B'!G83*100,\"-\"))","v":"-"},null,{"$f":"IF(OR('Tabel 4F B'!I83<5, 'Tabel 4 B'!I83<0.5),\"-\",IFERROR('Tabel 4 B'!I83/'Tabel 4F B'!I83*100,\"-\"))","v":"-"}]
[{"$f":"'[1]Tabel 4 B DATA'!I133","v":"Teolog"},null,{"$f":"IF(OR('Tabel 4F B'!C84<5, 'Tabel 4 B'!C84<0.5),\"-\",IFERROR('Tabel 4 B'!C84/'Tabel 4F B'!C84*100,\"-\"))","v":"-"},{"$f":"IF(OR('Tabel 4F B'!D84<5, 'Tabel 4 B'!D84<0.5),\"-\",IFERROR('Tabel 4 B'!D84/'Tabel 4F B'!D84*100,\"-\"))","v":"-"},{"$f":"IF(OR('Tabel 4F B'!E84<5, 'Tabel 4 B'!E84<0.5),\"-\",IFERROR('Tabel 4 B'!E84/'Tabel 4F B'!E84*100,\"-\"))","v":"-"},{"$f":"IF(OR('Tabel 4F B'!F84<5, 'Tabel 4 B'!F84<0.5),\"-\",IFERROR('Tabel 4 B'!F84/'Tabel 4F B'!F84*100,\"-\"))","v":"-"},{"$f":"IF(OR('Tabel 4F B'!G84<5, 'Tabel 4 B'!G84<0.5),\"-\",IFERROR('Tabel 4 B'!G84/'Tabel 4F B'!G84*100,\"-\"))","v":"-"},null,{"$f":"IF(OR('Tabel 4F B'!I84<5, 'Tabel 4 B'!I84<0.5),\"-\",IFERROR('Tabel 4 B'!I84/'Tabel 4F B'!I84*100,\"-\"))","v":"-"}]
[{"$f":"'[1]Tabel 4 B DATA'!I134","v":"Psykolog"},null,{"$f":"IF(OR('Tabel 4F B'!C85<5, 'Tabel 4 B'!C85<0.5),\"-\",IFERROR('Tabel 4 B'!C85/'Tabel 4F B'!C85*100,\"-\"))","v":"-"},{"$f":"IF(OR('Tabel 4F B'!D85<5, 'Tabel 4 B'!D85<0.5),\"-\",IFERROR('Tabel 4 B'!D85/'Tabel 4F B'!D85*100,\"-\"))","v":11.111111111111111},{"$f":"IF(OR('Tabel 4F B'!E85<5, 'Tabel 4 B'!E85<0.5),\"-\",IFERROR('Tabel 4 B'!E85/'Tabel 4F B'!E85*100,\"-\"))","v":"-"},{"$f":"IF(OR('Tabel 4F B'!F85<5, 'Tabel 4 B'!F85<0.5),\"-\",IFERROR('Tabel 4 B'!F85/'Tabel 4F B'!F85*100,\"-\"))","v":"-"},{"$f":"IF(OR('Tabel 4F B'!G85<5, 'Tabel 4 B'!G85<0.5),\"-\",IFERROR('Tabel 4 B'!G85/'Tabel 4F B'!G85*100,\"-\"))","v":"-"},null,{"$f":"IF(OR('Tabel 4F B'!I85<5, 'Tabel 4 B'!I85<0.5),\"-\",IFERROR('Tabel 4 B'!I85/'Tabel 4F B'!I85*100,\"-\"))","v":3.225806451612903}]
[{"$f":"'[1]Tabel 4 B DATA'!I135","v":"Jurist"},null,{"$f":"IF(OR('Tabel 4F B'!C86<5, 'Tabel 4 B'!C86<0.5),\"-\",IFERROR('Tabel 4 B'!C86/'Tabel 4F B'!C86*100,\"-\"))","v":"-"},{"$f":"IF(OR('Tabel 4F B'!D86<5, 'Tabel 4 B'!D86<0.5),\"-\",IFERROR('Tabel 4 B'!D86/'Tabel 4F B'!D86*100,\"-\"))","v":"-"},{"$f":"IF(OR('Tabel 4F B'!E86<5, 'Tabel 4 B'!E86<0.5),\"-\",IFERROR('Tabel 4 B'!E86/'Tabel 4F B'!E86*100,\"-\"))","v":"-"},{"$f":"IF(OR('Tabel 4F B'!F86<5, 'Tabel 4 B'!F86<0.5),\"-\",IFERROR('Tabel 4 B'!F86/'Tabel 4F B'!F86*100,\"-\"))","v":"-"},{"$f":"IF(OR('Tabel 4F B'!G86<5, 'Tabel 4 B'!G86<0.5),\"-\",IFERROR('Tabel 4 B'!G86/'Tabel 4F B'!G86*100,\"-\"))","v":"-"},null,{"$f":"IF(OR('Tabel 4F B'!I86<5, 'Tabel 4 B'!I86<0.5),\"-\",IFERROR('Tabel 4 B'!I86/'Tabel 4F B'!I86*100,\"-\"))","v":"-"}]
[{"$f":"'[1]Tabel 4 B DATA'!I136","v":"Økonom"},null,{"$f":"IF(OR('Tabel 4F B'!C87<5, 'Tabel 4 B'!C87<0.5),\"-\",IFERROR('Tabel 4 B'!C87/'Tabel 4F B'!C87*100,\"-\"))","v":"-"},{"$f":"IF(OR('Tabel 4F B'!D87<5, 'Tabel 4 B'!D87<0.5),\"-\",IFERROR('Tabel 4 B'!D87/'Tabel 4F B'!D87*100,\"-\"))","v":"-"},{"$f":"IF(OR('Tabel 4F B'!E87<5, 'Tabel 4 B'!E87<0.5),\"-\",IFERROR('Tabel 4 B'!E87/'Tabel 4F B'!E87*100,\"-\"))","v":"-"},{"$f":"IF(OR('Tabel 4F B'!F87<5, 'Tabel 4 B'!F87<0.5),\"-\",IFERROR('Tabel 4 B'!F87/'Tabel 4F B'!F87*100,\"-\"))","v":"-"},{"$f":"IF(OR('Tabel 4F B'!G87<5, 'Tabel 4 B'!G87<0.5),\"-\",IFERROR('Tabel 4 B'!G87/'Tabel 4F B'!G87*100,\"-\"))","v":"-"},null,{"$f":"IF(OR('Tabel 4F B'!I87<5, 'Tabel 4 B'!I87<0.5),\"-\",IFERROR('Tabel 4 B'!I87/'Tabel 4F B'!I87*100,\"-\"))","v":"-"}]
[{"$f":"'[1]Tabel 4 B DATA'!I137","v":"Samf. Adm."},null,{"$f":"IF(OR('Tabel 4F B'!C88<5, 'Tabel 4 B'!C88<0.5),\"-\",IFERROR('Tabel 4 B'!C88/'Tabel 4F B'!C88*100,\"-\"))","v":"-"},{"$f":"IF(OR('Tabel 4F B'!D88<5, 'Tabel 4 B'!D88<0.5),\"-\",IFERROR('Tabel 4 B'!D88/'Tabel 4F B'!D88*100,\"-\"))","v":"-"},{"$f":"IF(OR('Tabel 4F B'!E88<5, 'Tabel 4 B'!E88<0.5),\"-\",IFERROR('Tabel 4 B'!E88/'Tabel 4F B'!E88*100,\"-\"))","v":4.5454545454545459},{"$f":"IF(OR('Tabel 4F B'!F88<5, 'Tabel 4 B'!F88<0.5),\"-\",IFERROR('Tabel 4 B'!F88/'Tabel 4F B'!F88*100,\"-\"))","v":20},{"$f":"IF(OR('Tabel 4F B'!G88<5, 'Tabel 4 B'!G88<0.5),\"-\",IFERROR('Tabel 4 B'!G88/'Tabel 4F B'!G88*100,\"-\"))","v":"-"},null,{"$f":"IF(OR('Tabel 4F B'!I88<5, 'Tabel 4 B'!I88<0.5),\"-\",IFERROR('Tabel 4 B'!I88/'Tabel 4F B'!I88*100,\"-\"))","v":5.4545454545454541}]
[{"$f":"'[1]Tabel 4 B DATA'!I138","v":"Cand. Merc."},null,{"$f":"IF(OR('Tabel 4F B'!C89<5, 'Tabel 4 B'!C89<0.5),\"-\",IFERROR('Tabel 4 B'!C89/'Tabel 4F B'!C89*100,\"-\"))","v":"-"},{"$f":"IF(OR('Tabel 4F B'!D89<5, 'Tabel 4 B'!D89<0.5),\"-\",IFERROR('Tabel 4 B'!D89/'Tabel 4F B'!D89*100,\"-\"))","v":"-"},{"$f":"IF(OR('Tabel 4F B'!E89<5, 'Tabel 4 B'!E89<0.5),\"-\",IFERROR('Tabel 4 B'!E89/'Tabel 4F B'!E89*100,\"-\"))","v":27.27272727272727},{"$f":"IF(OR('Tabel 4F B'!F89<5, 'Tabel 4 B'!F89<0.5),\"-\",IFERROR('Tabel 4 B'!F89/'Tabel 4F B'!F89*100,\"-\"))","v":10},{"$f":"IF(OR('Tabel 4F B'!G89<5, 'Tabel 4 B'!G89<0.5),\"-\",IFERROR('Tabel 4 B'!G89/'Tabel 4F B'!G89*100,\"-\"))","v":"-"},null,{"$f":"IF(OR('Tabel 4F B'!I89<5, 'Tabel 4 B'!I89<0.5),\"-\",IFERROR('Tabel 4 B'!I89/'Tabel 4F B'!I89*100,\"-\"))","v":12.5}]
[{"$f":"'[1]Tabel 4 B DATA'!I139","v":"HA"},null,{"$f":"IF(OR('Tabel 4F B'!C90<5, 'Tabel 4 B'!C90<0.5),\"-\",IFERROR('Tabel 4 B'!C90/'Tabel 4F B'!C90*100,\"-\"))","v":"-"},{"$f":"IF(OR('Tabel 4F B'!D90<5, 'Tabel 4 B'!D90<0.5),\"-\",IFERROR('Tabel 4 B'!D90/'Tabel 4F B'!D90*100,\"-\"))","v":"-"},{"$f":"IF(OR('Tabel 4F B'!E90<5, 'Tabel 4 B'!E90<0.5),\"-\",IFERROR('Tabel 4 B'!E90/'Tabel 4F B'!E90*100,\"-\"))","v":"-"},{"$f":"IF(OR('Tabel 4F B'!F90<5, 'Tabel 4 B'!F90<0.5),\"-\",IFERROR('Tabel 4 B'!F90/'Tabel 4F B'!F90*100,\"-\"))","v":14.285714285714285},{"$f":"IF(OR('Tabel 4F B'!G90<5, 'Tabel 4 B'!G90<0.5),\"-\",IFERROR('Tabel 4 B'!G90/'Tabel 4F B'!G90*100,\"-\"))","v":"-"},null,{"$f":"IF(OR('Tabel 4F B'!I90<5, 'Tabel 4 B'!I90<0.5),\"-\",IFERROR('Tabel 4 B'!I90/'Tabel 4F B'!I90*100,\"-\"))","v":8.3333333333333321}]
[{"$f":"'[1]Tabel 4 B DATA'!I140","v":"HD"},null,{"$f":"IF(OR('Tabel 4F B'!C91<5, 'Tabel 4 B'!C91<0.5),\"-\",IFERROR('Tabel 4 B'!C91/'Tabel 4F B'!C91*100,\"-\"))","v":"-"},{"$f":"IF(OR('Tabel 4F B'!D91<5, 'Tabel 4 B'!D91<0.5),\"-\",IFERROR('Tabel 4 B'!D91/'Tabel 4F B'!D91*100,\"-\"))","v":"-"},{"$f":"IF(OR('Tabel 4F B'!E91<5, 'Tabel 4 B'!E91<0.5),\"-\",IFERROR('Tabel 4 B'!E91/'Tabel 4F B'!E91*100,\"-\"))","v":"-"},{"$f":"IF(OR('Tabel 4F B'!F91<5, 'Tabel 4 B'!F91<0.5),\"-\",IFERROR('Tabel 4 B'!F91/'Tabel 4F B'!F91*100,\"-\"))","v":"-"},{"$f":"IF(OR('Tabel 4F B'!G91<5, 'Tabel 4 B'!G91<0.5),\"-\",IFERROR('Tabel 4 B'!G91/'Tabel 4F B'!G91*100,\"-\"))","v":"-"},null,{"$f":"IF(OR('Tabel 4F B'!I91<5, 'Tabel 4 B'!I91<0.5),\"-\",IFERROR('Tabel 4 B'!I91/'Tabel 4F B'!I91*100,\"-\"))","v":"-"}]
[{"$f":"'[1]Tabel 4 B DATA'!I141","v":"Komm. og Sprog"},null,{"$f":"IF(OR('Tabel 4F B'!C92<5, 'Tabel 4 B'!C92<0.5),\"-\",IFERROR('Tabel 4 B'!C92/'Tabel 4F B'!C92*100,\"-\"))","v":"-"},{"$f":"IF(OR('Tabel 4F B'!D92<5, 'Tabel 4 B'!D92<0.5),\"-\",IFERROR('Tabel 4 B'!D92/'Tabel 4F B'!D92*100,\"-\"))","v":14.285714285714285},{"$f":"IF(OR('Tabel 4F B'!E92<5, 'Tabel 4 B'!E92<0.5),\"-\",IFERROR('Tabel 4 B'!E92/'Tabel 4F B'!E92*100,\"-\"))","v":"-"},{"$f":"IF(OR('Tabel 4F B'!F92<5, 'Tabel 4 B'!F92<0.5),\"-\",IFERROR('Tabel 4 B'!F92/'Tabel 4F B'!F92*100,\"-\"))","v":"-"},{"$f":"IF(OR('Tabel 4F B'!G92<5, 'Tabel 4 B'!G92<0.5),\"-\",IFERROR('Tabel 4 B'!G92/'Tabel 4F B'!G92*100,\"-\"))","v":"-"},null,{"$f":"IF(OR('Tabel 4F B'!I92<5, 'Tabel 4 B'!I92<0.5),\"-\",IFERROR('Tabel 4 B'!I92/'Tabel 4F B'!I92*100,\"-\"))","v":26.666666666666668}]
["Bygningskonst.",null,{"$f":"IF(OR('Tabel 4F B'!C93<5, 'Tabel 4 B'!C93<0.5),\"-\",IFERROR('Tabel 4 B'!C93/'Tabel 4F B'!C93*100,\"-\"))","v":"-"},{"$f":"IF(OR('Tabel 4F B'!D93<5, 'Tabel 4 B'!D93<0.5),\"-\",IFERROR('Tabel 4 B'!D93/'Tabel 4F B'!D93*100,\"-\"))","v":"-"},{"$f":"IF(OR('Tabel 4F B'!E93<5, 'Tabel 4 B'!E93<0.5),\"-\",IFERROR('Tabel 4 B'!E93/'Tabel 4F B'!E93*100,\"-\"))","v":"-"},{"$f":"IF(OR('Tabel 4F B'!F93<5, 'Tabel 4 B'!F93<0.5),\"-\",IFERROR('Tabel 4 B'!F93/'Tabel 4F B'!F93*100,\"-\"))","v":"-"},{"$f":"IF(OR('Tabel 4F B'!G93<5, 'Tabel 4 B'!G93<0.5),\"-\",IFERROR('Tabel 4 B'!G93/'Tabel 4F B'!G93*100,\"-\"))","v":"-"},null,{"$f":"IF(OR('Tabel 4F B'!I93<5, 'Tabel 4 B'!I93<0.5),\"-\",IFERROR('Tabel 4 B'!I93/'Tabel 4F B'!I93*100,\"-\"))","v":"-"}]
[{"$f":"'[1]Tabel 4 B DATA'!I143","v":"Cand. IT."},null,{"$f":"IF(OR('Tabel 4F B'!C94<5, 'Tabel 4 B'!C94<0.5),\"-\",IFERROR('Tabel 4 B'!C94/'Tabel 4F B'!C94*100,\"-\"))","v":"-"},{"$f":"IF(OR('Tabel 4F B'!D94<5, 'Tabel 4 B'!D94<0.5),\"-\",IFERROR('Tabel 4 B'!D94/'Tabel 4F B'!D94*100,\"-\"))","v":"-"},{"$f":"IF(OR('Tabel 4F B'!E94<5, 'Tabel 4 B'!E94<0.5),\"-\",IFERROR('Tabel 4 B'!E94/'Tabel 4F B'!E94*100,\"-\"))","v":"-"},{"$f":"IF(OR('Tabel 4F B'!F94<5, 'Tabel 4 B'!F94<0.5),\"-\",IFERROR('Tabel 4 B'!F94/'Tabel 4F B'!F94*100,\"-\"))","v":"-"},{"$f":"IF(OR('Tabel 4F B'!G94<5, 'Tabel 4 B'!G94<0.5),\"-\",IFERROR('Tabel 4 B'!G94/'Tabel 4F B'!G94*100,\"-\"))","v":"-"},null,{"$f":"IF(OR('Tabel 4F B'!I94<5, 'Tabel 4 B'!I94<0.5),\"-\",IFERROR('Tabel 4 B'!I94/'Tabel 4F B'!I94*100,\"-\"))","v":"-"}]
[{"$f":"'[1]Tabel 4 B DATA'!I144","v":"Bac. Samf."},null,{"$f":"IF(OR('Tabel 4F B'!C95<5, 'Tabel 4 B'!C95<0.5),\"-\",IFERROR('Tabel 4 B'!C95/'Tabel 4F B'!C95*100,\"-\"))","v":"-"},{"$f":"IF(OR('Tabel 4F B'!D95<5, 'Tabel 4 B'!D95<0.5),\"-\",IFERROR('Tabel 4 B'!D95/'Tabel 4F B'!D95*100,\"-\"))","v":"-"},{"$f":"IF(OR('Tabel 4F B'!E95<5, 'Tabel 4 B'!E95<0.5),\"-\",IFERROR('Tabel 4 B'!E95/'Tabel 4F B'!E95*100,\"-\"))","v":"-"},{"$f":"IF(OR('Tabel 4F B'!F95<5, 'Tabel 4 B'!F95<0.5),\"-\",IFERROR('Tabel 4 B'!F95/'Tabel 4F B'!F95*100,\"-\"))","v":"-"},{"$f":"IF(OR('Tabel 4F B'!G95<5, 'Tabel 4 B'!G95<0.5),\"-\",IFERROR('Tabel 4 B'!G95/'Tabel 4F B'!G95*100,\"-\"))","v":"-"},null,{"$f":"IF(OR('Tabel 4F B'!I95<5, 'Tabel 4 B'!I95<0.5),\"-\",IFERROR('Tabel 4 B'!I95/'Tabel 4F B'!I95*100,\"-\"))","v":"-"}]
[{"$f":"'[1]Tabel 4 B DATA'!I145","v":"Bac. Hum."},null,{"$f":"IF(OR('Tabel 4F B'!C96<5, 'Tabel 4 B'!C96<0.5),\"-\",IFERROR('Tabel 4 B'!C96/'Tabel 4F B'!C96*100,\"-\"))","v":"-"},{"$f":"IF(OR('Tabel 4F B'!D96<5, 'Tabel 4 B'!D96<0.5),\"-\",IFERROR('Tabel 4 B'!D96/'Tabel 4F B'!D96*100,\"-\"))","v":"-"},{"$f":"IF(OR('Tabel 4F B'!E96<5, 'Tabel 4 B'!E96<0.5),\"-\",IFERROR('Tabel 4 B'!E96/'Tabel 4F B'!E96*100,\"-\"))","v":"-"},{"$f":"IF(OR('Tabel 4F B'!F96<5, 'Tabel 4 B'!F96<0.5),\"-\",IFERROR('Tabel 4 B'!F96/'Tabel 4F B'!F96*100,\"-\"))","v":"-"},{"$f":"IF(OR('Tabel 4F B'!G96<5, 'Tabel 4 B'!G96<0.5),\"-\",IFERROR('Tabel 4 B'!G96/'Tabel 4F B'!G96*100,\"-\"))","v":"-"},null,{"$f":"IF(OR('Tabel 4F B'!I96<5, 'Tabel 4 B'!I96<0.5),\"-\",IFERROR('Tabel 4 B'!I96/'Tabel 4F B'!I96*100,\"-\"))","v":23.076923076923077}]
[{"$f":"'[1]Tabel 4 B DATA'!I146","v":"Bac. Nat."},null,{"$f":"IF(OR('Tabel 4F B'!C97<5, 'Tabel 4 B'!C97<0.5),\"-\",IFERROR('Tabel 4 B'!C97/'Tabel 4F B'!C97*100,\"-\"))","v":"-"},{"$f":"IF(OR('Tabel 4F B'!D97<5, 'Tabel 4 B'!D97<0.5),\"-\",IFERROR('Tabel 4 B'!D97/'Tabel 4F B'!D97*100,\"-\"))","v":"-"},{"$f":"IF(OR('Tabel 4F B'!E97<5, 'Tabel 4 B'!E97<0.5),\"-\",IFERROR('Tabel 4 B'!E97/'Tabel 4F B'!E97*100,\"-\"))","v":"-"},{"$f":"IF(OR('Tabel 4F B'!F97<5, 'Tabel 4 B'!F97<0.5),\"-\",IFERROR('Tabel 4 B'!F97/'Tabel 4F B'!F97*100,\"-\"))","v":"-"},{"$f":"IF(OR('Tabel 4F B'!G97<5, 'Tabel 4 B'!G97<0.5),\"-\",IFERROR('Tabel 4 B'!G97/'Tabel 4F B'!G97*100,\"-\"))","v":"-"},null,{"$f":"IF(OR('Tabel 4F B'!I97<5, 'Tabel 4 B'!I97<0.5),\"-\",IFERROR('Tabel 4 B'!I97/'Tabel 4F B'!I97*100,\"-\"))","v":20}]
[{"$f":"'[1]Tabel 4 B DATA'!I147","v":"Andre"},null,{"$f":"IF(OR('Tabel 4F B'!C98<5, 'Tabel 4 B'!C98<0.5),\"-\",IFERROR('Tabel 4 B'!C98/'Tabel 4F B'!C98*100,\"-\"))","v":"-"},{"$f":"IF(OR('Tabel 4F B'!D98<5, 'Tabel 4 B'!D98<0.5),\"-\",IFERROR('Tabel 4 B'!D98/'Tabel 4F B'!D98*100,\"-\"))","v":16.666666666666664},{"$f":"IF(OR('Tabel 4F B'!E98<5, 'Tabel 4 B'!E98<0.5),\"-\",IFERROR('Tabel 4 B'!E98/'Tabel 4F B'!E98*100,\"-\"))","v":14.814814814814813},{"$f":"IF(OR('Tabel 4F B'!F98<5, 'Tabel 4 B'!F98<0.5),\"-\",IFERROR('Tabel 4 B'!F98/'Tabel 4F B'!F98*100,\"-\"))","v":5.7142857142857144},{"$f":"IF(OR('Tabel 4F B'!G98<5, 'Tabel 4 B'!G98<0.5),\"-\",IFERROR('Tabel 4 B'!G98/'Tabel 4F B'!G98*100,\"-\"))","v":8},null,{"$f":"IF(OR('Tabel 4F B'!I98<5, 'Tabel 4 B'!I98<0.5),\"-\",IFERROR('Tabel 4 B'!I98/'Tabel 4F B'!I98*100,\"-\"))","v":11.009174311926607}]
[]
[{"$f":"'[1]Tabel 4 B DATA'!I149","v":"Total"},null,{"$f":"IF(OR('Tabel 4F B'!C100<5, 'Tabel 4 B'!C100<0.5),\"-\",IFERROR('Tabel 4 B'!C100/'Tabel 4F B'!C100*100,\"-\"))","v":7.2727272727272725},{"$f":"IF(OR('Tabel 4F B'!D100<5, 'Tabel 4 B'!D100<0.5),\"-\",IFERROR('Tabel 4 B'!D100/'Tabel 4F B'!D100*100,\"-\"))","v":10.126582278481013},{"$f":"IF(OR('Tabel 4F B'!E100<5, 'Tabel 4 B'!E100<0.5),\"-\",IFERROR('Tabel 4 B'!E100/'Tabel 4F B'!E100*100,\"-\"))","v":10.222222222222223},{"$f":"IF(OR('Tabel 4F B'!F100<5, 'Tabel 4 B'!F100<0.5),\"-\",IFERROR('Tabel 4 B'!F100/'Tabel 4F B'!F100*100,\"-\"))","v":7.5},{"$f":"IF(OR('Tabel 4F B'!G100<5, 'Tabel 4 B'!G100<0.5),\"-\",IFERROR('Tabel 4 B'!G100/'Tabel 4F B'!G100*100,\"-\"))","v":9.2592592592592595},null,{"$f":"IF(OR('Tabel 4F B'!I100<5, 'Tabel 4 B'!I100<0.5),\"-\",IFERROR('Tabel 4 B'!I100/'Tabel 4F B'!I100*100,\"-\"))","v":9.212121212121211}]
[]
[{"$f":"'[1]Tabel 4 B DATA'!I151","v":"Ingeniører i alt"},null,{"$f":"IF(OR('Tabel 4F B'!C102<5, 'Tabel 4 B'!C102<0.5),\"-\",IFERROR('Tabel 4 B'!C102/'Tabel 4F B'!C102*100,\"-\"))","v":"-"},{"$f":"IF(OR('Tabel 4F B'!D102<5, 'Tabel 4 B'!D102<0.5),\"-\",IFERROR('Tabel 4 B'!D102/'Tabel 4F B'!D102*100,\"-\"))","v":8},{"$f":"IF(OR('Tabel 4F B'!E102<5, 'Tabel 4 B'!E102<0.5),\"-\",IFERROR('Tabel 4 B'!E102/'Tabel 4F B'!E102*100,\"-\"))","v":12},{"$f":"IF(OR('Tabel 4F B'!F102<5, 'Tabel 4 B'!F102<0.5),\"-\",IFERROR('Tabel 4 B'!F102/'Tabel 4F B'!F102*100,\"-\"))","v":6.8965517241379306},{"$f":"IF(OR('Tabel 4F B'!G102<5, 'Tabel 4 B'!G102<0.5),\"-\",IFERROR('Tabel 4 B'!G102/'Tabel 4F B'!G102*100,\"-\"))","v":8.3333333333333321},null,{"$f":"IF(OR('Tabel 4F B'!I102<5, 'Tabel 4 B'!I102<0.5),\"-\",IFERROR('Tabel 4 B'!I102/'Tabel 4F B'!I102*100,\"-\"))","v":8.2474226804123703}]
[{"$f":"'[1]Tabel 4 B DATA'!I152","v":"Magistre i alt"},null,{"$f":"IF(OR('Tabel 4F B'!C103<5, 'Tabel 4 B'!C103<0.5),\"-\",IFERROR('Tabel 4 B'!C103/'Tabel 4F B'!C103*100,\"-\"))","v":12.5},{"$f":"IF(OR('Tabel 4F B'!D103<5, 'Tabel 4 B'!D103<0.5),\"-\",IFERROR('Tabel 4 B'!D103/'Tabel 4F B'!D103*100,\"-\"))","v":13.888888888888889},{"$f":"IF(OR('Tabel 4F B'!E103<5, 'Tabel 4 B'!E103<0.5),\"-\",IFERROR('Tabel 4 B'!E103/'Tabel 4F B'!E103*100,\"-\"))","v":18.181818181818183},{"$f":"IF(OR('Tabel 4F B'!F103<5, 'Tabel 4 B'!F103<0.5),\"-\",IFERROR('Tabel 4 B'!F103/'Tabel 4F B'!F103*100,\"-\"))","v":4.2553191489361701},{"$f":"IF(OR('Tabel 4F B'!G103<5, 'Tabel 4 B'!G103<0.5),\"-\",IFERROR('Tabel 4 B'!G103/'Tabel 4F B'!G103*100,\"-\"))","v":18.518518518518519},null,{"$f":"IF(OR('Tabel 4F B'!I103<5, 'Tabel 4 B'!I103<0.5),\"-\",IFERROR('Tabel 4 B'!I103/'Tabel 4F B'!I103*100,\"-\"))","v":13.397129186602871}]
[{"$f":"'[1]Tabel 4 B DATA'!I153","v":"DJØF'ere i alt"},null,{"$f":"IF(OR('Tabel 4F B'!C104<5, 'Tabel 4 B'!C104<0.5),\"-\",IFERROR('Tabel 4 B'!C104/'Tabel 4F B'!C104*100,\"-\"))","v":"-"},{"$f":"IF(OR('Tabel 4F B'!D104<5, 'Tabel 4 B'!D104<0.5),\"-\",IFERROR('Tabel 4 B'!D104/'Tabel 4F B'!D104*100,\"-\"))","v":"-"},{"$f":"IF(OR('Tabel 4F B'!E104<5, 'Tabel 4 B'!E104<0.5),\"-\",IFERROR('Tabel 4 B'!E104/'Tabel 4F B'!E104*100,\"-\"))","v":8.8888888888888893},{"$f":"IF(OR('Tabel 4F B'!F104<5, 'Tabel 4 B'!F104<0.5),\"-\",IFERROR('Tabel 4 B'!F104/'Tabel 4F B'!F104*100,\"-\"))","v":10},{"$f":"IF(OR('Tabel 4F B'!G104<5, 'Tabel 4 B'!G104<0.5),\"-\",IFERROR('Tabel 4 B'!G104/'Tabel 4F B'!G104*100,\"-\"))","v":"-"},null,{"$f":"IF(OR('Tabel 4F B'!I104<5, 'Tabel 4 B'!I104<0.5),\"-\",IFERROR('Tabel 4 B'!I104/'Tabel 4F B'!I104*100,\"-\"))","v":5.6737588652482271}]
[]
[]
[]
[]
[]
[]
[{"$f":"'[1]Tabel 4 B DATA'!I158","v":"Christiansø"}]
[]
[null,null,{"$f":"'[1]Tabel 4 B DATA'!K160","v":"Under 30 år"},{"$f":"'[1]Tabel 4 B DATA'!L160","v":"30 - 39 år"},{"$f":"'[1]Tabel 4 B DATA'!M160","v":"40 - 49 år"},{"$f":"'[1]Tabel 4 B DATA'!N160","v":"50 - 59 år"},{"$f":"'[1]Tabel 4 B DATA'!O160","v":"Over 60 år"},null,{"$f":"'[1]Tabel 4 B DATA'!Q160","v":"I alt"}]
[]
[{"$f":"'[1]Tabel 4 B DATA'!I162","v":"Civ. ing."},null,{"$f":"IF(OR('Tabel 4F B'!C115<5, 'Tabel 4 B'!C115<0.5),\"-\",IFERROR('Tabel 4 B'!C115/'Tabel 4F B'!C115*100,\"-\"))","v":"-"},{"$f":"IF(OR('Tabel 4F B'!D115<5, 'Tabel 4 B'!D115<0.5),\"-\",IFERROR('Tabel 4 B'!D115/'Tabel 4F B'!D115*100,\"-\"))","v":"-"},{"$f":"IF(OR('Tabel 4F B'!E115<5, 'Tabel 4 B'!E115<0.5),\"-\",IFERROR('Tabel 4 B'!E115/'Tabel 4F B'!E115*100,\"-\"))","v":"-"},{"$f":"IF(OR('Tabel 4F B'!F115<5, 'Tabel 4 B'!F115<0.5),\"-\",IFERROR('Tabel 4 B'!F115/'Tabel 4F B'!F115*100,\"-\"))","v":"-"},{"$f":"IF(OR('Tabel 4F B'!G115<5, 'Tabel 4 B'!G115<0.5),\"-\",IFERROR('Tabel 4 B'!G115/'Tabel 4F B'!G115*100,\"-\"))","v":"-"},null,{"$f":"IF(OR('Tabel 4F B'!I115<5, 'Tabel 4 B'!I115<0.5),\"-\",IFERROR('Tabel 4 B'!I115/'Tabel 4F B'!I115*100,\"-\"))","v":"-"}]
[{"$f":"'[1]Tabel 4 B DATA'!I163","v":"Diplom ing."},null,{"$f":"IF(OR('Tabel 4F B'!C116<5, 'Tabel 4 B'!C116<0.5),\"-\",IFERROR('Tabel 4 B'!C116/'Tabel 4F B'!C116*100,\"-\"))","v":"-"},{"$f":"IF(OR('Tabel 4F B'!D116<5, 'Tabel 4 B'!D116<0.5),\"-\",IFERROR('Tabel 4 B'!D116/'Tabel 4F B'!D116*100,\"-\"))","v":"-"},{"$f":"IF(OR('Tabel 4F B'!E116<5, 'Tabel 4 B'!E116<0.5),\"-\",IFERROR('Tabel 4 B'!E116/'Tabel 4F B'!E116*100,\"-\"))","v":"-"},{"$f":"IF(OR('Tabel 4F B'!F116<5, 'Tabel 4 B'!F116<0.5),\"-\",IFERROR('Tabel 4 B'!F116/'Tabel 4F B'!F116*100,\"-\"))","v":"-"},{"$f":"IF(OR('Tabel 4F B'!G116<5, 'Tabel 4 B'!G116<0.5),\"-\",IFERROR('Tabel 4 B'!G116/'Tabel 4F B'!G116*100,\"-\"))","v":"-"},null,{"$f":"IF(OR('Tabel 4F B'!I116<5, 'Tabel 4 B'!I116<0.5),\"-\",IFERROR('Tabel 4 B'!I116/'Tabel 4F B'!I116*100,\"-\"))","v":"-"}]
[{"$f":"'[1]Tabel 4 B DATA'!I164","v":"Cand. Scient. Tek"},null,{"$f":"IF(OR('Tabel 4F B'!C117<5, 'Tabel 4 B'!C117<0.5),\"-\",IFERROR('Tabel 4 B'!C117/'Tabel 4F B'!C117*100,\"-\"))","v":"-"},{"$f":"IF(OR('Tabel 4F B'!D117<5, 'Tabel 4 B'!D117<0.5),\"-\",IFERROR('Tabel 4 B'!D117/'Tabel 4F B'!D117*100,\"-\"))","v":"-"},{"$f":"IF(OR('Tabel 4F B'!E117<5, 'Tabel 4 B'!E117<0.5),\"-\",IFERROR('Tabel 4 B'!E117/'Tabel 4F B'!E117*100,\"-\"))","v":"-"},{"$f":"IF(OR('Tabel 4F B'!F117<5, 'Tabel 4 B'!F117<0.5),\"-\",IFERROR('Tabel 4 B'!F117/'Tabel 4F B'!F117*100,\"-\"))","v":"-"},{"$f":"IF(OR('Tabel 4F B'!G117<5, 'Tabel 4 B'!G117<0.5),\"-\",IFERROR('Tabel 4 B'!G117/'Tabel 4F B'!G117*100,\"-\"))","v":"-"},null,{"$f":"IF(OR('Tabel 4F B'!I117<5, 'Tabel 4 B'!I117<0.5),\"-\",IFERROR('Tabel 4 B'!I117/'Tabel 4F B'!I117*100,\"-\"))","v":"-"}]
[{"$f":"'[1]Tabel 4 B DATA'!I165","v":"MA. Hum."},null,{"$f":"IF(OR('Tabel 4F B'!C118<5, 'Tabel 4 B'!C118<0.5),\"-\",IFERROR('Tabel 4 B'!C118/'Tabel 4F B'!C118*100,\"-\"))","v":"-"},{"$f":"IF(OR('Tabel 4F B'!D118<5, 'Tabel 4 B'!D118<0.5),\"-\",IFERROR('Tabel 4 B'!D118/'Tabel 4F B'!D118*100,\"-\"))","v":"-"},{"$f":"IF(OR('Tabel 4F B'!E118<5, 'Tabel 4 B'!E118<0.5),\"-\",IFERROR('Tabel 4 B'!E118/'Tabel 4F B'!E118*100,\"-\"))","v":"-"},{"$f":"IF(OR('Tabel 4F B'!F118<5, 'Tabel 4 B'!F118<0.5),\"-\",IFERROR('Tabel 4 B'!F118/'Tabel 4F B'!F118*100,\"-\"))","v":"-"},{"$f":"IF(OR('Tabel 4F B'!G118<5, 'Tabel 4 B'!G118<0.5),\"-\",IFERROR('Tabel 4 B'!G118/'Tabel 4F B'!G118*100,\"-\"))","v":"-"},null,{"$f":"IF(OR('Tabel 4F B'!I118<5, 'Tabel 4 B'!I118<0.5),\"-\",IFERROR('Tabel 4 B'!I118/'Tabel 4F B'!I118*100,\"-\"))","v":"-"}]
[{"$f":"'[1]Tabel 4 B DATA'!I166","v":"MA. Nat."},null,{"$f":"IF(OR('Tabel 4F B'!C119<5, 'Tabel 4 B'!C119<0.5),\"-\",IFERROR('Tabel 4 B'!C119/'Tabel 4F B'!C119*100,\"-\"))","v":"-"},{"$f":"IF(OR('Tabel 4F B'!D119<5, 'Tabel 4 B'!D119<0.5),\"-\",IFERROR('Tabel 4 B'!D119/'Tabel 4F B'!D119*100,\"-\"))","v":"-"},{"$f":"IF(OR('Tabel 4F B'!E119<5, 'Tabel 4 B'!E119<0.5),\"-\",IFERROR('Tabel 4 B'!E119/'Tabel 4F B'!E119*100,\"-\"))","v":"-"},{"$f":"IF(OR('Tabel 4F B'!F119<5, 'Tabel 4 B'!F119<0.5),\"-\",IFERROR('Tabel 4 B'!F119/'Tabel 4F B'!F119*100,\"-\"))","v":"-"},{"$f":"IF(OR('Tabel 4F B'!G119<5, 'Tabel 4 B'!G119<0.5),\"-\",IFERROR('Tabel 4 B'!G119/'Tabel 4F B'!G119*100,\"-\"))","v":"-"},null,{"$f":"IF(OR('Tabel 4F B'!I119<5, 'Tabel 4 B'!I119<0.5),\"-\",IFERROR('Tabel 4 B'!I119/'Tabel 4F B'!I119*100,\"-\"))","v":"-"}]
[{"$f":"'[1]Tabel 4 B DATA'!I167","v":"MA. Ph.d."},null,{"$f":"IF(OR('Tabel 4F B'!C120<5, 'Tabel 4 B'!C120<0.5),\"-\",IFERROR('Tabel 4 B'!C120/'Tabel 4F B'!C120*100,\"-\"))","v":"-"},{"$f":"IF(OR('Tabel 4F B'!D120<5, 'Tabel 4 B'!D120<0.5),\"-\",IFERROR('Tabel 4 B'!D120/'Tabel 4F B'!D120*100,\"-\"))","v":"-"},{"$f":"IF(OR('Tabel 4F B'!E120<5, 'Tabel 4 B'!E120<0.5),\"-\",IFERROR('Tabel 4 B'!E120/'Tabel 4F B'!E120*100,\"-\"))","v":"-"},{"$f":"IF(OR('Tabel 4F B'!F120<5, 'Tabel 4 B'!F120<0.5),\"-\",IFERROR('Tabel 4 B'!F120/'Tabel 4F B'!F120*100,\"-\"))","v":"-"},{"$f":"IF(OR('Tabel 4F B'!G120<5, 'Tabel 4 B'!G120<0.5),\"-\",IFERROR('Tabel 4 B'!G120/'Tabel 4F B'!G120*100,\"-\"))","v":"-"},null,{"$f":"IF(OR('Tabel 4F B'!I120<5, 'Tabel 4 B'!I120<0.5),\"-\",IFERROR('Tabel 4 B'!I120/'Tabel 4F B'!I120*100,\"-\"))","v":"-"}]
[{"$f":"'[1]Tabel 4 B DATA'!I168","v":"MA. Samf."},null,{"$f":"IF(OR('Tabel 4F B'!C121<5, 'Tabel 4 B'!C121<0.5),\"-\",IFERROR('Tabel 4 B'!C121/'Tabel 4F B'!C121*100,\"-\"))","v":"-"},{"$f":"IF(OR('Tabel 4F B'!D121<5, 'Tabel 4 B'!D121<0.5),\"-\",IFERROR('Tabel 4 B'!D121/'Tabel 4F B'!D121*100,\"-\"))","v":"-"},{"$f":"IF(OR('Tabel 4F B'!E121<5, 'Tabel 4 B'!E121<0.5),\"-\",IFERROR('Tabel 4 B'!E121/'Tabel 4F B'!E121*100,\"-\"))","v":"-"},{"$f":"IF(OR('Tabel 4F B'!F121<5, 'Tabel 4 B'!F121<0.5),\"-\",IFERROR('Tabel 4 B'!F121/'Tabel 4F B'!F121*100,\"-\"))","v":"-"},{"$f":"IF(OR('Tabel 4F B'!G121<5, 'Tabel 4 B'!G121<0.5),\"-\",IFERROR('Tabel 4 B'!G121/'Tabel 4F B'!G121*100,\"-\"))","v":"-"},null,{"$f":"IF(OR('Tabel 4F B'!I121<5, 'Tabel 4 B'!I121<0.5),\"-\",IFERROR('Tabel 4 B'!I121/'Tabel 4F B'!I121*100,\"-\"))","v":"-"}]
[{"$f":"'[1]Tabel 4 B DATA'!I169","v":"Øvrige Mag."},null,{"$f":"IF(OR('Tabel 4F B'!C122<5, 'Tabel 4 B'!C122<0.5),\"-\",IFERROR('Tabel 4 B'!C122/'Tabel 4F B'!C122*100,\"-\"))","v":"-"},{"$f":"IF(OR('Tabel 4F B'!D122<5, 'Tabel 4 B'!D122<0.5),\"-\",IFERROR('Tabel 4 B'!D122/'Tabel 4F B'!D122*100,\"-\"))","v":"-"},{"$f":"IF(OR('Tabel 4F B'!E122<5, 'Tabel 4 B'!E122<0.5),\"-\",IFERROR('Tabel 4 B'!E122/'Tabel 4F B'!E122*100,\"-\"))","v":"-"},{"$f":"IF(OR('Tabel 4F B'!F122<5, 'Tabel 4 B'!F122<0.5),\"-\",IFERROR('Tabel 4 B'!F122/'Tabel 4F B'!F122*100,\"-\"))","v":"-"},{"$f":"IF(OR('Tabel 4F B'!G122<5, 'Tabel 4 B'!G122<0.5),\"-\",IFERROR('Tabel 4 B'!G122/'Tabel 4F B'!G122*100,\"-\"))","v":"-"},null,{"$f":"IF(OR('Tabel 4F B'!I122<5, 'Tabel 4 B'!I122<0.5),\"-\",IFERROR('Tabel 4 B'!I122/'Tabel 4F B'!I122*100,\"-\"))","v":"-"}]
[{"$f":"'[1]Tabel 4 B DATA'!I170","v":"Agronom"},null,{"$f":"IF(OR('Tabel 4F B'!C123<5, 'Tabel 4 B'!C123<0.5),\"-\",IFERROR('Tabel 4 B'!C123/'Tabel 4F B'!C123*100,\"-\"))","v":"-"},{"$f":"IF(OR('Tabel 4F B'!D123<5, 'Tabel 4 B'!D123<0.5),\"-\",IFERROR('Tabel 4 B'!D123/'Tabel 4F B'!D123*100,\"-\"))","v":"-"},{"$f":"IF(OR('Tabel 4F B'!E123<5, 'Tabel 4 B'!E123<0.5),\"-\",IFERROR('Tabel 4 B'!E123/'Tabel 4F B'!E123*100,\"-\"))","v":"-"},{"$f":"IF(OR('Tabel 4F B'!F123<5, 'Tabel 4 B'!F123<0.5),\"-\",IFERROR('Tabel 4 B'!F123/'Tabel 4F B'!F123*100,\"-\"))","v":"-"},{"$f":"IF(OR('Tabel 4F B'!G123<5, 'Tabel 4 B'!G123<0.5),\"-\",IFERROR('Tabel 4 B'!G123/'Tabel 4F B'!G123*100,\"-\"))","v":"-"},null,{"$f":"IF(OR('Tabel 4F B'!I123<5, 'Tabel 4 B'!I123<0.5),\"-\",IFERROR('Tabel 4 B'!I123/'Tabel 4F B'!I123*100,\"-\"))","v":"-"}]
[{"$f":"'[1]Tabel 4 B DATA'!I171","v":"Landsk. Arkt."},null,{"$f":"IF(OR('Tabel 4F B'!C124<5, 'Tabel 4 B'!C124<0.5),\"-\",IFERROR('Tabel 4 B'!C124/'Tabel 4F B'!C124*100,\"-\"))","v":"-"},{"$f":"IF(OR('Tabel 4F B'!D124<5, 'Tabel 4 B'!D124<0.5),\"-\",IFERROR('Tabel 4 B'!D124/'Tabel 4F B'!D124*100,\"-\"))","v":"-"},{"$f":"IF(OR('Tabel 4F B'!E124<5, 'Tabel 4 B'!E124<0.5),\"-\",IFERROR('Tabel 4 B'!E124/'Tabel 4F B'!E124*100,\"-\"))","v":"-"},{"$f":"IF(OR('Tabel 4F B'!F124<5, 'Tabel 4 B'!F124<0.5),\"-\",IFERROR('Tabel 4 B'!F124/'Tabel 4F B'!F124*100,\"-\"))","v":"-"},{"$f":"IF(OR('Tabel 4F B'!G124<5, 'Tabel 4 B'!G124<0.5),\"-\",IFERROR('Tabel 4 B'!G124/'Tabel 4F B'!G124*100,\"-\"))","v":"-"},null,{"$f":"IF(OR('Tabel 4F B'!I124<5, 'Tabel 4 B'!I124<0.5),\"-\",IFERROR('Tabel 4 B'!I124/'Tabel 4F B'!I124*100,\"-\"))","v":"-"}]
[{"$f":"'[1]Tabel 4 B DATA'!I172","v":"Hortonom"},null,{"$f":"IF(OR('Tabel 4F B'!C125<5, 'Tabel 4 B'!C125<0.5),\"-\",IFERROR('Tabel 4 B'!C125/'Tabel 4F B'!C125*100,\"-\"))","v":"-"},{"$f":"IF(OR('Tabel 4F B'!D125<5, 'Tabel 4 B'!D125<0.5),\"-\",IFERROR('Tabel 4 B'!D125/'Tabel 4F B'!D125*100,\"-\"))","v":"-"},{"$f":"IF(OR('Tabel 4F B'!E125<5, 'Tabel 4 B'!E125<0.5),\"-\",IFERROR('Tabel 4 B'!E125/'Tabel 4F B'!E125*100,\"-\"))","v":"-"},{"$f":"IF(OR('Tabel 4F B'!F125<5, 'Tabel 4 B'!F125<0.5),\"-\",IFERROR('Tabel 4 B'!F125/'Tabel 4F B'!F125*100,\"-\"))","v":"-"},{"$f":"IF(OR('Tabel 4F B'!G125<5, 'Tabel 4 B'!G125<0.5),\"-\",IFERROR('Tabel 4 B'!G125/'Tabel 4F B'!G125*100,\"-\"))","v":"-"},null,{"$f":"IF(OR('Tabel 4F B'!I125<5, 'Tabel 4 B'!I125<0.5),\"-\",IFERROR('Tabel 4 B'!I125/'Tabel 4F B'!I125*100,\"-\"))","v":"-"}]
[{"$f":"'[1]Tabel 4 B DATA'!I173","v":"Forstkand."},null,{"$f":"IF(OR('Tabel 4F B'!C126<5, 'Tabel 4 B'!C126<0.5),\"-\",IFERROR('Tabel 4 B'!C126/'Tabel 4F B'!C126*100,\"-\"))","v":"-"},{"$f":"IF(OR('Tabel 4F B'!D126<5, 'Tabel 4 B'!D126<0.5),\"-\",IFERROR('Tabel 4 B'!D126/'Tabel 4F B'!D126*100,\"-\"))","v":"-"},{"$f":"IF(OR('Tabel 4F B'!E126<5, 'Tabel 4 B'!E126<0.5),\"-\",IFERROR('Tabel 4 B'!E126/'Tabel 4F B'!E126*100,\"-\"))","v":"-"},{"$f":"IF(OR('Tabel 4F B'!F126<5, 'Tabel 4 B'!F126<0.5),\"-\",IFERROR('Tabel 4 B'!F126/'Tabel 4F B'!F126*100,\"-\"))","v":"-"},{"$f":"IF(OR('Tabel 4F B'!G126<5, 'Tabel 4 B'!G126<0.5),\"-\",IFERROR('Tabel 4 B'!G126/'Tabel 4F B'!G126*100,\"-\"))","v":"-"},null,{"$f":"IF(OR('Tabel 4F B'!I126<5, 'Tabel 4 B'!I126<0.5),\"-\",IFERROR('Tabel 4 B'!I126/'Tabel 4F B'!I126*100,\"-\"))","v":"-"}]
[{"$f":"'[1]Tabel 4 B DATA'!I174","v":"Jordbrugsakad."},null,{"$f":"IF(OR('Tabel 4F B'!C127<5, 'Tabel 4 B'!C127<0.5),\"-\",IFERROR('Tabel 4 B'!C127/'Tabel 4F B'!C127*100,\"-\"))","v":"-"},{"$f":"IF(OR('Tabel 4F B'!D127<5, 'Tabel 4 B'!D127<0.5),\"-\",IFERROR('Tabel 4 B'!D127/'Tabel 4F B'!D127*100,\"-\"))","v":"-"},{"$f":"IF(OR('Tabel 4F B'!E127<5, 'Tabel 4 B'!E127<0.5),\"-\",IFERROR('Tabel 4 B'!E127/'Tabel 4F B'!E127*100,\"-\"))","v":"-"},{"$f":"IF(OR('Tabel 4F B'!F127<5, 'Tabel 4 B'!F127<0.5),\"-\",IFERROR('Tabel 4 B'!F127/'Tabel 4F B'!F127*100,\"-\"))","v":"-"},{"$f":"IF(OR('Tabel 4F B'!G127<5, 'Tabel 4 B'!G127<0.5),\"-\",IFERROR('Tabel 4 B'!G127/'Tabel 4F B'!G127*100,\"-\"))","v":"-"},null,{"$f":"IF(OR('Tabel 4F B'!I127<5, 'Tabel 4 B'!I127<0.5),\"-\",IFERROR('Tabel 4 B'!I127/'Tabel 4F B'!I127*100,\"-\"))","v":"-"}]
[{"$f":"'[1]Tabel 4 B DATA'!I175","v":"Mejeriing."},null,{"$f":"IF(OR('Tabel 4F B'!C128<5, 'Tabel 4 B'!C128<0.5),\"-\",IFERROR('Tabel 4 B'!C128/'Tabel 4F B'!C128*100,\"-\"))","v":"-"},{"$f":"IF(OR('Tabel 4F B'!D128<5, 'Tabel 4 B'!D128<0.5),\"-\",IFERROR('Tabel 4 B'!D128/'Tabel 4F B'!D128*100,\"-\"))","v":"-"},{"$f":"IF(OR('Tabel 4F B'!E128<5, 'Tabel 4 B'!E128<0.5),\"-\",IFERROR('Tabel 4 B'!E128/'Tabel 4F B'!E128*100,\"-\"))","v":"-"},{"$f":"IF(OR('Tabel 4F B'!F128<5, 'Tabel 4 B'!F128<0.5),\"-\",IFERROR('Tabel 4 B'!F128/'Tabel 4F B'!F128*100,\"-\"))","v":"-"},{"$f":"IF(OR('Tabel 4F B'!G128<5, 'Tabel 4 B'!G128<0.5),\"-\",IFERROR('Tabel 4 B'!G128/'Tabel 4F B'!G128*100,\"-\"))","v":"-"},null,{"$f":"IF(OR('Tabel 4F B'!I128<5, 'Tabel 4 B'!I128<0.5),\"-\",IFERROR('Tabel 4 B'!I128/'Tabel 4F B'!I128*100,\"-\"))","v":"-"}]
[{"$f":"'[1]Tabel 4 B DATA'!I176","v":"Levn.m.kand."},null,{"$f":"IF(OR('Tabel 4F B'!C129<5, 'Tabel 4 B'!C129<0.5),\"-\",IFERROR('Tabel 4 B'!C129/'Tabel 4F B'!C129*100,\"-\"))","v":"-"},{"$f":"IF(OR('Tabel 4F B'!D129<5, 'Tabel 4 B'!D129<0.5),\"-\",IFERROR('Tabel 4 B'!D129/'Tabel 4F B'!D129*100,\"-\"))","v":"-"},{"$f":"IF(OR('Tabel 4F B'!E129<5, 'Tabel 4 B'!E129<0.5),\"-\",IFERROR('Tabel 4 B'!E129/'Tabel 4F B'!E129*100,\"-\"))","v":"-"},{"$f":"IF(OR('Tabel 4F B'!F129<5, 'Tabel 4 B'!F129<0.5),\"-\",IFERROR('Tabel 4 B'!F129/'Tabel 4F B'!F129*100,\"-\"))","v":"-"},{"$f":"IF(OR('Tabel 4F B'!G129<5, 'Tabel 4 B'!G129<0.5),\"-\",IFERROR('Tabel 4 B'!G129/'Tabel 4F B'!G129*100,\"-\"))","v":"-"},null,{"$f":"IF(OR('Tabel 4F B'!I129<5, 'Tabel 4 B'!I129<0.5),\"-\",IFERROR('Tabel 4 B'!I129/'Tabel 4F B'!I129*100,\"-\"))","v":"-"}]
[{"$f":"'[1]Tabel 4 B DATA'!I177","v":"Dyrlæge"},null,{"$f":"IF(OR('Tabel 4F B'!C130<5, 'Tabel 4 B'!C130<0.5),\"-\",IFERROR('Tabel 4 B'!C130/'Tabel 4F B'!C130*100,\"-\"))","v":"-"},{"$f":"IF(OR('Tabel 4F B'!D130<5, 'Tabel 4 B'!D130<0.5),\"-\",IFERROR('Tabel 4 B'!D130/'Tabel 4F B'!D130*100,\"-\"))","v":"-"},{"$f":"IF(OR('Tabel 4F B'!E130<5, 'Tabel 4 B'!E130<0.5),\"-\",IFERROR('Tabel 4 B'!E130/'Tabel 4F B'!E130*100,\"-\"))","v":"-"},{"$f":"IF(OR('Tabel 4F B'!F130<5, 'Tabel 4 B'!F130<0.5),\"-\",IFERROR('Tabel 4 B'!F130/'Tabel 4F B'!F130*100,\"-\"))","v":"-"},{"$f":"IF(OR('Tabel 4F B'!G130<5, 'Tabel 4 B'!G130<0.5),\"-\",IFERROR('Tabel 4 B'!G130/'Tabel 4F B'!G130*100,\"-\"))","v":"-"},null,{"$f":"IF(OR('Tabel 4F B'!I130<5, 'Tabel 4 B'!I130<0.5),\"-\",IFERROR('Tabel 4 B'!I130/'Tabel 4F B'!I130*100,\"-\"))","v":"-"}]
[{"$f":"'[1]Tabel 4 B DATA'!I178","v":"Farmaceut"},null,{"$f":"IF(OR('Tabel 4F B'!C131<5, 'Tabel 4 B'!C131<0.5),\"-\",IFERROR('Tabel 4 B'!C131/'Tabel 4F B'!C131*100,\"-\"))","v":"-"},{"$f":"IF(OR('Tabel 4F B'!D131<5, 'Tabel 4 B'!D131<0.5),\"-\",IFERROR('Tabel 4 B'!D131/'Tabel 4F B'!D131*100,\"-\"))","v":"-"},{"$f":"IF(OR('Tabel 4F B'!E131<5, 'Tabel 4 B'!E131<0.5),\"-\",IFERROR('Tabel 4 B'!E131/'Tabel 4F B'!E131*100,\"-\"))","v":"-"},{"$f":"IF(OR('Tabel 4F B'!F131<5, 'Tabel 4 B'!F131<0.5),\"-\",IFERROR('Tabel 4 B'!F131/'Tabel 4F B'!F131*100,\"-\"))","v":"-"},{"$f":"IF(OR('Tabel 4F B'!G131<5, 'Tabel 4 B'!G131<0.5),\"-\",IFERROR('Tabel 4 B'!G131/'Tabel 4F B'!G131*100,\"-\"))","v":"-"},null,{"$f":"IF(OR('Tabel 4F B'!I131<5, 'Tabel 4 B'!I131<0.5),\"-\",IFERROR('Tabel 4 B'!I131/'Tabel 4F B'!I131*100,\"-\"))","v":"-"}]
[{"$f":"'[1]Tabel 4 B DATA'!I179","v":"Læge"},null,{"$f":"IF(OR('Tabel 4F B'!C132<5, 'Tabel 4 B'!C132<0.5),\"-\",IFERROR('Tabel 4 B'!C132/'Tabel 4F B'!C132*100,\"-\"))","v":"-"},{"$f":"IF(OR('Tabel 4F B'!D132<5, 'Tabel 4 B'!D132<0.5),\"-\",IFERROR('Tabel 4 B'!D132/'Tabel 4F B'!D132*100,\"-\"))","v":"-"},{"$f":"IF(OR('Tabel 4F B'!E132<5, 'Tabel 4 B'!E132<0.5),\"-\",IFERROR('Tabel 4 B'!E132/'Tabel 4F B'!E132*100,\"-\"))","v":"-"},{"$f":"IF(OR('Tabel 4F B'!F132<5, 'Tabel 4 B'!F132<0.5),\"-\",IFERROR('Tabel 4 B'!F132/'Tabel 4F B'!F132*100,\"-\"))","v":"-"},{"$f":"IF(OR('Tabel 4F B'!G132<5, 'Tabel 4 B'!G132<0.5),\"-\",IFERROR('Tabel 4 B'!G132/'Tabel 4F B'!G132*100,\"-\"))","v":"-"},null,{"$f":"IF(OR('Tabel 4F B'!I132<5, 'Tabel 4 B'!I132<0.5),\"-\",IFERROR('Tabel 4 B'!I132/'Tabel 4F B'!I132*100,\"-\"))","v":"-"}]
[{"$f":"'[1]Tabel 4 B DATA'!I180","v":"Tandlæge"},null,{"$f":"IF(OR('Tabel 4F B'!C133<5, 'Tabel 4 B'!C133<0.5),\"-\",IFERROR('Tabel 4 B'!C133/'Tabel 4F B'!C133*100,\"-\"))","v":"-"},{"$f":"IF(OR('Tabel 4F B'!D133<5, 'Tabel 4 B'!D133<0.5),\"-\",IFERROR('Tabel 4 B'!D133/'Tabel 4F B'!D133*100,\"-\"))","v":"-"},{"$f":"IF(OR('Tabel 4F B'!E133<5, 'Tabel 4 B'!E133<0.5),\"-\",IFERROR('Tabel 4 B'!E133/'Tabel 4F B'!E133*100,\"-\"))","v":"-"},{"$f":"IF(OR('Tabel 4F B'!F133<5, 'Tabel 4 B'!F133<0.5),\"-\",IFERROR('Tabel 4 B'!F133/'Tabel 4F B'!F133*100,\"-\"))","v":"-"},{"$f":"IF(OR('Tabel 4F B'!G133<5, 'Tabel 4 B'!G133<0.5),\"-\",IFERROR('Tabel 4 B'!G133/'Tabel 4F B'!G133*100,\"-\"))","v":"-"},null,{"$f":"IF(OR('Tabel 4F B'!I133<5, 'Tabel 4 B'!I133<0.5),\"-\",IFERROR('Tabel 4 B'!I133/'Tabel 4F B'!I133*100,\"-\"))","v":"-"}]
[{"$f":"'[1]Tabel 4 B DATA'!I181","v":"Arkitekt"},null,{"$f":"IF(OR('Tabel 4F B'!C134<5, 'Tabel 4 B'!C134<0.5),\"-\",IFERROR('Tabel 4 B'!C134/'Tabel 4F B'!C134*100,\"-\"))","v":"-"},{"$f":"IF(OR('Tabel 4F B'!D134<5, 'Tabel 4 B'!D134<0.5),\"-\",IFERROR('Tabel 4 B'!D134/'Tabel 4F B'!D134*100,\"-\"))","v":"-"},{"$f":"IF(OR('Tabel 4F B'!E134<5, 'Tabel 4 B'!E134<0.5),\"-\",IFERROR('Tabel 4 B'!E134/'Tabel 4F B'!E134*100,\"-\"))","v":"-"},{"$f":"IF(OR('Tabel 4F B'!F134<5, 'Tabel 4 B'!F134<0.5),\"-\",IFERROR('Tabel 4 B'!F134/'Tabel 4F B'!F134*100,\"-\"))","v":"-"},{"$f":"IF(OR('Tabel 4F B'!G134<5, 'Tabel 4 B'!G134<0.5),\"-\",IFERROR('Tabel 4 B'!G134/'Tabel 4F B'!G134*100,\"-\"))","v":"-"},null,{"$f":"IF(OR('Tabel 4F B'!I134<5, 'Tabel 4 B'!I134<0.5),\"-\",IFERROR('Tabel 4 B'!I134/'Tabel 4F B'!I134*100,\"-\"))","v":"-"}]
[{"$f":"'[1]Tabel 4 B DATA'!I182","v":"Landinspek."},null,{"$f":"IF(OR('Tabel 4F B'!C135<5, 'Tabel 4 B'!C135<0.5),\"-\",IFERROR('Tabel 4 B'!C135/'Tabel 4F B'!C135*100,\"-\"))","v":"-"},{"$f":"IF(OR('Tabel 4F B'!D135<5, 'Tabel 4 B'!D135<0.5),\"-\",IFERROR('Tabel 4 B'!D135/'Tabel 4F B'!D135*100,\"-\"))","v":"-"},{"$f":"IF(OR('Tabel 4F B'!E135<5, 'Tabel 4 B'!E135<0.5),\"-\",IFERROR('Tabel 4 B'!E135/'Tabel 4F B'!E135*100,\"-\"))","v":"-"},{"$f":"IF(OR('Tabel 4F B'!F135<5, 'Tabel 4 B'!F135<0.5),\"-\",IFERROR('Tabel 4 B'!F135/'Tabel 4F B'!F135*100,\"-\"))","v":"-"},{"$f":"IF(OR('Tabel 4F B'!G135<5, 'Tabel 4 B'!G135<0.5),\"-\",IFERROR('Tabel 4 B'!G135/'Tabel 4F B'!G135*100,\"-\"))","v":"-"},null,{"$f":"IF(OR('Tabel 4F B'!I135<5, 'Tabel 4 B'!I135<0.5),\"-\",IFERROR('Tabel 4 B'!I135/'Tabel 4F B'!I135*100,\"-\"))","v":"-"}]
[{"$f":"'[1]Tabel 4 B DATA'!I183","v":"Bibliotekar"},null,{"$f":"IF(OR('Tabel 4F B'!C136<5, 'Tabel 4 B'!C136<0.5),\"-\",IFERROR('Tabel 4 B'!C136/'Tabel 4F B'!C136*100,\"-\"))","v":"-"},{"$f":"IF(OR('Tabel 4F B'!D136<5, 'Tabel 4 B'!D136<0.5),\"-\",IFERROR('Tabel 4 B'!D136/'Tabel 4F B'!D136*100,\"-\"))","v":"-"},{"$f":"IF(OR('Tabel 4F B'!E136<5, 'Tabel 4 B'!E136<0.5),\"-\",IFERROR('Tabel 4 B'!E136/'Tabel 4F B'!E136*100,\"-\"))","v":"-"},{"$f":"IF(OR('Tabel 4F B'!F136<5, 'Tabel 4 B'!F136<0.5),\"-\",IFERROR('Tabel 4 B'!F136/'Tabel 4F B'!F136*100,\"-\"))","v":"-"},{"$f":"IF(OR('Tabel 4F B'!G136<5, 'Tabel 4 B'!G136<0.5),\"-\",IFERROR('Tabel 4 B'!G136/'Tabel 4F B'!G136*100,\"-\"))","v":"-"},null,{"$f":"IF(OR('Tabel 4F B'!I136<5, 'Tabel 4 B'!I136<0.5),\"-\",IFERROR('Tabel 4 B'!I136/'Tabel 4F B'!I136*100,\"-\"))","v":"-"}]
[{"$f":"'[1]Tabel 4 B DATA'!I184","v":"Musikudd."},null,{"$f":"IF(OR('Tabel 4F B'!C137<5, 'Tabel 4 B'!C137<0.5),\"-\",IFERROR('Tabel 4 B'!C137/'Tabel 4F B'!C137*100,\"-\"))","v":"-"},{"$f":"IF(OR('Tabel 4F B'!D137<5, 'Tabel 4 B'!D137<0.5),\"-\",IFERROR('Tabel 4 B'!D137/'Tabel 4F B'!D137*100,\"-\"))","v":"-"},{"$f":"IF(OR('Tabel 4F B'!E137<5, 'Tabel 4 B'!E137<0.5),\"-\",IFERROR('Tabel 4 B'!E137/'Tabel 4F B'!E137*100,\"-\"))","v":"-"},{"$f":"IF(OR('Tabel 4F B'!F137<5, 'Tabel 4 B'!F137<0.5),\"-\",IFERROR('Tabel 4 B'!F137/'Tabel 4F B'!F137*100,\"-\"))","v":"-"},{"$f":"IF(OR('Tabel 4F B'!G137<5, 'Tabel 4 B'!G137<0.5),\"-\",IFERROR('Tabel 4 B'!G137/'Tabel 4F B'!G137*100,\"-\"))","v":"-"},null,{"$f":"IF(OR('Tabel 4F B'!I137<5, 'Tabel 4 B'!I137<0.5),\"-\",IFERROR('Tabel 4 B'!I137/'Tabel 4F B'!I137*100,\"-\"))","v":"-"}]
[{"$f":"'[1]Tabel 4 B DATA'!I185","v":"Teolog"},null,{"$f":"IF(OR('Tabel 4F B'!C138<5, 'Tabel 4 B'!C138<0.5),\"-\",IFERROR('Tabel 4 B'!C138/'Tabel 4F B'!C138*100,\"-\"))","v":"-"},{"$f":"IF(OR('Tabel 4F B'!D138<5, 'Tabel 4 B'!D138<0.5),\"-\",IFERROR('Tabel 4 B'!D138/'Tabel 4F B'!D138*100,\"-\"))","v":"-"},{"$f":"IF(OR('Tabel 4F B'!E138<5, 'Tabel 4 B'!E138<0.5),\"-\",IFERROR('Tabel 4 B'!E138/'Tabel 4F B'!E138*100,\"-\"))","v":"-"},{"$f":"IF(OR('Tabel 4F B'!F138<5, 'Tabel 4 B'!F138<0.5),\"-\",IFERROR('Tabel 4 B'!F138/'Tabel 4F B'!F138*100,\"-\"))","v":"-"},{"$f":"IF(OR('Tabel 4F B'!G138<5, 'Tabel 4 B'!G138<0.5),\"-\",IFERROR('Tabel 4 B'!G138/'Tabel 4F B'!G138*100,\"-\"))","v":"-"},null,{"$f":"IF(OR('Tabel 4F B'!I138<5, 'Tabel 4 B'!I138<0.5),\"-\",IFERROR('Tabel 4 B'!I138/'Tabel 4F B'!I138*100,\"-\"))","v":"-"}]
[{"$f":"'[1]Tabel 4 B DATA'!I186","v":"Psykolog"},null,{"$f":"IF(OR('Tabel 4F B'!C139<5, 'Tabel 4 B'!C139<0.5),\"-\",IFERROR('Tabel 4 B'!C139/'Tabel 4F B'!C139*100,\"-\"))","v":"-"},{"$f":"IF(OR('Tabel 4F B'!D139<5, 'Tabel 4 B'!D139<0.5),\"-\",IFERROR('Tabel 4 B'!D139/'Tabel 4F B'!D139*100,\"-\"))","v":"-"},{"$f":"IF(OR('Tabel 4F B'!E139<5, 'Tabel 4 B'!E139<0.5),\"-\",IFERROR('Tabel 4 B'!E139/'Tabel 4F B'!E139*100,\"-\"))","v":"-"},{"$f":"IF(OR('Tabel 4F B'!F139<5, 'Tabel 4 B'!F139<0.5),\"-\",IFERROR('Tabel 4 B'!F139/'Tabel 4F B'!F139*100,\"-\"))","v":"-"},{"$f":"IF(OR('Tabel 4F B'!G139<5, 'Tabel 4 B'!G139<0.5),\"-\",IFERROR('Tabel 4 B'!G139/'Tabel 4F B'!G139*100,\"-\"))","v":"-"},null,{"$f":"IF(OR('Tabel 4F B'!I139<5, 'Tabel 4 B'!I139<0.5),\"-\",IFERROR('Tabel 4 B'!I139/'Tabel 4F B'!I139*100,\"-\"))","v":"-"}]
[{"$f":"'[1]Tabel 4 B DATA'!I187","v":"Jurist"},null,{"$f":"IF(OR('Tabel 4F B'!C140<5, 'Tabel 4 B'!C140<0.5),\"-\",IFERROR('Tabel 4 B'!C140/'Tabel 4F B'!C140*100,\"-\"))","v":"-"},{"$f":"IF(OR('Tabel 4F B'!D140<5, 'Tabel 4 B'!D140<0.5),\"-\",IFERROR('Tabel 4 B'!D140/'Tabel 4F B'!D140*100,\"-\"))","v":"-"},{"$f":"IF(OR('Tabel 4F B'!E140<5, 'Tabel 4 B'!E140<0.5),\"-\",IFERROR('Tabel 4 B'!E140/'Tabel 4F B'!E140*100,\"-\"))","v":"-"},{"$f":"IF(OR('Tabel 4F B'!F140<5, 'Tabel 4 B'!F140<0.5),\"-\",IFERROR('Tabel 4 B'!F140/'Tabel 4F B'!F140*100,\"-\"))","v":"-"},{"$f":"IF(OR('Tabel 4F B'!G140<5, 'Tabel 4 B'!G140<0.5),\"-\",IFERROR('Tabel 4 B'!G140/'Tabel 4F B'!G140*100,\"-\"))","v":"-"},null,{"$f":"IF(OR('Tabel 4F B'!I140<5, 'Tabel 4 B'!I140<0.5),\"-\",IFERROR('Tabel 4 B'!I140/'Tabel 4F B'!I140*100,\"-\"))","v":"-"}]
[{"$f":"'[1]Tabel 4 B DATA'!I188","v":"Økonom"},null,{"$f":"IF(OR('Tabel 4F B'!C141<5, 'Tabel 4 B'!C141<0.5),\"-\",IFERROR('Tabel 4 B'!C141/'Tabel 4F B'!C141*100,\"-\"))","v":"-"},{"$f":"IF(OR('Tabel 4F B'!D141<5, 'Tabel 4 B'!D141<0.5),\"-\",IFERROR('Tabel 4 B'!D141/'Tabel 4F B'!D141*100,\"-\"))","v":"-"},{"$f":"IF(OR('Tabel 4F B'!E141<5, 'Tabel 4 B'!E141<0.5),\"-\",IFERROR('Tabel 4 B'!E141/'Tabel 4F B'!E141*100,\"-\"))","v":"-"},{"$f":"IF(OR('Tabel 4F B'!F141<5, 'Tabel 4 B'!F141<0.5),\"-\",IFERROR('Tabel 4 B'!F141/'Tabel 4F B'!F141*100,\"-\"))","v":"-"},{"$f":"IF(OR('Tabel 4F B'!G141<5, 'Tabel 4 B'!G141<0.5),\"-\",IFERROR('Tabel 4 B'!G141/'Tabel 4F B'!G141*100,\"-\"))","v":"-"},null,{"$f":"IF(OR('Tabel 4F B'!I141<5, 'Tabel 4 B'!I141<0.5),\"-\",IFERROR('Tabel 4 B'!I141/'Tabel 4F B'!I141*100,\"-\"))","v":"-"}]
[{"$f":"'[1]Tabel 4 B DATA'!I189","v":"Samf. Adm."},null,{"$f":"IF(OR('Tabel 4F B'!C142<5, 'Tabel 4 B'!C142<0.5),\"-\",IFERROR('Tabel 4 B'!C142/'Tabel 4F B'!C142*100,\"-\"))","v":"-"},{"$f":"IF(OR('Tabel 4F B'!D142<5, 'Tabel 4 B'!D142<0.5),\"-\",IFERROR('Tabel 4 B'!D142/'Tabel 4F B'!D142*100,\"-\"))","v":"-"},{"$f":"IF(OR('Tabel 4F B'!E142<5, 'Tabel 4 B'!E142<0.5),\"-\",IFERROR('Tabel 4 B'!E142/'Tabel 4F B'!E142*100,\"-\"))","v":"-"},{"$f":"IF(OR('Tabel 4F B'!F142<5, 'Tabel 4 B'!F142<0.5),\"-\",IFERROR('Tabel 4 B'!F142/'Tabel 4F B'!F142*100,\"-\"))","v":"-"},{"$f":"IF(OR('Tabel 4F B'!G142<5, 'Tabel 4 B'!G142<0.5),\"-\",IFERROR('Tabel 4 B'!G142/'Tabel 4F B'!G142*100,\"-\"))","v":"-"},null,{"$f":"IF(OR('Tabel 4F B'!I142<5, 'Tabel 4 B'!I142<0.5),\"-\",IFERROR('Tabel 4 B'!I142/'Tabel 4F B'!I142*100,\"-\"))","v":"-"}]
[{"$f":"'[1]Tabel 4 B DATA'!I190","v":"Cand. Merc."},null,{"$f":"IF(OR('Tabel 4F B'!C143<5, 'Tabel 4 B'!C143<0.5),\"-\",IFERROR('Tabel 4 B'!C143/'Tabel 4F B'!C143*100,\"-\"))","v":"-"},{"$f":"IF(OR('Tabel 4F B'!D143<5, 'Tabel 4 B'!D143<0.5),\"-\",IFERROR('Tabel 4 B'!D143/'Tabel 4F B'!D143*100,\"-\"))","v":"-"},{"$f":"IF(OR('Tabel 4F B'!E143<5, 'Tabel 4 B'!E143<0.5),\"-\",IFERROR('Tabel 4 B'!E143/'Tabel 4F B'!E143*100,\"-\"))","v":"-"},{"$f":"IF(OR('Tabel 4F B'!F143<5, 'Tabel 4 B'!F143<0.5),\"-\",IFERROR('Tabel 4 B'!F143/'Tabel 4F B'!F143*100,\"-\"))","v":"-"},{"$f":"IF(OR('Tabel 4F B'!G143<5, 'Tabel 4 B'!G143<0.5),\"-\",IFERROR('Tabel 4 B'!G143/'Tabel 4F B'!G143*100,\"-\"))","v":"-"},null,{"$f":"IF(OR('Tabel 4F B'!I143<5, 'Tabel 4 B'!I143<0.5),\"-\",IFERROR('Tabel 4 B'!I143/'Tabel 4F B'!I143*100,\"-\"))","v":"-"}]
[{"$f":"'[1]Tabel 4 B DATA'!I191","v":"HA"},null,{"$f":"IF(OR('Tabel 4F B'!C144<5, 'Tabel 4 B'!C144<0.5),\"-\",IFERROR('Tabel 4 B'!C144/'Tabel 4F B'!C144*100,\"-\"))","v":"-"},{"$f":"IF(OR('Tabel 4F B'!D144<5, 'Tabel 4 B'!D144<0.5),\"-\",IFERROR('Tabel 4 B'!D144/'Tabel 4F B'!D144*100,\"-\"))","v":"-"},{"$f":"IF(OR('Tabel 4F B'!E144<5, 'Tabel 4 B'!E144<0.5),\"-\",IFERROR('Tabel 4 B'!E144/'Tabel 4F B'!E144*100,\"-\"))","v":"-"},{"$f":"IF(OR('Tabel 4F B'!F144<5, 'Tabel 4 B'!F144<0.5),\"-\",IFERROR('Tabel 4 B'!F144/'Tabel 4F B'!F144*100,\"-\"))","v":"-"},{"$f":"IF(OR('Tabel 4F B'!G144<5, 'Tabel 4 B'!G144<0.5),\"-\",IFERROR('Tabel 4 B'!G144/'Tabel 4F B'!G144*100,\"-\"))","v":"-"},null,{"$f":"IF(OR('Tabel 4F B'!I144<5, 'Tabel 4 B'!I144<0.5),\"-\",IFERROR('Tabel 4 B'!I144/'Tabel 4F B'!I144*100,\"-\"))","v":"-"}]
[{"$f":"'[1]Tabel 4 B DATA'!I192","v":"HD"},null,{"$f":"IF(OR('Tabel 4F B'!C145<5, 'Tabel 4 B'!C145<0.5),\"-\",IFERROR('Tabel 4 B'!C145/'Tabel 4F B'!C145*100,\"-\"))","v":"-"},{"$f":"IF(OR('Tabel 4F B'!D145<5, 'Tabel 4 B'!D145<0.5),\"-\",IFERROR('Tabel 4 B'!D145/'Tabel 4F B'!D145*100,\"-\"))","v":"-"},{"$f":"IF(OR('Tabel 4F B'!E145<5, 'Tabel 4 B'!E145<0.5),\"-\",IFERROR('Tabel 4 B'!E145/'Tabel 4F B'!E145*100,\"-\"))","v":"-"},{"$f":"IF(OR('Tabel 4F B'!F145<5, 'Tabel 4 B'!F145<0.5),\"-\",IFERROR('Tabel 4 B'!F145/'Tabel 4F B'!F145*100,\"-\"))","v":"-"},{"$f":"IF(OR('Tabel 4F B'!G145<5, 'Tabel 4 B'!G145<0.5),\"-\",IFERROR('Tabel 4 B'!G145/'Tabel 4F B'!G145*100,\"-\"))","v":"-"},null,{"$f":"IF(OR('Tabel 4F B'!I145<5, 'Tabel 4 B'!I145<0.5),\"-\",IFERROR('Tabel 4 B'!I145/'Tabel 4F B'!I145*100,\"-\"))","v":"-"}]
[{"$f":"'[1]Tabel 4 B DATA'!I193","v":"Komm. og Sprog"},null,{"$f":"IF(OR('Tabel 4F B'!C146<5, 'Tabel 4 B'!C146<0.5),\"-\",IFERROR('Tabel 4 B'!C146/'Tabel 4F B'!C146*100,\"-\"))","v":"-"},{"$f":"IF(OR('Tabel 4F B'!D146<5, 'Tabel 4 B'!D146<0.5),\"-\",IFERROR('Tabel 4 B'!D146/'Tabel 4F B'!D146*100,\"-\"))","v":"-"},{"$f":"IF(OR('Tabel 4F B'!E146<5, 'Tabel 4 B'!E146<0.5),\"-\",IFERROR('Tabel 4 B'!E146/'Tabel 4F B'!E146*100,\"-\"))","v":"-"},{"$f":"IF(OR('Tabel 4F B'!F146<5, 'Tabel 4 B'!F146<0.5),\"-\",IFERROR('Tabel 4 B'!F146/'Tabel 4F B'!F146*100,\"-\"))","v":"-"},{"$f":"IF(OR('Tabel 4F B'!G146<5, 'Tabel 4 B'!G146<0.5),\"-\",IFERROR('Tabel 4 B'!G146/'Tabel 4F B'!G146*100,\"-\"))","v":"-"},null,{"$f":"IF(OR('Tabel 4F B'!I146<5, 'Tabel 4 B'!I146<0.5),\"-\",IFERROR('Tabel 4 B'!I146/'Tabel 4F B'!I146*100,\"-\"))","v":"-"}]
["Bygningskonst.",null,{"$f":"IF(OR('Tabel 4F B'!C147<5, 'Tabel 4 B'!C147<0.5),\"-\",IFERROR('Tabel 4 B'!C147/'Tabel 4F B'!C147*100,\"-\"))","v":"-"},{"$f":"IF(OR('Tabel 4F B'!D147<5, 'Tabel 4 B'!D147<0.5),\"-\",IFERROR('Tabel 4 B'!D147/'Tabel 4F B'!D147*100,\"-\"))","v":"-"},{"$f":"IF(OR('Tabel 4F B'!E147<5, 'Tabel 4 B'!E147<0.5),\"-\",IFERROR('Tabel 4 B'!E147/'Tabel 4F B'!E147*100,\"-\"))","v":"-"},{"$f":"IF(OR('Tabel 4F B'!F147<5, 'Tabel 4 B'!F147<0.5),\"-\",IFERROR('Tabel 4 B'!F147/'Tabel 4F B'!F147*100,\"-\"))","v":"-"},{"$f":"IF(OR('Tabel 4F B'!G147<5, 'Tabel 4 B'!G147<0.5),\"-\",IFERROR('Tabel 4 B'!G147/'Tabel 4F B'!G147*100,\"-\"))","v":"-"},null,{"$f":"IF(OR('Tabel 4F B'!I147<5, 'Tabel 4 B'!I147<0.5),\"-\",IFERROR('Tabel 4 B'!I147/'Tabel 4F B'!I147*100,\"-\"))","v":"-"}]
[{"$f":"'[1]Tabel 4 B DATA'!I195","v":"Cand. IT."},null,{"$f":"IF(OR('Tabel 4F B'!C148<5, 'Tabel 4 B'!C148<0.5),\"-\",IFERROR('Tabel 4 B'!C148/'Tabel 4F B'!C148*100,\"-\"))","v":"-"},{"$f":"IF(OR('Tabel 4F B'!D148<5, 'Tabel 4 B'!D148<0.5),\"-\",IFERROR('Tabel 4 B'!D148/'Tabel 4F B'!D148*100,\"-\"))","v":"-"},{"$f":"IF(OR('Tabel 4F B'!E148<5, 'Tabel 4 B'!E148<0.5),\"-\",IFERROR('Tabel 4 B'!E148/'Tabel 4F B'!E148*100,\"-\"))","v":"-"},{"$f":"IF(OR('Tabel 4F B'!F148<5, 'Tabel 4 B'!F148<0.5),\"-\",IFERROR('Tabel 4 B'!F148/'Tabel 4F B'!F148*100,\"-\"))","v":"-"},{"$f":"IF(OR('Tabel 4F B'!G148<5, 'Tabel 4 B'!G148<0.5),\"-\",IFERROR('Tabel 4 B'!G148/'Tabel 4F B'!G148*100,\"-\"))","v":"-"},null,{"$f":"IF(OR('Tabel 4F B'!I148<5, 'Tabel 4 B'!I148<0.5),\"-\",IFERROR('Tabel 4 B'!I148/'Tabel 4F B'!I148*100,\"-\"))","v":"-"}]
[{"$f":"'[1]Tabel 4 B DATA'!I196","v":"Bac. Samf."},null,{"$f":"IF(OR('Tabel 4F B'!C149<5, 'Tabel 4 B'!C149<0.5),\"-\",IFERROR('Tabel 4 B'!C149/'Tabel 4F B'!C149*100,\"-\"))","v":"-"},{"$f":"IF(OR('Tabel 4F B'!D149<5, 'Tabel 4 B'!D149<0.5),\"-\",IFERROR('Tabel 4 B'!D149/'Tabel 4F B'!D149*100,\"-\"))","v":"-"},{"$f":"IF(OR('Tabel 4F B'!E149<5, 'Tabel 4 B'!E149<0.5),\"-\",IFERROR('Tabel 4 B'!E149/'Tabel 4F B'!E149*100,\"-\"))","v":"-"},{"$f":"IF(OR('Tabel 4F B'!F149<5, 'Tabel 4 B'!F149<0.5),\"-\",IFERROR('Tabel 4 B'!F149/'Tabel 4F B'!F149*100,\"-\"))","v":"-"},{"$f":"IF(OR('Tabel 4F B'!G149<5, 'Tabel 4 B'!G149<0.5),\"-\",IFERROR('Tabel 4 B'!G149/'Tabel 4F B'!G149*100,\"-\"))","v":"-"},null,{"$f":"IF(OR('Tabel 4F B'!I149<5, 'Tabel 4 B'!I149<0.5),\"-\",IFERROR('Tabel 4 B'!I149/'Tabel 4F B'!I149*100,\"-\"))","v":"-"}]
[{"$f":"'[1]Tabel 4 B DATA'!I197","v":"Bac. Hum."},null,{"$f":"IF(OR('Tabel 4F B'!C150<5, 'Tabel 4 B'!C150<0.5),\"-\",IFERROR('Tabel 4 B'!C150/'Tabel 4F B'!C150*100,\"-\"))","v":"-"},{"$f":"IF(OR('Tabel 4F B'!D150<5, 'Tabel 4 B'!D150<0.5),\"-\",IFERROR('Tabel 4 B'!D150/'Tabel 4F B'!D150*100,\"-\"))","v":"-"},{"$f":"IF(OR('Tabel 4F B'!E150<5, 'Tabel 4 B'!E150<0.5),\"-\",IFERROR('Tabel 4 B'!E150/'Tabel 4F B'!E150*100,\"-\"))","v":"-"},{"$f":"IF(OR('Tabel 4F B'!F150<5, 'Tabel 4 B'!F150<0.5),\"-\",IFERROR('Tabel 4 B'!F150/'Tabel 4F B'!F150*100,\"-\"))","v":"-"},{"$f":"IF(OR('Tabel 4F B'!G150<5, 'Tabel 4 B'!G150<0.5),\"-\",IFERROR('Tabel 4 B'!G150/'Tabel 4F B'!G150*100,\"-\"))","v":"-"},null,{"$f":"IF(OR('Tabel 4F B'!I150<5, 'Tabel 4 B'!I150<0.5),\"-\",IFERROR('Tabel 4 B'!I150/'Tabel 4F B'!I150*100,\"-\"))","v":"-"}]
[{"$f":"'[1]Tabel 4 B DATA'!I198","v":"Bac. Nat."},null,{"$f":"IF(OR('Tabel 4F B'!C151<5, 'Tabel 4 B'!C151<0.5),\"-\",IFERROR('Tabel 4 B'!C151/'Tabel 4F B'!C151*100,\"-\"))","v":"-"},{"$f":"IF(OR('Tabel 4F B'!D151<5, 'Tabel 4 B'!D151<0.5),\"-\",IFERROR('Tabel 4 B'!D151/'Tabel 4F B'!D151*100,\"-\"))","v":"-"},{"$f":"IF(OR('Tabel 4F B'!E151<5, 'Tabel 4 B'!E151<0.5),\"-\",IFERROR('Tabel 4 B'!E151/'Tabel 4F B'!E151*100,\"-\"))","v":"-"},{"$f":"IF(OR('Tabel 4F B'!F151<5, 'Tabel 4 B'!F151<0.5),\"-\",IFERROR('Tabel 4 B'!F151/'Tabel 4F B'!F151*100,\"-\"))","v":"-"},{"$f":"IF(OR('Tabel 4F B'!G151<5, 'Tabel 4 B'!G151<0.5),\"-\",IFERROR('Tabel 4 B'!G151/'Tabel 4F B'!G151*100,\"-\"))","v":"-"},null,{"$f":"IF(OR('Tabel 4F B'!I151<5, 'Tabel 4 B'!I151<0.5),\"-\",IFERROR('Tabel 4 B'!I151/'Tabel 4F B'!I151*100,\"-\"))","v":"-"}]
[{"$f":"'[1]Tabel 4 B DATA'!I199","v":"Andre"},null,{"$f":"IF(OR('Tabel 4F B'!C152<5, 'Tabel 4 B'!C152<0.5),\"-\",IFERROR('Tabel 4 B'!C152/'Tabel 4F B'!C152*100,\"-\"))","v":"-"},{"$f":"IF(OR('Tabel 4F B'!D152<5, 'Tabel 4 B'!D152<0.5),\"-\",IFERROR('Tabel 4 B'!D152/'Tabel 4F B'!D152*100,\"-\"))","v":"-"},{"$f":"IF(OR('Tabel 4F B'!E152<5, 'Tabel 4 B'!E152<0.5),\"-\",IFERROR('Tabel 4 B'!E152/'Tabel 4F B'!E152*100,\"-\"))","v":"-"},{"$f":"IF(OR('Tabel 4F B'!F152<5, 'Tabel 4 B'!F152<0.5),\"-\",IFERROR('Tabel 4 B'!F152/'Tabel 4F B'!F152*100,\"-\"))","v":"-"},{"$f":"IF(OR('Tabel 4F B'!G152<5, 'Tabel 4 B'!G152<0.5),\"-\",IFERROR('Tabel 4 B'!G152/'Tabel 4F B'!G152*100,\"-\"))","v":"-"},null,{"$f":"IF(OR('Tabel 4F B'!I152<5, 'Tabel 4 B'!I152<0.5),\"-\",IFERROR('Tabel 4 B'!I152/'Tabel 4F B'!I152*100,\"-\"))","v":"-"}]
[]
[{"$f":"'[1]Tabel 4 B DATA'!I201","v":"Total"},null,{"$f":"IF(OR('Tabel 4F B'!C154<5, 'Tabel 4 B'!C154<0.5),\"-\",IFERROR('Tabel 4 B'!C154/'Tabel 4F B'!C154*100,\"-\"))","v":"-"},{"$f":"IF(OR('Tabel 4F B'!D154<5, 'Tabel 4 B'!D154<0.5),\"-\",IFERROR('Tabel 4 B'!D154/'Tabel 4F B'!D154*100,\"-\"))","v":"-"},{"$f":"IF(OR('Tabel 4F B'!E154<5, 'Tabel 4 B'!E154<0.5),\"-\",IFERROR('Tabel 4 B'!E154/'Tabel 4F B'!E154*100,\"-\"))","v":"-"},{"$f":"IF(OR('Tabel 4F B'!F154<5, 'Tabel 4 B'!F154<0.5),\"-\",IFERROR('Tabel 4 B'!F154/'Tabel 4F B'!F154*100,\"-\"))","v":"-"},{"$f":"IF(OR('Tabel 4F B'!G154<5, 'Tabel 4 B'!G154<0.5),\"-\",IFERROR('Tabel 4 B'!G154/'Tabel 4F B'!G154*100,\"-\"))","v":"-"},null,{"$f":"IF(OR('Tabel 4F B'!I154<5, 'Tabel 4 B'!I154<0.5),\"-\",IFERROR('Tabel 4 B'!I154/'Tabel 4F B'!I154*100,\"-\"))","v":"-"}]
[]
[{"$f":"'[1]Tabel 4 B DATA'!I203","v":"Ingeniører i alt"},null,{"$f":"IF(OR('Tabel 4F B'!C156<5, 'Tabel 4 B'!C156<0.5),\"-\",IFERROR('Tabel 4 B'!C156/'Tabel 4F B'!C156*100,\"-\"))","v":"-"},{"$f":"IF(OR('Tabel 4F B'!D156<5, 'Tabel 4 B'!D156<0.5),\"-\",IFERROR('Tabel 4 B'!D156/'Tabel 4F B'!D156*100,\"-\"))","v":"-"},{"$f":"IF(OR('Tabel 4F B'!E156<5, 'Tabel 4 B'!E156<0.5),\"-\",IFERROR('Tabel 4 B'!E156/'Tabel 4F B'!E156*100,\"-\"))","v":"-"},{"$f":"IF(OR('Tabel 4F B'!F156<5, 'Tabel 4 B'!F156<0.5),\"-\",IFERROR('Tabel 4 B'!F156/'Tabel 4F B'!F156*100,\"-\"))","v":"-"},{"$f":"IF(OR('Tabel 4F B'!G156<5, 'Tabel 4 B'!G156<0.5),\"-\",IFERROR('Tabel 4 B'!G156/'Tabel 4F B'!G156*100,\"-\"))","v":"-"},null,{"$f":"IF(OR('Tabel 4F B'!I156<5, 'Tabel 4 B'!I156<0.5),\"-\",IFERROR('Tabel 4 B'!I156/'Tabel 4F B'!I156*100,\"-\"))","v":"-"}]
[{"$f":"'[1]Tabel 4 B DATA'!I204","v":"Magistre i alt"},null,{"$f":"IF(OR('Tabel 4F B'!C157<5, 'Tabel 4 B'!C157<0.5),\"-\",IFERROR('Tabel 4 B'!C157/'Tabel 4F B'!C157*100,\"-\"))","v":"-"},{"$f":"IF(OR('Tabel 4F B'!D157<5, 'Tabel 4 B'!D157<0.5),\"-\",IFERROR('Tabel 4 B'!D157/'Tabel 4F B'!D157*100,\"-\"))","v":"-"},{"$f":"IF(OR('Tabel 4F B'!E157<5, 'Tabel 4 B'!E157<0.5),\"-\",IFERROR('Tabel 4 B'!E157/'Tabel 4F B'!E157*100,\"-\"))","v":"-"},{"$f":"IF(OR('Tabel 4F B'!F157<5, 'Tabel 4 B'!F157<0.5),\"-\",IFERROR('Tabel 4 B'!F157/'Tabel 4F B'!F157*100,\"-\"))","v":"-"},{"$f":"IF(OR('Tabel 4F B'!G157<5, 'Tabel 4 B'!G157<0.5),\"-\",IFERROR('Tabel 4 B'!G157/'Tabel 4F B'!G157*100,\"-\"))","v":"-"},null,{"$f":"IF(OR('Tabel 4F B'!I157<5, 'Tabel 4 B'!I157<0.5),\"-\",IFERROR('Tabel 4 B'!I157/'Tabel 4F B'!I157*100,\"-\"))","v":"-"}]
[{"$f":"'[1]Tabel 4 B DATA'!I205","v":"DJØF'ere i alt"},null,{"$f":"IF(OR('Tabel 4F B'!C158<5, 'Tabel 4 B'!C158<0.5),\"-\",IFERROR('Tabel 4 B'!C158/'Tabel 4F B'!C158*100,\"-\"))","v":"-"},{"$f":"IF(OR('Tabel 4F B'!D158<5, 'Tabel 4 B'!D158<0.5),\"-\",IFERROR('Tabel 4 B'!D158/'Tabel 4F B'!D158*100,\"-\"))","v":"-"},{"$f":"IF(OR('Tabel 4F B'!E158<5, 'Tabel 4 B'!E158<0.5),\"-\",IFERROR('Tabel 4 B'!E158/'Tabel 4F B'!E158*100,\"-\"))","v":"-"},{"$f":"IF(OR('Tabel 4F B'!F158<5, 'Tabel 4 B'!F158<0.5),\"-\",IFERROR('Tabel 4 B'!F158/'Tabel 4F B'!F158*100,\"-\"))","v":"-"},{"$f":"IF(OR('Tabel 4F B'!G158<5, 'Tabel 4 B'!G158<0.5),\"-\",IFERROR('Tabel 4 B'!G158/'Tabel 4F B'!G158*100,\"-\"))","v":"-"},null,{"$f":"IF(OR('Tabel 4F B'!I158<5, 'Tabel 4 B'!I158<0.5),\"-\",IFERROR('Tabel 4 B'!I158/'Tabel 4F B'!I158*100,\"-\"))","v":"-"}]

{"sheet":"Tabel 4(Br)P B","index":8,"n_rows":158,"n_cols":9,"rows_kept":158,"cut":false,"hidden":false,"merged":[]}
[{"$f":"'[1]Tabel 4(Br) B DATA'!I1","v":"Tabel 4. Ledighedsberørte - aldersfordelt"}]
[]
[{"$f":"'[1]Tabel 4(Br) B DATA'!I2","v":"Bornholm"}]
[]
[null,null,{"$f":"'[1]Tabel 4(Br) B DATA'!K4","v":"Under 30 år"},{"$f":"'[1]Tabel 4(Br) B DATA'!L4","v":"30 - 39 år"},{"$f":"'[1]Tabel 4(Br) B DATA'!M4","v":"40 - 49 år"},{"$f":"'[1]Tabel 4(Br) B DATA'!N4","v":"50 - 59 år"},{"$f":"'[1]Tabel 4(Br) B DATA'!O4","v":"Over 60 år"},null,{"$f":"'[1]Tabel 4(Br) B DATA'!Q4","v":"I alt"}]
[]
[{"$f":"'[1]Tabel 4(Br) B DATA'!I6","v":"Civ. ing."},null,{"$f":"IF(OR('Tabel 4F B'!C7<5,'Tabel 4(Br) B'!C7<0.5),\"-\",IFERROR('Tabel 4(Br) B'!C7/'Tabel 4F B'!C7*100,\"-\"))","v":"-"},{"$f":"IF(OR('Tabel 4F B'!D7<5,'Tabel 4(Br) B'!D7<0.5),\"-\",IFERROR('Tabel 4(Br) B'!D7/'Tabel 4F B'!D7*100,\"-\"))","v":15.381736706504293},{"$f":"IF(OR('Tabel 4F B'!E7<5,'Tabel 4(Br) B'!E7<0.5),\"-\",IFERROR('Tabel 4(Br) B'!E7/'Tabel 4F B'!E7*100,\"-\"))","v":"-"},{"$f":"IF(OR('Tabel 4F B'!F7<5,'Tabel 4(Br) B'!F7<0.5),\"-\",IFERROR('Tabel 4(Br) B'!F7/'Tabel 4F B'!F7*100,\"-\"))","v":"-"},{"$f":"IF(OR('Tabel 4F B'!G7<5,'Tabel 4(Br) B'!G7<0.5),\"-\",IFERROR('Tabel 4(Br) B'!G7/'Tabel 4F B'!G7*100,\"-\"))","v":"-"},null,{"$f":"IF(OR('Tabel 4F B'!I7<5,'Tabel 4(Br) B'!I7<0.5),\"-\",IFERROR('Tabel 4(Br) B'!I7/'Tabel 4F B'!I7*100,\"-\"))","v":6.9837577643169499}]
[{"$f":"'[1]Tabel 4(Br) B DATA'!I7","v":"Diplom ing."},null,{"$f":"IF(OR('Tabel 4F B'!C8<5,'Tabel 4(Br) B'!C8<0.5),\"-\",IFERROR('Tabel 4(Br) B'!C8/'Tabel 4F B'!C8*100,\"-\"))","v":"-"},{"$f":"IF(OR('Tabel 4F B'!D8<5,'Tabel 4(Br) B'!D8<0.5),\"-\",IFERROR('Tabel 4(Br) B'!D8/'Tabel 4F B'!D8*100,\"-\"))","v":"-"},{"$f":"IF(OR('Tabel 4F B'!E8<5,'Tabel 4(Br) B'!E8<0.5),\"-\",IFERROR('Tabel 4(Br) B'!E8/'Tabel 4F B'!E8*100,\"-\"))","v":6.4169121774575277},{"$f":"IF(OR('Tabel 4F B'!F8<5,'Tabel 4(Br) B'!F8<0.5),\"-\",IFERROR('Tabel 4(Br) B'!F8/'Tabel 4F B'!F8*100,\"-\"))","v":9.2101706896193285},{"$f":"IF(OR('Tabel 4F B'!G8<5,'Tabel 4(Br) B'!G8<0.5),\"-\",IFERROR('Tabel 4(Br) B'!G8/'Tabel 4F B'!G8*100,\"-\"))","v":9.9981288592278439},null,{"$f":"IF(OR('Tabel 4F B'!I8<5,'Tabel 4(Br) B'!I8<0.5),\"-\",IFERROR('Tabel 4(Br) B'!I8/'Tabel 4F B'!I8*100,\"-\"))","v":6.388609207794639}]
[{"$f":"'[1]Tabel 4(Br) B DATA'!I8","v":"Cand. Scient. Tek"},null,{"$f":"IF(OR('Tabel 4F B'!C9<5,'Tabel 4(Br) B'!C9<0.5),\"-\",IFERROR('Tabel 4(Br) B'!C9/'Tabel 4F B'!C9*100,\"-\"))","v":"-"},{"$f":"IF(OR('Tabel 4F B'!D9<5,'Tabel 4(Br) B'!D9<0.5),\"-\",IFERROR('Tabel 4(Br) B'!D9/'Tabel 4F B'!D9*100,\"-\"))","v":13.919819783461159},{"$f":"IF(OR('Tabel 4F B'!E9<5,'Tabel 4(Br) B'!E9<0.5),\"-\",IFERROR('Tabel 4(Br) B'!E9/'Tabel 4F B'!E9*100,\"-\"))","v":"-"},{"$f":"IF(OR('Tabel 4F B'!F9<5,'Tabel 4(Br) B'!F9<0.5),\"-\",IFERROR('Tabel 4(Br) B'!F9/'Tabel 4F B'!F9*100,\"-\"))","v":"-"},{"$f":"IF(OR('Tabel 4F B'!G9<5,'Tabel 4(Br) B'!G9<0.5),\"-\",IFERROR('Tabel 4(Br) B'!G9/'Tabel 4F B'!G9*100,\"-\"))","v":"-"},null,{"$f":"IF(OR('Tabel 4F B'!I9<5,'Tabel 4(Br) B'!I9<0.5),\"-\",IFERROR('Tabel 4(Br) B'!I9/'Tabel 4F B'!I9*100,\"-\"))","v":8.0166687457118861}]
[{"$f":"'[1]Tabel 4(Br) B DATA'!I9","v":"MA. Hum."},null,{"$f":"IF(OR('Tabel 4F B'!C10<5,'Tabel 4(Br) B'!C10<0.5),\"-\",IFERROR('Tabel 4(Br) B'!C10/'Tabel 4F B'!C10*100,\"-\"))","v":"-"},{"$f":"IF(OR('Tabel 4F B'!D10<5,'Tabel 4(Br) B'!D10<0.5),\"-\",IFERROR('Tabel 4(Br) B'!D10/'Tabel 4F B'!D10*100,\"-\"))","v":10.89535240972905},{"$f":"IF(OR('Tabel 4F B'!E10<5,'Tabel 4(Br) B'!E10<0.5),\"-\",IFERROR('Tabel 4(Br) B'!E10/'Tabel 4F B'!E10*100,\"-\"))","v":14.056425289507027},{"$f":"IF(OR('Tabel 4F B'!F10<5,'Tabel 4(Br) B'!F10<0.5),\"-\",IFERROR('Tabel 4(Br) B'!F10/'Tabel 4F B'!F10*100,\"-\"))","v":4.9990644296138953},{"$f":"IF(OR('Tabel 4F B'!G10<5,'Tabel 4(Br) B'!G10<0.5),\"-\",IFERROR('Tabel 4(Br) B'!G10/'Tabel 4F B'!G10*100,\"-\"))","v":21.408969001434606},null,{"$f":"IF(OR('Tabel 4F B'!I10<5,'Tabel 4(Br) B'!I10<0.5),\"-\",IFERROR('Tabel 4(Br) B'!I10/'Tabel 4F B'!I10*100,\"-\"))","v":11.916422378843713}]
[{"$f":"'[1]Tabel 4(Br) B DATA'!I10","v":"MA. Nat."},null,{"$f":"IF(OR('Tabel 4F B'!C11<5,'Tabel 4(Br) B'!C11<0.5),\"-\",IFERROR('Tabel 4(Br) B'!C11/'Tabel 4F B'!C11*100,\"-\"))","v":"-"},{"$f":"IF(OR('Tabel 4F B'!D11<5,'Tabel 4(Br) B'!D11<0.5),\"-\",IFERROR('Tabel 4(Br) B'!D11/'Tabel 4F B'!D11*100,\"-\"))","v":"-"},{"$f":"IF(OR('Tabel 4F B'!E11<5,'Tabel 4(Br) B'!E11<0.5),\"-\",IFERROR('Tabel 4(Br) B'!E11/'Tabel 4F B'!E11*100,\"-\"))","v":7.8821805027131431},{"$f":"IF(OR('Tabel 4F B'!F11<5,'Tabel 4(Br) B'!F11<0.5),\"-\",IFERROR('Tabel 4(Br) B'!F11/'Tabel 4F B'!F11*100,\"-\"))","v":"-"},{"$f":"IF(OR('Tabel 4F B'!G11<5,'Tabel 4(Br) B'!G11<0.5),\"-\",IFERROR('Tabel 4(Br) B'!G11/'Tabel 4F B'!G11*100,\"-\"))","v":15.312168652154915},null,{"$f":"IF(OR('Tabel 4F B'!I11<5,'Tabel 4(Br) B'!I11<0.5),\"-\",IFERROR('Tabel 4(Br) B'!I11/'Tabel 4F B'!I11*100,\"-\"))","v":4.738867390355213}]
[{"$f":"'[1]Tabel 4(Br) B DATA'!I11","v":"MA. Ph.d."},null,{"$f":"IF(OR('Tabel 4F B'!C12<5,'Tabel 4(Br) B'!C12<0.5),\"-\",IFERROR('Tabel 4(Br) B'!C12/'Tabel 4F B'!C12*100,\"-\"))","v":"-"},{"$f":"IF(OR('Tabel 4F B'!D12<5,'Tabel 4(Br) B'!D12<0.5),\"-\",IFERROR('Tabel 4(Br) B'!D12/'Tabel 4F B'!D12*100,\"-\"))","v":"-"},{"$f":"IF(OR('Tabel 4F B'!E12<5,'Tabel 4(Br) B'!E12<0.5),\"-\",IFERROR('Tabel 4(Br) B'!E12/'Tabel 4F B'!E12*100,\"-\"))","v":"-"},{"$f":"IF(OR('Tabel 4F B'!F12<5,'Tabel 4(Br) B'!F12<0.5),\"-\",IFERROR('Tabel 4(Br) B'!F12/'Tabel 4F B'!F12*100,\"-\"))","v":"-"},{"$f":"IF(OR('Tabel 4F B'!G12<5,'Tabel 4(Br) B'!G12<0.5),\"-\",IFERROR('Tabel 4(Br) B'!G12/'Tabel 4F B'!G12*100,\"-\"))","v":"-"},null,{"$f":"IF(OR('Tabel 4F B'!I12<5,'Tabel 4(Br) B'!I12<0.5),\"-\",IFERROR('Tabel 4(Br) B'!I12/'Tabel 4F B'!I12*100,\"-\"))","v":14.283041227468349}]
[{"$f":"'[1]Tabel 4(Br) B DATA'!I12","v":"MA. Samf."},null,{"$f":"IF(OR('Tabel 4F B'!C13<5,'Tabel 4(Br) B'!C13<0.5),\"-\",IFERROR('Tabel 4(Br) B'!C13/'Tabel 4F B'!C13*100,\"-\"))","v":"-"},{"$f":"IF(OR('Tabel 4F B'!D13<5,'Tabel 4(Br) B'!D13<0.5),\"-\",IFERROR('Tabel 4(Br) B'!D13/'Tabel 4F B'!D13*100,\"-\"))","v":"-"},{"$f":"IF(OR('Tabel 4F B'!E13<5,'Tabel 4(Br) B'!E13<0.5),\"-\",IFERROR('Tabel 4(Br) B'!E13/'Tabel 4F B'!E13*100,\"-\"))","v":"-"},{"$f":"IF(OR('Tabel 4F B'!F13<5,'Tabel 4(Br) B'!F13<0.5),\"-\",IFERROR('Tabel 4(Br) B'!F13/'Tabel 4F B'!F13*100,\"-\"))","v":"-"},{"$f":"IF(OR('Tabel 4F B'!G13<5,'Tabel 4(Br) B'!G13<0.5),\"-\",IFERROR('Tabel 4(Br) B'!G13/'Tabel 4F B'!G13*100,\"-\"))","v":"-"},null,{"$f":"IF(OR('Tabel 4F B'!I13<5,'Tabel 4(Br) B'!I13<0.5),\"-\",IFERROR('Tabel 4(Br) B'!I13/'Tabel 4F B'!I13*100,\"-\"))","v":6.665419239485229}]
[{"$f":"'[1]Tabel 4(Br) B DATA'!I13","v":"Øvrige Mag."},null,{"$f":"IF(OR('Tabel 4F B'!C14<5,'Tabel 4(Br) B'!C14<0.5),\"-\",IFERROR('Tabel 4(Br) B'!C14/'Tabel 4F B'!C14*100,\"-\"))","v":"-"},{"$f":"IF(OR('Tabel 4F B'!D14<5,'Tabel 4(Br) B'!D14<0.5),\"-\",IFERROR('Tabel 4(Br) B'!D14/'Tabel 4F B'!D14*100,\"-\"))","v":44.605916962930614},{"$f":"IF(OR('Tabel 4F B'!E14<5,'Tabel 4(Br) B'!E14<0.5),\"-\",IFERROR('Tabel 4(Br) B'!E14/'Tabel 4F B'!E14*100,\"-\"))","v":39.992515436911376},{"$f":"IF(OR('Tabel 4F B'!F14<5,'Tabel 4(Br) B'!F14<0.5),\"-\",IFERROR('Tabel 4(Br) B'!F14/'Tabel 4F B'!F14*100,\"-\"))","v":"-"},{"$f":"IF(OR('Tabel 4F B'!G14<5,'Tabel 4(Br) B'!G14<0.5),\"-\",IFERROR('Tabel 4(Br) B'!G14/'Tabel 4F B'!G14*100,\"-\"))","v":"-"},null,{"$f":"IF(OR('Tabel 4F B'!I14<5,'Tabel 4(Br) B'!I14<0.5),\"-\",IFERROR('Tabel 4(Br) B'!I14/'Tabel 4F B'!I14*100,\"-\"))","v":29.224879935133785}]
[{"$f":"'[1]Tabel 4(Br) B DATA'!I14","v":"Agronom"},null,{"$f":"IF(OR('Tabel 4F B'!C15<5,'Tabel 4(Br) B'!C15<0.5),\"-\",IFERROR('Tabel 4(Br) B'!C15/'Tabel 4F B'!C15*100,\"-\"))","v":"-"},{"$f":"IF(OR('Tabel 4F B'!D15<5,'Tabel 4(Br) B'!D15<0.5),\"-\",IFERROR('Tabel 4(Br) B'!D15/'Tabel 4F B'!D15*100,\"-\"))","v":"-"},{"$f":"IF(OR('Tabel 4F B'!E15<5,'Tabel 4(Br) B'!E15<0.5),\"-\",IFERROR('Tabel 4(Br) B'!E15/'Tabel 4F B'!E15*100,\"-\"))","v":"-"},{"$f":"IF(OR('Tabel 4F B'!F15<5,'Tabel 4(Br) B'!F15<0.5),\"-\",IFERROR('Tabel 4(Br) B'!F15/'Tabel 4F B'!F15*100,\"-\"))","v":"-"},{"$f":"IF(OR('Tabel 4F B'!G15<5,'Tabel 4(Br) B'!G15<0.5),\"-\",IFERROR('Tabel 4(Br) B'!G15/'Tabel 4F B'!G15*100,\"-\"))","v":"-"},null,{"$f":"IF(OR('Tabel 4F B'!I15<5,'Tabel 4(Br) B'!I15<0.5),\"-\",IFERROR('Tabel 4(Br) B'!I15/'Tabel 4F B'!I15*100,\"-\"))","v":"-"}]
[{"$f":"'[1]Tabel 4(Br) B DATA'!I15","v":"Landsk. Arkt."},null,{"$f":"IF(OR('Tabel 4F B'!C16<5,'Tabel 4(Br) B'!C16<0.5),\"-\",IFERROR('Tabel 4(Br) B'!C16/'Tabel 4F B'!C16*100,\"-\"))","v":"-"},{"$f":"IF(OR('Tabel 4F B'!D16<5,'Tabel 4(Br) B'!D16<0.5),\"-\",IFERROR('Tabel 4(Br) B'!D16/'Tabel 4F B'!D16*100,\"-\"))","v":"-"},{"$f":"IF(OR('Tabel 4F B'!E16<5,'Tabel 4(Br) B'!E16<0.5),\"-\",IFERROR('Tabel 4(Br) B'!E16/'Tabel 4F B'!E16*100,\"-\"))","v":"-"},{"$f":"IF(OR('Tabel 4F B'!F16<5,'Tabel 4(Br) B'!F16<0.5),\"-\",IFERROR('Tabel 4(Br) B'!F16/'Tabel 4F B'!F16*100,\"-\"))","v":"-"},{"$f":"IF(OR('Tabel 4F B'!G16<5,'Tabel 4(Br) B'!G16<0.5),\"-\",IFERROR('Tabel 4(Br) B'!G16/'Tabel 4F B'!G16*100,\"-\"))","v":"-"},null,{"$f":"IF(OR('Tabel 4F B'!I16<5,'Tabel 4(Br) B'!I16<0.5),\"-\",IFERROR('Tabel 4(Br) B'!I16/'Tabel 4F B'!I16*100,\"-\"))","v":"-"}]
[{"$f":"'[1]Tabel 4(Br) B DATA'!I16","v":"Hortonom"},null,{"$f":"IF(OR('Tabel 4F B'!C17<5,'Tabel 4(Br) B'!C17<0.5),\"-\",IFERROR('Tabel 4(Br) B'!C17/'Tabel 4F B'!C17*100,\"-\"))","v":"-"},{"$f":"IF(OR('Tabel 4F B'!D17<5,'Tabel 4(Br) B'!D17<0.5),\"-\",IFERROR('Tabel 4(Br) B'!D17/'Tabel 4F B'!D17*100,\"-\"))","v":"-"},{"$f":"IF(OR('Tabel 4F B'!E17<5,'Tabel 4(Br) B'!E17<0.5),\"-\",IFERROR('Tabel 4(Br) B'!E17/'Tabel 4F B'!E17*100,\"-\"))","v":"-"},{"$f":"IF(OR('Tabel 4F B'!F17<5,'Tabel 4(Br) B'!F17<0.5),\"-\",IFERROR('Tabel 4(Br) B'!F17/'Tabel 4F B'!F17*100,\"-\"))","v":"-"},{"$f":"IF(OR('Tabel 4F B'!G17<5,'Tabel 4(Br) B'!G17<0.5),\"-\",IFERROR('Tabel 4(Br) B'!G17/'Tabel 4F B'!G17*100,\"-\"))","v":"-"},null,{"$f":"IF(OR('Tabel 4F B'!I17<5,'Tabel 4(Br) B'!I17<0.5),\"-\",IFERROR('Tabel 4(Br) B'!I17/'Tabel 4F B'!I17*100,\"-\"))","v":"-"}]
[{"$f":"'[1]Tabel 4(Br) B DATA'!I17","v":"Forstkand."},null,{"$f":"IF(OR('Tabel 4F B'!C18<5,'Tabel 4(Br) B'!C18<0.5),\"-\",IFERROR('Tabel 4(Br) B'!C18/'Tabel 4F B'!C18*100,\"-\"))","v":"-"},{"$f":"IF(OR('Tabel 4F B'!D18<5,'Tabel 4(Br) B'!D18<0.5),\"-\",IFERROR('Tabel 4(Br) B'!D18/'Tabel 4F B'!D18*100,\"-\"))","v":"-"},{"$f":"IF(OR('Tabel 4F B'!E18<5,'Tabel 4(Br) B'!E18<0.5),\"-\",IFERROR('Tabel 4(Br) B'!E18/'Tabel 4F B'!E18*100,\"-\"))","v":"-"},{"$f":"IF(OR('Tabel 4F B'!F18<5,'Tabel 4(Br) B'!F18<0.5),\"-\",IFERROR('Tabel 4(Br) B'!F18/'Tabel 4F B'!F18*100,\"-\"))","v":"-"},{"$f":"IF(OR('Tabel 4F B'!G18<5,'Tabel 4(Br) B'!G18<0.5),\"-\",IFERROR('Tabel 4(Br) B'!G18/'Tabel 4F B'!G18*100,\"-\"))","v":"-"},null,{"$f":"IF(OR('Tabel 4F B'!I18<5,'Tabel 4(Br) B'!I18<0.5),\"-\",IFERROR('Tabel 4(Br) B'!I18/'Tabel 4F B'!I18*100,\"-\"))","v":"-"}]
[{"$f":"'[1]Tabel 4(Br) B DATA'!I18","v":"Jordbrugsakad."},null,{"$f":"IF(OR('Tabel 4F B'!C19<5,'Tabel 4(Br) B'!C19<0.5),\"-\",IFERROR('Tabel 4(Br) B'!C19/'Tabel 4F B'!C19*100,\"-\"))","v":"-"},{"$f":"IF(OR('Tabel 4F B'!D19<5,'Tabel 4(Br) B'!D19<0.5),\"-\",IFERROR('Tabel 4(Br) B'!D19/'Tabel 4F B'!D19*100,\"-\"))","v":"-"},{"$f":"IF(OR('Tabel 4F B'!E19<5,'Tabel 4(Br) B'!E19<0.5),\"-\",IFERROR('Tabel 4(Br) B'!E19/'Tabel 4F B'!E19*100,\"-\"))","v":"-"},{"$f":"IF(OR('Tabel 4F B'!F19<5,'Tabel 4(Br) B'!F19<0.5),\"-\",IFERROR('Tabel 4(Br) B'!F19/'Tabel 4F B'!F19*100,\"-\"))","v":"-"},{"$f":"IF(OR('Tabel 4F B'!G19<5,'Tabel 4(Br) B'!G19<0.5),\"-\",IFERROR('Tabel 4(Br) B'!G19/'Tabel 4F B'!G19*100,\"-\"))","v":"-"},null,{"$f":"IF(OR('Tabel 4F B'!I19<5,'Tabel 4(Br) B'!I19<0.5),\"-\",IFERROR('Tabel 4(Br) B'!I19/'Tabel 4F B'!I19*100,\"-\"))","v":"-"}]
[{"$f":"'[1]Tabel 4(Br) B DATA'!I19","v":"Mejeriing."},null,{"$f":"IF(OR('Tabel 4F B'!C20<5,'Tabel 4(Br) B'!C20<0.5),\"-\",IFERROR('Tabel 4(Br) B'!C20/'Tabel 4F B'!C20*100,\"-\"))","v":"-"},{"$f":"IF(OR('Tabel 4F B'!D20<5,'Tabel 4(Br) B'!D20<0.5),\"-\",IFERROR('Tabel 4(Br) B'!D20/'Tabel 4F B'!D20*100,\"-\"))","v":"-"},{"$f":"IF(OR('Tabel 4F B'!E20<5,'Tabel 4(Br) B'!E20<0.5),\"-\",IFERROR('Tabel 4(Br) B'!E20/'Tabel 4F B'!E20*100,\"-\"))","v":"-"},{"$f":"IF(OR('Tabel 4F B'!F20<5,'Tabel 4(Br) B'!F20<0.5),\"-\",IFERROR('Tabel 4(Br) B'!F20/'Tabel 4F B'!F20*100,\"-\"))","v":"-"},{"$f":"IF(OR('Tabel 4F B'!G20<5,'Tabel 4(Br) B'!G20<0.5),\"-\",IFERROR('Tabel 4(Br) B'!G20/'Tabel 4F B'!G20*100,\"-\"))","v":"-"},null,{"$f":"IF(OR('Tabel 4F B'!I20<5,'Tabel 4(Br) B'!I20<0.5),\"-\",IFERROR('Tabel 4(Br) B'!I20/'Tabel 4F B'!I20*100,\"-\"))","v":"-"}]
[{"$f":"'[1]Tabel 4(Br) B DATA'!I20","v":"Levn.m.kand."},null,{"$f":"IF(OR('Tabel 4F B'!C21<5,'Tabel 4(Br) B'!C21<0.5),\"-\",IFERROR('Tabel 4(Br) B'!C21/'Tabel 4F B'!C21*100,\"-\"))","v":"-"},{"$f":"IF(OR('Tabel 4F B'!D21<5,'Tabel 4(Br) B'!D21<0.5),\"-\",IFERROR('Tabel 4(Br) B'!D21/'Tabel 4F B'!D21*100,\"-\"))","v":"-"},{"$f":"IF(OR('Tabel 4F B'!E21<5,'Tabel 4(Br) B'!E21<0.5),\"-\",IFERROR('Tabel 4(Br) B'!E21/'Tabel 4F B'!E21*100,\"-\"))","v":"-"},{"$f":"IF(OR('Tabel 4F B'!F21<5,'Tabel 4(Br) B'!F21<0.5),\"-\",IFERROR('Tabel 4(Br) B'!F21/'Tabel 4F B'!F21*100,\"-\"))","v":"-"},{"$f":"IF(OR('Tabel 4F B'!G21<5,'Tabel 4(Br) B'!G21<0.5),\"-\",IFERROR('Tabel 4(Br) B'!G21/'Tabel 4F B'!G21*100,\"-\"))","v":"-"},null,{"$f":"IF(OR('Tabel 4F B'!I21<5,'Tabel 4(Br) B'!I21<0.5),\"-\",IFERROR('Tabel 4(Br) B'!I21/'Tabel 4F B'!I21*100,\"-\"))","v":"-"}]
[{"$f":"'[1]Tabel 4(Br) B DATA'!I21","v":"Dyrlæge"},null,{"$f":"IF(OR('Tabel 4F B'!C22<5,'Tabel 4(Br) B'!C22<0.5),\"-\",IFERROR('Tabel 4(Br) B'!C22/'Tabel 4F B'!C22*100,\"-\"))","v":"-"},{"$f":"IF(OR('Tabel 4F B'!D22<5,'Tabel 4(Br) B'!D22<0.5),\"-\",IFERROR('Tabel 4(Br) B'!D22/'Tabel 4F B'!D22*100,\"-\"))","v":"-"},{"$f":"IF(OR('Tabel 4F B'!E22<5,'Tabel 4(Br) B'!E22<0.5),\"-\",IFERROR('Tabel 4(Br) B'!E22/'Tabel 4F B'!E22*100,\"-\"))","v":"-"},{"$f":"IF(OR('Tabel 4F B'!F22<5,'Tabel 4(Br) B'!F22<0.5),\"-\",IFERROR('Tabel 4(Br) B'!F22/'Tabel 4F B'!F22*100,\"-\"))","v":"-"},{"$f":"IF(OR('Tabel 4F B'!G22<5,'Tabel 4(Br) B'!G22<0.5),\"-\",IFERROR('Tabel 4(Br) B'!G22/'Tabel 4F B'!G22*100,\"-\"))","v":"-"},null,{"$f":"IF(OR('Tabel 4F B'!I22<5,'Tabel 4(Br) B'!I22<0.5),\"-\",IFERROR('Tabel 4(Br) B'!I22/'Tabel 4F B'!I22*100,\"-\"))","v":"-"}]
[{"$f":"'[1]Tabel 4(Br) B DATA'!I22","v":"Farmaceut"},null,{"$f":"IF(OR('Tabel 4F B'!C23<5,'Tabel 4(Br) B'!C23<0.5),\"-\",IFERROR('Tabel 4(Br) B'!C23/'Tabel 4F B'!C23*100,\"-\"))","v":"-"},{"$f":"IF(OR('Tabel 4F B'!D23<5,'Tabel 4(Br) B'!D23<0.5),\"-\",IFERROR('Tabel 4(Br) B'!D23/'Tabel 4F B'!D23*100,\"-\"))","v":"-"},{"$f":"IF(OR('Tabel 4F B'!E23<5,'Tabel 4(Br) B'!E23<0.5),\"-\",IFERROR('Tabel 4(Br) B'!E23/'Tabel 4F B'!E23*100,\"-\"))","v":"-"},{"$f":"IF(OR('Tabel 4F B'!F23<5,'Tabel 4(Br) B'!F23<0.5),\"-\",IFERROR('Tabel 4(Br) B'!F23/'Tabel 4F B'!F23*100,\"-\"))","v":"-"},{"$f":"IF(OR('Tabel 4F B'!G23<5,'Tabel 4(Br) B'!G23<0.5),\"-\",IFERROR('Tabel 4(Br) B'!G23/'Tabel 4F B'!G23*100,\"-\"))","v":"-"},null,{"$f":"IF(OR('Tabel 4F B'!I23<5,'Tabel 4(Br) B'!I23<0.5),\"-\",IFERROR('Tabel 4(Br) B'!I23/'Tabel 4F B'!I23*100,\"-\"))","v":"-"}]
[{"$f":"'[1]Tabel 4(Br) B DATA'!I23","v":"Læge"},null,{"$f":"IF(OR('Tabel 4F B'!C24<5,'Tabel 4(Br) B'!C24<0.5),\"-\",IFERROR('Tabel 4(Br) B'!C24/'Tabel 4F B'!C24*100,\"-\"))","v":14.283041227468271},{"$f":"IF(OR('Tabel 4F B'!D24<5,'Tabel 4(Br) B'!D24<0.5),\"-\",IFERROR('Tabel 4(Br) B'!D24/'Tabel 4F B'!D24*100,\"-\"))","v":"-"},{"$f":"IF(OR('Tabel 4F B'!E24<5,'Tabel 4(Br) B'!E24<0.5),\"-\",IFERROR('Tabel 4(Br) B'!E24/'Tabel 4F B'!E24*100,\"-\"))","v":"-"},{"$f":"IF(OR('Tabel 4F B'!F24<5,'Tabel 4(Br) B'!F24<0.5),\"-\",IFERROR('Tabel 4(Br) B'!F24/'Tabel 4F B'!F24*100,\"-\"))","v":"-"},{"$f":"IF(OR('Tabel 4F B'!G24<5,'Tabel 4(Br) B'!G24<0.5),\"-\",IFERROR('Tabel 4(Br) B'!G24/'Tabel 4F B'!G24*100,\"-\"))","v":"-"},null,{"$f":"IF(OR('Tabel 4F B'!I24<5,'Tabel 4(Br) B'!I24<0.5),\"-\",IFERROR('Tabel 4(Br) B'!I24/'Tabel 4F B'!I24*100,\"-\"))","v":3.2252028578154164}]
[{"$f":"'[1]Tabel 4(Br) B DATA'!I24","v":"Tandlæge"},null,{"$f":"IF(OR('Tabel 4F B'!C25<5,'Tabel 4(Br) B'!C25<0.5),\"-\",IFERROR('Tabel 4(Br) B'!C25/'Tabel 4F B'!C25*100,\"-\"))","v":"-"},{"$f":"IF(OR('Tabel 4F B'!D25<5,'Tabel 4(Br) B'!D25<0.5),\"-\",IFERROR('Tabel 4(Br) B'!D25/'Tabel 4F B'!D25*100,\"-\"))","v":"-"},{"$f":"IF(OR('Tabel 4F B'!E25<5,'Tabel 4(Br) B'!E25<0.5),\"-\",IFERROR('Tabel 4(Br) B'!E25/'Tabel 4F B'!E25*100,\"-\"))","v":"-"},{"$f":"IF(OR('Tabel 4F B'!F25<5,'Tabel 4(Br) B'!F25<0.5),\"-\",IFERROR('Tabel 4(Br) B'!F25/'Tabel 4F B'!F25*100,\"-\"))","v":"-"},{"$f":"IF(OR('Tabel 4F B'!G25<5,'Tabel 4(Br) B'!G25<0.5),\"-\",IFERROR('Tabel 4(Br) B'!G25/'Tabel 4F B'!G25*100,\"-\"))","v":"-"},null,{"$f":"IF(OR('Tabel 4F B'!I25<5,'Tabel 4(Br) B'!I25<0.5),\"-\",IFERROR('Tabel 4(Br) B'!I25/'Tabel 4F B'!I25*100,\"-\"))","v":"-"}]
[{"$f":"'[1]Tabel 4(Br) B DATA'!I25","v":"Arkitekt"},null,{"$f":"IF(OR('Tabel 4F B'!C26<5,'Tabel 4(Br) B'!C26<0.5),\"-\",IFERROR('Tabel 4(Br) B'!C26/'Tabel 4F B'!C26*100,\"-\"))","v":"-"},{"$f":"IF(OR('Tabel 4F B'!D26<5,'Tabel 4(Br) B'!D26<0.5),\"-\",IFERROR('Tabel 4(Br) B'!D26/'Tabel 4F B'!D26*100,\"-\"))","v":"-"},{"$f":"IF(OR('Tabel 4F B'!E26<5,'Tabel 4(Br) B'!E26<0.5),\"-\",IFERROR('Tabel 4(Br) B'!E26/'Tabel 4F B'!E26*100,\"-\"))","v":"-"},{"$f":"IF(OR('Tabel 4F B'!F26<5,'Tabel 4(Br) B'!F26<0.5),\"-\",IFERROR('Tabel 4(Br) B'!F26/'Tabel 4F B'!F26*100,\"-\"))","v":"-"},{"$f":"IF(OR('Tabel 4F B'!G26<5,'Tabel 4(Br) B'!G26<0.5),\"-\",IFERROR('Tabel 4(Br) B'!G26/'Tabel 4F B'!G26*100,\"-\"))","v":"-"},null,{"$f":"IF(OR('Tabel 4F B'!I26<5,'Tabel 4(Br) B'!I26<0.5),\"-\",IFERROR('Tabel 4(Br) B'!I26/'Tabel 4F B'!I26*100,\"-\"))","v":"-"}]
[{"$f":"'[1]Tabel 4(Br) B DATA'!I26","v":"Landinspek."},null,{"$f":"IF(OR('Tabel 4F B'!C27<5,'Tabel 4(Br) B'!C27<0.5),\"-\",IFERROR('Tabel 4(Br) B'!C27/'Tabel 4F B'!C27*100,\"-\"))","v":"-"},{"$f":"IF(OR('Tabel 4F B'!D27<5,'Tabel 4(Br) B'!D27<0.5),\"-\",IFERROR('Tabel 4(Br) B'!D27/'Tabel 4F B'!D27*100,\"-\"))","v":"-"},{"$f":"IF(OR('Tabel 4F B'!E27<5,'Tabel 4(Br) B'!E27<0.5),\"-\",IFERROR('Tabel 4(Br) B'!E27/'Tabel 4F B'!E27*100,\"-\"))","v":"-"},{"$f":"IF(OR('Tabel 4F B'!F27<5,'Tabel 4(Br) B'!F27<0.5),\"-\",IFERROR('Tabel 4(Br) B'!F27/'Tabel 4F B'!F27*100,\"-\"))","v":"-"},{"$f":"IF(OR('Tabel 4F B'!G27<5,'Tabel 4(Br) B'!G27<0.5),\"-\",IFERROR('Tabel 4(Br) B'!G27/'Tabel 4F B'!G27*100,\"-\"))","v":"-"},null,{"$f":"IF(OR('Tabel 4F B'!I27<5,'Tabel 4(Br) B'!I27<0.5),\"-\",IFERROR('Tabel 4(Br) B'!I27/'Tabel 4F B'!I27*100,\"-\"))","v":"-"}]
[{"$f":"'[1]Tabel 4(Br) B DATA'!I27","v":"Bibliotekar"},null,{"$f":"IF(OR('Tabel 4F B'!C28<5,'Tabel 4(Br) B'!C28<0.5),\"-\",IFERROR('Tabel 4(Br) B'!C28/'Tabel 4F B'!C28*100,\"-\"))","v":"-"},{"$f":"IF(OR('Tabel 4F B'!D28<5,'Tabel 4(Br) B'!D28<0.5),\"-\",IFERROR('Tabel 4(Br) B'!D28/'Tabel 4F B'!D28*100,\"-\"))","v":"-"},{"$f":"IF(OR('Tabel 4F B'!E28<5,'Tabel 4(Br) B'!E28<0.5),\"-\",IFERROR('Tabel 4(Br) B'!E28/'Tabel 4F B'!E28*100,\"-\"))","v":"-"},{"$f":"IF(OR('Tabel 4F B'!F28<5,'Tabel 4(Br) B'!F28<0.5),\"-\",IFERROR('Tabel 4(Br) B'!F28/'Tabel 4F B'!F28*100,\"-\"))","v":"-"},{"$f":"IF(OR('Tabel 4F B'!G28<5,'Tabel 4(Br) B'!G28<0.5),\"-\",IFERROR('Tabel 4(Br) B'!G28/'Tabel 4F B'!G28*100,\"-\"))","v":"-"},null,{"$f":"IF(OR('Tabel 4F B'!I28<5,'Tabel 4(Br) B'!I28<0.5),\"-\",IFERROR('Tabel 4(Br) B'!I28/'Tabel 4F B'!I28*100,\"-\"))","v":6.2488305370174011}]
[{"$f":"'[1]Tabel 4(Br) B DATA'!I28","v":"Musikudd."},null,{"$f":"IF(OR('Tabel 4F B'!C29<5,'Tabel 4(Br) B'!C29<0.5),\"-\",IFERROR('Tabel 4(Br) B'!C29/'Tabel 4F B'!C29*100,\"-\"))","v":"-"},{"$f":"IF(OR('Tabel 4F B'!D29<5,'Tabel 4(Br) B'!D29<0.5),\"-\",IFERROR('Tabel 4(Br) B'!D29/'Tabel 4F B'!D29*100,\"-\"))","v":"-"},{"$f":"IF(OR('Tabel 4F B'!E29<5,'Tabel 4(Br) B'!E29<0.5),\"-\",IFERROR('Tabel 4(Br) B'!E29/'Tabel 4F B'!E29*100,\"-\"))","v":"-"},{"$f":"IF(OR('Tabel 4F B'!F29<5,'Tabel 4(Br) B'!F29<0.5),\"-\",IFERROR('Tabel 4(Br) B'!F29/'Tabel 4F B'!F29*100,\"-\"))","v":"-"},{"$f":"IF(OR('Tabel 4F B'!G29<5,'Tabel 4(Br) B'!G29<0.5),\"-\",IFERROR('Tabel 4(Br) B'!G29/'Tabel 4F B'!G29*100,\"-\"))","v":"-"},null,{"$f":"IF(OR('Tabel 4F B'!I29<5,'Tabel 4(Br) B'!I29<0.5),\"-\",IFERROR('Tabel 4(Br) B'!I29/'Tabel 4F B'!I29*100,\"-\"))","v":"-"}]
[{"$f":"'[1]Tabel 4(Br) B DATA'!I29","v":"Teolog"},null,{"$f":"IF(OR('Tabel 4F B'!C30<5,'Tabel 4(Br) B'!C30<0.5),\"-\",IFERROR('Tabel 4(Br) B'!C30/'Tabel 4F B'!C30*100,\"-\"))","v":"-"},{"$f":"IF(OR('Tabel 4F B'!D30<5,'Tabel 4(Br) B'!D30<0.5),\"-\",IFERROR('Tabel 4(Br) B'!D30/'Tabel 4F B'!D30*100,\"-\"))","v":"-"},{"$f":"IF(OR('Tabel 4F B'!E30<5,'Tabel 4(Br) B'!E30<0.5),\"-\",IFERROR('Tabel 4(Br) B'!E30/'Tabel 4F B'!E30*100,\"-\"))","v":"-"},{"$f":"IF(OR('Tabel 4F B'!F30<5,'Tabel 4(Br) B'!F30<0.5),\"-\",IFERROR('Tabel 4(Br) B'!F30/'Tabel 4F B'!F30*100,\"-\"))","v":"-"},{"$f":"IF(OR('Tabel 4F B'!G30<5,'Tabel 4(Br) B'!G30<0.5),\"-\",IFERROR('Tabel 4(Br) B'!G30/'Tabel 4F B'!G30*100,\"-\"))","v":"-"},null,{"$f":"IF(OR('Tabel 4F B'!I30<5,'Tabel 4(Br) B'!I30<0.5),\"-\",IFERROR('Tabel 4(Br) B'!I30/'Tabel 4F B'!I30*100,\"-\"))","v":"-"}]
[{"$f":"'[1]Tabel 4(Br) B DATA'!I30","v":"Psykolog"},null,{"$f":"IF(OR('Tabel 4F B'!C31<5,'Tabel 4(Br) B'!C31<0.5),\"-\",IFERROR('Tabel 4(Br) B'!C31/'Tabel 4F B'!C31*100,\"-\"))","v":"-"},{"$f":"IF(OR('Tabel 4F B'!D31<5,'Tabel 4(Br) B'!D31<0.5),\"-\",IFERROR('Tabel 4(Br) B'!D31/'Tabel 4F B'!D31*100,\"-\"))","v":9.4457958238910873},{"$f":"IF(OR('Tabel 4F B'!E31<5,'Tabel 4(Br) B'!E31<0.5),\"-\",IFERROR('Tabel 4(Br) B'!E31/'Tabel 4F B'!E31*100,\"-\"))","v":"-"},{"$f":"IF(OR('Tabel 4F B'!F31<5,'Tabel 4(Br) B'!F31<0.5),\"-\",IFERROR('Tabel 4(Br) B'!F31/'Tabel 4F B'!F31*100,\"-\"))","v":"-"},{"$f":"IF(OR('Tabel 4F B'!G31<5,'Tabel 4(Br) B'!G31<0.5),\"-\",IFERROR('Tabel 4(Br) B'!G31/'Tabel 4F B'!G31*100,\"-\"))","v":"-"},null,{"$f":"IF(OR('Tabel 4F B'!I31<5,'Tabel 4(Br) B'!I31<0.5),\"-\",IFERROR('Tabel 4(Br) B'!I31/'Tabel 4F B'!I31*100,\"-\"))","v":2.7423278198393479}]
[{"$f":"'[1]Tabel 4(Br) B DATA'!I31","v":"Jurist"},null,{"$f":"IF(OR('Tabel 4F B'!C32<5,'Tabel 4(Br) B'!C32<0.5),\"-\",IFERROR('Tabel 4(Br) B'!C32/'Tabel 4F B'!C32*100,\"-\"))","v":"-"},{"$f":"IF(OR('Tabel 4F B'!D32<5,'Tabel 4(Br) B'!D32<0.5),\"-\",IFERROR('Tabel 4(Br) B'!D32/'Tabel 4F B'!D32*100,\"-\"))","v":"-"},{"$f":"IF(OR('Tabel 4F B'!E32<5,'Tabel 4(Br) B'!E32<0.5),\"-\",IFERROR('Tabel 4(Br) B'!E32/'Tabel 4F B'!E32*100,\"-\"))","v":"-"},{"$f":"IF(OR('Tabel 4F B'!F32<5,'Tabel 4(Br) B'!F32<0.5),\"-\",IFERROR('Tabel 4(Br) B'!F32/'Tabel 4F B'!F32*100,\"-\"))","v":"-"},{"$f":"IF(OR('Tabel 4F B'!G32<5,'Tabel 4(Br) B'!G32<0.5),\"-\",IFERROR('Tabel 4(Br) B'!G32/'Tabel 4F B'!G32*100,\"-\"))","v":"-"},null,{"$f":"IF(OR('Tabel 4F B'!I32<5,'Tabel 4(Br) B'!I32<0.5),\"-\",IFERROR('Tabel 4(Br) B'!I32/'Tabel 4F B'!I32*100,\"-\"))","v":"-"}]
[{"$f":"'[1]Tabel 4(Br) B DATA'!I32","v":"Økonom"},null,{"$f":"IF(OR('Tabel 4F B'!C33<5,'Tabel 4(Br) B'!C33<0.5),\"-\",IFERROR('Tabel 4(Br) B'!C33/'Tabel 4F B'!C33*100,\"-\"))","v":"-"},{"$f":"IF(OR('Tabel 4F B'!D33<5,'Tabel 4(Br) B'!D33<0.5),\"-\",IFERROR('Tabel 4(Br) B'!D33/'Tabel 4F B'!D33*100,\"-\"))","v":"-"},{"$f":"IF(OR('Tabel 4F B'!E33<5,'Tabel 4(Br) B'!E33<0.5),\"-\",IFERROR('Tabel 4(Br) B'!E33/'Tabel 4F B'!E33*100,\"-\"))","v":"-"},{"$f":"IF(OR('Tabel 4F B'!F33<5,'Tabel 4(Br) B'!F33<0.5),\"-\",IFERROR('Tabel 4(Br) B'!F33/'Tabel 4F B'!F33*100,\"-\"))","v":"-"},{"$f":"IF(OR('Tabel 4F B'!G33<5,'Tabel 4(Br) B'!G33<0.5),\"-\",IFERROR('Tabel 4(Br) B'!G33/'Tabel 4F B'!G33*100,\"-\"))","v":"-"},null,{"$f":"IF(OR('Tabel 4F B'!I33<5,'Tabel 4(Br) B'!I33<0.5),\"-\",IFERROR('Tabel 4(Br) B'!I33/'Tabel 4F B'!I33*100,\"-\"))","v":"-"}]
[{"$f":"'[1]Tabel 4(Br) B DATA'!I33","v":"Samf. Adm."},null,{"$f":"IF(OR('Tabel 4F B'!C34<5,'Tabel 4(Br) B'!C34<0.5),\"-\",IFERROR('Tabel 4(Br) B'!C34/'Tabel 4F B'!C34*100,\"-\"))","v":"-"},{"$f":"IF(OR('Tabel 4F B'!D34<5,'Tabel 4(Br) B'!D34<0.5),\"-\",IFERROR('Tabel 4(Br) B'!D34/'Tabel 4F B'!D34*100,\"-\"))","v":"-"},{"$f":"IF(OR('Tabel 4F B'!E34<5,'Tabel 4(Br) B'!E34<0.5),\"-\",IFERROR('Tabel 4(Br) B'!E34/'Tabel 4F B'!E34*100,\"-\"))","v":4.5446040269217232},{"$f":"IF(OR('Tabel 4F B'!F34<5,'Tabel 4(Br) B'!F34<0.5),\"-\",IFERROR('Tabel 4(Br) B'!F34/'Tabel 4F B'!F34*100,\"-\"))","v":19.996257718455723},{"$f":"IF(OR('Tabel 4F B'!G34<5,'Tabel 4(Br) B'!G34<0.5),\"-\",IFERROR('Tabel 4(Br) B'!G34/'Tabel 4F B'!G34*100,\"-\"))","v":"-"},null,{"$f":"IF(OR('Tabel 4F B'!I34<5,'Tabel 4(Br) B'!I34<0.5),\"-\",IFERROR('Tabel 4(Br) B'!I34/'Tabel 4F B'!I34*100,\"-\"))","v":5.4535248323060932}]
[{"$f":"'[1]Tabel 4(Br) B DATA'!I34","v":"Cand. Merc."},null,{"$f":"IF(OR('Tabel 4F B'!C35<5,'Tabel 4(Br) B'!C35<0.5),\"-\",IFERROR('Tabel 4(Br) B'!C35/'Tabel 4F B'!C35*100,\"-\"))","v":"-"},{"$f":"IF(OR('Tabel 4F B'!D35<5,'Tabel 4(Br) B'!D35<0.5),\"-\",IFERROR('Tabel 4(Br) B'!D35/'Tabel 4F B'!D35*100,\"-\"))","v":"-"},{"$f":"IF(OR('Tabel 4F B'!E35<5,'Tabel 4(Br) B'!E35<0.5),\"-\",IFERROR('Tabel 4(Br) B'!E35/'Tabel 4F B'!E35*100,\"-\"))","v":23.071732733056134},{"$f":"IF(OR('Tabel 4F B'!F35<5,'Tabel 4(Br) B'!F35<0.5),\"-\",IFERROR('Tabel 4(Br) B'!F35/'Tabel 4F B'!F35*100,\"-\"))","v":9.9981288592278261},{"$f":"IF(OR('Tabel 4F B'!G35<5,'Tabel 4(Br) B'!G35<0.5),\"-\",IFERROR('Tabel 4(Br) B'!G35/'Tabel 4F B'!G35*100,\"-\"))","v":"-"},null,{"$f":"IF(OR('Tabel 4F B'!I35<5,'Tabel 4(Br) B'!I35<0.5),\"-\",IFERROR('Tabel 4(Br) B'!I35/'Tabel 4F B'!I35*100,\"-\"))","v":11.055323395496741}]
[{"$f":"'[1]Tabel 4(Br) B DATA'!I35","v":"HA"},null,{"$f":"IF(OR('Tabel 4F B'!C36<5,'Tabel 4(Br) B'!C36<0.5),\"-\",IFERROR('Tabel 4(Br) B'!C36/'Tabel 4F B'!C36*100,\"-\"))","v":"-"},{"$f":"IF(OR('Tabel 4F B'!D36<5,'Tabel 4(Br) B'!D36<0.5),\"-\",IFERROR('Tabel 4(Br) B'!D36/'Tabel 4F B'!D36*100,\"-\"))","v":"-"},{"$f":"IF(OR('Tabel 4F B'!E36<5,'Tabel 4(Br) B'!E36<0.5),\"-\",IFERROR('Tabel 4(Br) B'!E36/'Tabel 4F B'!E36*100,\"-\"))","v":"-"},{"$f":"IF(OR('Tabel 4F B'!F36<5,'Tabel 4(Br) B'!F36<0.5),\"-\",IFERROR('Tabel 4(Br) B'!F36/'Tabel 4F B'!F36*100,\"-\"))","v":"-"},{"$f":"IF(OR('Tabel 4F B'!G36<5,'Tabel 4(Br) B'!G36<0.5),\"-\",IFERROR('Tabel 4(Br) B'!G36/'Tabel 4F B'!G36*100,\"-\"))","v":"-"},null,{"$f":"IF(OR('Tabel 4F B'!I36<5,'Tabel 4(Br) B'!I36<0.5),\"-\",IFERROR('Tabel 4(Br) B'!I36/'Tabel 4F B'!I36*100,\"-\"))","v":"-"}]
[{"$f":"'[1]Tabel 4(Br) B DATA'!I36","v":"HD"},null,{"$f":"IF(OR('Tabel 4F B'!C37<5,'Tabel 4(Br) B'!C37<0.5),\"-\",IFERROR('Tabel 4(Br) B'!C37/'Tabel 4F B'!C37*100,\"-\"))","v":"-"},{"$f":"IF(OR('Tabel 4F B'!D37<5,'Tabel 4(Br) B'!D37<0.5),\"-\",IFERROR('Tabel 4(Br) B'!D37/'Tabel 4F B'!D37*100,\"-\"))","v":"-"},{"$f":"IF(OR('Tabel 4F B'!E37<5,'Tabel 4(Br) B'!E37<0.5),\"-\",IFERROR('Tabel 4(Br) B'!E37/'Tabel 4F B'!E37*100,\"-\"))","v":"-"},{"$f":"IF(OR('Tabel 4F B'!F37<5,'Tabel 4(Br) B'!F37<0.5),\"-\",IFERROR('Tabel 4(Br) B'!F37/'Tabel 4F B'!F37*100,\"-\"))","v":"-"},{"$f":"IF(OR('Tabel 4F B'!G37<5,'Tabel 4(Br) B'!G37<0.5),\"-\",IFERROR('Tabel 4(Br) B'!G37/'Tabel 4F B'!G37*100,\"-\"))","v":"-"},null,{"$f":"IF(OR('Tabel 4F B'!I37<5,'Tabel 4(Br) B'!I37<0.5),\"-\",IFERROR('Tabel 4(Br) B'!I37/'Tabel 4F B'!I37*100,\"-\"))","v":"-"}]
[{"$f":"'[1]Tabel 4(Br) B DATA'!I37","v":"Komm. og Sprog"},null,{"$f":"IF(OR('Tabel 4F B'!C38<5,'Tabel 4(Br) B'!C38<0.5),\"-\",IFERROR('Tabel 4(Br) B'!C38/'Tabel 4F B'!C38*100,\"-\"))","v":"-"},{"$f":"IF(OR('Tabel 4F B'!D38<5,'Tabel 4(Br) B'!D38<0.5),\"-\",IFERROR('Tabel 4(Br) B'!D38/'Tabel 4F B'!D38*100,\"-\"))","v":12.304978125473351},{"$f":"IF(OR('Tabel 4F B'!E38<5,'Tabel 4(Br) B'!E38<0.5),\"-\",IFERROR('Tabel 4(Br) B'!E38/'Tabel 4F B'!E38*100,\"-\"))","v":"-"},{"$f":"IF(OR('Tabel 4F B'!F38<5,'Tabel 4(Br) B'!F38<0.5),\"-\",IFERROR('Tabel 4(Br) B'!F38/'Tabel 4F B'!F38*100,\"-\"))","v":"-"},{"$f":"IF(OR('Tabel 4F B'!G38<5,'Tabel 4(Br) B'!G38<0.5),\"-\",IFERROR('Tabel 4(Br) B'!G38/'Tabel 4F B'!G38*100,\"-\"))","v":"-"},null,{"$f":"IF(OR('Tabel 4F B'!I38<5,'Tabel 4(Br) B'!I38<0.5),\"-\",IFERROR('Tabel 4(Br) B'!I38/'Tabel 4F B'!I38*100,\"-\"))","v":19.534709661323514}]
["Bygningskonst.",null,{"$f":"IF(OR('Tabel 4F B'!C39<5,'Tabel 4(Br) B'!C39<0.5),\"-\",IFERROR('Tabel 4(Br) B'!C39/'Tabel 4F B'!C39*100,\"-\"))","v":"-"},{"$f":"IF(OR('Tabel 4F B'!D39<5,'Tabel 4(Br) B'!D39<0.5),\"-\",IFERROR('Tabel 4(Br) B'!D39/'Tabel 4F B'!D39*100,\"-\"))","v":"-"},{"$f":"IF(OR('Tabel 4F B'!E39<5,'Tabel 4(Br) B'!E39<0.5),\"-\",IFERROR('Tabel 4(Br) B'!E39/'Tabel 4F B'!E39*100,\"-\"))","v":"-"},{"$f":"IF(OR('Tabel 4F B'!F39<5,'Tabel 4(Br) B'!F39<0.5),\"-\",IFERROR('Tabel 4(Br) B'!F39/'Tabel 4F B'!F39*100,\"-\"))","v":"-"},{"$f":"IF(OR('Tabel 4F B'!G39<5,'Tabel 4(Br) B'!G39<0.5),\"-\",IFERROR('Tabel 4(Br) B'!G39/'Tabel 4F B'!G39*100,\"-\"))","v":"-"},null,{"$f":"IF(OR('Tabel 4F B'!I39<5,'Tabel 4(Br) B'!I39<0.5),\"-\",IFERROR('Tabel 4(Br) B'!I39/'Tabel 4F B'!I39*100,\"-\"))","v":"-"}]
[{"$f":"'[1]Tabel 4(Br) B DATA'!I39","v":"Cand. IT."},null,{"$f":"IF(OR('Tabel 4F B'!C40<5,'Tabel 4(Br) B'!C40<0.5),\"-\",IFERROR('Tabel 4(Br) B'!C40/'Tabel 4F B'!C40*100,\"-\"))","v":"-"},{"$f":"IF(OR('Tabel 4F B'!D40<5,'Tabel 4(Br) B'!D40<0.5),\"-\",IFERROR('Tabel 4(Br) B'!D40/'Tabel 4F B'!D40*100,\"-\"))","v":"-"},{"$f":"IF(OR('Tabel 4F B'!E40<5,'Tabel 4(Br) B'!E40<0.5),\"-\",IFERROR('Tabel 4(Br) B'!E40/'Tabel 4F B'!E40*100,\"-\"))","v":"-"},{"$f":"IF(OR('Tabel 4F B'!F40<5,'Tabel 4(Br) B'!F40<0.5),\"-\",IFERROR('Tabel 4(Br) B'!F40/'Tabel 4F B'!F40*100,\"-\"))","v":"-"},{"$f":"IF(OR('Tabel 4F B'!G40<5,'Tabel 4(Br) B'!G40<0.5),\"-\",IFERROR('Tabel 4(Br) B'!G40/'Tabel 4F B'!G40*100,\"-\"))","v":"-"},null,{"$f":"IF(OR('Tabel 4F B'!I40<5,'Tabel 4(Br) B'!I40<0.5),\"-\",IFERROR('Tabel 4(Br) B'!I40/'Tabel 4F B'!I40*100,\"-\"))","v":"-"}]
[{"$f":"'[1]Tabel 4(Br) B DATA'!I40","v":"Bac. Samf."},null,{"$f":"IF(OR('Tabel 4F B'!C41<5,'Tabel 4(Br) B'!C41<0.5),\"-\",IFERROR('Tabel 4(Br) B'!C41/'Tabel 4F B'!C41*100,\"-\"))","v":"-"},{"$f":"IF(OR('Tabel 4F B'!D41<5,'Tabel 4(Br) B'!D41<0.5),\"-\",IFERROR('Tabel 4(Br) B'!D41/'Tabel 4F B'!D41*100,\"-\"))","v":"-"},{"$f":"IF(OR('Tabel 4F B'!E41<5,'Tabel 4(Br) B'!E41<0.5),\"-\",IFERROR('Tabel 4(Br) B'!E41/'Tabel 4F B'!E41*100,\"-\"))","v":"-"},{"$f":"IF(OR('Tabel 4F B'!F41<5,'Tabel 4(Br) B'!F41<0.5),\"-\",IFERROR('Tabel 4(Br) B'!F41/'Tabel 4F B'!F41*100,\"-\"))","v":"-"},{"$f":"IF(OR('Tabel 4F B'!G41<5,'Tabel 4(Br) B'!G41<0.5),\"-\",IFERROR('Tabel 4(Br) B'!G41/'Tabel 4F B'!G41*100,\"-\"))","v":"-"},null,{"$f":"IF(OR('Tabel 4F B'!I41<5,'Tabel 4(Br) B'!I41<0.5),\"-\",IFERROR('Tabel 4(Br) B'!I41/'Tabel 4F B'!I41*100,\"-\"))","v":"-"}]
[{"$f":"'[1]Tabel 4(Br) B DATA'!I41","v":"Bac. Hum."},null,{"$f":"IF(OR('Tabel 4F B'!C42<5,'Tabel 4(Br) B'!C42<0.5),\"-\",IFERROR('Tabel 4(Br) B'!C42/'Tabel 4F B'!C42*100,\"-\"))","v":"-"},{"$f":"IF(OR('Tabel 4F B'!D42<5,'Tabel 4(Br) B'!D42<0.5),\"-\",IFERROR('Tabel 4(Br) B'!D42/'Tabel 4F B'!D42*100,\"-\"))","v":"-"},{"$f":"IF(OR('Tabel 4F B'!E42<5,'Tabel 4(Br) B'!E42<0.5),\"-\",IFERROR('Tabel 4(Br) B'!E42/'Tabel 4F B'!E42*100,\"-\"))","v":"-"},{"$f":"IF(OR('Tabel 4F B'!F42<5,'Tabel 4(Br) B'!F42<0.5),\"-\",IFERROR('Tabel 4(Br) B'!F42/'Tabel 4F B'!F42*100,\"-\"))","v":"-"},{"$f":"IF(OR('Tabel 4F B'!G42<5,'Tabel 4(Br) B'!G42<0.5),\"-\",IFERROR('Tabel 4(Br) B'!G42/'Tabel 4F B'!G42*100,\"-\"))","v":"-"},null,{"$f":"IF(OR('Tabel 4F B'!I42<5,'Tabel 4(Br) B'!I42<0.5),\"-\",IFERROR('Tabel 4(Br) B'!I42/'Tabel 4F B'!I42*100,\"-\"))","v":16.681939653311144}]
[{"$f":"'[1]Tabel 4(Br) B DATA'!I42","v":"Bac. Nat."},null,{"$f":"IF(OR('Tabel 4F B'!C43<5,'Tabel 4(Br) B'!C43<0.5),\"-\",IFERROR('Tabel 4(Br) B'!C43/'Tabel 4F B'!C43*100,\"-\"))","v":"-"},{"$f":"IF(OR('Tabel 4F B'!D43<5,'Tabel 4(Br) B'!D43<0.5),\"-\",IFERROR('Tabel 4(Br) B'!D43/'Tabel 4F B'!D43*100,\"-\"))","v":"-"},{"$f":"IF(OR('Tabel 4F B'!E43<5,'Tabel 4(Br) B'!E43<0.5),\"-\",IFERROR('Tabel 4(Br) B'!E43/'Tabel 4F B'!E43*100,\"-\"))","v":"-"},{"$f":"IF(OR('Tabel 4F B'!F43<5,'Tabel 4(Br) B'!F43<0.5),\"-\",IFERROR('Tabel 4(Br) B'!F43/'Tabel 4F B'!F43*100,\"-\"))","v":"-"},{"$f":"IF(OR('Tabel 4F B'!G43<5,'Tabel 4(Br) B'!G43<0.5),\"-\",IFERROR('Tabel 4(Br) B'!G43/'Tabel 4F B'!G43*100,\"-\"))","v":"-"},null,{"$f":"IF(OR('Tabel 4F B'!I43<5,'Tabel 4(Br) B'!I43<0.5),\"-\",IFERROR('Tabel 4(Br) B'!I43/'Tabel 4F B'!I43*100,\"-\"))","v":19.99625771845567}]
[{"$f":"'[1]Tabel 4(Br) B DATA'!I43","v":"Andre"},null,{"$f":"IF(OR('Tabel 4F B'!C44<5,'Tabel 4(Br) B'!C44<0.5),\"-\",IFERROR('Tabel 4(Br) B'!C44/'Tabel 4F B'!C44*100,\"-\"))","v":"-"},{"$f":"IF(OR('Tabel 4F B'!D44<5,'Tabel 4(Br) B'!D44<0.5),\"-\",IFERROR('Tabel 4(Br) B'!D44/'Tabel 4F B'!D44*100,\"-\"))","v":7.3632854459901864},{"$f":"IF(OR('Tabel 4F B'!E44<5,'Tabel 4(Br) B'!E44<0.5),\"-\",IFERROR('Tabel 4(Br) B'!E44/'Tabel 4F B'!E44*100,\"-\"))","v":11.002769750352833},{"$f":"IF(OR('Tabel 4F B'!F44<5,'Tabel 4(Br) B'!F44<0.5),\"-\",IFERROR('Tabel 4(Br) B'!F44/'Tabel 4F B'!F44*100,\"-\"))","v":4.7776461049086345},{"$f":"IF(OR('Tabel 4F B'!G44<5,'Tabel 4(Br) B'!G44<0.5),\"-\",IFERROR('Tabel 4(Br) B'!G44/'Tabel 4F B'!G44*100,\"-\"))","v":5.6957525104471927},null,{"$f":"IF(OR('Tabel 4F B'!I44<5,'Tabel 4(Br) B'!I44<0.5),\"-\",IFERROR('Tabel 4(Br) B'!I44/'Tabel 4F B'!I44*100,\"-\"))","v":7.6991434524092641}]
[]
[{"$f":"'[1]Tabel 4(Br) B DATA'!I45","v":"Total"},null,{"$f":"IF(OR('Tabel 4F B'!C46<5,'Tabel 4(Br) B'!C46<0.5),\"-\",IFERROR('Tabel 4(Br) B'!C46/'Tabel 4F B'!C46*100,\"-\"))","v":4.6154805713217684},{"$f":"IF(OR('Tabel 4F B'!D46<5,'Tabel 4(Br) B'!D46<0.5),\"-\",IFERROR('Tabel 4(Br) B'!D46/'Tabel 4F B'!D46*100,\"-\"))","v":8.0009032004402485},{"$f":"IF(OR('Tabel 4F B'!E46<5,'Tabel 4(Br) B'!E46<0.5),\"-\",IFERROR('Tabel 4(Br) B'!E46/'Tabel 4F B'!E46*100,\"-\"))","v":7.8446537350048722},{"$f":"IF(OR('Tabel 4F B'!F46<5,'Tabel 4(Br) B'!F46<0.5),\"-\",IFERROR('Tabel 4(Br) B'!F46/'Tabel 4F B'!F46*100,\"-\"))","v":6.2124992203580112},{"$f":"IF(OR('Tabel 4F B'!G46<5,'Tabel 4(Br) B'!G46<0.5),\"-\",IFERROR('Tabel 4(Br) B'!G46/'Tabel 4F B'!G46*100,\"-\"))","v":7.9589287461583034},null,{"$f":"IF(OR('Tabel 4F B'!I46<5,'Tabel 4(Br) B'!I46<0.5),\"-\",IFERROR('Tabel 4(Br) B'!I46/'Tabel 4F B'!I46*100,\"-\"))","v":7.294353096496355}]
[]
[{"$f":"'[1]Tabel 4(Br) B DATA'!I47","v":"Ingeniører i alt"},null,{"$f":"IF(OR('Tabel 4F B'!C48<5,'Tabel 4(Br) B'!C48<0.5),\"-\",IFERROR('Tabel 4(Br) B'!C48/'Tabel 4F B'!C48*100,\"-\"))","v":"-"},{"$f":"IF(OR('Tabel 4F B'!D48<5,'Tabel 4(Br) B'!D48<0.5),\"-\",IFERROR('Tabel 4(Br) B'!D48/'Tabel 4F B'!D48*100,\"-\"))","v":7.9985030873822316},{"$f":"IF(OR('Tabel 4F B'!E48<5,'Tabel 4(Br) B'!E48<0.5),\"-\",IFERROR('Tabel 4(Br) B'!E48/'Tabel 4F B'!E48*100,\"-\"))","v":5.8629077527599378},{"$f":"IF(OR('Tabel 4F B'!F48<5,'Tabel 4(Br) B'!F48<0.5),\"-\",IFERROR('Tabel 4(Br) B'!F48/'Tabel 4F B'!F48*100,\"-\"))","v":6.6694339476553743},{"$f":"IF(OR('Tabel 4F B'!G48<5,'Tabel 4(Br) B'!G48<0.5),\"-\",IFERROR('Tabel 4(Br) B'!G48/'Tabel 4F B'!G48*100,\"-\"))","v":8.3317740493565378},null,{"$f":"IF(OR('Tabel 4F B'!I48<5,'Tabel 4(Br) B'!I48<0.5),\"-\",IFERROR('Tabel 4(Br) B'!I48/'Tabel 4F B'!I48*100,\"-\"))","v":6.5972179801839035}]
[{"$f":"'[1]Tabel 4(Br) B DATA'!I48","v":"Magistre i alt"},null,{"$f":"IF(OR('Tabel 4F B'!C49<5,'Tabel 4(Br) B'!C49<0.5),\"-\",IFERROR('Tabel 4(Br) B'!C49/'Tabel 4F B'!C49*100,\"-\"))","v":"-"},{"$f":"IF(OR('Tabel 4F B'!D49<5,'Tabel 4(Br) B'!D49<0.5),\"-\",IFERROR('Tabel 4(Br) B'!D49/'Tabel 4F B'!D49*100,\"-\"))","v":11.888674054207673},{"$f":"IF(OR('Tabel 4F B'!E49<5,'Tabel 4(Br) B'!E49<0.5),\"-\",IFERROR('Tabel 4(Br) B'!E49/'Tabel 4F B'!E49*100,\"-\"))","v":15.413663863735572},{"$f":"IF(OR('Tabel 4F B'!F49<5,'Tabel 4(Br) B'!F49<0.5),\"-\",IFERROR('Tabel 4(Br) B'!F49/'Tabel 4F B'!F49*100,\"-\"))","v":4.2545229188203475},{"$f":"IF(OR('Tabel 4F B'!G49<5,'Tabel 4(Br) B'!G49<0.5),\"-\",IFERROR('Tabel 4(Br) B'!G49/'Tabel 4F B'!G49*100,\"-\"))","v":16.089500590217899},null,{"$f":"IF(OR('Tabel 4F B'!I49<5,'Tabel 4(Br) B'!I49<0.5),\"-\",IFERROR('Tabel 4(Br) B'!I49/'Tabel 4F B'!I49*100,\"-\"))","v":11.364121308413882}]
[{"$f":"'[1]Tabel 4(Br) B DATA'!I49","v":"DJØF'ere i alt"},null,{"$f":"IF(OR('Tabel 4F B'!C50<5,'Tabel 4(Br) B'!C50<0.5),\"-\",IFERROR('Tabel 4(Br) B'!C50/'Tabel 4F B'!C50*100,\"-\"))","v":"-"},{"$f":"IF(OR('Tabel 4F B'!D50<5,'Tabel 4(Br) B'!D50<0.5),\"-\",IFERROR('Tabel 4(Br) B'!D50/'Tabel 4F B'!D50*100,\"-\"))","v":"-"},{"$f":"IF(OR('Tabel 4F B'!E50<5,'Tabel 4(Br) B'!E50<0.5),\"-\",IFERROR('Tabel 4(Br) B'!E50/'Tabel 4F B'!E50*100,\"-\"))","v":7.861563303464342},{"$f":"IF(OR('Tabel 4F B'!F50<5,'Tabel 4(Br) B'!F50<0.5),\"-\",IFERROR('Tabel 4(Br) B'!F50/'Tabel 4F B'!F50*100,\"-\"))","v":8.080209567766488},{"$f":"IF(OR('Tabel 4F B'!G50<5,'Tabel 4(Br) B'!G50<0.5),\"-\",IFERROR('Tabel 4(Br) B'!G50/'Tabel 4F B'!G50*100,\"-\"))","v":"-"},null,{"$f":"IF(OR('Tabel 4F B'!I50<5,'Tabel 4(Br) B'!I50<0.5),\"-\",IFERROR('Tabel 4(Br) B'!I50/'Tabel 4F B'!I50*100,\"-\"))","v":4.8012675983443609}]
[]
[]
[]
[]
[]
[]
[{"$f":"'[1]Tabel 4(Br) B DATA'!I106","v":"Bornholm"}]
[]
[null,null,{"$f":"'[1]Tabel 4(Br) B DATA'!K108","v":"Under 30 år"},{"$f":"'[1]Tabel 4(Br) B DATA'!L108","v":"30 - 39 år"},{"$f":"'[1]Tabel 4(Br) B DATA'!M108","v":"40 - 49 år"},{"$f":"'[1]Tabel 4(Br) B DATA'!N108","v":"50 - 59 år"},{"$f":"'[1]Tabel 4(Br) B DATA'!O108","v":"Over 60 år"},null,{"$f":"'[1]Tabel 4(Br) B DATA'!Q108","v":"I alt"}]
[]
[{"$f":"'[1]Tabel 4(Br) B DATA'!I110","v":"Civ. ing."},null,{"$f":"IF(OR('Tabel 4F B'!C61<5,'Tabel 4(Br) B'!C61<0.5),\"-\",IFERROR('Tabel 4(Br) B'!C61/'Tabel 4F B'!C61*100,\"-\"))","v":"-"},{"$f":"IF(OR('Tabel 4F B'!D61<5,'Tabel 4(Br) B'!D61<0.5),\"-\",IFERROR('Tabel 4(Br) B'!D61/'Tabel 4F B'!D61*100,\"-\"))","v":15.381736706504373},{"$f":"IF(OR('Tabel 4F B'!E61<5,'Tabel 4(Br) B'!E61<0.5),\"-\",IFERROR('Tabel 4(Br) B'!E61/'Tabel 4F B'!E61*100,\"-\"))","v":"-"},{"$f":"IF(OR('Tabel 4F B'!F61<5,'Tabel 4(Br) B'!F61<0.5),\"-\",IFERROR('Tabel 4(Br) B'!F61/'Tabel 4F B'!F61*100,\"-\"))","v":"-"},{"$f":"IF(OR('Tabel 4F B'!G61<5,'Tabel 4(Br) B'!G61<0.5),\"-\",IFERROR('Tabel 4(Br) B'!G61/'Tabel 4F B'!G61*100,\"-\"))","v":"-"},null,{"$f":"IF(OR('Tabel 4F B'!I61<5,'Tabel 4(Br) B'!I61<0.5),\"-\",IFERROR('Tabel 4(Br) B'!I61/'Tabel 4F B'!I61*100,\"-\"))","v":6.9837577643169784}]
[{"$f":"'[1]Tabel 4(Br) B DATA'!I111","v":"Diplom ing."},null,{"$f":"IF(OR('Tabel 4F B'!C62<5,'Tabel 4(Br) B'!C62<0.5),\"-\",IFERROR('Tabel 4(Br) B'!C62/'Tabel 4F B'!C62*100,\"-\"))","v":"-"},{"$f":"IF(OR('Tabel 4F B'!D62<5,'Tabel 4(Br) B'!D62<0.5),\"-\",IFERROR('Tabel 4(Br) B'!D62/'Tabel 4F B'!D62*100,\"-\"))","v":"-"},{"$f":"IF(OR('Tabel 4F B'!E62<5,'Tabel 4(Br) B'!E62<0.5),\"-\",IFERROR('Tabel 4(Br) B'!E62/'Tabel 4F B'!E62*100,\"-\"))","v":6.4169121774575215},{"$f":"IF(OR('Tabel 4F B'!F62<5,'Tabel 4(Br) B'!F62<0.5),\"-\",IFERROR('Tabel 4(Br) B'!F62/'Tabel 4F B'!F62*100,\"-\"))","v":9.2101706896193285},{"$f":"IF(OR('Tabel 4F B'!G62<5,'Tabel 4(Br) B'!G62<0.5),\"-\",IFERROR('Tabel 4(Br) B'!G62/'Tabel 4F B'!G62*100,\"-\"))","v":9.9981288592278421},null,{"$f":"IF(OR('Tabel 4F B'!I62<5,'Tabel 4(Br) B'!I62<0.5),\"-\",IFERROR('Tabel 4(Br) B'!I62/'Tabel 4F B'!I62*100,\"-\"))","v":6.3886092077946373}]
[{"$f":"'[1]Tabel 4(Br) B DATA'!I112","v":"Cand. Scient. Tek"},null,{"$f":"IF(OR('Tabel 4F B'!C63<5,'Tabel 4(Br) B'!C63<0.5),\"-\",IFERROR('Tabel 4(Br) B'!C63/'Tabel 4F B'!C63*100,\"-\"))","v":"-"},{"$f":"IF(OR('Tabel 4F B'!D63<5,'Tabel 4(Br) B'!D63<0.5),\"-\",IFERROR('Tabel 4(Br) B'!D63/'Tabel 4F B'!D63*100,\"-\"))","v":13.919819783461318},{"$f":"IF(OR('Tabel 4F B'!E63<5,'Tabel 4(Br) B'!E63<0.5),\"-\",IFERROR('Tabel 4(Br) B'!E63/'Tabel 4F B'!E63*100,\"-\"))","v":"-"},{"$f":"IF(OR('Tabel 4F B'!F63<5,'Tabel 4(Br) B'!F63<0.5),\"-\",IFERROR('Tabel 4(Br) B'!F63/'Tabel 4F B'!F63*100,\"-\"))","v":"-"},{"$f":"IF(OR('Tabel 4F B'!G63<5,'Tabel 4(Br) B'!G63<0.5),\"-\",IFERROR('Tabel 4(Br) B'!G63/'Tabel 4F B'!G63*100,\"-\"))","v":"-"},null,{"$f":"IF(OR('Tabel 4F B'!I63<5,'Tabel 4(Br) B'!I63<0.5),\"-\",IFERROR('Tabel 4(Br) B'!I63/'Tabel 4F B'!I63*100,\"-\"))","v":8.0166687457119696}]
[{"$f":"'[1]Tabel 4(Br) B DATA'!I113","v":"MA. Hum."},null,{"$f":"IF(OR('Tabel 4F B'!C64<5,'Tabel 4(Br) B'!C64<0.5),\"-\",IFERROR('Tabel 4(Br) B'!C64/'Tabel 4F B'!C64*100,\"-\"))","v":"-"},{"$f":"IF(OR('Tabel 4F B'!D64<5,'Tabel 4(Br) B'!D64<0.5),\"-\",IFERROR('Tabel 4(Br) B'!D64/'Tabel 4F B'!D64*100,\"-\"))","v":10.895352409729007},{"$f":"IF(OR('Tabel 4F B'!E64<5,'Tabel 4(Br) B'!E64<0.5),\"-\",IFERROR('Tabel 4(Br) B'!E64/'Tabel 4F B'!E64*100,\"-\"))","v":14.056425289507057},{"$f":"IF(OR('Tabel 4F B'!F64<5,'Tabel 4(Br) B'!F64<0.5),\"-\",IFERROR('Tabel 4(Br) B'!F64/'Tabel 4F B'!F64*100,\"-\"))","v":4.9990644296139211},{"$f":"IF(OR('Tabel 4F B'!G64<5,'Tabel 4(Br) B'!G64<0.5),\"-\",IFERROR('Tabel 4(Br) B'!G64/'Tabel 4F B'!G64*100,\"-\"))","v":21.408969001434542},null,{"$f":"IF(OR('Tabel 4F B'!I64<5,'Tabel 4(Br) B'!I64<0.5),\"-\",IFERROR('Tabel 4(Br) B'!I64/'Tabel 4F B'!I64*100,\"-\"))","v":11.916422378843635}]
[{"$f":"'[1]Tabel 4(Br) B DATA'!I114","v":"MA. Nat."},null,{"$f":"IF(OR('Tabel 4F B'!C65<5,'Tabel 4(Br) B'!C65<0.5),\"-\",IFERROR('Tabel 4(Br) B'!C65/'Tabel 4F B'!C65*100,\"-\"))","v":"-"},{"$f":"IF(OR('Tabel 4F B'!D65<5,'Tabel 4(Br) B'!D65<0.5),\"-\",IFERROR('Tabel 4(Br) B'!D65/'Tabel 4F B'!D65*100,\"-\"))","v":"-"},{"$f":"IF(OR('Tabel 4F B'!E65<5,'Tabel 4(Br) B'!E65<0.5),\"-\",IFERROR('Tabel 4(Br) B'!E65/'Tabel 4F B'!E65*100,\"-\"))","v":7.8821805027131546},{"$f":"IF(OR('Tabel 4F B'!F65<5,'Tabel 4(Br) B'!F65<0.5),\"-\",IFERROR('Tabel 4(Br) B'!F65/'Tabel 4F B'!F65*100,\"-\"))","v":"-"},{"$f":"IF(OR('Tabel 4F B'!G65<5,'Tabel 4(Br) B'!G65<0.5),\"-\",IFERROR('Tabel 4(Br) B'!G65/'Tabel 4F B'!G65*100,\"-\"))","v":15.312168652154931},null,{"$f":"IF(OR('Tabel 4F B'!I65<5,'Tabel 4(Br) B'!I65<0.5),\"-\",IFERROR('Tabel 4(Br) B'!I65/'Tabel 4F B'!I65*100,\"-\"))","v":4.7388673903552183}]
[{"$f":"'[1]Tabel 4(Br) B DATA'!I115","v":"MA. Ph.d."},null,{"$f":"IF(OR('Tabel 4F B'!C66<5,'Tabel 4(Br) B'!C66<0.5),\"-\",IFERROR('Tabel 4(Br) B'!C66/'Tabel 4F B'!C66*100,\"-\"))","v":"-"},{"$f":"IF(OR('Tabel 4F B'!D66<5,'Tabel 4(Br) B'!D66<0.5),\"-\",IFERROR('Tabel 4(Br) B'!D66/'Tabel 4F B'!D66*100,\"-\"))","v":"-"},{"$f":"IF(OR('Tabel 4F B'!E66<5,'Tabel 4(Br) B'!E66<0.5),\"-\",IFERROR('Tabel 4(Br) B'!E66/'Tabel 4F B'!E66*100,\"-\"))","v":"-"},{"$f":"IF(OR('Tabel 4F B'!F66<5,'Tabel 4(Br) B'!F66<0.5),\"-\",IFERROR('Tabel 4(Br) B'!F66/'Tabel 4F B'!F66*100,\"-\"))","v":"-"},{"$f":"IF(OR('Tabel 4F B'!G66<5,'Tabel 4(Br) B'!G66<0.5),\"-\",IFERROR('Tabel 4(Br) B'!G66/'Tabel 4F B'!G66*100,\"-\"))","v":"-"},null,{"$f":"IF(OR('Tabel 4F B'!I66<5,'Tabel 4(Br) B'!I66<0.5),\"-\",IFERROR('Tabel 4(Br) B'!I66/'Tabel 4F B'!I66*100,\"-\"))","v":14.283041227468345}]
[{"$f":"'[1]Tabel 4(Br) B DATA'!I116","v":"MA. Samf."},null,{"$f":"IF(OR('Tabel 4F B'!C67<5,'Tabel 4(Br) B'!C67<0.5),\"-\",IFERROR('Tabel 4(Br) B'!C67/'Tabel 4F B'!C67*100,\"-\"))","v":"-"},{"$f":"IF(OR('Tabel 4F B'!D67<5,'Tabel 4(Br) B'!D67<0.5),\"-\",IFERROR('Tabel 4(Br) B'!D67/'Tabel 4F B'!D67*100,\"-\"))","v":"-"},{"$f":"IF(OR('Tabel 4F B'!E67<5,'Tabel 4(Br) B'!E67<0.5),\"-\",IFERROR('Tabel 4(Br) B'!E67/'Tabel 4F B'!E67*100,\"-\"))","v":"-"},{"$f":"IF(OR('Tabel 4F B'!F67<5,'Tabel 4(Br) B'!F67<0.5),\"-\",IFERROR('Tabel 4(Br) B'!F67/'Tabel 4F B'!F67*100,\"-\"))","v":"-"},{"$f":"IF(OR('Tabel 4F B'!G67<5,'Tabel 4(Br) B'!G67<0.5),\"-\",IFERROR('Tabel 4(Br) B'!G67/'Tabel 4F B'!G67*100,\"-\"))","v":"-"},null,{"$f":"IF(OR('Tabel 4F B'!I67<5,'Tabel 4(Br) B'!I67<0.5),\"-\",IFERROR('Tabel 4(Br) B'!I67/'Tabel 4F B'!I67*100,\"-\"))","v":6.665419239485229}]
[{"$f":"'[1]Tabel 4(Br) B DATA'!I117","v":"Øvrige Mag."},null,{"$f":"IF(OR('Tabel 4F B'!C68<5,'Tabel 4(Br) B'!C68<0.5),\"-\",IFERROR('Tabel 4(Br) B'!C68/'Tabel 4F B'!C68*100,\"-\"))","v":"-"},{"$f":"IF(OR('Tabel 4F B'!D68<5,'Tabel 4(Br) B'!D68<0.5),\"-\",IFERROR('Tabel 4(Br) B'!D68/'Tabel 4F B'!D68*100,\"-\"))","v":44.605916962930621},{"$f":"IF(OR('Tabel 4F B'!E68<5,'Tabel 4(Br) B'!E68<0.5),\"-\",IFERROR('Tabel 4(Br) B'!E68/'Tabel 4F B'!E68*100,\"-\"))","v":39.992515436911368},{"$f":"IF(OR('Tabel 4F B'!F68<5,'Tabel 4(Br) B'!F68<0.5),\"-\",IFERROR('Tabel 4(Br) B'!F68/'Tabel 4F B'!F68*100,\"-\"))","v":"-"},{"$f":"IF(OR('Tabel 4F B'!G68<5,'Tabel 4(Br) B'!G68<0.5),\"-\",IFERROR('Tabel 4(Br) B'!G68/'Tabel 4F B'!G68*100,\"-\"))","v":"-"},null,{"$f":"IF(OR('Tabel 4F B'!I68<5,'Tabel 4(Br) B'!I68<0.5),\"-\",IFERROR('Tabel 4(Br) B'!I68/'Tabel 4F B'!I68*100,\"-\"))","v":29.224879935133785}]
[{"$f":"'[1]Tabel 4(Br) B DATA'!I118","v":"Agronom"},null,{"$f":"IF(OR('Tabel 4F B'!C69<5,'Tabel 4(Br) B'!C69<0.5),\"-\",IFERROR('Tabel 4(Br) B'!C69/'Tabel 4F B'!C69*100,\"-\"))","v":"-"},{"$f":"IF(OR('Tabel 4F B'!D69<5,'Tabel 4(Br) B'!D69<0.5),\"-\",IFERROR('Tabel 4(Br) B'!D69/'Tabel 4F B'!D69*100,\"-\"))","v":"-"},{"$f":"IF(OR('Tabel 4F B'!E69<5,'Tabel 4(Br) B'!E69<0.5),\"-\",IFERROR('Tabel 4(Br) B'!E69/'Tabel 4F B'!E69*100,\"-\"))","v":"-"},{"$f":"IF(OR('Tabel 4F B'!F69<5,'Tabel 4(Br) B'!F69<0.5),\"-\",IFERROR('Tabel 4(Br) B'!F69/'Tabel 4F B'!F69*100,\"-\"))","v":"-"},{"$f":"IF(OR('Tabel 4F B'!G69<5,'Tabel 4(Br) B'!G69<0.5),\"-\",IFERROR('Tabel 4(Br) B'!G69/'Tabel 4F B'!G69*100,\"-\"))","v":"-"},null,{"$f":"IF(OR('Tabel 4F B'!I69<5,'Tabel 4(Br) B'!I69<0.5),\"-\",IFERROR('Tabel 4(Br) B'!I69/'Tabel 4F B'!I69*100,\"-\"))","v":"-"}]
[{"$f":"'[1]Tabel 4(Br) B DATA'!I119","v":"Landsk. Arkt."},null,{"$f":"IF(OR('Tabel 4F B'!C70<5,'Tabel 4(Br) B'!C70<0.5),\"-\",IFERROR('Tabel 4(Br) B'!C70/'Tabel 4F B'!C70*100,\"-\"))","v":"-"},{"$f":"IF(OR('Tabel 4F B'!D70<5,'Tabel 4(Br) B'!D70<0.5),\"-\",IFERROR('Tabel 4(Br) B'!D70/'Tabel 4F B'!D70*100,\"-\"))","v":"-"},{"$f":"IF(OR('Tabel 4F B'!E70<5,'Tabel 4(Br) B'!E70<0.5),\"-\",IFERROR('Tabel 4(Br) B'!E70/'Tabel 4F B'!E70*100,\"-\"))","v":"-"},{"$f":"IF(OR('Tabel 4F B'!F70<5,'Tabel 4(Br) B'!F70<0.5),\"-\",IFERROR('Tabel 4(Br) B'!F70/'Tabel 4F B'!F70*100,\"-\"))","v":"-"},{"$f":"IF(OR('Tabel 4F B'!G70<5,'Tabel 4(Br) B'!G70<0.5),\"-\",IFERROR('Tabel 4(Br) B'!G70/'Tabel 4F B'!G70*100,\"-\"))","v":"-"},null,{"$f":"IF(OR('Tabel 4F B'!I70<5,'Tabel 4(Br) B'!I70<0.5),\"-\",IFERROR('Tabel 4(Br) B'!I70/'Tabel 4F B'!I70*100,\"-\"))","v":"-"}]
[{"$f":"'[1]Tabel 4(Br) B DATA'!I120","v":"Hortonom"},null,{"$f":"IF(OR('Tabel 4F B'!C71<5,'Tabel 4(Br) B'!C71<0.5),\"-\",IFERROR('Tabel 4(Br) B'!C71/'Tabel 4F B'!C71*100,\"-\"))","v":"-"},{"$f":"IF(OR('Tabel 4F B'!D71<5,'Tabel 4(Br) B'!D71<0.5),\"-\",IFERROR('Tabel 4(Br) B'!D71/'Tabel 4F B'!D71*100,\"-\"))","v":"-"},{"$f":"IF(OR('Tabel 4F B'!E71<5,'Tabel 4(Br) B'!E71<0.5),\"-\",IFERROR('Tabel 4(Br) B'!E71/'Tabel 4F B'!E71*100,\"-\"))","v":"-"},{"$f":"IF(OR('Tabel 4F B'!F71<5,'Tabel 4(Br) B'!F71<0.5),\"-\",IFERROR('Tabel 4(Br) B'!F71/'Tabel 4F B'!F71*100,\"-\"))","v":"-"},{"$f":"IF(OR('Tabel 4F B'!G71<5,'Tabel 4(Br) B'!G71<0.5),\"-\",IFERROR('Tabel 4(Br) B'!G71/'Tabel 4F B'!G71*100,\"-\"))","v":"-"},null,{"$f":"IF(OR('Tabel 4F B'!I71<5,'Tabel 4(Br) B'!I71<0.5),\"-\",IFERROR('Tabel 4(Br) B'!I71/'Tabel 4F B'!I71*100,\"-\"))","v":"-"}]
[{"$f":"'[1]Tabel 4(Br) B DATA'!I121","v":"Forstkand."},null,{"$f":"IF(OR('Tabel 4F B'!C72<5,'Tabel 4(Br) B'!C72<0.5),\"-\",IFERROR('Tabel 4(Br) B'!C72/'Tabel 4F B'!C72*100,\"-\"))","v":"-"},{"$f":"IF(OR('Tabel 4F B'!D72<5,'Tabel 4(Br) B'!D72<0.5),\"-\",IFERROR('Tabel 4(Br) B'!D72/'Tabel 4F B'!D72*100,\"-\"))","v":"-"},{"$f":"IF(OR('Tabel 4F B'!E72<5,'Tabel 4(Br) B'!E72<0.5),\"-\",IFERROR('Tabel 4(Br) B'!E72/'Tabel 4F B'!E72*100,\"-\"))","v":"-"},{"$f":"IF(OR('Tabel 4F B'!F72<5,'Tabel 4(Br) B'!F72<0.5),\"-\",IFERROR('Tabel 4(Br) B'!F72/'Tabel 4F B'!F72*100,\"-\"))","v":"-"},{"$f":"IF(OR('Tabel 4F B'!G72<5,'Tabel 4(Br) B'!G72<0.5),\"-\",IFERROR('Tabel 4(Br) B'!G72/'Tabel 4F B'!G72*100,\"-\"))","v":"-"},null,{"$f":"IF(OR('Tabel 4F B'!I72<5,'Tabel 4(Br) B'!I72<0.5),\"-\",IFERROR('Tabel 4(Br) B'!I72/'Tabel 4F B'!I72*100,\"-\"))","v":"-"}]
[{"$f":"'[1]Tabel 4(Br) B DATA'!I122","v":"Jordbrugsakad."},null,{"$f":"IF(OR('Tabel 4F B'!C73<5,'Tabel 4(Br) B'!C73<0.5),\"-\",IFERROR('Tabel 4(Br) B'!C73/'Tabel 4F B'!C73*100,\"-\"))","v":"-"},{"$f":"IF(OR('Tabel 4F B'!D73<5,'Tabel 4(Br) B'!D73<0.5),\"-\",IFERROR('Tabel 4(Br) B'!D73/'Tabel 4F B'!D73*100,\"-\"))","v":"-"},{"$f":"IF(OR('Tabel 4F B'!E73<5,'Tabel 4(Br) B'!E73<0.5),\"-\",IFERROR('Tabel 4(Br) B'!E73/'Tabel 4F B'!E73*100,\"-\"))","v":"-"},{"$f":"IF(OR('Tabel 4F B'!F73<5,'Tabel 4(Br) B'!F73<0.5),\"-\",IFERROR('Tabel 4(Br) B'!F73/'Tabel 4F B'!F73*100,\"-\"))","v":"-"},{"$f":"IF(OR('Tabel 4F B'!G73<5,'Tabel 4(Br) B'!G73<0.5),\"-\",IFERROR('Tabel 4(Br) B'!G73/'Tabel 4F B'!G73*100,\"-\"))","v":"-"},null,{"$f":"IF(OR('Tabel 4F B'!I73<5,'Tabel 4(Br) B'!I73<0.5),\"-\",IFERROR('Tabel 4(Br) B'!I73/'Tabel 4F B'!I73*100,\"-\"))","v":"-"}]
[{"$f":"'[1]Tabel 4(Br) B DATA'!I123","v":"Mejeriing."},null,{"$f":"IF(OR('Tabel 4F B'!C74<5,'Tabel 4(Br) B'!C74<0.5),\"-\",IFERROR('Tabel 4(Br) B'!C74/'Tabel 4F B'!C74*100,\"-\"))","v":"-"},{"$f":"IF(OR('Tabel 4F B'!D74<5,'Tabel 4(Br) B'!D74<0.5),\"-\",IFERROR('Tabel 4(Br) B'!D74/'Tabel 4F B'!D74*100,\"-\"))","v":"-"},{"$f":"IF(OR('Tabel 4F B'!E74<5,'Tabel 4(Br) B'!E74<0.5),\"-\",IFERROR('Tabel 4(Br) B'!E74/'Tabel 4F B'!E74*100,\"-\"))","v":"-"},{"$f":"IF(OR('Tabel 4F B'!F74<5,'Tabel 4(Br) B'!F74<0.5),\"-\",IFERROR('Tabel 4(Br) B'!F74/'Tabel 4F B'!F74*100,\"-\"))","v":"-"},{"$f":"IF(OR('Tabel 4F B'!G74<5,'Tabel 4(Br) B'!G74<0.5),\"-\",IFERROR('Tabel 4(Br) B'!G74/'Tabel 4F B'!G74*100,\"-\"))","v":"-"},null,{"$f":"IF(OR('Tabel 4F B'!I74<5,'Tabel 4(Br) B'!I74<0.5),\"-\",IFERROR('Tabel 4(Br) B'!I74/'Tabel 4F B'!I74*100,\"-\"))","v":"-"}]
[{"$f":"'[1]Tabel 4(Br) B DATA'!I124","v":"Levn.m.kand."},null,{"$f":"IF(OR('Tabel 4F B'!C75<5,'Tabel 4(Br) B'!C75<0.5),\"-\",IFERROR('Tabel 4(Br) B'!C75/'Tabel 4F B'!C75*100,\"-\"))","v":"-"},{"$f":"IF(OR('Tabel 4F B'!D75<5,'Tabel 4(Br) B'!D75<0.5),\"-\",IFERROR('Tabel 4(Br) B'!D75/'Tabel 4F B'!D75*100,\"-\"))","v":"-"},{"$f":"IF(OR('Tabel 4F B'!E75<5,'Tabel 4(Br) B'!E75<0.5),\"-\",IFERROR('Tabel 4(Br) B'!E75/'Tabel 4F B'!E75*100,\"-\"))","v":"-"},{"$f":"IF(OR('Tabel 4F B'!F75<5,'Tabel 4(Br) B'!F75<0.5),\"-\",IFERROR('Tabel 4(Br) B'!F75/'Tabel 4F B'!F75*100,\"-\"))","v":"-"},{"$f":"IF(OR('Tabel 4F B'!G75<5,'Tabel 4(Br) B'!G75<0.5),\"-\",IFERROR('Tabel 4(Br) B'!G75/'Tabel 4F B'!G75*100,\"-\"))","v":"-"},null,{"$f":"IF(OR('Tabel 4F B'!I75<5,'Tabel 4(Br) B'!I75<0.5),\"-\",IFERROR('Tabel 4(Br) B'!I75/'Tabel 4F B'!I75*100,\"-\"))","v":"-"}]
[{"$f":"'[1]Tabel 4(Br) B DATA'!I125","v":"Dyrlæge"},null,{"$f":"IF(OR('Tabel 4F B'!C76<5,'Tabel 4(Br) B'!C76<0.5),\"-\",IFERROR('Tabel 4(Br) B'!C76/'Tabel 4F B'!C76*100,\"-\"))","v":"-"},{"$f":"IF(OR('Tabel 4F B'!D76<5,'Tabel 4(Br) B'!D76<0.5),\"-\",IFERROR('Tabel 4(Br) B'!D76/'Tabel 4F B'!D76*100,\"-\"))","v":"-"},{"$f":"IF(OR('Tabel 4F B'!E76<5,'Tabel 4(Br) B'!E76<0.5),\"-\",IFERROR('Tabel 4(Br) B'!E76/'Tabel 4F B'!E76*100,\"-\"))","v":"-"},{"$f":"IF(OR('Tabel 4F B'!F76<5,'Tabel 4(Br) B'!F76<0.5),\"-\",IFERROR('Tabel 4(Br) B'!F76/'Tabel 4F B'!F76*100,\"-\"))","v":"-"},{"$f":"IF(OR('Tabel 4F B'!G76<5,'Tabel 4(Br) B'!G76<0.5),\"-\",IFERROR('Tabel 4(Br) B'!G76/'Tabel 4F B'!G76*100,\"-\"))","v":"-"},null,{"$f":"IF(OR('Tabel 4F B'!I76<5,'Tabel 4(Br) B'!I76<0.5),\"-\",IFERROR('Tabel 4(Br) B'!I76/'Tabel 4F B'!I76*100,\"-\"))","v":"-"}]
[{"$f":"'[1]Tabel 4(Br) B DATA'!I126","v":"Farmaceut"},null,{"$f":"IF(OR('Tabel 4F B'!C77<5,'Tabel 4(Br) B'!C77<0.5),\"-\",IFERROR('Tabel 4(Br) B'!C77/'Tabel 4F B'!C77*100,\"-\"))","v":"-"},{"$f":"IF(OR('Tabel 4F B'!D77<5,'Tabel 4(Br) B'!D77<0.5),\"-\",IFERROR('Tabel 4(Br) B'!D77/'Tabel 4F B'!D77*100,\"-\"))","v":"-"},{"$f":"IF(OR('Tabel 4F B'!E77<5,'Tabel 4(Br) B'!E77<0.5),\"-\",IFERROR('Tabel 4(Br) B'!E77/'Tabel 4F B'!E77*100,\"-\"))","v":"-"},{"$f":"IF(OR('Tabel 4F B'!F77<5,'Tabel 4(Br) B'!F77<0.5),\"-\",IFERROR('Tabel 4(Br) B'!F77/'Tabel 4F B'!F77*100,\"-\"))","v":"-"},{"$f":"IF(OR('Tabel 4F B'!G77<5,'Tabel 4(Br) B'!G77<0.5),\"-\",IFERROR('Tabel 4(Br) B'!G77/'Tabel 4F B'!G77*100,\"-\"))","v":"-"},null,{"$f":"IF(OR('Tabel 4F B'!I77<5,'Tabel 4(Br) B'!I77<0.5),\"-\",IFERROR('Tabel 4(Br) B'!I77/'Tabel 4F B'!I77*100,\"-\"))","v":"-"}]
[{"$f":"'[1]Tabel 4(Br) B DATA'!I127","v":"Læge"},null,{"$f":"IF(OR('Tabel 4F B'!C78<5,'Tabel 4(Br) B'!C78<0.5),\"-\",IFERROR('Tabel 4(Br) B'!C78/'Tabel 4F B'!C78*100,\"-\"))","v":14.283041227468345},{"$f":"IF(OR('Tabel 4F B'!D78<5,'Tabel 4(Br) B'!D78<0.5),\"-\",IFERROR('Tabel 4(Br) B'!D78/'Tabel 4F B'!D78*100,\"-\"))","v":"-"},{"$f":"IF(OR('Tabel 4F B'!E78<5,'Tabel 4(Br) B'!E78<0.5),\"-\",IFERROR('Tabel 4(Br) B'!E78/'Tabel 4F B'!E78*100,\"-\"))","v":"-"},{"$f":"IF(OR('Tabel 4F B'!F78<5,'Tabel 4(Br) B'!F78<0.5),\"-\",IFERROR('Tabel 4(Br) B'!F78/'Tabel 4F B'!F78*100,\"-\"))","v":"-"},{"$f":"IF(OR('Tabel 4F B'!G78<5,'Tabel 4(Br) B'!G78<0.5),\"-\",IFERROR('Tabel 4(Br) B'!G78/'Tabel 4F B'!G78*100,\"-\"))","v":"-"},null,{"$f":"IF(OR('Tabel 4F B'!I78<5,'Tabel 4(Br) B'!I78<0.5),\"-\",IFERROR('Tabel 4(Br) B'!I78/'Tabel 4F B'!I78*100,\"-\"))","v":3.3327096197426145}]
[{"$f":"'[1]Tabel 4(Br) B DATA'!I128","v":"Tandlæge"},null,{"$f":"IF(OR('Tabel 4F B'!C79<5,'Tabel 4(Br) B'!C79<0.5),\"-\",IFERROR('Tabel 4(Br) B'!C79/'Tabel 4F B'!C79*100,\"-\"))","v":"-"},{"$f":"IF(OR('Tabel 4F B'!D79<5,'Tabel 4(Br) B'!D79<0.5),\"-\",IFERROR('Tabel 4(Br) B'!D79/'Tabel 4F B'!D79*100,\"-\"))","v":"-"},{"$f":"IF(OR('Tabel 4F B'!E79<5,'Tabel 4(Br) B'!E79<0.5),\"-\",IFERROR('Tabel 4(Br) B'!E79/'Tabel 4F B'!E79*100,\"-\"))","v":"-"},{"$f":"IF(OR('Tabel 4F B'!F79<5,'Tabel 4(Br) B'!F79<0.5),\"-\",IFERROR('Tabel 4(Br) B'!F79/'Tabel 4F B'!F79*100,\"-\"))","v":"-"},{"$f":"IF(OR('Tabel 4F B'!G79<5,'Tabel 4(Br) B'!G79<0.5),\"-\",IFERROR('Tabel 4(Br) B'!G79/'Tabel 4F B'!G79*100,\"-\"))","v":"-"},null,{"$f":"IF(OR('Tabel 4F B'!I79<5,'Tabel 4(Br) B'!I79<0.5),\"-\",IFERROR('Tabel 4(Br) B'!I79/'Tabel 4F B'!I79*100,\"-\"))","v":"-"}]
[{"$f":"'[1]Tabel 4(Br) B DATA'!I129","v":"Arkitekt"},null,{"$f":"IF(OR('Tabel 4F B'!C80<5,'Tabel 4(Br) B'!C80<0.5),\"-\",IFERROR('Tabel 4(Br) B'!C80/'Tabel 4F B'!C80*100,\"-\"))","v":"-"},{"$f":"IF(OR('Tabel 4F B'!D80<5,'Tabel 4(Br) B'!D80<0.5),\"-\",IFERROR('Tabel 4(Br) B'!D80/'Tabel 4F B'!D80*100,\"-\"))","v":"-"},{"$f":"IF(OR('Tabel 4F B'!E80<5,'Tabel 4(Br) B'!E80<0.5),\"-\",IFERROR('Tabel 4(Br) B'!E80/'Tabel 4F B'!E80*100,\"-\"))","v":"-"},{"$f":"IF(OR('Tabel 4F B'!F80<5,'Tabel 4(Br) B'!F80<0.5),\"-\",IFERROR('Tabel 4(Br) B'!F80/'Tabel 4F B'!F80*100,\"-\"))","v":"-"},{"$f":"IF(OR('Tabel 4F B'!G80<5,'Tabel 4(Br) B'!G80<0.5),\"-\",IFERROR('Tabel 4(Br) B'!G80/'Tabel 4F B'!G80*100,\"-\"))","v":"-"},null,{"$f":"IF(OR('Tabel 4F B'!I80<5,'Tabel 4(Br) B'!I80<0.5),\"-\",IFERROR('Tabel 4(Br) B'!I80/'Tabel 4F B'!I80*100,\"-\"))","v":"-"}]
[{"$f":"'[1]Tabel 4(Br) B DATA'!I130","v":"Landinspek."},null,{"$f":"IF(OR('Tabel 4F B'!C81<5,'Tabel 4(Br) B'!C81<0.5),\"-\",IFERROR('Tabel 4(Br) B'!C81/'Tabel 4F B'!C81*100,\"-\"))","v":"-"},{"$f":"IF(OR('Tabel 4F B'!D81<5,'Tabel 4(Br) B'!D81<0.5),\"-\",IFERROR('Tabel 4(Br) B'!D81/'Tabel 4F B'!D81*100,\"-\"))","v":"-"},{"$f":"IF(OR('Tabel 4F B'!E81<5,'Tabel 4(Br) B'!E81<0.5),\"-\",IFERROR('Tabel 4(Br) B'!E81/'Tabel 4F B'!E81*100,\"-\"))","v":"-"},{"$f":"IF(OR('Tabel 4F B'!F81<5,'Tabel 4(Br) B'!F81<0.5),\"-\",IFERROR('Tabel 4(Br) B'!F81/'Tabel 4F B'!F81*100,\"-\"))","v":"-"},{"$f":"IF(OR('Tabel 4F B'!G81<5,'Tabel 4(Br) B'!G81<0.5),\"-\",IFERROR('Tabel 4(Br) B'!G81/'Tabel 4F B'!G81*100,\"-\"))","v":"-"},null,{"$f":"IF(OR('Tabel 4F B'!I81<5,'Tabel 4(Br) B'!I81<0.5),\"-\",IFERROR('Tabel 4(Br) B'!I81/'Tabel 4F B'!I81*100,\"-\"))","v":"-"}]
[{"$f":"'[1]Tabel 4(Br) B DATA'!I131","v":"Bibliotekar"},null,{"$f":"IF(OR('Tabel 4F B'!C82<5,'Tabel 4(Br) B'!C82<0.5),\"-\",IFERROR('Tabel 4(Br) B'!C82/'Tabel 4F B'!C82*100,\"-\"))","v":"-"},{"$f":"IF(OR('Tabel 4F B'!D82<5,'Tabel 4(Br) B'!D82<0.5),\"-\",IFERROR('Tabel 4(Br) B'!D82/'Tabel 4F B'!D82*100,\"-\"))","v":"-"},{"$f":"IF(OR('Tabel 4F B'!E82<5,'Tabel 4(Br) B'!E82<0.5),\"-\",IFERROR('Tabel 4(Br) B'!E82/'Tabel 4F B'!E82*100,\"-\"))","v":"-"},{"$f":"IF(OR('Tabel 4F B'!F82<5,'Tabel 4(Br) B'!F82<0.5),\"-\",IFERROR('Tabel 4(Br) B'!F82/'Tabel 4F B'!F82*100,\"-\"))","v":"-"},{"$f":"IF(OR('Tabel 4F B'!G82<5,'Tabel 4(Br) B'!G82<0.5),\"-\",IFERROR('Tabel 4(Br) B'!G82/'Tabel 4F B'!G82*100,\"-\"))","v":"-"},null,{"$f":"IF(OR('Tabel 4F B'!I82<5,'Tabel 4(Br) B'!I82<0.5),\"-\",IFERROR('Tabel 4(Br) B'!I82/'Tabel 4F B'!I82*100,\"-\"))","v":6.248830537017402}]
[{"$f":"'[1]Tabel 4(Br) B DATA'!I132","v":"Musikudd."},null,{"$f":"IF(OR('Tabel 4F B'!C83<5,'Tabel 4(Br) B'!C83<0.5),\"-\",IFERROR('Tabel 4(Br) B'!C83/'Tabel 4F B'!C83*100,\"-\"))","v":"-"},{"$f":"IF(OR('Tabel 4F B'!D83<5,'Tabel 4(Br) B'!D83<0.5),\"-\",IFERROR('Tabel 4(Br) B'!D83/'Tabel 4F B'!D83*100,\"-\"))","v":"-"},{"$f":"IF(OR('Tabel 4F B'!E83<5,'Tabel 4(Br) B'!E83<0.5),\"-\",IFERROR('Tabel 4(Br) B'!E83/'Tabel 4F B'!E83*100,\"-\"))","v":"-"},{"$f":"IF(OR('Tabel 4F B'!F83<5,'Tabel 4(Br) B'!F83<0.5),\"-\",IFERROR('Tabel 4(Br) B'!F83/'Tabel 4F B'!F83*100,\"-\"))","v":"-"},{"$f":"IF(OR('Tabel 4F B'!G83<5,'Tabel 4(Br) B'!G83<0.5),\"-\",IFERROR('Tabel 4(Br) B'!G83/'Tabel 4F B'!G83*100,\"-\"))","v":"-"},null,{"$f":"IF(OR('Tabel 4F B'!I83<5,'Tabel 4(Br) B'!I83<0.5),\"-\",IFERROR('Tabel 4(Br) B'!I83/'Tabel 4F B'!I83*100,\"-\"))","v":"-"}]
[{"$f":"'[1]Tabel 4(Br) B DATA'!I133","v":"Teolog"},null,{"$f":"IF(OR('Tabel 4F B'!C84<5,'Tabel 4(Br) B'!C84<0.5),\"-\",IFERROR('Tabel 4(Br) B'!C84/'Tabel 4F B'!C84*100,\"-\"))","v":"-"},{"$f":"IF(OR('Tabel 4F B'!D84<5,'Tabel 4(Br) B'!D84<0.5),\"-\",IFERROR('Tabel 4(Br) B'!D84/'Tabel 4F B'!D84*100,\"-\"))","v":"-"},{"$f":"IF(OR('Tabel 4F B'!E84<5,'Tabel 4(Br) B'!E84<0.5),\"-\",IFERROR('Tabel 4(Br) B'!E84/'Tabel 4F B'!E84*100,\"-\"))","v":"-"},{"$f":"IF(OR('Tabel 4F B'!F84<5,'Tabel 4(Br) B'!F84<0.5),\"-\",IFERROR('Tabel 4(Br) B'!F84/'Tabel 4F B'!F84*100,\"-\"))","v":"-"},{"$f":"IF(OR('Tabel 4F B'!G84<5,'Tabel 4(Br) B'!G84<0.5),\"-\",IFERROR('Tabel 4(Br) B'!G84/'Tabel 4F B'!G84*100,\"-\"))","v":"-"},null,{"$f":"IF(OR('Tabel 4F B'!I84<5,'Tabel 4(Br) B'!I84<0.5),\"-\",IFERROR('Tabel 4(Br) B'!I84/'Tabel 4F B'!I84*100,\"-\"))","v":"-"}]
[{"$f":"'[1]Tabel 4(Br) B DATA'!I134","v":"Psykolog"},null,{"$f":"IF(OR('Tabel 4F B'!C85<5,'Tabel 4(Br) B'!C85<0.5),\"-\",IFERROR('Tabel 4(Br) B'!C85/'Tabel 4F B'!C85*100,\"-\"))","v":"-"},{"$f":"IF(OR('Tabel 4F B'!D85<5,'Tabel 4(Br) B'!D85<0.5),\"-\",IFERROR('Tabel 4(Br) B'!D85/'Tabel 4F B'!D85*100,\"-\"))","v":9.445795823891002},{"$f":"IF(OR('Tabel 4F B'!E85<5,'Tabel 4(Br) B'!E85<0.5),\"-\",IFERROR('Tabel 4(Br) B'!E85/'Tabel 4F B'!E85*100,\"-\"))","v":"-"},{"$f":"IF(OR('Tabel 4F B'!F85<5,'Tabel 4(Br) B'!F85<0.5),\"-\",IFERROR('Tabel 4(Br) B'!F85/'Tabel 4F B'!F85*100,\"-\"))","v":"-"},{"$f":"IF(OR('Tabel 4F B'!G85<5,'Tabel 4(Br) B'!G85<0.5),\"-\",IFERROR('Tabel 4(Br) B'!G85/'Tabel 4F B'!G85*100,\"-\"))","v":"-"},null,{"$f":"IF(OR('Tabel 4F B'!I85<5,'Tabel 4(Br) B'!I85<0.5),\"-\",IFERROR('Tabel 4(Br) B'!I85/'Tabel 4F B'!I85*100,\"-\"))","v":2.7423278198393231}]
[{"$f":"'[1]Tabel 4(Br) B DATA'!I135","v":"Jurist"},null,{"$f":"IF(OR('Tabel 4F B'!C86<5,'Tabel 4(Br) B'!C86<0.5),\"-\",IFERROR('Tabel 4(Br) B'!C86/'Tabel 4F B'!C86*100,\"-\"))","v":"-"},{"$f":"IF(OR('Tabel 4F B'!D86<5,'Tabel 4(Br) B'!D86<0.5),\"-\",IFERROR('Tabel 4(Br) B'!D86/'Tabel 4F B'!D86*100,\"-\"))","v":"-"},{"$f":"IF(OR('Tabel 4F B'!E86<5,'Tabel 4(Br) B'!E86<0.5),\"-\",IFERROR('Tabel 4(Br) B'!E86/'Tabel 4F B'!E86*100,\"-\"))","v":"-"},{"$f":"IF(OR('Tabel 4F B'!F86<5,'Tabel 4(Br) B'!F86<0.5),\"-\",IFERROR('Tabel 4(Br) B'!F86/'Tabel 4F B'!F86*100,\"-\"))","v":"-"},{"$f":"IF(OR('Tabel 4F B'!G86<5,'Tabel 4(Br) B'!G86<0.5),\"-\",IFERROR('Tabel 4(Br) B'!G86/'Tabel 4F B'!G86*100,\"-\"))","v":"-"},null,{"$f":"IF(OR('Tabel 4F B'!I86<5,'Tabel 4(Br) B'!I86<0.5),\"-\",IFERROR('Tabel 4(Br) B'!I86/'Tabel 4F B'!I86*100,\"-\"))","v":"-"}]
[{"$f":"'[1]Tabel 4(Br) B DATA'!I136","v":"Økonom"},null,{"$f":"IF(OR('Tabel 4F B'!C87<5,'Tabel 4(Br) B'!C87<0.5),\"-\",IFERROR('Tabel 4(Br) B'!C87/'Tabel 4F B'!C87*100,\"-\"))","v":"-"},{"$f":"IF(OR('Tabel 4F B'!D87<5,'Tabel 4(Br) B'!D87<0.5),\"-\",IFERROR('Tabel 4(Br) B'!D87/'Tabel 4F B'!D87*100,\"-\"))","v":"-"},{"$f":"IF(OR('Tabel 4F B'!E87<5,'Tabel 4(Br) B'!E87<0.5),\"-\",IFERROR('Tabel 4(Br) B'!E87/'Tabel 4F B'!E87*100,\"-\"))","v":"-"},{"$f":"IF(OR('Tabel 4F B'!F87<5,'Tabel 4(Br) B'!F87<0.5),\"-\",IFERROR('Tabel 4(Br) B'!F87/'Tabel 4F B'!F87*100,\"-\"))","v":"-"},{"$f":"IF(OR('Tabel 4F B'!G87<5,'Tabel 4(Br) B'!G87<0.5),\"-\",IFERROR('Tabel 4(Br) B'!G87/'Tabel 4F B'!G87*100,\"-\"))","v":"-"},null,{"$f":"IF(OR('Tabel 4F B'!I87<5,'Tabel 4(Br) B'!I87<0.5),\"-\",IFERROR('Tabel 4(Br) B'!I87/'Tabel 4F B'!I87*100,\"-\"))","v":"-"}]
[{"$f":"'[1]Tabel 4(Br) B DATA'!I137","v":"Samf. Adm."},null,{"$f":"IF(OR('Tabel 4F B'!C88<5,'Tabel 4(Br) B'!C88<0.5),\"-\",IFERROR('Tabel 4(Br) B'!C88/'Tabel 4F B'!C88*100,\"-\"))","v":"-"},{"$f":"IF(OR('Tabel 4F B'!D88<5,'Tabel 4(Br) B'!D88<0.5),\"-\",IFERROR('Tabel 4(Br) B'!D88/'Tabel 4F B'!D88*100,\"-\"))","v":"-"},{"$f":"IF(OR('Tabel 4F B'!E88<5,'Tabel 4(Br) B'!E88<0.5),\"-\",IFERROR('Tabel 4(Br) B'!E88/'Tabel 4F B'!E88*100,\"-\"))","v":4.5446040269217471},{"$f":"IF(OR('Tabel 4F B'!F88<5,'Tabel 4(Br) B'!F88<0.5),\"-\",IFERROR('Tabel 4(Br) B'!F88/'Tabel 4F B'!F88*100,\"-\"))","v":19.996257718455684},{"$f":"IF(OR('Tabel 4F B'!G88<5,'Tabel 4(Br) B'!G88<0.5),\"-\",IFERROR('Tabel 4(Br) B'!G88/'Tabel 4F B'!G88*100,\"-\"))","v":"-"},null,{"$f":"IF(OR('Tabel 4F B'!I88<5,'Tabel 4(Br) B'!I88<0.5),\"-\",IFERROR('Tabel 4(Br) B'!I88/'Tabel 4F B'!I88*100,\"-\"))","v":5.4535248323060959}]
[{"$f":"'[1]Tabel 4(Br) B DATA'!I138","v":"Cand. Merc."},null,{"$f":"IF(OR('Tabel 4F B'!C89<5,'Tabel 4(Br) B'!C89<0.5),\"-\",IFERROR('Tabel 4(Br) B'!C89/'Tabel 4F B'!C89*100,\"-\"))","v":"-"},{"$f":"IF(OR('Tabel 4F B'!D89<5,'Tabel 4(Br) B'!D89<0.5),\"-\",IFERROR('Tabel 4(Br) B'!D89/'Tabel 4F B'!D89*100,\"-\"))","v":"-"},{"$f":"IF(OR('Tabel 4F B'!E89<5,'Tabel 4(Br) B'!E89<0.5),\"-\",IFERROR('Tabel 4(Br) B'!E89/'Tabel 4F B'!E89*100,\"-\"))","v":23.071732733056251},{"$f":"IF(OR('Tabel 4F B'!F89<5,'Tabel 4(Br) B'!F89<0.5),\"-\",IFERROR('Tabel 4(Br) B'!F89/'Tabel 4F B'!F89*100,\"-\"))","v":9.9981288592278421},{"$f":"IF(OR('Tabel 4F B'!G89<5,'Tabel 4(Br) B'!G89<0.5),\"-\",IFERROR('Tabel 4(Br) B'!G89/'Tabel 4F B'!G89*100,\"-\"))","v":"-"},null,{"$f":"IF(OR('Tabel 4F B'!I89<5,'Tabel 4(Br) B'!I89<0.5),\"-\",IFERROR('Tabel 4(Br) B'!I89/'Tabel 4F B'!I89*100,\"-\"))","v":11.055323395496789}]
[{"$f":"'[1]Tabel 4(Br) B DATA'!I139","v":"HA"},null,{"$f":"IF(OR('Tabel 4F B'!C90<5,'Tabel 4(Br) B'!C90<0.5),\"-\",IFERROR('Tabel 4(Br) B'!C90/'Tabel 4F B'!C90*100,\"-\"))","v":"-"},{"$f":"IF(OR('Tabel 4F B'!D90<5,'Tabel 4(Br) B'!D90<0.5),\"-\",IFERROR('Tabel 4(Br) B'!D90/'Tabel 4F B'!D90*100,\"-\"))","v":"-"},{"$f":"IF(OR('Tabel 4F B'!E90<5,'Tabel 4(Br) B'!E90<0.5),\"-\",IFERROR('Tabel 4(Br) B'!E90/'Tabel 4F B'!E90*100,\"-\"))","v":"-"},{"$f":"IF(OR('Tabel 4F B'!F90<5,'Tabel 4(Br) B'!F90<0.5),\"-\",IFERROR('Tabel 4(Br) B'!F90/'Tabel 4F B'!F90*100,\"-\"))","v":"-"},{"$f":"IF(OR('Tabel 4F B'!G90<5,'Tabel 4(Br) B'!G90<0.5),\"-\",IFERROR('Tabel 4(Br) B'!G90/'Tabel 4F B'!G90*100,\"-\"))","v":"-"},null,{"$f":"IF(OR('Tabel 4F B'!I90<5,'Tabel 4(Br) B'!I90<0.5),\"-\",IFERROR('Tabel 4(Br) B'!I90/'Tabel 4F B'!I90*100,\"-\"))","v":"-"}]
[{"$f":"'[1]Tabel 4(Br) B DATA'!I140","v":"HD"},null,{"$f":"IF(OR('Tabel 4F B'!C91<5,'Tabel 4(Br) B'!C91<0.5),\"-\",IFERROR('Tabel 4(Br) B'!C91/'Tabel 4F B'!C91*100,\"-\"))","v":"-"},{"$f":"IF(OR('Tabel 4F B'!D91<5,'Tabel 4(Br) B'!D91<0.5),\"-\",IFERROR('Tabel 4(Br) B'!D91/'Tabel 4F B'!D91*100,\"-\"))","v":"-"},{"$f":"IF(OR('Tabel 4F B'!E91<5,'Tabel 4(Br) B'!E91<0.5),\"-\",IFERROR('Tabel 4(Br) B'!E91/'Tabel 4F B'!E91*100,\"-\"))","v":"-"},{"$f":"IF(OR('Tabel 4F B'!F91<5,'Tabel 4(Br) B'!F91<0.5),\"-\",IFERROR('Tabel 4(Br) B'!F91/'Tabel 4F B'!F91*100,\"-\"))","v":"-"},{"$f":"IF(OR('Tabel 4F B'!G91<5,'Tabel 4(Br) B'!G91<0.5),\"-\",IFERROR('Tabel 4(Br) B'!G91/'Tabel 4F B'!G91*100,\"-\"))","v":"-"},null,{"$f":"IF(OR('Tabel 4F B'!I91<5,'Tabel 4(Br) B'!I91<0.5),\"-\",IFERROR('Tabel 4(Br) B'!I91/'Tabel 4F B'!I91*100,\"-\"))","v":"-"}]
[{"$f":"'[1]Tabel 4(Br) B DATA'!I141","v":"Komm. og Sprog"},null,{"$f":"IF(OR('Tabel 4F B'!C92<5,'Tabel 4(Br) B'!C92<0.5),\"-\",IFERROR('Tabel 4(Br) B'!C92/'Tabel 4F B'!C92*100,\"-\"))","v":"-"},{"$f":"IF(OR('Tabel 4F B'!D92<5,'Tabel 4(Br) B'!D92<0.5),\"-\",IFERROR('Tabel 4(Br) B'!D92/'Tabel 4F B'!D92*100,\"-\"))","v":12.304978125473353},{"$f":"IF(OR('Tabel 4F B'!E92<5,'Tabel 4(Br) B'!E92<0.5),\"-\",IFERROR('Tabel 4(Br) B'!E92/'Tabel 4F B'!E92*100,\"-\"))","v":"-"},{"$f":"IF(OR('Tabel 4F B'!F92<5,'Tabel 4(Br) B'!F92<0.5),\"-\",IFERROR('Tabel 4(Br) B'!F92/'Tabel 4F B'!F92*100,\"-\"))","v":"-"},{"$f":"IF(OR('Tabel 4F B'!G92<5,'Tabel 4(Br) B'!G92<0.5),\"-\",IFERROR('Tabel 4(Br) B'!G92/'Tabel 4F B'!G92*100,\"-\"))","v":"-"},null,{"$f":"IF(OR('Tabel 4F B'!I92<5,'Tabel 4(Br) B'!I92<0.5),\"-\",IFERROR('Tabel 4(Br) B'!I92/'Tabel 4F B'!I92*100,\"-\"))","v":19.534709661323518}]
["Bygningskonst.",null,{"$f":"IF(OR('Tabel 4F B'!C93<5,'Tabel 4(Br) B'!C93<0.5),\"-\",IFERROR('Tabel 4(Br) B'!C93/'Tabel 4F B'!C93*100,\"-\"))","v":"-"},{"$f":"IF(OR('Tabel 4F B'!D93<5,'Tabel 4(Br) B'!D93<0.5),\"-\",IFERROR('Tabel 4(Br) B'!D93/'Tabel 4F B'!D93*100,\"-\"))","v":"-"},{"$f":"IF(OR('Tabel 4F B'!E93<5,'Tabel 4(Br) B'!E93<0.5),\"-\",IFERROR('Tabel 4(Br) B'!E93/'Tabel 4F B'!E93*100,\"-\"))","v":"-"},{"$f":"IF(OR('Tabel 4F B'!F93<5,'Tabel 4(Br) B'!F93<0.5),\"-\",IFERROR('Tabel 4(Br) B'!F93/'Tabel 4F B'!F93*100,\"-\"))","v":"-"},{"$f":"IF(OR('Tabel 4F B'!G93<5,'Tabel 4(Br) B'!G93<0.5),\"-\",IFERROR('Tabel 4(Br) B'!G93/'Tabel 4F B'!G93*100,\"-\"))","v":"-"},null,{"$f":"IF(OR('Tabel 4F B'!I93<5,'Tabel 4(Br) B'!I93<0.5),\"-\",IFERROR('Tabel 4(Br) B'!I93/'Tabel 4F B'!I93*100,\"-\"))","v":"-"}]
[{"$f":"'[1]Tabel 4(Br) B DATA'!I143","v":"Cand. IT."},null,{"$f":"IF(OR('Tabel 4F B'!C94<5,'Tabel 4(Br) B'!C94<0.5),\"-\",IFERROR('Tabel 4(Br) B'!C94/'Tabel 4F B'!C94*100,\"-\"))","v":"-"},{"$f":"IF(OR('Tabel 4F B'!D94<5,'Tabel 4(Br) B'!D94<0.5),\"-\",IFERROR('Tabel 4(Br) B'!D94/'Tabel 4F B'!D94*100,\"-\"))","v":"-"},{"$f":"IF(OR('Tabel 4F B'!E94<5,'Tabel 4(Br) B'!E94<0.5),\"-\",IFERROR('Tabel 4(Br) B'!E94/'Tabel 4F B'!E94*100,\"-\"))","v":"-"},{"$f":"IF(OR('Tabel 4F B'!F94<5,'Tabel 4(Br) B'!F94<0.5),\"-\",IFERROR('Tabel 4(Br) B'!F94/'Tabel 4F B'!F94*100,\"-\"))","v":"-"},{"$f":"IF(OR('Tabel 4F B'!G94<5,'Tabel 4(Br) B'!G94<0.5),\"-\",IFERROR('Tabel 4(Br) B'!G94/'Tabel 4F B'!G94*100,\"-\"))","v":"-"},null,{"$f":"IF(OR('Tabel 4F B'!I94<5,'Tabel 4(Br) B'!I94<0.5),\"-\",IFERROR('Tabel 4(Br) B'!I94/'Tabel 4F B'!I94*100,\"-\"))","v":"-"}]
[{"$f":"'[1]Tabel 4(Br) B DATA'!I144","v":"Bac. Samf."},null,{"$f":"IF(OR('Tabel 4F B'!C95<5,'Tabel 4(Br) B'!C95<0.5),\"-\",IFERROR('Tabel 4(Br) B'!C95/'Tabel 4F B'!C95*100,\"-\"))","v":"-"},{"$f":"IF(OR('Tabel 4F B'!D95<5,'Tabel 4(Br) B'!D95<0.5),\"-\",IFERROR('Tabel 4(Br) B'!D95/'Tabel 4F B'!D95*100,\"-\"))","v":"-"},{"$f":"IF(OR('Tabel 4F B'!E95<5,'Tabel 4(Br) B'!E95<0.5),\"-\",IFERROR('Tabel 4(Br) B'!E95/'Tabel 4F B'!E95*100,\"-\"))","v":"-"},{"$f":"IF(OR('Tabel 4F B'!F95<5,'Tabel 4(Br) B'!F95<0.5),\"-\",IFERROR('Tabel 4(Br) B'!F95/'Tabel 4F B'!F95*100,\"-\"))","v":"-"},{"$f":"IF(OR('Tabel 4F B'!G95<5,'Tabel 4(Br) B'!G95<0.5),\"-\",IFERROR('Tabel 4(Br) B'!G95/'Tabel 4F B'!G95*100,\"-\"))","v":"-"},null,{"$f":"IF(OR('Tabel 4F B'!I95<5,'Tabel 4(Br) B'!I95<0.5),\"-\",IFERROR('Tabel 4(Br) B'!I95/'Tabel 4F B'!I95*100,\"-\"))","v":"-"}]
[{"$f":"'[1]Tabel 4(Br) B DATA'!I145","v":"Bac. Hum."},null,{"$f":"IF(OR('Tabel 4F B'!C96<5,'Tabel 4(Br) B'!C96<0.5),\"-\",IFERROR('Tabel 4(Br) B'!C96/'Tabel 4F B'!C96*100,\"-\"))","v":"-"},{"$f":"IF(OR('Tabel 4F B'!D96<5,'Tabel 4(Br) B'!D96<0.5),\"-\",IFERROR('Tabel 4(Br) B'!D96/'Tabel 4F B'!D96*100,\"-\"))","v":"-"},{"$f":"IF(OR('Tabel 4F B'!E96<5,'Tabel 4(Br) B'!E96<0.5),\"-\",IFERROR('Tabel 4(Br) B'!E96/'Tabel 4F B'!E96*100,\"-\"))","v":"-"},{"$f":"IF(OR('Tabel 4F B'!F96<5,'Tabel 4(Br) B'!F96<0.5),\"-\",IFERROR('Tabel 4(Br) B'!F96/'Tabel 4F B'!F96*100,\"-\"))","v":"-"},{"$f":"IF(OR('Tabel 4F B'!G96<5,'Tabel 4(Br) B'!G96<0.5),\"-\",IFERROR('Tabel 4(Br) B'!G96/'Tabel 4F B'!G96*100,\"-\"))","v":"-"},null,{"$f":"IF(OR('Tabel 4F B'!I96<5,'Tabel 4(Br) B'!I96<0.5),\"-\",IFERROR('Tabel 4(Br) B'!I96/'Tabel 4F B'!I96*100,\"-\"))","v":16.681939653311197}]
[{"$f":"'[1]Tabel 4(Br) B DATA'!I146","v":"Bac. Nat."},null,{"$f":"IF(OR('Tabel 4F B'!C97<5,'Tabel 4(Br) B'!C97<0.5),\"-\",IFERROR('Tabel 4(Br) B'!C97/'Tabel 4F B'!C97*100,\"-\"))","v":"-"},{"$f":"IF(OR('Tabel 4F B'!D97<5,'Tabel 4(Br) B'!D97<0.5),\"-\",IFERROR('Tabel 4(Br) B'!D97/'Tabel 4F B'!D97*100,\"-\"))","v":"-"},{"$f":"IF(OR('Tabel 4F B'!E97<5,'Tabel 4(Br) B'!E97<0.5),\"-\",IFERROR('Tabel 4(Br) B'!E97/'Tabel 4F B'!E97*100,\"-\"))","v":"-"},{"$f":"IF(OR('Tabel 4F B'!F97<5,'Tabel 4(Br) B'!F97<0.5),\"-\",IFERROR('Tabel 4(Br) B'!F97/'Tabel 4F B'!F97*100,\"-\"))","v":"-"},{"$f":"IF(OR('Tabel 4F B'!G97<5,'Tabel 4(Br) B'!G97<0.5),\"-\",IFERROR('Tabel 4(Br) B'!G97/'Tabel 4F B'!G97*100,\"-\"))","v":"-"},null,{"$f":"IF(OR('Tabel 4F B'!I97<5,'Tabel 4(Br) B'!I97<0.5),\"-\",IFERROR('Tabel 4(Br) B'!I97/'Tabel 4F B'!I97*100,\"-\"))","v":19.996257718455684}]
[{"$f":"'[1]Tabel 4(Br) B DATA'!I147","v":"Andre"},null,{"$f":"IF(OR('Tabel 4F B'!C98<5,'Tabel 4(Br) B'!C98<0.5),\"-\",IFERROR('Tabel 4(Br) B'!C98/'Tabel 4F B'!C98*100,\"-\"))","v":"-"},{"$f":"IF(OR('Tabel 4F B'!D98<5,'Tabel 4(Br) B'!D98<0.5),\"-\",IFERROR('Tabel 4(Br) B'!D98/'Tabel 4F B'!D98*100,\"-\"))","v":7.3632854459898684},{"$f":"IF(OR('Tabel 4F B'!E98<5,'Tabel 4(Br) B'!E98<0.5),\"-\",IFERROR('Tabel 4(Br) B'!E98/'Tabel 4F B'!E98*100,\"-\"))","v":11.002769750352861},{"$f":"IF(OR('Tabel 4F B'!F98<5,'Tabel 4(Br) B'!F98<0.5),\"-\",IFERROR('Tabel 4(Br) B'!F98/'Tabel 4F B'!F98*100,\"-\"))","v":4.7776461049086256},{"$f":"IF(OR('Tabel 4F B'!G98<5,'Tabel 4(Br) B'!G98<0.5),\"-\",IFERROR('Tabel 4(Br) B'!G98/'Tabel 4F B'!G98*100,\"-\"))","v":5.6957525104472024},null,{"$f":"IF(OR('Tabel 4F B'!I98<5,'Tabel 4(Br) B'!I98<0.5),\"-\",IFERROR('Tabel 4(Br) B'!I98/'Tabel 4F B'!I98*100,\"-\"))","v":7.6991434524092215}]
[]
[{"$f":"'[1]Tabel 4(Br) B DATA'!I149","v":"Total"},null,{"$f":"IF(OR('Tabel 4F B'!C100<5,'Tabel 4(Br) B'!C100<0.5),\"-\",IFERROR('Tabel 4(Br) B'!C100/'Tabel 4F B'!C100*100,\"-\"))","v":4.6154805713216485},{"$f":"IF(OR('Tabel 4F B'!D100<5,'Tabel 4(Br) B'!D100<0.5),\"-\",IFERROR('Tabel 4(Br) B'!D100/'Tabel 4F B'!D100*100,\"-\"))","v":8.0009032004402307},{"$f":"IF(OR('Tabel 4F B'!E100<5,'Tabel 4(Br) B'!E100<0.5),\"-\",IFERROR('Tabel 4(Br) B'!E100/'Tabel 4F B'!E100*100,\"-\"))","v":7.8446537350048864},{"$f":"IF(OR('Tabel 4F B'!F100<5,'Tabel 4(Br) B'!F100<0.5),\"-\",IFERROR('Tabel 4(Br) B'!F100/'Tabel 4F B'!F100*100,\"-\"))","v":6.2124992203580112},{"$f":"IF(OR('Tabel 4F B'!G100<5,'Tabel 4(Br) B'!G100<0.5),\"-\",IFERROR('Tabel 4(Br) B'!G100/'Tabel 4F B'!G100*100,\"-\"))","v":8.0326225308449484},null,{"$f":"IF(OR('Tabel 4F B'!I100<5,'Tabel 4(Br) B'!I100<0.5),\"-\",IFERROR('Tabel 4(Br) B'!I100/'Tabel 4F B'!I100*100,\"-\"))","v":7.3031947366133112}]
[]
[{"$f":"'[1]Tabel 4(Br) B DATA'!I151","v":"Ingeniører i alt"},null,{"$f":"IF(OR('Tabel 4F B'!C102<5,'Tabel 4(Br) B'!C102<0.5),\"-\",IFERROR('Tabel 4(Br) B'!C102/'Tabel 4F B'!C102*100,\"-\"))","v":"-"},{"$f":"IF(OR('Tabel 4F B'!D102<5,'Tabel 4(Br) B'!D102<0.5),\"-\",IFERROR('Tabel 4(Br) B'!D102/'Tabel 4F B'!D102*100,\"-\"))","v":7.9985030873822751},{"$f":"IF(OR('Tabel 4F B'!E102<5,'Tabel 4(Br) B'!E102<0.5),\"-\",IFERROR('Tabel 4(Br) B'!E102/'Tabel 4F B'!E102*100,\"-\"))","v":5.8629077527599316},{"$f":"IF(OR('Tabel 4F B'!F102<5,'Tabel 4(Br) B'!F102<0.5),\"-\",IFERROR('Tabel 4(Br) B'!F102/'Tabel 4F B'!F102*100,\"-\"))","v":6.6694339476553743},{"$f":"IF(OR('Tabel 4F B'!G102<5,'Tabel 4(Br) B'!G102<0.5),\"-\",IFERROR('Tabel 4(Br) B'!G102/'Tabel 4F B'!G102*100,\"-\"))","v":8.331774049356536},null,{"$f":"IF(OR('Tabel 4F B'!I102<5,'Tabel 4(Br) B'!I102<0.5),\"-\",IFERROR('Tabel 4(Br) B'!I102/'Tabel 4F B'!I102*100,\"-\"))","v":6.5972179801839115}]
[{"$f":"'[1]Tabel 4(Br) B DATA'!I152","v":"Magistre i alt"},null,{"$f":"IF(OR('Tabel 4F B'!C103<5,'Tabel 4(Br) B'!C103<0.5),\"-\",IFERROR('Tabel 4(Br) B'!C103/'Tabel 4F B'!C103*100,\"-\"))","v":"-"},{"$f":"IF(OR('Tabel 4F B'!D103<5,'Tabel 4(Br) B'!D103<0.5),\"-\",IFERROR('Tabel 4(Br) B'!D103/'Tabel 4F B'!D103*100,\"-\"))","v":11.888674054207641},{"$f":"IF(OR('Tabel 4F B'!E103<5,'Tabel 4(Br) B'!E103<0.5),\"-\",IFERROR('Tabel 4(Br) B'!E103/'Tabel 4F B'!E103*100,\"-\"))","v":15.413663863735591},{"$f":"IF(OR('Tabel 4F B'!F103<5,'Tabel 4(Br) B'!F103<0.5),\"-\",IFERROR('Tabel 4(Br) B'!F103/'Tabel 4F B'!F103*100,\"-\"))","v":4.254522918820359},{"$f":"IF(OR('Tabel 4F B'!G103<5,'Tabel 4(Br) B'!G103<0.5),\"-\",IFERROR('Tabel 4(Br) B'!G103/'Tabel 4F B'!G103*100,\"-\"))","v":16.089500590217863},null,{"$f":"IF(OR('Tabel 4F B'!I103<5,'Tabel 4(Br) B'!I103<0.5),\"-\",IFERROR('Tabel 4(Br) B'!I103/'Tabel 4F B'!I103*100,\"-\"))","v":11.364121308413836}]
[{"$f":"'[1]Tabel 4(Br) B DATA'!I153","v":"DJØF'ere i alt"},null,{"$f":"IF(OR('Tabel 4F B'!C104<5,'Tabel 4(Br) B'!C104<0.5),\"-\",IFERROR('Tabel 4(Br) B'!C104/'Tabel 4F B'!C104*100,\"-\"))","v":"-"},{"$f":"IF(OR('Tabel 4F B'!D104<5,'Tabel 4(Br) B'!D104<0.5),\"-\",IFERROR('Tabel 4(Br) B'!D104/'Tabel 4F B'!D104*100,\"-\"))","v":"-"},{"$f":"IF(OR('Tabel 4F B'!E104<5,'Tabel 4(Br) B'!E104<0.5),\"-\",IFERROR('Tabel 4(Br) B'!E104/'Tabel 4F B'!E104*100,\"-\"))","v":7.8615633034643837},{"$f":"IF(OR('Tabel 4F B'!F104<5,'Tabel 4(Br) B'!F104<0.5),\"-\",IFERROR('Tabel 4(Br) B'!F104/'Tabel 4F B'!F104*100,\"-\"))","v":8.0802095677664809},{"$f":"IF(OR('Tabel 4F B'!G104<5,'Tabel 4(Br) B'!G104<0.5),\"-\",IFERROR('Tabel 4(Br) B'!G104/'Tabel 4F B'!G104*100,\"-\"))","v":"-"},null,{"$f":"IF(OR('Tabel 4F B'!I104<5,'Tabel 4(Br) B'!I104<0.5),\"-\",IFERROR('Tabel 4(Br) B'!I104/'Tabel 4F B'!I104*100,\"-\"))","v":4.8012675983443724}]
[]
[]
[]
[]
[]
[]
[{"$f":"'[1]Tabel 4(Br) B DATA'!I158","v":"Christiansø"}]
[]
[null,null,{"$f":"'[1]Tabel 4(Br) B DATA'!K160","v":"Under 30 år"},{"$f":"'[1]Tabel 4(Br) B DATA'!L160","v":"30 - 39 år"},{"$f":"'[1]Tabel 4(Br) B DATA'!M160","v":"40 - 49 år"},{"$f":"'[1]Tabel 4(Br) B DATA'!N160","v":"50 - 59 år"},{"$f":"'[1]Tabel 4(Br) B DATA'!O160","v":"Over 60 år"},null,{"$f":"'[1]Tabel 4(Br) B DATA'!Q160","v":"I alt"}]
[]
[{"$f":"'[1]Tabel 4(Br) B DATA'!I162","v":"Civ. ing."},null,{"$f":"IF(OR('Tabel 4F B'!C115<5,'Tabel 4(Br) B'!C115<0.5),\"-\",IFERROR('Tabel 4(Br) B'!C115/'Tabel 4F B'!C115*100,\"-\"))","v":"-"},{"$f":"IF(OR('Tabel 4F B'!D115<5,'Tabel 4(Br) B'!D115<0.5),\"-\",IFERROR('Tabel 4(Br) B'!D115/'Tabel 4F B'!D115*100,\"-\"))","v":"-"},{"$f":"IF(OR('Tabel 4F B'!E115<5,'Tabel 4(Br) B'!E115<0.5),\"-\",IFERROR('Tabel 4(Br) B'!E115/'Tabel 4F B'!E115*100,\"-\"))","v":"-"},{"$f":"IF(OR('Tabel 4F B'!F115<5,'Tabel 4(Br) B'!F115<0.5),\"-\",IFERROR('Tabel 4(Br) B'!F115/'Tabel 4F B'!F115*100,\"-\"))","v":"-"},{"$f":"IF(OR('Tabel 4F B'!G115<5,'Tabel 4(Br) B'!G115<0.5),\"-\",IFERROR('Tabel 4(Br) B'!G115/'Tabel 4F B'!G115*100,\"-\"))","v":"-"},null,{"$f":"IF(OR('Tabel 4F B'!I115<5,'Tabel 4(Br) B'!I115<0.5),\"-\",IFERROR('Tabel 4(Br) B'!I115/'Tabel 4F B'!I115*100,\"-\"))","v":"-"}]
[{"$f":"'[1]Tabel 4(Br) B DATA'!I163","v":"Diplom ing."},null,{"$f":"IF(OR('Tabel 4F B'!C116<5,'Tabel 4(Br) B'!C116<0.5),\"-\",IFERROR('Tabel 4(Br) B'!C116/'Tabel 4F B'!C116*100,\"-\"))","v":"-"},{"$f":"IF(OR('Tabel 4F B'!D116<5,'Tabel 4(Br) B'!D116<0.5),\"-\",IFERROR('Tabel 4(Br) B'!D116/'Tabel 4F B'!D116*100,\"-\"))","v":"-"},{"$f":"IF(OR('Tabel 4F B'!E116<5,'Tabel 4(Br) B'!E116<0.5),\"-\",IFERROR('Tabel 4(Br) B'!E116/'Tabel 4F B'!E116*100,\"-\"))","v":"-"},{"$f":"IF(OR('Tabel 4F B'!F116<5,'Tabel 4(Br) B'!F116<0.5),\"-\",IFERROR('Tabel 4(Br) B'!F116/'Tabel 4F B'!F116*100,\"-\"))","v":"-"},{"$f":"IF(OR('Tabel 4F B'!G116<5,'Tabel 4(Br) B'!G116<0.5),\"-\",IFERROR('Tabel 4(Br) B'!G116/'Tabel 4F B'!G116*100,\"-\"))","v":"-"},null,{"$f":"IF(OR('Tabel 4F B'!I116<5,'Tabel 4(Br) B'!I116<0.5),\"-\",IFERROR('Tabel 4(Br) B'!I116/'Tabel 4F B'!I116*100,\"-\"))","v":"-"}]
[{"$f":"'[1]Tabel 4(Br) B DATA'!I164","v":"Cand. Scient. Tek"},null,{"$f":"IF(OR('Tabel 4F B'!C117<5,'Tabel 4(Br) B'!C117<0.5),\"-\",IFERROR('Tabel 4(Br) B'!C117/'Tabel 4F B'!C117*100,\"-\"))","v":"-"},{"$f":"IF(OR('Tabel 4F B'!D117<5,'Tabel 4(Br) B'!D117<0.5),\"-\",IFERROR('Tabel 4(Br) B'!D117/'Tabel 4F B'!D117*100,\"-\"))","v":"-"},{"$f":"IF(OR('Tabel 4F B'!E117<5,'Tabel 4(Br) B'!E117<0.5),\"-\",IFERROR('Tabel 4(Br) B'!E117/'Tabel 4F B'!E117*100,\"-\"))","v":"-"},{"$f":"IF(OR('Tabel 4F B'!F117<5,'Tabel 4(Br) B'!F117<0.5),\"-\",IFERROR('Tabel 4(Br) B'!F117/'Tabel 4F B'!F117*100,\"-\"))","v":"-"},{"$f":"IF(OR('Tabel 4F B'!G117<5,'Tabel 4(Br) B'!G117<0.5),\"-\",IFERROR('Tabel 4(Br) B'!G117/'Tabel 4F B'!G117*100,\"-\"))","v":"-"},null,{"$f":"IF(OR('Tabel 4F B'!I117<5,'Tabel 4(Br) B'!I117<0.5),\"-\",IFERROR('Tabel 4(Br) B'!I117/'Tabel 4F B'!I117*100,\"-\"))","v":"-"}]
[{"$f":"'[1]Tabel 4(Br) B DATA'!I165","v":"MA. Hum."},null,{"$f":"IF(OR('Tabel 4F B'!C118<5,'Tabel 4(Br) B'!C118<0.5),\"-\",IFERROR('Tabel 4(Br) B'!C118/'Tabel 4F B'!C118*100,\"-\"))","v":"-"},{"$f":"IF(OR('Tabel 4F B'!D118<5,'Tabel 4(Br) B'!D118<0.5),\"-\",IFERROR('Tabel 4(Br) B'!D118/'Tabel 4F B'!D118*100,\"-\"))","v":"-"},{"$f":"IF(OR('Tabel 4F B'!E118<5,'Tabel 4(Br) B'!E118<0.5),\"-\",IFERROR('Tabel 4(Br) B'!E118/'Tabel 4F B'!E118*100,\"-\"))","v":"-"},{"$f":"IF(OR('Tabel 4F B'!F118<5,'Tabel 4(Br) B'!F118<0.5),\"-\",IFERROR('Tabel 4(Br) B'!F118/'Tabel 4F B'!F118*100,\"-\"))","v":"-"},{"$f":"IF(OR('Tabel 4F B'!G118<5,'Tabel 4(Br) B'!G118<0.5),\"-\",IFERROR('Tabel 4(Br) B'!G118/'Tabel 4F B'!G118*100,\"-\"))","v":"-"},null,{"$f":"IF(OR('Tabel 4F B'!I118<5,'Tabel 4(Br) B'!I118<0.5),\"-\",IFERROR('Tabel 4(Br) B'!I118/'Tabel 4F B'!I118*100,\"-\"))","v":"-"}]
[{"$f":"'[1]Tabel 4(Br) B DATA'!I166","v":"MA. Nat."},null,{"$f":"IF(OR('Tabel 4F B'!C119<5,'Tabel 4(Br) B'!C119<0.5),\"-\",IFERROR('Tabel 4(Br) B'!C119/'Tabel 4F B'!C119*100,\"-\"))","v":"-"},{"$f":"IF(OR('Tabel 4F B'!D119<5,'Tabel 4(Br) B'!D119<0.5),\"-\",IFERROR('Tabel 4(Br) B'!D119/'Tabel 4F B'!D119*100,\"-\"))","v":"-"},{"$f":"IF(OR('Tabel 4F B'!E119<5,'Tabel 4(Br) B'!E119<0.5),\"-\",IFERROR('Tabel 4(Br) B'!E119/'Tabel 4F B'!E119*100,\"-\"))","v":"-"},{"$f":"IF(OR('Tabel 4F B'!F119<5,'Tabel 4(Br) B'!F119<0.5),\"-\",IFERROR('Tabel 4(Br) B'!F119/'Tabel 4F B'!F119*100,\"-\"))","v":"-"},{"$f":"IF(OR('Tabel 4F B'!G119<5,'Tabel 4(Br) B'!G119<0.5),\"-\",IFERROR('Tabel 4(Br) B'!G119/'Tabel 4F B'!G119*100,\"-\"))","v":"-"},null,{"$f":"IF(OR('Tabel 4F B'!I119<5,'Tabel 4(Br) B'!I119<0.5),\"-\",IFERROR('Tabel 4(Br) B'!I119/'Tabel 4F B'!I119*100,\"-\"))","v":"-"}]
[{"$f":"'[1]Tabel 4(Br) B DATA'!I167","v":"MA. Ph.d."},null,{"$f":"IF(OR('Tabel 4F B'!C120<5,'Tabel 4(Br) B'!C120<0.5),\"-\",IFERROR('Tabel 4(Br) B'!C120/'Tabel 4F B'!C120*100,\"-\"))","v":"-"},{"$f":"IF(OR('Tabel 4F B'!D120<5,'Tabel 4(Br) B'!D120<0.5),\"-\",IFERROR('Tabel 4(Br) B'!D120/'Tabel 4F B'!D120*100,\"-\"))","v":"-"},{"$f":"IF(OR('Tabel 4F B'!E120<5,'Tabel 4(Br) B'!E120<0.5),\"-\",IFERROR('Tabel 4(Br) B'!E120/'Tabel 4F B'!E120*100,\"-\"))","v":"-"},{"$f":"IF(OR('Tabel 4F B'!F120<5,'Tabel 4(Br) B'!F120<0.5),\"-\",IFERROR('Tabel 4(Br) B'!F120/'Tabel 4F B'!F120*100,\"-\"))","v":"-"},{"$f":"IF(OR('Tabel 4F B'!G120<5,'Tabel 4(Br) B'!G120<0.5),\"-\",IFERROR('Tabel 4(Br) B'!G120/'Tabel 4F B'!G120*100,\"-\"))","v":"-"},null,{"$f":"IF(OR('Tabel 4F B'!I120<5,'Tabel 4(Br) B'!I120<0.5),\"-\",IFERROR('Tabel 4(Br) B'!I120/'Tabel 4F B'!I120*100,\"-\"))","v":"-"}]
[{"$f":"'[1]Tabel 4(Br) B DATA'!I168","v":"MA. Samf."},null,{"$f":"IF(OR('Tabel 4F B'!C121<5,'Tabel 4(Br) B'!C121<0.5),\"-\",IFERROR('Tabel 4(Br) B'!C121/'Tabel 4F B'!C121*100,\"-\"))","v":"-"},{"$f":"IF(OR('Tabel 4F B'!D121<5,'Tabel 4(Br) B'!D121<0.5),\"-\",IFERROR('Tabel 4(Br) B'!D121/'Tabel 4F B'!D121*100,\"-\"))","v":"-"},{"$f":"IF(OR('Tabel 4F B'!E121<5,'Tabel 4(Br) B'!E121<0.5),\"-\",IFERROR('Tabel 4(Br) B'!E121/'Tabel 4F B'!E121*100,\"-\"))","v":"-"},{"$f":"IF(OR('Tabel 4F B'!F121<5,'Tabel 4(Br) B'!F121<0.5),\"-\",IFERROR('Tabel 4(Br) B'!F121/'Tabel 4F B'!F121*100,\"-\"))","v":"-"},{"$f":"IF(OR('Tabel 4F B'!G121<5,'Tabel 4(Br) B'!G121<0.5),\"-\",IFERROR('Tabel 4(Br) B'!G121/'Tabel 4F B'!G121*100,\"-\"))","v":"-"},null,{"$f":"IF(OR('Tabel 4F B'!I121<5,'Tabel 4(Br) B'!I121<0.5),\"-\",IFERROR('Tabel 4(Br) B'!I121/'Tabel 4F B'!I121*100,\"-\"))","v":"-"}]
[{"$f":"'[1]Tabel 4(Br) B DATA'!I169","v":"Øvrige Mag."},null,{"$f":"IF(OR('Tabel 4F B'!C122<5,'Tabel 4(Br) B'!C122<0.5),\"-\",IFERROR('Tabel 4(Br) B'!C122/'Tabel 4F B'!C122*100,\"-\"))","v":"-"},{"$f":"IF(OR('Tabel 4F B'!D122<5,'Tabel 4(Br) B'!D122<0.5),\"-\",IFERROR('Tabel 4(Br) B'!D122/'Tabel 4F B'!D122*100,\"-\"))","v":"-"},{"$f":"IF(OR('Tabel 4F B'!E122<5,'Tabel 4(Br) B'!E122<0.5),\"-\",IFERROR('Tabel 4(Br) B'!E122/'Tabel 4F B'!E122*100,\"-\"))","v":"-"},{"$f":"IF(OR('Tabel 4F B'!F122<5,'Tabel 4(Br) B'!F122<0.5),\"-\",IFERROR('Tabel 4(Br) B'!F122/'Tabel 4F B'!F122*100,\"-\"))","v":"-"},{"$f":"IF(OR('Tabel 4F B'!G122<5,'Tabel 4(Br) B'!G122<0.5),\"-\",IFERROR('Tabel 4(Br) B'!G122/'Tabel 4F B'!G122*100,\"-\"))","v":"-"},null,{"$f":"IF(OR('Tabel 4F B'!I122<5,'Tabel 4(Br) B'!I122<0.5),\"-\",IFERROR('Tabel 4(Br) B'!I122/'Tabel 4F B'!I122*100,\"-\"))","v":"-"}]
[{"$f":"'[1]Tabel 4(Br) B DATA'!I170","v":"Agronom"},null,{"$f":"IF(OR('Tabel 4F B'!C123<5,'Tabel 4(Br) B'!C123<0.5),\"-\",IFERROR('Tabel 4(Br) B'!C123/'Tabel 4F B'!C123*100,\"-\"))","v":"-"},{"$f":"IF(OR('Tabel 4F B'!D123<5,'Tabel 4(Br) B'!D123<0.5),\"-\",IFERROR('Tabel 4(Br) B'!D123/'Tabel 4F B'!D123*100,\"-\"))","v":"-"},{"$f":"IF(OR('Tabel 4F B'!E123<5,'Tabel 4(Br) B'!E123<0.5),\"-\",IFERROR('Tabel 4(Br) B'!E123/'Tabel 4F B'!E123*100,\"-\"))","v":"-"},{"$f":"IF(OR('Tabel 4F B'!F123<5,'Tabel 4(Br) B'!F123<0.5),\"-\",IFERROR('Tabel 4(Br) B'!F123/'Tabel 4F B'!F123*100,\"-\"))","v":"-"},{"$f":"IF(OR('Tabel 4F B'!G123<5,'Tabel 4(Br) B'!G123<0.5),\"-\",IFERROR('Tabel 4(Br) B'!G123/'Tabel 4F B'!G123*100,\"-\"))","v":"-"},null,{"$f":"IF(OR('Tabel 4F B'!I123<5,'Tabel 4(Br) B'!I123<0.5),\"-\",IFERROR('Tabel 4(Br) B'!I123/'Tabel 4F B'!I123*100,\"-\"))","v":"-"}]
[{"$f":"'[1]Tabel 4(Br) B DATA'!I171","v":"Landsk. Arkt."},null,{"$f":"IF(OR('Tabel 4F B'!C124<5,'Tabel 4(Br) B'!C124<0.5),\"-\",IFERROR('Tabel 4(Br) B'!C124/'Tabel 4F B'!C124*100,\"-\"))","v":"-"},{"$f":"IF(OR('Tabel 4F B'!D124<5,'Tabel 4(Br) B'!D124<0.5),\"-\",IFERROR('Tabel 4(Br) B'!D124/'Tabel 4F B'!D124*100,\"-\"))","v":"-"},{"$f":"IF(OR('Tabel 4F B'!E124<5,'Tabel 4(Br) B'!E124<0.5),\"-\",IFERROR('Tabel 4(Br) B'!E124/'Tabel 4F B'!E124*100,\"-\"))","v":"-"},{"$f":"IF(OR('Tabel 4F B'!F124<5,'Tabel 4(Br) B'!F124<0.5),\"-\",IFERROR('Tabel 4(Br) B'!F124/'Tabel 4F B'!F124*100,\"-\"))","v":"-"},{"$f":"IF(OR('Tabel 4F B'!G124<5,'Tabel 4(Br) B'!G124<0.5),\"-\",IFERROR('Tabel 4(Br) B'!G124/'Tabel 4F B'!G124*100,\"-\"))","v":"-"},null,{"$f":"IF(OR('Tabel 4F B'!I124<5,'Tabel 4(Br) B'!I124<0.5),\"-\",IFERROR('Tabel 4(Br) B'!I124/'Tabel 4F B'!I124*100,\"-\"))","v":"-"}]
[{"$f":"'[1]Tabel 4(Br) B DATA'!I172","v":"Hortonom"},null,{"$f":"IF(OR('Tabel 4F B'!C125<5,'Tabel 4(Br) B'!C125<0.5),\"-\",IFERROR('Tabel 4(Br) B'!C125/'Tabel 4F B'!C125*100,\"-\"))","v":"-"},{"$f":"IF(OR('Tabel 4F B'!D125<5,'Tabel 4(Br) B'!D125<0.5),\"-\",IFERROR('Tabel 4(Br) B'!D125/'Tabel 4F B'!D125*100,\"-\"))","v":"-"},{"$f":"IF(OR('Tabel 4F B'!E125<5,'Tabel 4(Br) B'!E125<0.5),\"-\",IFERROR('Tabel 4(Br) B'!E125/'Tabel 4F B'!E125*100,\"-\"))","v":"-"},{"$f":"IF(OR('Tabel 4F B'!F125<5,'Tabel 4(Br) B'!F125<0.5),\"-\",IFERROR('Tabel 4(Br) B'!F125/'Tabel 4F B'!F125*100,\"-\"))","v":"-"},{"$f":"IF(OR('Tabel 4F B'!G125<5,'Tabel 4(Br) B'!G125<0.5),\"-\",IFERROR('Tabel 4(Br) B'!G125/'Tabel 4F B'!G125*100,\"-\"))","v":"-"},null,{"$f":"IF(OR('Tabel 4F B'!I125<5,'Tabel 4(Br) B'!I125<0.5),\"-\",IFERROR('Tabel 4(Br) B'!I125/'Tabel 4F B'!I125*100,\"-\"))","v":"-"}]
[{"$f":"'[1]Tabel 4(Br) B DATA'!I173","v":"Forstkand."},null,{"$f":"IF(OR('Tabel 4F B'!C126<5,'Tabel 4(Br) B'!C126<0.5),\"-\",IFERROR('Tabel 4(Br) B'!C126/'Tabel 4F B'!C126*100,\"-\"))","v":"-"},{"$f":"IF(OR('Tabel 4F B'!D126<5,'Tabel 4(Br) B'!D126<0.5),\"-\",IFERROR('Tabel 4(Br) B'!D126/'Tabel 4F B'!D126*100,\"-\"))","v":"-"},{"$f":"IF(OR('Tabel 4F B'!E126<5,'Tabel 4(Br) B'!E126<0.5),\"-\",IFERROR('Tabel 4(Br) B'!E126/'Tabel 4F B'!E126*100,\"-\"))","v":"-"},{"$f":"IF(OR('Tabel 4F B'!F126<5,'Tabel 4(Br) B'!F126<0.5),\"-\",IFERROR('Tabel 4(Br) B'!F126/'Tabel 4F B'!F126*100,\"-\"))","v":"-"},{"$f":"IF(OR('Tabel 4F B'!G126<5,'Tabel 4(Br) B'!G126<0.5),\"-\",IFERROR('Tabel 4(Br) B'!G126/'Tabel 4F B'!G126*100,\"-\"))","v":"-"},null,{"$f":"IF(OR('Tabel 4F B'!I126<5,'Tabel 4(Br) B'!I126<0.5),\"-\",IFERROR('Tabel 4(Br) B'!I126/'Tabel 4F B'!I126*100,\"-\"))","v":"-"}]
[{"$f":"'[1]Tabel 4(Br) B DATA'!I174","v":"Jordbrugsakad."},null,{"$f":"IF(OR('Tabel 4F B'!C127<5,'Tabel 4(Br) B'!C127<0.5),\"-\",IFERROR('Tabel 4(Br) B'!C127/'Tabel 4F B'!C127*100,\"-\"))","v":"-"},{"$f":"IF(OR('Tabel 4F B'!D127<5,'Tabel 4(Br) B'!D127<0.5),\"-\",IFERROR('Tabel 4(Br) B'!D127/'Tabel 4F B'!D127*100,\"-\"))","v":"-"},{"$f":"IF(OR('Tabel 4F B'!E127<5,'Tabel 4(Br) B'!E127<0.5),\"-\",IFERROR('Tabel 4(Br) B'!E127/'Tabel 4F B'!E127*100,\"-\"))","v":"-"},{"$f":"IF(OR('Tabel 4F B'!F127<5,'Tabel 4(Br) B'!F127<0.5),\"-\",IFERROR('Tabel 4(Br) B'!F127/'Tabel 4F B'!F127*100,\"-\"))","v":"-"},{"$f":"IF(OR('Tabel 4F B'!G127<5,'Tabel 4(Br) B'!G127<0.5),\"-\",IFERROR('Tabel 4(Br) B'!G127/'Tabel 4F B'!G127*100,\"-\"))","v":"-"},null,{"$f":"IF(OR('Tabel 4F B'!I127<5,'Tabel 4(Br) B'!I127<0.5),\"-\",IFERROR('Tabel 4(Br) B'!I127/'Tabel 4F B'!I127*100,\"-\"))","v":"-"}]
[{"$f":"'[1]Tabel 4(Br) B DATA'!I175","v":"Mejeriing."},null,{"$f":"IF(OR('Tabel 4F B'!C128<5,'Tabel 4(Br) B'!C128<0.5),\"-\",IFERROR('Tabel 4(Br) B'!C128/'Tabel 4F B'!C128*100,\"-\"))","v":"-"},{"$f":"IF(OR('Tabel 4F B'!D128<5,'Tabel 4(Br) B'!D128<0.5),\"-\",IFERROR('Tabel 4(Br) B'!D128/'Tabel 4F B'!D128*100,\"-\"))","v":"-"},{"$f":"IF(OR('Tabel 4F B'!E128<5,'Tabel 4(Br) B'!E128<0.5),\"-\",IFERROR('Tabel 4(Br) B'!E128/'Tabel 4F B'!E128*100,\"-\"))","v":"-"},{"$f":"IF(OR('Tabel 4F B'!F128<5,'Tabel 4(Br) B'!F128<0.5),\"-\",IFERROR('Tabel 4(Br) B'!F128/'Tabel 4F B'!F128*100,\"-\"))","v":"-"},{"$f":"IF(OR('Tabel 4F B'!G128<5,'Tabel 4(Br) B'!G128<0.5),\"-\",IFERROR('Tabel 4(Br) B'!G128/'Tabel 4F B'!G128*100,\"-\"))","v":"-"},null,{"$f":"IF(OR('Tabel 4F B'!I128<5,'Tabel 4(Br) B'!I128<0.5),\"-\",IFERROR('Tabel 4(Br) B'!I128/'Tabel 4F B'!I128*100,\"-\"))","v":"-"}]
[{"$f":"'[1]Tabel 4(Br) B DATA'!I176","v":"Levn.m.kand."},null,{"$f":"IF(OR('Tabel 4F B'!C129<5,'Tabel 4(Br) B'!C129<0.5),\"-\",IFERROR('Tabel 4(Br) B'!C129/'Tabel 4F B'!C129*100,\"-\"))","v":"-"},{"$f":"IF(OR('Tabel 4F B'!D129<5,'Tabel 4(Br) B'!D129<0.5),\"-\",IFERROR('Tabel 4(Br) B'!D129/'Tabel 4F B'!D129*100,\"-\"))","v":"-"},{"$f":"IF(OR('Tabel 4F B'!E129<5,'Tabel 4(Br) B'!E129<0.5),\"-\",IFERROR('Tabel 4(Br) B'!E129/'Tabel 4F B'!E129*100,\"-\"))","v":"-"},{"$f":"IF(OR('Tabel 4F B'!F129<5,'Tabel 4(Br) B'!F129<0.5),\"-\",IFERROR('Tabel 4(Br) B'!F129/'Tabel 4F B'!F129*100,\"-\"))","v":"-"},{"$f":"IF(OR('Tabel 4F B'!G129<5,'Tabel 4(Br) B'!G129<0.5),\"-\",IFERROR('Tabel 4(Br) B'!G129/'Tabel 4F B'!G129*100,\"-\"))","v":"-"},null,{"$f":"IF(OR('Tabel 4F B'!I129<5,'Tabel 4(Br) B'!I129<0.5),\"-\",IFERROR('Tabel 4(Br) B'!I129/'Tabel 4F B'!I129*100,\"-\"))","v":"-"}]
[{"$f":"'[1]Tabel 4(Br) B DATA'!I177","v":"Dyrlæge"},null,{"$f":"IF(OR('Tabel 4F B'!C130<5,'Tabel 4(Br) B'!C130<0.5),\"-\",IFERROR('Tabel 4(Br) B'!C130/'Tabel 4F B'!C130*100,\"-\"))","v":"-"},{"$f":"IF(OR('Tabel 4F B'!D130<5,'Tabel 4(Br) B'!D130<0.5),\"-\",IFERROR('Tabel 4(Br) B'!D130/'Tabel 4F B'!D130*100,\"-\"))","v":"-"},{"$f":"IF(OR('Tabel 4F B'!E130<5,'Tabel 4(Br) B'!E130<0.5),\"-\",IFERROR('Tabel 4(Br) B'!E130/'Tabel 4F B'!E130*100,\"-\"))","v":"-"},{"$f":"IF(OR('Tabel 4F B'!F130<5,'Tabel 4(Br) B'!F130<0.5),\"-\",IFERROR('Tabel 4(Br) B'!F130/'Tabel 4F B'!F130*100,\"-\"))","v":"-"},{"$f":"IF(OR('Tabel 4F B'!G130<5,'Tabel 4(Br) B'!G130<0.5),\"-\",IFERROR('Tabel 4(Br) B'!G130/'Tabel 4F B'!G130*100,\"-\"))","v":"-"},null,{"$f":"IF(OR('Tabel 4F B'!I130<5,'Tabel 4(Br) B'!I130<0.5),\"-\",IFERROR('Tabel 4(Br) B'!I130/'Tabel 4F B'!I130*100,\"-\"))","v":"-"}]
[{"$f":"'[1]Tabel 4(Br) B DATA'!I178","v":"Farmaceut"},null,{"$f":"IF(OR('Tabel 4F B'!C131<5,'Tabel 4(Br) B'!C131<0.5),\"-\",IFERROR('Tabel 4(Br) B'!C131/'Tabel 4F B'!C131*100,\"-\"))","v":"-"},{"$f":"IF(OR('Tabel 4F B'!D131<5,'Tabel 4(Br) B'!D131<0.5),\"-\",IFERROR('Tabel 4(Br) B'!D131/'Tabel 4F B'!D131*100,\"-\"))","v":"-"},{"$f":"IF(OR('Tabel 4F B'!E131<5,'Tabel 4(Br) B'!E131<0.5),\"-\",IFERROR('Tabel 4(Br) B'!E131/'Tabel 4F B'!E131*100,\"-\"))","v":"-"},{"$f":"IF(OR('Tabel 4F B'!F131<5,'Tabel 4(Br) B'!F131<0.5),\"-\",IFERROR('Tabel 4(Br) B'!F131/'Tabel 4F B'!F131*100,\"-\"))","v":"-"},{"$f":"IF(OR('Tabel 4F B'!G131<5,'Tabel 4(Br) B'!G131<0.5),\"-\",IFERROR('Tabel 4(Br) B'!G131/'Tabel 4F B'!G131*100,\"-\"))","v":"-"},null,{"$f":"IF(OR('Tabel 4F B'!I131<5,'Tabel 4(Br) B'!I131<0.5),\"-\",IFERROR('Tabel 4(Br) B'!I131/'Tabel 4F B'!I131*100,\"-\"))","v":"-"}]
[{"$f":"'[1]Tabel 4(Br) B DATA'!I179","v":"Læge"},null,{"$f":"IF(OR('Tabel 4F B'!C132<5,'Tabel 4(Br) B'!C132<0.5),\"-\",IFERROR('Tabel 4(Br) B'!C132/'Tabel 4F B'!C132*100,\"-\"))","v":"-"},{"$f":"IF(OR('Tabel 4F B'!D132<5,'Tabel 4(Br) B'!D132<0.5),\"-\",IFERROR('Tabel 4(Br) B'!D132/'Tabel 4F B'!D132*100,\"-\"))","v":"-"},{"$f":"IF(OR('Tabel 4F B'!E132<5,'Tabel 4(Br) B'!E132<0.5),\"-\",IFERROR('Tabel 4(Br) B'!E132/'Tabel 4F B'!E132*100,\"-\"))","v":"-"},{"$f":"IF(OR('Tabel 4F B'!F132<5,'Tabel 4(Br) B'!F132<0.5),\"-\",IFERROR('Tabel 4(Br) B'!F132/'Tabel 4F B'!F132*100,\"-\"))","v":"-"},{"$f":"IF(OR('Tabel 4F B'!G132<5,'Tabel 4(Br) B'!G132<0.5),\"-\",IFERROR('Tabel 4(Br) B'!G132/'Tabel 4F B'!G132*100,\"-\"))","v":"-"},null,{"$f":"IF(OR('Tabel 4F B'!I132<5,'Tabel 4(Br) B'!I132<0.5),\"-\",IFERROR('Tabel 4(Br) B'!I132/'Tabel 4F B'!I132*100,\"-\"))","v":"-"}]
[{"$f":"'[1]Tabel 4(Br) B DATA'!I180","v":"Tandlæge"},null,{"$f":"IF(OR('Tabel 4F B'!C133<5,'Tabel 4(Br) B'!C133<0.5),\"-\",IFERROR('Tabel 4(Br) B'!C133/'Tabel 4F B'!C133*100,\"-\"))","v":"-"},{"$f":"IF(OR('Tabel 4F B'!D133<5,'Tabel 4(Br) B'!D133<0.5),\"-\",IFERROR('Tabel 4(Br) B'!D133/'Tabel 4F B'!D133*100,\"-\"))","v":"-"},{"$f":"IF(OR('Tabel 4F B'!E133<5,'Tabel 4(Br) B'!E133<0.5),\"-\",IFERROR('Tabel 4(Br) B'!E133/'Tabel 4F B'!E133*100,\"-\"))","v":"-"},{"$f":"IF(OR('Tabel 4F B'!F133<5,'Tabel 4(Br) B'!F133<0.5),\"-\",IFERROR('Tabel 4(Br) B'!F133/'Tabel 4F B'!F133*100,\"-\"))","v":"-"},{"$f":"IF(OR('Tabel 4F B'!G133<5,'Tabel 4(Br) B'!G133<0.5),\"-\",IFERROR('Tabel 4(Br) B'!G133/'Tabel 4F B'!G133*100,\"-\"))","v":"-"},null,{"$f":"IF(OR('Tabel 4F B'!I133<5,'Tabel 4(Br) B'!I133<0.5),\"-\",IFERROR('Tabel 4(Br) B'!I133/'Tabel 4F B'!I133*100,\"-\"))","v":"-"}]
[{"$f":"'[1]Tabel 4(Br) B DATA'!I181","v":"Arkitekt"},null,{"$f":"IF(OR('Tabel 4F B'!C134<5,'Tabel 4(Br) B'!C134<0.5),\"-\",IFERROR('Tabel 4(Br) B'!C134/'Tabel 4F B'!C134*100,\"-\"))","v":"-"},{"$f":"IF(OR('Tabel 4F B'!D134<5,'Tabel 4(Br) B'!D134<0.5),\"-\",IFERROR('Tabel 4(Br) B'!D134/'Tabel 4F B'!D134*100,\"-\"))","v":"-"},{"$f":"IF(OR('Tabel 4F B'!E134<5,'Tabel 4(Br) B'!E134<0.5),\"-\",IFERROR('Tabel 4(Br) B'!E134/'Tabel 4F B'!E134*100,\"-\"))","v":"-"},{"$f":"IF(OR('Tabel 4F B'!F134<5,'Tabel 4(Br) B'!F134<0.5),\"-\",IFERROR('Tabel 4(Br) B'!F134/'Tabel 4F B'!F134*100,\"-\"))","v":"-"},{"$f":"IF(OR('Tabel 4F B'!G134<5,'Tabel 4(Br) B'!G134<0.5),\"-\",IFERROR('Tabel 4(Br) B'!G134/'Tabel 4F B'!G134*100,\"-\"))","v":"-"},null,{"$f":"IF(OR('Tabel 4F B'!I134<5,'Tabel 4(Br) B'!I134<0.5),\"-\",IFERROR('Tabel 4(Br) B'!I134/'Tabel 4F B'!I134*100,\"-\"))","v":"-"}]
[{"$f":"'[1]Tabel 4(Br) B DATA'!I182","v":"Landinspek."},null,{"$f":"IF(OR('Tabel 4F B'!C135<5,'Tabel 4(Br) B'!C135<0.5),\"-\",IFERROR('Tabel 4(Br) B'!C135/'Tabel 4F B'!C135*100,\"-\"))","v":"-"},{"$f":"IF(OR('Tabel 4F B'!D135<5,'Tabel 4(Br) B'!D135<0.5),\"-\",IFERROR('Tabel 4(Br) B'!D135/'Tabel 4F B'!D135*100,\"-\"))","v":"-"},{"$f":"IF(OR('Tabel 4F B'!E135<5,'Tabel 4(Br) B'!E135<0.5),\"-\",IFERROR('Tabel 4(Br) B'!E135/'Tabel 4F B'!E135*100,\"-\"))","v":"-"},{"$f":"IF(OR('Tabel 4F B'!F135<5,'Tabel 4(Br) B'!F135<0.5),\"-\",IFERROR('Tabel 4(Br) B'!F135/'Tabel 4F B'!F135*100,\"-\"))","v":"-"},{"$f":"IF(OR('Tabel 4F B'!G135<5,'Tabel 4(Br) B'!G135<0.5),\"-\",IFERROR('Tabel 4(Br) B'!G135/'Tabel 4F B'!G135*100,\"-\"))","v":"-"},null,{"$f":"IF(OR('Tabel 4F B'!I135<5,'Tabel 4(Br) B'!I135<0.5),\"-\",IFERROR('Tabel 4(Br) B'!I135/'Tabel 4F B'!I135*100,\"-\"))","v":"-"}]
[{"$f":"'[1]Tabel 4(Br) B DATA'!I183","v":"Bibliotekar"},null,{"$f":"IF(OR('Tabel 4F B'!C136<5,'Tabel 4(Br) B'!C136<0.5),\"-\",IFERROR('Tabel 4(Br) B'!C136/'Tabel 4F B'!C136*100,\"-\"))","v":"-"},{"$f":"IF(OR('Tabel 4F B'!D136<5,'Tabel 4(Br) B'!D136<0.5),\"-\",IFERROR('Tabel 4(Br) B'!D136/'Tabel 4F B'!D136*100,\"-\"))","v":"-"},{"$f":"IF(OR('Tabel 4F B'!E136<5,'Tabel 4(Br) B'!E136<0.5),\"-\",IFERROR('Tabel 4(Br) B'!E136/'Tabel 4F B'!E136*100,\"-\"))","v":"-"},{"$f":"IF(OR('Tabel 4F B'!F136<5,'Tabel 4(Br) B'!F136<0.5),\"-\",IFERROR('Tabel 4(Br) B'!F136/'Tabel 4F B'!F136*100,\"-\"))","v":"-"},{"$f":"IF(OR('Tabel 4F B'!G136<5,'Tabel 4(Br) B'!G136<0.5),\"-\",IFERROR('Tabel 4(Br) B'!G136/'Tabel 4F B'!G136*100,\"-\"))","v":"-"},null,{"$f":"IF(OR('Tabel 4F B'!I136<5,'Tabel 4(Br) B'!I136<0.5),\"-\",IFERROR('Tabel 4(Br) B'!I136/'Tabel 4F B'!I136*100,\"-\"))","v":"-"}]
[{"$f":"'[1]Tabel 4(Br) B DATA'!I184","v":"Musikudd."},null,{"$f":"IF(OR('Tabel 4F B'!C137<5,'Tabel 4(Br) B'!C137<0.5),\"-\",IFERROR('Tabel 4(Br) B'!C137/'Tabel 4F B'!C137*100,\"-\"))","v":"-"},{"$f":"IF(OR('Tabel 4F B'!D137<5,'Tabel 4(Br) B'!D137<0.5),\"-\",IFERROR('Tabel 4(Br) B'!D137/'Tabel 4F B'!D137*100,\"-\"))","v":"-"},{"$f":"IF(OR('Tabel 4F B'!E137<5,'Tabel 4(Br) B'!E137<0.5),\"-\",IFERROR('Tabel 4(Br) B'!E137/'Tabel 4F B'!E137*100,\"-\"))","v":"-"},{"$f":"IF(OR('Tabel 4F B'!F137<5,'Tabel 4(Br) B'!F137<0.5),\"-\",IFERROR('Tabel 4(Br) B'!F137/'Tabel 4F B'!F137*100,\"-\"))","v":"-"},{"$f":"IF(OR('Tabel 4F B'!G137<5,'Tabel 4(Br) B'!G137<0.5),\"-\",IFERROR('Tabel 4(Br) B'!G137/'Tabel 4F B'!G137*100,\"-\"))","v":"-"},null,{"$f":"IF(OR('Tabel 4F B'!I137<5,'Tabel 4(Br) B'!I137<0.5),\"-\",IFERROR('Tabel 4(Br) B'!I137/'Tabel 4F B'!I137*100,\"-\"))","v":"-"}]
[{"$f":"'[1]Tabel 4(Br) B DATA'!I185","v":"Teolog"},null,{"$f":"IF(OR('Tabel 4F B'!C138<5,'Tabel 4(Br) B'!C138<0.5),\"-\",IFERROR('Tabel 4(Br) B'!C138/'Tabel 4F B'!C138*100,\"-\"))","v":"-"},{"$f":"IF(OR('Tabel 4F B'!D138<5,'Tabel 4(Br) B'!D138<0.5),\"-\",IFERROR('Tabel 4(Br) B'!D138/'Tabel 4F B'!D138*100,\"-\"))","v":"-"},{"$f":"IF(OR('Tabel 4F B'!E138<5,'Tabel 4(Br) B'!E138<0.5),\"-\",IFERROR('Tabel 4(Br) B'!E138/'Tabel 4F B'!E138*100,\"-\"))","v":"-"},{"$f":"IF(OR('Tabel 4F B'!F138<5,'Tabel 4(Br) B'!F138<0.5),\"-\",IFERROR('Tabel 4(Br) B'!F138/'Tabel 4F B'!F138*100,\"-\"))","v":"-"},{"$f":"IF(OR('Tabel 4F B'!G138<5,'Tabel 4(Br) B'!G138<0.5),\"-\",IFERROR('Tabel 4(Br) B'!G138/'Tabel 4F B'!G138*100,\"-\"))","v":"-"},null,{"$f":"IF(OR('Tabel 4F B'!I138<5,'Tabel 4(Br) B'!I138<0.5),\"-\",IFERROR('Tabel 4(Br) B'!I138/'Tabel 4F B'!I138*100,\"-\"))","v":"-"}]
[{"$f":"'[1]Tabel 4(Br) B DATA'!I186","v":"Psykolog"},null,{"$f":"IF(OR('Tabel 4F B'!C139<5,'Tabel 4(Br) B'!C139<0.5),\"-\",IFERROR('Tabel 4(Br) B'!C139/'Tabel 4F B'!C139*100,\"-\"))","v":"-"},{"$f":"IF(OR('Tabel 4F B'!D139<5,'Tabel 4(Br) B'!D139<0.5),\"-\",IFERROR('Tabel 4(Br) B'!D139/'Tabel 4F B'!D139*100,\"-\"))","v":"-"},{"$f":"IF(OR('Tabel 4F B'!E139<5,'Tabel 4(Br) B'!E139<0.5),\"-\",IFERROR('Tabel 4(Br) B'!E139/'Tabel 4F B'!E139*100,\"-\"))","v":"-"},{"$f":"IF(OR('Tabel 4F B'!F139<5,'Tabel 4(Br) B'!F139<0.5),\"-\",IFERROR('Tabel 4(Br) B'!F139/'Tabel 4F B'!F139*100,\"-\"))","v":"-"},{"$f":"IF(OR('Tabel 4F B'!G139<5,'Tabel 4(Br) B'!G139<0.5),\"-\",IFERROR('Tabel 4(Br) B'!G139/'Tabel 4F B'!G139*100,\"-\"))","v":"-"},null,{"$f":"IF(OR('Tabel 4F B'!I139<5,'Tabel 4(Br) B'!I139<0.5),\"-\",IFERROR('Tabel 4(Br) B'!I139/'Tabel 4F B'!I139*100,\"-\"))","v":"-"}]
[{"$f":"'[1]Tabel 4(Br) B DATA'!I187","v":"Jurist"},null,{"$f":"IF(OR('Tabel 4F B'!C140<5,'Tabel 4(Br) B'!C140<0.5),\"-\",IFERROR('Tabel 4(Br) B'!C140/'Tabel 4F B'!C140*100,\"-\"))","v":"-"},{"$f":"IF(OR('Tabel 4F B'!D140<5,'Tabel 4(Br) B'!D140<0.5),\"-\",IFERROR('Tabel 4(Br) B'!D140/'Tabel 4F B'!D140*100,\"-\"))","v":"-"},{"$f":"IF(OR('Tabel 4F B'!E140<5,'Tabel 4(Br) B'!E140<0.5),\"-\",IFERROR('Tabel 4(Br) B'!E140/'Tabel 4F B'!E140*100,\"-\"))","v":"-"},{"$f":"IF(OR('Tabel 4F B'!F140<5,'Tabel 4(Br) B'!F140<0.5),\"-\",IFERROR('Tabel 4(Br) B'!F140/'Tabel 4F B'!F140*100,\"-\"))","v":"-"},{"$f":"IF(OR('Tabel 4F B'!G140<5,'Tabel 4(Br) B'!G140<0.5),\"-\",IFERROR('Tabel 4(Br) B'!G140/'Tabel 4F B'!G140*100,\"-\"))","v":"-"},null,{"$f":"IF(OR('Tabel 4F B'!I140<5,'Tabel 4(Br) B'!I140<0.5),\"-\",IFERROR('Tabel 4(Br) B'!I140/'Tabel 4F B'!I140*100,\"-\"))","v":"-"}]
[{"$f":"'[1]Tabel 4(Br) B DATA'!I188","v":"Økonom"},null,{"$f":"IF(OR('Tabel 4F B'!C141<5,'Tabel 4(Br) B'!C141<0.5),\"-\",IFERROR('Tabel 4(Br) B'!C141/'Tabel 4F B'!C141*100,\"-\"))","v":"-"},{"$f":"IF(OR('Tabel 4F B'!D141<5,'Tabel 4(Br) B'!D141<0.5),\"-\",IFERROR('Tabel 4(Br) B'!D141/'Tabel 4F B'!D141*100,\"-\"))","v":"-"},{"$f":"IF(OR('Tabel 4F B'!E141<5,'Tabel 4(Br) B'!E141<0.5),\"-\",IFERROR('Tabel 4(Br) B'!E141/'Tabel 4F B'!E141*100,\"-\"))","v":"-"},{"$f":"IF(OR('Tabel 4F B'!F141<5,'Tabel 4(Br) B'!F141<0.5),\"-\",IFERROR('Tabel 4(Br) B'!F141/'Tabel 4F B'!F141*100,\"-\"))","v":"-"},{"$f":"IF(OR('Tabel 4F B'!G141<5,'Tabel 4(Br) B'!G141<0.5),\"-\",IFERROR('Tabel 4(Br) B'!G141/'Tabel 4F B'!G141*100,\"-\"))","v":"-"},null,{"$f":"IF(OR('Tabel 4F B'!I141<5,'Tabel 4(Br) B'!I141<0.5),\"-\",IFERROR('Tabel 4(Br) B'!I141/'Tabel 4F B'!I141*100,\"-\"))","v":"-"}]
[{"$f":"'[1]Tabel 4(Br) B DATA'!I189","v":"Samf. Adm."},null,{"$f":"IF(OR('Tabel 4F B'!C142<5,'Tabel 4(Br) B'!C142<0.5),\"-\",IFERROR('Tabel 4(Br) B'!C142/'Tabel 4F B'!C142*100,\"-\"))","v":"-"},{"$f":"IF(OR('Tabel 4F B'!D142<5,'Tabel 4(Br) B'!D142<0.5),\"-\",IFERROR('Tabel 4(Br) B'!D142/'Tabel 4F B'!D142*100,\"-\"))","v":"-"},{"$f":"IF(OR('Tabel 4F B'!E142<5,'Tabel 4(Br) B'!E142<0.5),\"-\",IFERROR('Tabel 4(Br) B'!E142/'Tabel 4F B'!E142*100,\"-\"))","v":"-"},{"$f":"IF(OR('Tabel 4F B'!F142<5,'Tabel 4(Br) B'!F142<0.5),\"-\",IFERROR('Tabel 4(Br) B'!F142/'Tabel 4F B'!F142*100,\"-\"))","v":"-"},{"$f":"IF(OR('Tabel 4F B'!G142<5,'Tabel 4(Br) B'!G142<0.5),\"-\",IFERROR('Tabel 4(Br) B'!G142/'Tabel 4F B'!G142*100,\"-\"))","v":"-"},null,{"$f":"IF(OR('Tabel 4F B'!I142<5,'Tabel 4(Br) B'!I142<0.5),\"-\",IFERROR('Tabel 4(Br) B'!I142/'Tabel 4F B'!I142*100,\"-\"))","v":"-"}]
[{"$f":"'[1]Tabel 4(Br) B DATA'!I190","v":"Cand. Merc."},null,{"$f":"IF(OR('Tabel 4F B'!C143<5,'Tabel 4(Br) B'!C143<0.5),\"-\",IFERROR('Tabel 4(Br) B'!C143/'Tabel 4F B'!C143*100,\"-\"))","v":"-"},{"$f":"IF(OR('Tabel 4F B'!D143<5,'Tabel 4(Br) B'!D143<0.5),\"-\",IFERROR('Tabel 4(Br) B'!D143/'Tabel 4F B'!D143*100,\"-\"))","v":"-"},{"$f":"IF(OR('Tabel 4F B'!E143<5,'Tabel 4(Br) B'!E143<0.5),\"-\",IFERROR('Tabel 4(Br) B'!E143/'Tabel 4F B'!E143*100,\"-\"))","v":"-"},{"$f":"IF(OR('Tabel 4F B'!F143<5,'Tabel 4(Br) B'!F143<0.5),\"-\",IFERROR('Tabel 4(Br) B'!F143/'Tabel 4F B'!F143*100,\"-\"))","v":"-"},{"$f":"IF(OR('Tabel 4F B'!G143<5,'Tabel 4(Br) B'!G143<0.5),\"-\",IFERROR('Tabel 4(Br) B'!G143/'Tabel 4F B'!G143*100,\"-\"))","v":"-"},null,{"$f":"IF(OR('Tabel 4F B'!I143<5,'Tabel 4(Br) B'!I143<0.5),\"-\",IFERROR('Tabel 4(Br) B'!I143/'Tabel 4F B'!I143*100,\"-\"))","v":"-"}]
[{"$f":"'[1]Tabel 4(Br) B DATA'!I191","v":"HA"},null,{"$f":"IF(OR('Tabel 4F B'!C144<5,'Tabel 4(Br) B'!C144<0.5),\"-\",IFERROR('Tabel 4(Br) B'!C144/'Tabel 4F B'!C144*100,\"-\"))","v":"-"},{"$f":"IF(OR('Tabel 4F B'!D144<5,'Tabel 4(Br) B'!D144<0.5),\"-\",IFERROR('Tabel 4(Br) B'!D144/'Tabel 4F B'!D144*100,\"-\"))","v":"-"},{"$f":"IF(OR('Tabel 4F B'!E144<5,'Tabel 4(Br) B'!E144<0.5),\"-\",IFERROR('Tabel 4(Br) B'!E144/'Tabel 4F B'!E144*100,\"-\"))","v":"-"},{"$f":"IF(OR('Tabel 4F B'!F144<5,'Tabel 4(Br) B'!F144<0.5),\"-\",IFERROR('Tabel 4(Br) B'!F144/'Tabel 4F B'!F144*100,\"-\"))","v":"-"},{"$f":"IF(OR('Tabel 4F B'!G144<5,'Tabel 4(Br) B'!G144<0.5),\"-\",IFERROR('Tabel 4(Br) B'!G144/'Tabel 4F B'!G144*100,\"-\"))","v":"-"},null,{"$f":"IF(OR('Tabel 4F B'!I144<5,'Tabel 4(Br) B'!I144<0.5),\"-\",IFERROR('Tabel 4(Br) B'!I144/'Tabel 4F B'!I144*100,\"-\"))","v":"-"}]
[{"$f":"'[1]Tabel 4(Br) B DATA'!I192","v":"HD"},null,{"$f":"IF(OR('Tabel 4F B'!C145<5,'Tabel 4(Br) B'!C145<0.5),\"-\",IFERROR('Tabel 4(Br) B'!C145/'Tabel 4F B'!C145*100,\"-\"))","v":"-"},{"$f":"IF(OR('Tabel 4F B'!D145<5,'Tabel 4(Br) B'!D145<0.5),\"-\",IFERROR('Tabel 4(Br) B'!D145/'Tabel 4F B'!D145*100,\"-\"))","v":"-"},{"$f":"IF(OR('Tabel 4F B'!E145<5,'Tabel 4(Br) B'!E145<0.5),\"-\",IFERROR('Tabel 4(Br) B'!E145/'Tabel 4F B'!E145*100,\"-\"))","v":"-"},{"$f":"IF(OR('Tabel 4F B'!F145<5,'Tabel 4(Br) B'!F145<0.5),\"-\",IFERROR('Tabel 4(Br) B'!F145/'Tabel 4F B'!F145*100,\"-\"))","v":"-"},{"$f":"IF(OR('Tabel 4F B'!G145<5,'Tabel 4(Br) B'!G145<0.5),\"-\",IFERROR('Tabel 4(Br) B'!G145/'Tabel 4F B'!G145*100,\"-\"))","v":"-"},null,{"$f":"IF(OR('Tabel 4F B'!I145<5,'Tabel 4(Br) B'!I145<0.5),\"-\",IFERROR('Tabel 4(Br) B'!I145/'Tabel 4F B'!I145*100,\"-\"))","v":"-"}]
[{"$f":"'[1]Tabel 4(Br) B DATA'!I193","v":"Komm. og Sprog"},null,{"$f":"IF(OR('Tabel 4F B'!C146<5,'Tabel 4(Br) B'!C146<0.5),\"-\",IFERROR('Tabel 4(Br) B'!C146/'Tabel 4F B'!C146*100,\"-\"))","v":"-"},{"$f":"IF(OR('Tabel 4F B'!D146<5,'Tabel 4(Br) B'!D146<0.5),\"-\",IFERROR('Tabel 4(Br) B'!D146/'Tabel 4F B'!D146*100,\"-\"))","v":"-"},{"$f":"IF(OR('Tabel 4F B'!E146<5,'Tabel 4(Br) B'!E146<0.5),\"-\",IFERROR('Tabel 4(Br) B'!E146/'Tabel 4F B'!E146*100,\"-\"))","v":"-"},{"$f":"IF(OR('Tabel 4F B'!F146<5,'Tabel 4(Br) B'!F146<0.5),\"-\",IFERROR('Tabel 4(Br) B'!F146/'Tabel 4F B'!F146*100,\"-\"))","v":"-"},{"$f":"IF(OR('Tabel 4F B'!G146<5,'Tabel 4(Br) B'!G146<0.5),\"-\",IFERROR('Tabel 4(Br) B'!G146/'Tabel 4F B'!G146*100,\"-\"))","v":"-"},null,{"$f":"IF(OR('Tabel 4F B'!I146<5,'Tabel 4(Br) B'!I146<0.5),\"-\",IFERROR('Tabel 4(Br) B'!I146/'Tabel 4F B'!I146*100,\"-\"))","v":"-"}]
["Bygningskonst.",null,{"$f":"IF(OR('Tabel 4F B'!C147<5,'Tabel 4(Br) B'!C147<0.5),\"-\",IFERROR('Tabel 4(Br) B'!C147/'Tabel 4F B'!C147*100,\"-\"))","v":"-"},{"$f":"IF(OR('Tabel 4F B'!D147<5,'Tabel 4(Br) B'!D147<0.5),\"-\",IFERROR('Tabel 4(Br) B'!D147/'Tabel 4F B'!D147*100,\"-\"))","v":"-"},{"$f":"IF(OR('Tabel 4F B'!E147<5,'Tabel 4(Br) B'!E147<0.5),\"-\",IFERROR('Tabel 4(Br) B'!E147/'Tabel 4F B'!E147*100,\"-\"))","v":"-"},{"$f":"IF(OR('Tabel 4F B'!F147<5,'Tabel 4(Br) B'!F147<0.5),\"-\",IFERROR('Tabel 4(Br) B'!F147/'Tabel 4F B'!F147*100,\"-\"))","v":"-"},{"$f":"IF(OR('Tabel 4F B'!G147<5,'Tabel 4(Br) B'!G147<0.5),\"-\",IFERROR('Tabel 4(Br) B'!G147/'Tabel 4F B'!G147*100,\"-\"))","v":"-"},null,{"$f":"IF(OR('Tabel 4F B'!I147<5,'Tabel 4(Br) B'!I147<0.5),\"-\",IFERROR('Tabel 4(Br) B'!I147/'Tabel 4F B'!I147*100,\"-\"))","v":"-"}]
[{"$f":"'[1]Tabel 4(Br) B DATA'!I195","v":"Cand. IT."},null,{"$f":"IF(OR('Tabel 4F B'!C148<5,'Tabel 4(Br) B'!C148<0.5),\"-\",IFERROR('Tabel 4(Br) B'!C148/'Tabel 4F B'!C148*100,\"-\"))","v":"-"},{"$f":"IF(OR('Tabel 4F B'!D148<5,'Tabel 4(Br) B'!D148<0.5),\"-\",IFERROR('Tabel 4(Br) B'!D148/'Tabel 4F B'!D148*100,\"-\"))","v":"-"},{"$f":"IF(OR('Tabel 4F B'!E148<5,'Tabel 4(Br) B'!E148<0.5),\"-\",IFERROR('Tabel 4(Br) B'!E148/'Tabel 4F B'!E148*100,\"-\"))","v":"-"},{"$f":"IF(OR('Tabel 4F B'!F148<5,'Tabel 4(Br) B'!F148<0.5),\"-\",IFERROR('Tabel 4(Br) B'!F148/'Tabel 4F B'!F148*100,\"-\"))","v":"-"},{"$f":"IF(OR('Tabel 4F B'!G148<5,'Tabel 4(Br) B'!G148<0.5),\"-\",IFERROR('Tabel 4(Br) B'!G148/'Tabel 4F B'!G148*100,\"-\"))","v":"-"},null,{"$f":"IF(OR('Tabel 4F B'!I148<5,'Tabel 4(Br) B'!I148<0.5),\"-\",IFERROR('Tabel 4(Br) B'!I148/'Tabel 4F B'!I148*100,\"-\"))","v":"-"}]
[{"$f":"'[1]Tabel 4(Br) B DATA'!I196","v":"Bac. Samf."},null,{"$f":"IF(OR('Tabel 4F B'!C149<5,'Tabel 4(Br) B'!C149<0.5),\"-\",IFERROR('Tabel 4(Br) B'!C149/'Tabel 4F B'!C149*100,\"-\"))","v":"-"},{"$f":"IF(OR('Tabel 4F B'!D149<5,'Tabel 4(Br) B'!D149<0.5),\"-\",IFERROR('Tabel 4(Br) B'!D149/'Tabel 4F B'!D149*100,\"-\"))","v":"-"},{"$f":"IF(OR('Tabel 4F B'!E149<5,'Tabel 4(Br) B'!E149<0.5),\"-\",IFERROR('Tabel 4(Br) B'!E149/'Tabel 4F B'!E149*100,\"-\"))","v":"-"},{"$f":"IF(OR('Tabel 4F B'!F149<5,'Tabel 4(Br) B'!F149<0.5),\"-\",IFERROR('Tabel 4(Br) B'!F149/'Tabel 4F B'!F149*100,\"-\"))","v":"-"},{"$f":"IF(OR('Tabel 4F B'!G149<5,'Tabel 4(Br) B'!G149<0.5),\"-\",IFERROR('Tabel 4(Br) B'!G149/'Tabel 4F B'!G149*100,\"-\"))","v":"-"},null,{"$f":"IF(OR('Tabel 4F B'!I149<5,'Tabel 4(Br) B'!I149<0.5),\"-\",IFERROR('Tabel 4(Br) B'!I149/'Tabel 4F B'!I149*100,\"-\"))","v":"-"}]
[{"$f":"'[1]Tabel 4(Br) B DATA'!I197","v":"Bac. Hum."},null,{"$f":"IF(OR('Tabel 4F B'!C150<5,'Tabel 4(Br) B'!C150<0.5),\"-\",IFERROR('Tabel 4(Br) B'!C150/'Tabel 4F B'!C150*100,\"-\"))","v":"-"},{"$f":"IF(OR('Tabel 4F B'!D150<5,'Tabel 4(Br) B'!D150<0.5),\"-\",IFERROR('Tabel 4(Br) B'!D150/'Tabel 4F B'!D150*100,\"-\"))","v":"-"},{"$f":"IF(OR('Tabel 4F B'!E150<5,'Tabel 4(Br) B'!E150<0.5),\"-\",IFERROR('Tabel 4(Br) B'!E150/'Tabel 4F B'!E150*100,\"-\"))","v":"-"},{"$f":"IF(OR('Tabel 4F B'!F150<5,'Tabel 4(Br) B'!F150<0.5),\"-\",IFERROR('Tabel 4(Br) B'!F150/'Tabel 4F B'!F150*100,\"-\"))","v":"-"},{"$f":"IF(OR('Tabel 4F B'!G150<5,'Tabel 4(Br) B'!G150<0.5),\"-\",IFERROR('Tabel 4(Br) B'!G150/'Tabel 4F B'!G150*100,\"-\"))","v":"-"},null,{"$f":"IF(OR('Tabel 4F B'!I150<5,'Tabel 4(Br) B'!I150<0.5),\"-\",IFERROR('Tabel 4(Br) B'!I150/'Tabel 4F B'!I150*100,\"-\"))","v":"-"}]
[{"$f":"'[1]Tabel 4(Br) B DATA'!I198","v":"Bac. Nat."},null,{"$f":"IF(OR('Tabel 4F B'!C151<5,'Tabel 4(Br) B'!C151<0.5),\"-\",IFERROR('Tabel 4(Br) B'!C151/'Tabel 4F B'!C151*100,\"-\"))","v":"-"},{"$f":"IF(OR('Tabel 4F B'!D151<5,'Tabel 4(Br) B'!D151<0.5),\"-\",IFERROR('Tabel 4(Br) B'!D151/'Tabel 4F B'!D151*100,\"-\"))","v":"-"},{"$f":"IF(OR('Tabel 4F B'!E151<5,'Tabel 4(Br) B'!E151<0.5),\"-\",IFERROR('Tabel 4(Br) B'!E151/'Tabel 4F B'!E151*100,\"-\"))","v":"-"},{"$f":"IF(OR('Tabel 4F B'!F151<5,'Tabel 4(Br) B'!F151<0.5),\"-\",IFERROR('Tabel 4(Br) B'!F151/'Tabel 4F B'!F151*100,\"-\"))","v":"-"},{"$f":"IF(OR('Tabel 4F B'!G151<5,'Tabel 4(Br) B'!G151<0.5),\"-\",IFERROR('Tabel 4(Br) B'!G151/'Tabel 4F B'!G151*100,\"-\"))","v":"-"},null,{"$f":"IF(OR('Tabel 4F B'!I151<5,'Tabel 4(Br) B'!I151<0.5),\"-\",IFERROR('Tabel 4(Br) B'!I151/'Tabel 4F B'!I151*100,\"-\"))","v":"-"}]
[{"$f":"'[1]Tabel 4(Br) B DATA'!I199","v":"Andre"},null,{"$f":"IF(OR('Tabel 4F B'!C152<5,'Tabel 4(Br) B'!C152<0.5),\"-\",IFERROR('Tabel 4(Br) B'!C152/'Tabel 4F B'!C152*100,\"-\"))","v":"-"},{"$f":"IF(OR('Tabel 4F B'!D152<5,'Tabel 4(Br) B'!D152<0.5),\"-\",IFERROR('Tabel 4(Br) B'!D152/'Tabel 4F B'!D152*100,\"-\"))","v":"-"},{"$f":"IF(OR('Tabel 4F B'!E152<5,'Tabel 4(Br) B'!E152<0.5),\"-\",IFERROR('Tabel 4(Br) B'!E152/'Tabel 4F B'!E152*100,\"-\"))","v":"-"},{"$f":"IF(OR('Tabel 4F B'!F152<5,'Tabel 4(Br) B'!F152<0.5),\"-\",IFERROR('Tabel 4(Br) B'!F152/'Tabel 4F B'!F152*100,\"-\"))","v":"-"},{"$f":"IF(OR('Tabel 4F B'!G152<5,'Tabel 4(Br) B'!G152<0.5),\"-\",IFERROR('Tabel 4(Br) B'!G152/'Tabel 4F B'!G152*100,\"-\"))","v":"-"},null,{"$f":"IF(OR('Tabel 4F B'!I152<5,'Tabel 4(Br) B'!I152<0.5),\"-\",IFERROR('Tabel 4(Br) B'!I152/'Tabel 4F B'!I152*100,\"-\"))","v":"-"}]
[]
[{"$f":"'[1]Tabel 4(Br) B DATA'!I201","v":"Total"},null,{"$f":"IF(OR('Tabel 4F B'!C154<5,'Tabel 4(Br) B'!C154<0.5),\"-\",IFERROR('Tabel 4(Br) B'!C154/'Tabel 4F B'!C154*100,\"-\"))","v":"-"},{"$f":"IF(OR('Tabel 4F B'!D154<5,'Tabel 4(Br) B'!D154<0.5),\"-\",IFERROR('Tabel 4(Br) B'!D154/'Tabel 4F B'!D154*100,\"-\"))","v":"-"},{"$f":"IF(OR('Tabel 4F B'!E154<5,'Tabel 4(Br) B'!E154<0.5),\"-\",IFERROR('Tabel 4(Br) B'!E154/'Tabel 4F B'!E154*100,\"-\"))","v":"-"},{"$f":"IF(OR('Tabel 4F B'!F154<5,'Tabel 4(Br) B'!F154<0.5),\"-\",IFERROR('Tabel 4(Br) B'!F154/'Tabel 4F B'!F154*100,\"-\"))","v":"-"},{"$f":"IF(OR('Tabel 4F B'!G154<5,'Tabel 4(Br) B'!G154<0.5),\"-\",IFERROR('Tabel 4(Br) B'!G154/'Tabel 4F B'!G154*100,\"-\"))","v":"-"},null,{"$f":"IF(OR('Tabel 4F B'!I154<5,'Tabel 4(Br) B'!I154<0.5),\"-\",IFERROR('Tabel 4(Br) B'!I154/'Tabel 4F B'!I154*100,\"-\"))","v":"-"}]
[]
[{"$f":"'[1]Tabel 4(Br) B DATA'!I203","v":"Ingeniører i alt"},null,{"$f":"IF(OR('Tabel 4F B'!C156<5,'Tabel 4(Br) B'!C156<0.5),\"-\",IFERROR('Tabel 4(Br) B'!C156/'Tabel 4F B'!C156*100,\"-\"))","v":"-"},{"$f":"IF(OR('Tabel 4F B'!D156<5,'Tabel 4(Br) B'!D156<0.5),\"-\",IFERROR('Tabel 4(Br) B'!D156/'Tabel 4F B'!D156*100,\"-\"))","v":"-"},{"$f":"IF(OR('Tabel 4F B'!E156<5,'Tabel 4(Br) B'!E156<0.5),\"-\",IFERROR('Tabel 4(Br) B'!E156/'Tabel 4F B'!E156*100,\"-\"))","v":"-"},{"$f":"IF(OR('Tabel 4F B'!F156<5,'Tabel 4(Br) B'!F156<0.5),\"-\",IFERROR('Tabel 4(Br) B'!F156/'Tabel 4F B'!F156*100,\"-\"))","v":"-"},{"$f":"IF(OR('Tabel 4F B'!G156<5,'Tabel 4(Br) B'!G156<0.5),\"-\",IFERROR('Tabel 4(Br) B'!G156/'Tabel 4F B'!G156*100,\"-\"))","v":"-"},null,{"$f":"IF(OR('Tabel 4F B'!I156<5,'Tabel 4(Br) B'!I156<0.5),\"-\",IFERROR('Tabel 4(Br) B'!I156/'Tabel 4F B'!I156*100,\"-\"))","v":"-"}]
[{"$f":"'[1]Tabel 4(Br) B DATA'!I204","v":"Magistre i alt"},null,{"$f":"IF(OR('Tabel 4F B'!C157<5,'Tabel 4(Br) B'!C157<0.5),\"-\",IFERROR('Tabel 4(Br) B'!C157/'Tabel 4F B'!C157*100,\"-\"))","v":"-"},{"$f":"IF(OR('Tabel 4F B'!D157<5,'Tabel 4(Br) B'!D157<0.5),\"-\",IFERROR('Tabel 4(Br) B'!D157/'Tabel 4F B'!D157*100,\"-\"))","v":"-"},{"$f":"IF(OR('Tabel 4F B'!E157<5,'Tabel 4(Br) B'!E157<0.5),\"-\",IFERROR('Tabel 4(Br) B'!E157/'Tabel 4F B'!E157*100,\"-\"))","v":"-"},{"$f":"IF(OR('Tabel 4F B'!F157<5,'Tabel 4(Br) B'!F157<0.5),\"-\",IFERROR('Tabel 4(Br) B'!F157/'Tabel 4F B'!F157*100,\"-\"))","v":"-"},{"$f":"IF(OR('Tabel 4F B'!G157<5,'Tabel 4(Br) B'!G157<0.5),\"-\",IFERROR('Tabel 4(Br) B'!G157/'Tabel 4F B'!G157*100,\"-\"))","v":"-"},null,{"$f":"IF(OR('Tabel 4F B'!I157<5,'Tabel 4(Br) B'!I157<0.5),\"-\",IFERROR('Tabel 4(Br) B'!I157/'Tabel 4F B'!I157*100,\"-\"))","v":"-"}]
[{"$f":"'[1]Tabel 4(Br) B DATA'!I205","v":"DJØF'ere i alt"},null,{"$f":"IF(OR('Tabel 4F B'!C158<5,'Tabel 4(Br) B'!C158<0.5),\"-\",IFERROR('Tabel 4(Br) B'!C158/'Tabel 4F B'!C158*100,\"-\"))","v":"-"},{"$f":"IF(OR('Tabel 4F B'!D158<5,'Tabel 4(Br) B'!D158<0.5),\"-\",IFERROR('Tabel 4(Br) B'!D158/'Tabel 4F B'!D158*100,\"-\"))","v":"-"},{"$f":"IF(OR('Tabel 4F B'!E158<5,'Tabel 4(Br) B'!E158<0.5),\"-\",IFERROR('Tabel 4(Br) B'!E158/'Tabel 4F B'!E158*100,\"-\"))","v":"-"},{"$f":"IF(OR('Tabel 4F B'!F158<5,'Tabel 4(Br) B'!F158<0.5),\"-\",IFERROR('Tabel 4(Br) B'!F158/'Tabel 4F B'!F158*100,\"-\"))","v":"-"},{"$f":"IF(OR('Tabel 4F B'!G158<5,'Tabel 4(Br) B'!G158<0.5),\"-\",IFERROR('Tabel 4(Br) B'!G158/'Tabel 4F B'!G158*100,\"-\"))","v":"-"},null,{"$f":"IF(OR('Tabel 4F B'!I158<5,'Tabel 4(Br) B'!I158<0.5),\"-\",IFERROR('Tabel 4(Br) B'!I158/'Tabel 4F B'!I158*100,\"-\"))","v":"-"}]

{"sheet":"Tabel 5F B","index":9,"n_rows":158,"n_cols":10,"rows_kept":158,"cut":false,"hidden":false,"merged":[]}
[{"$f":"'[1]Tabel 5F B DATA'!K1","v":"Tabel 5. Antal forsikrede - kandidatalder"}]
[]
[{"$f":"'[1]Tabel 5F B DATA'!K3","v":"Bornholm"}]
[]
[null,null,{"$f":"'[1]Tabel 5F B DATA'!M5","v":"Under 1 år"},{"$f":"'[1]Tabel 5F B DATA'!N5","v":" 1 - 2 år"},{"$f":"'[1]Tabel 5F B DATA'!O5","v":"2 - 4 år"},{"$f":"'[1]Tabel 5F B DATA'!P5","v":"5 - 9 år"},{"$f":"'[1]Tabel 5F B DATA'!Q5","v":"10 - 14 år"},{"$f":"'[1]Tabel 5F B DATA'!R5","v":"Over 15 år"},null,{"$f":"'[1]Tabel 5F B DATA'!T5","v":"Uoplyst"}]
[]
[{"$f":"'[1]Tabel 5F B DATA'!K7","v":"Civ. ing."},null,{"$f":"'[1]Tabel 5F B DATA'!M7","v":1},{"$f":"'[1]Tabel 5F B DATA'!N7","v":1},{"$f":"'[1]Tabel 5F B DATA'!O7","v":2},{"$f":"'[1]Tabel 5F B DATA'!P7","v":10},{"$f":"'[1]Tabel 5F B DATA'!Q7","v":4},{"$f":"'[1]Tabel 5F B DATA'!R7","v":15},null,{"$f":"'[1]Tabel 5F B DATA'!T7","v":1}]
[{"$f":"'[1]Tabel 5F B DATA'!K8","v":"Diplom ing."},null,{"$f":"'[1]Tabel 5F B DATA'!M8","v":1},{"$f":"'[1]Tabel 5F B DATA'!N8","v":1},{"$f":"'[1]Tabel 5F B DATA'!O8","v":5},{"$f":"'[1]Tabel 5F B DATA'!P8","v":8},{"$f":"'[1]Tabel 5F B DATA'!Q8","v":6},{"$f":"'[1]Tabel 5F B DATA'!R8","v":40},null,{"$f":"'[1]Tabel 5F B DATA'!T8","v":2}]
[{"$f":"'[1]Tabel 5F B DATA'!K9","v":"Cand. Scient. Tek"},null,{"$f":"'[1]Tabel 5F B DATA'!M9","v":2},{"$f":"'[1]Tabel 5F B DATA'!N9","v":4},{"$f":"'[1]Tabel 5F B DATA'!O9","v":9},{"$f":"'[1]Tabel 5F B DATA'!P9","v":7},{"$f":"'[1]Tabel 5F B DATA'!Q9","v":4},{"$f":"'[1]Tabel 5F B DATA'!R9","v":2},null,{"$f":"'[1]Tabel 5F B DATA'!T9","v":4}]
[{"$f":"'[1]Tabel 5F B DATA'!K10","v":"MA. Hum."},null,{"$f":"'[1]Tabel 5F B DATA'!M10","v":2},{"$f":"'[1]Tabel 5F B DATA'!N10","v":2},{"$f":"'[1]Tabel 5F B DATA'!O10","v":16},{"$f":"'[1]Tabel 5F B DATA'!P10","v":34},{"$f":"'[1]Tabel 5F B DATA'!Q10","v":18},{"$f":"'[1]Tabel 5F B DATA'!R10","v":45},null,{"$f":"'[1]Tabel 5F B DATA'!T10","v":8}]
[{"$f":"'[1]Tabel 5F B DATA'!K11","v":"MA. Nat."},null,{"$f":"'[1]Tabel 5F B DATA'!M11","v":0},{"$f":"'[1]Tabel 5F B DATA'!N11","v":0},{"$f":"'[1]Tabel 5F B DATA'!O11","v":0},{"$f":"'[1]Tabel 5F B DATA'!P11","v":4},{"$f":"'[1]Tabel 5F B DATA'!Q11","v":3},{"$f":"'[1]Tabel 5F B DATA'!R11","v":36},null,{"$f":"'[1]Tabel 5F B DATA'!T11","v":3}]
[{"$f":"'[1]Tabel 5F B DATA'!K12","v":"MA. Ph.d."},null,{"$f":"'[1]Tabel 5F B DATA'!M12","v":0},{"$f":"'[1]Tabel 5F B DATA'!N12","v":1},{"$f":"'[1]Tabel 5F B DATA'!O12","v":0},{"$f":"'[1]Tabel 5F B DATA'!P12","v":1},{"$f":"'[1]Tabel 5F B DATA'!Q12","v":2},{"$f":"'[1]Tabel 5F B DATA'!R12","v":3},null,{"$f":"'[1]Tabel 5F B DATA'!T12","v":0}]
[{"$f":"'[1]Tabel 5F B DATA'!K13","v":"MA. Samf."},null,{"$f":"'[1]Tabel 5F B DATA'!M13","v":0},{"$f":"'[1]Tabel 5F B DATA'!N13","v":2},{"$f":"'[1]Tabel 5F B DATA'!O13","v":3},{"$f":"'[1]Tabel 5F B DATA'!P13","v":3},{"$f":"'[1]Tabel 5F B DATA'!Q13","v":1},{"$f":"'[1]Tabel 5F B DATA'!R13","v":6},null,{"$f":"'[1]Tabel 5F B DATA'!T13","v":0}]
[{"$f":"'[1]Tabel 5F B DATA'!K14","v":"Øvrige Mag."},null,{"$f":"'[1]Tabel 5F B DATA'!M14","v":1},{"$f":"'[1]Tabel 5F B DATA'!N14","v":1},{"$f":"'[1]Tabel 5F B DATA'!O14","v":2},{"$f":"'[1]Tabel 5F B DATA'!P14","v":4},{"$f":"'[1]Tabel 5F B DATA'!Q14","v":2},{"$f":"'[1]Tabel 5F B DATA'!R14","v":6},null,{"$f":"'[1]Tabel 5F B DATA'!T14","v":0}]
[{"$f":"'[1]Tabel 5F B DATA'!K15","v":"Agronom"},null,{"$f":"'[1]Tabel 5F B DATA'!M15","v":0},{"$f":"'[1]Tabel 5F B DATA'!N15","v":0},{"$f":"'[1]Tabel 5F B DATA'!O15","v":1},{"$f":"'[1]Tabel 5F B DATA'!P15","v":0},{"$f":"'[1]Tabel 5F B DATA'!Q15","v":0},{"$f":"'[1]Tabel 5F B DATA'!R15","v":7},null,{"$f":"'[1]Tabel 5F B DATA'!T15","v":2}]
[{"$f":"'[1]Tabel 5F B DATA'!K16","v":"Landsk. Arkt."},null,{"$f":"'[1]Tabel 5F B DATA'!M16","v":0},{"$f":"'[1]Tabel 5F B DATA'!N16","v":0},{"$f":"'[1]Tabel 5F B DATA'!O16","v":0},{"$f":"'[1]Tabel 5F B DATA'!P16","v":0},{"$f":"'[1]Tabel 5F B DATA'!Q16","v":0},{"$f":"'[1]Tabel 5F B DATA'!R16","v":3},null,{"$f":"'[1]Tabel 5F B DATA'!T16","v":0}]
[{"$f":"'[1]Tabel 5F B DATA'!K17","v":"Hortonom"},null,{"$f":"'[1]Tabel 5F B DATA'!M17","v":0},{"$f":"'[1]Tabel 5F B DATA'!N17","v":0},{"$f":"'[1]Tabel 5F B DATA'!O17","v":0},{"$f":"'[1]Tabel 5F B DATA'!P17","v":0},{"$f":"'[1]Tabel 5F B DATA'!Q17","v":1},{"$f":"'[1]Tabel 5F B DATA'!R17","v":1},null,{"$f":"'[1]Tabel 5F B DATA'!T17","v":0}]
[{"$f":"'[1]Tabel 5F B DATA'!K18","v":"Forstkand."},null,{"$f":"'[1]Tabel 5F B DATA'!M18","v":0},{"$f":"'[1]Tabel 5F B DATA'!N18","v":0},{"$f":"'[1]Tabel 5F B DATA'!O18","v":0},{"$f":"'[1]Tabel 5F B DATA'!P18","v":0},{"$f":"'[1]Tabel 5F B DATA'!Q18","v":0},{"$f":"'[1]Tabel 5F B DATA'!R18","v":1},null,{"$f":"'[1]Tabel 5F B DATA'!T18","v":0}]
[{"$f":"'[1]Tabel 5F B DATA'!K19","v":"Jordbrugsakad."},null,{"$f":"'[1]Tabel 5F B DATA'!M19","v":0},{"$f":"'[1]Tabel 5F B DATA'!N19","v":0},{"$f":"'[1]Tabel 5F B DATA'!O19","v":1},{"$f":"'[1]Tabel 5F B DATA'!P19","v":0},{"$f":"'[1]Tabel 5F B DATA'!Q19","v":1},{"$f":"'[1]Tabel 5F B DATA'!R19","v":12},null,{"$f":"'[1]Tabel 5F B DATA'!T19","v":2}]
[{"$f":"'[1]Tabel 5F B DATA'!K20","v":"Mejeriing."},null,{"$f":"'[1]Tabel 5F B DATA'!M20","v":0},{"$f":"'[1]Tabel 5F B DATA'!N20","v":0},{"$f":"'[1]Tabel 5F B DATA'!O20","v":0},{"$f":"'[1]Tabel 5F B DATA'!P20","v":0},{"$f":"'[1]Tabel 5F B DATA'!Q20","v":0},{"$f":"'[1]Tabel 5F B DATA'!R20","v":0},null,{"$f":"'[1]Tabel 5F B DATA'!T20","v":0}]
[{"$f":"'[1]Tabel 5F B DATA'!K21","v":"Levn.m.kand."},null,{"$f":"'[1]Tabel 5F B DATA'!M21","v":0},{"$f":"'[1]Tabel 5F B DATA'!N21","v":0},{"$f":"'[1]Tabel 5F B DATA'!O21","v":0},{"$f":"'[1]Tabel 5F B DATA'!P21","v":1},{"$f":"'[1]Tabel 5F B DATA'!Q21","v":0},{"$f":"'[1]Tabel 5F B DATA'!R21","v":0},null,{"$f":"'[1]Tabel 5F B DATA'!T21","v":0}]
[{"$f":"'[1]Tabel 5F B DATA'!K22","v":"Dyrlæge"},null,{"$f":"'[1]Tabel 5F B DATA'!M22","v":0},{"$f":"'[1]Tabel 5F B DATA'!N22","v":2},{"$f":"'[1]Tabel 5F B DATA'!O22","v":0},{"$f":"'[1]Tabel 5F B DATA'!P22","v":6},{"$f":"'[1]Tabel 5F B DATA'!Q22","v":0},{"$f":"'[1]Tabel 5F B DATA'!R22","v":7},null,{"$f":"'[1]Tabel 5F B DATA'!T22","v":0}]
[{"$f":"'[1]Tabel 5F B DATA'!K23","v":"Farmaceut"},null,{"$f":"'[1]Tabel 5F B DATA'!M23","v":0},{"$f":"'[1]Tabel 5F B DATA'!N23","v":1},{"$f":"'[1]Tabel 5F B DATA'!O23","v":0},{"$f":"'[1]Tabel 5F B DATA'!P23","v":0},{"$f":"'[1]Tabel 5F B DATA'!Q23","v":1},{"$f":"'[1]Tabel 5F B DATA'!R23","v":5},null,{"$f":"'[1]Tabel 5F B DATA'!T23","v":0}]
[{"$f":"'[1]Tabel 5F B DATA'!K24","v":"Læge"},null,{"$f":"'[1]Tabel 5F B DATA'!M24","v":4},{"$f":"'[1]Tabel 5F B DATA'!N24","v":4},{"$f":"'[1]Tabel 5F B DATA'!O24","v":3},{"$f":"'[1]Tabel 5F B DATA'!P24","v":4},{"$f":"'[1]Tabel 5F B DATA'!Q24","v":1},{"$f":"'[1]Tabel 5F B DATA'!R24","v":9},null,{"$f":"'[1]Tabel 5F B DATA'!T24","v":6}]
[{"$f":"'[1]Tabel 5F B DATA'!K25","v":"Tandlæge"},null,{"$f":"'[1]Tabel 5F B DATA'!M25","v":0},{"$f":"'[1]Tabel 5F B DATA'!N25","v":0},{"$f":"'[1]Tabel 5F B DATA'!O25","v":0},{"$f":"'[1]Tabel 5F B DATA'!P25","v":2},{"$f":"'[1]Tabel 5F B DATA'!Q25","v":3},{"$f":"'[1]Tabel 5F B DATA'!R25","v":2},null,{"$f":"'[1]Tabel 5F B DATA'!T25","v":3}]
[{"$f":"'[1]Tabel 5F B DATA'!K26","v":"Arkitekt"},null,{"$f":"'[1]Tabel 5F B DATA'!M26","v":0},{"$f":"'[1]Tabel 5F B DATA'!N26","v":0},{"$f":"'[1]Tabel 5F B DATA'!O26","v":1},{"$f":"'[1]Tabel 5F B DATA'!P26","v":2},{"$f":"'[1]Tabel 5F B DATA'!Q26","v":1},{"$f":"'[1]Tabel 5F B DATA'!R26","v":8},null,{"$f":"'[1]Tabel 5F B DATA'!T26","v":2}]
[{"$f":"'[1]Tabel 5F B DATA'!K27","v":"Landinspek."},null,{"$f":"'[1]Tabel 5F B DATA'!M27","v":0},{"$f":"'[1]Tabel 5F B DATA'!N27","v":0},{"$f":"'[1]Tabel 5F B DATA'!O27","v":0},{"$f":"'[1]Tabel 5F B DATA'!P27","v":1},{"$f":"'[1]Tabel 5F B DATA'!Q27","v":0},{"$f":"'[1]Tabel 5F B DATA'!R27","v":0},null,{"$f":"'[1]Tabel 5F B DATA'!T27","v":0}]
[{"$f":"'[1]Tabel 5F B DATA'!K28","v":"Bibliotekar"},null,{"$f":"'[1]Tabel 5F B DATA'!M28","v":0},{"$f":"'[1]Tabel 5F B DATA'!N28","v":0},{"$f":"'[1]Tabel 5F B DATA'!O28","v":1},{"$f":"'[1]Tabel 5F B DATA'!P28","v":3},{"$f":"'[1]Tabel 5F B DATA'!Q28","v":1},{"$f":"'[1]Tabel 5F B DATA'!R28","v":7},null,{"$f":"'[1]Tabel 5F B DATA'!T28","v":4}]
[{"$f":"'[1]Tabel 5F B DATA'!K29","v":"Musikudd."},null,{"$f":"'[1]Tabel 5F B DATA'!M29","v":0},{"$f":"'[1]Tabel 5F B DATA'!N29","v":0},{"$f":"'[1]Tabel 5F B DATA'!O29","v":0},{"$f":"'[1]Tabel 5F B DATA'!P29","v":0},{"$f":"'[1]Tabel 5F B DATA'!Q29","v":0},{"$f":"'[1]Tabel 5F B DATA'!R29","v":2},null,{"$f":"'[1]Tabel 5F B DATA'!T29","v":0}]
[{"$f":"'[1]Tabel 5F B DATA'!K30","v":"Teolog"},null,{"$f":"'[1]Tabel 5F B DATA'!M30","v":0},{"$f":"'[1]Tabel 5F B DATA'!N30","v":0},{"$f":"'[1]Tabel 5F B DATA'!O30","v":1},{"$f":"'[1]Tabel 5F B DATA'!P30","v":0},{"$f":"'[1]Tabel 5F B DATA'!Q30","v":2},{"$f":"'[1]Tabel 5F B DATA'!R30","v":8},null,{"$f":"'[1]Tabel 5F B DATA'!T30","v":1}]
[{"$f":"'[1]Tabel 5F B DATA'!K31","v":"Psykolog"},null,{"$f":"'[1]Tabel 5F B DATA'!M31","v":3},{"$f":"'[1]Tabel 5F B DATA'!N31","v":4},{"$f":"'[1]Tabel 5F B DATA'!O31","v":6},{"$f":"'[1]Tabel 5F B DATA'!P31","v":6},{"$f":"'[1]Tabel 5F B DATA'!Q31","v":3},{"$f":"'[1]Tabel 5F B DATA'!R31","v":7},null,{"$f":"'[1]Tabel 5F B DATA'!T31","v":2}]
[{"$f":"'[1]Tabel 5F B DATA'!K32","v":"Jurist"},null,{"$f":"'[1]Tabel 5F B DATA'!M32","v":0},{"$f":"'[1]Tabel 5F B DATA'!N32","v":2},{"$f":"'[1]Tabel 5F B DATA'!O32","v":2},{"$f":"'[1]Tabel 5F B DATA'!P32","v":9},{"$f":"'[1]Tabel 5F B DATA'!Q32","v":1},{"$f":"'[1]Tabel 5F B DATA'!R32","v":14},null,{"$f":"'[1]Tabel 5F B DATA'!T32","v":4}]
[{"$f":"'[1]Tabel 5F B DATA'!K33","v":"Økonom"},null,{"$f":"'[1]Tabel 5F B DATA'!M33","v":0},{"$f":"'[1]Tabel 5F B DATA'!N33","v":0},{"$f":"'[1]Tabel 5F B DATA'!O33","v":2},{"$f":"'[1]Tabel 5F B DATA'!P33","v":2},{"$f":"'[1]Tabel 5F B DATA'!Q33","v":1},{"$f":"'[1]Tabel 5F B DATA'!R33","v":3},null,{"$f":"'[1]Tabel 5F B DATA'!T33","v":2}]
[{"$f":"'[1]Tabel 5F B DATA'!K34","v":"Samf. Adm."},null,{"$f":"'[1]Tabel 5F B DATA'!M34","v":0},{"$f":"'[1]Tabel 5F B DATA'!N34","v":1},{"$f":"'[1]Tabel 5F B DATA'!O34","v":6},{"$f":"'[1]Tabel 5F B DATA'!P34","v":12},{"$f":"'[1]Tabel 5F B DATA'!Q34","v":8},{"$f":"'[1]Tabel 5F B DATA'!R34","v":19},null,{"$f":"'[1]Tabel 5F B DATA'!T34","v":9}]
[{"$f":"'[1]Tabel 5F B DATA'!K35","v":"Cand. Merc."},null,{"$f":"'[1]Tabel 5F B DATA'!M35","v":0},{"$f":"'[1]Tabel 5F B DATA'!N35","v":0},{"$f":"'[1]Tabel 5F B DATA'!O35","v":4},{"$f":"'[1]Tabel 5F B DATA'!P35","v":3},{"$f":"'[1]Tabel 5F B DATA'!Q35","v":3},{"$f":"'[1]Tabel 5F B DATA'!R35","v":15},null,{"$f":"'[1]Tabel 5F B DATA'!T35","v":7}]
[{"$f":"'[1]Tabel 5F B DATA'!K36","v":"HA"},null,{"$f":"'[1]Tabel 5F B DATA'!M36","v":0},{"$f":"'[1]Tabel 5F B DATA'!N36","v":0},{"$f":"'[1]Tabel 5F B DATA'!O36","v":0},{"$f":"'[1]Tabel 5F B DATA'!P36","v":0},{"$f":"'[1]Tabel 5F B DATA'!Q36","v":2},{"$f":"'[1]Tabel 5F B DATA'!R36","v":10},null,{"$f":"'[1]Tabel 5F B DATA'!T36","v":0}]
[{"$f":"'[1]Tabel 5F B DATA'!K37","v":"HD"},null,{"$f":"'[1]Tabel 5F B DATA'!M37","v":0},{"$f":"'[1]Tabel 5F B DATA'!N37","v":0},{"$f":"'[1]Tabel 5F B DATA'!O37","v":0},{"$f":"'[1]Tabel 5F B DATA'!P37","v":2},{"$f":"'[1]Tabel 5F B DATA'!Q37","v":1},{"$f":"'[1]Tabel 5F B DATA'!R37","v":6},null,{"$f":"'[1]Tabel 5F B DATA'!T37","v":0}]
[{"$f":"'[1]Tabel 5F B DATA'!K38","v":"Komm. og Sprog"},null,{"$f":"'[1]Tabel 5F B DATA'!M38","v":0},{"$f":"'[1]Tabel 5F B DATA'!N38","v":1},{"$f":"'[1]Tabel 5F B DATA'!O38","v":0},{"$f":"'[1]Tabel 5F B DATA'!P38","v":3},{"$f":"'[1]Tabel 5F B DATA'!Q38","v":4},{"$f":"'[1]Tabel 5F B DATA'!R38","v":6},null,{"$f":"'[1]Tabel 5F B DATA'!T38","v":1}]
[{"$f":"'[1]Tabel 5F B DATA'!K39","v":"Bygningskonst."},null,{"$f":"'[1]Tabel 5F B DATA'!M39","v":2},{"$f":"'[1]Tabel 5F B DATA'!N39","v":2},{"$f":"'[1]Tabel 5F B DATA'!O39","v":3},{"$f":"'[1]Tabel 5F B DATA'!P39","v":3},{"$f":"'[1]Tabel 5F B DATA'!Q39","v":6},{"$f":"'[1]Tabel 5F B DATA'!R39","v":11},null,{"$f":"'[1]Tabel 5F B DATA'!T39","v":1}]
[{"$f":"'[1]Tabel 5F B DATA'!K40","v":"Cand. IT."},null,{"$f":"'[1]Tabel 5F B DATA'!M40","v":0},{"$f":"'[1]Tabel 5F B DATA'!N40","v":0},{"$f":"'[1]Tabel 5F B DATA'!O40","v":0},{"$f":"'[1]Tabel 5F B DATA'!P40","v":0},{"$f":"'[1]Tabel 5F B DATA'!Q40","v":0},{"$f":"'[1]Tabel 5F B DATA'!R40","v":1},null,{"$f":"'[1]Tabel 5F B DATA'!T40","v":1}]
[{"$f":"'[1]Tabel 5F B DATA'!K41","v":"Bac. Samf."},null,{"$f":"'[1]Tabel 5F B DATA'!M41","v":0},{"$f":"'[1]Tabel 5F B DATA'!N41","v":0},{"$f":"'[1]Tabel 5F B DATA'!O41","v":0},{"$f":"'[1]Tabel 5F B DATA'!P41","v":1},{"$f":"'[1]Tabel 5F B DATA'!Q41","v":0},{"$f":"'[1]Tabel 5F B DATA'!R41","v":0},null,{"$f":"'[1]Tabel 5F B DATA'!T41","v":4}]
[{"$f":"'[1]Tabel 5F B DATA'!K42","v":"Bac. Hum."},null,{"$f":"'[1]Tabel 5F B DATA'!M42","v":1},{"$f":"'[1]Tabel 5F B DATA'!N42","v":1},{"$f":"'[1]Tabel 5F B DATA'!O42","v":3},{"$f":"'[1]Tabel 5F B DATA'!P42","v":2},{"$f":"'[1]Tabel 5F B DATA'!Q42","v":1},{"$f":"'[1]Tabel 5F B DATA'!R42","v":5},null,{"$f":"'[1]Tabel 5F B DATA'!T42","v":0}]
[{"$f":"'[1]Tabel 5F B DATA'!K43","v":"Bac. Nat."},null,{"$f":"'[1]Tabel 5F B DATA'!M43","v":3},{"$f":"'[1]Tabel 5F B DATA'!N43","v":1},{"$f":"'[1]Tabel 5F B DATA'!O43","v":0},{"$f":"'[1]Tabel 5F B DATA'!P43","v":1},{"$f":"'[1]Tabel 5F B DATA'!Q43","v":0},{"$f":"'[1]Tabel 5F B DATA'!R43","v":2},null,{"$f":"'[1]Tabel 5F B DATA'!T43","v":3}]
[{"$f":"'[1]Tabel 5F B DATA'!K44","v":"Andre"},null,{"$f":"'[1]Tabel 5F B DATA'!M44","v":8},{"$f":"'[1]Tabel 5F B DATA'!N44","v":2},{"$f":"'[1]Tabel 5F B DATA'!O44","v":8},{"$f":"'[1]Tabel 5F B DATA'!P44","v":6},{"$f":"'[1]Tabel 5F B DATA'!Q44","v":9},{"$f":"'[1]Tabel 5F B DATA'!R44","v":51},null,{"$f":"'[1]Tabel 5F B DATA'!T44","v":25}]
[]
[{"$f":"'[1]Tabel 5F B DATA'!K46","v":"Total"},null,{"$f":"'[1]Tabel 5F B DATA'!M46","v":28},{"$f":"'[1]Tabel 5F B DATA'!N46","v":33},{"$f":"'[1]Tabel 5F B DATA'!O46","v":78},{"$f":"'[1]Tabel 5F B DATA'!P46","v":140},{"$f":"'[1]Tabel 5F B DATA'!Q46","v":89},{"$f":"'[1]Tabel 5F B DATA'!R46","v":363},null,{"$f":"'[1]Tabel 5F B DATA'!T46","v":95}]
[]
[{"$f":"'[1]Tabel 5F B DATA'!K48","v":"Ingeniører i alt"},null,{"$f":"'[1]Tabel 5F B DATA'!M48","v":2},{"$f":"'[1]Tabel 5F B DATA'!N48","v":2},{"$f":"'[1]Tabel 5F B DATA'!O48","v":7},{"$f":"'[1]Tabel 5F B DATA'!P48","v":18},{"$f":"'[1]Tabel 5F B DATA'!Q48","v":10},{"$f":"'[1]Tabel 5F B DATA'!R48","v":55},null,{"$f":"'[1]Tabel 5F B DATA'!T48","v":3}]
[{"$f":"'[1]Tabel 5F B DATA'!K49","v":"Magistre i alt"},null,{"$f":"'[1]Tabel 5F B DATA'!M49","v":3},{"$f":"'[1]Tabel 5F B DATA'!N49","v":6},{"$f":"'[1]Tabel 5F B DATA'!O49","v":21},{"$f":"'[1]Tabel 5F B DATA'!P49","v":46},{"$f":"'[1]Tabel 5F B DATA'!Q49","v":26},{"$f":"'[1]Tabel 5F B DATA'!R49","v":96},null,{"$f":"'[1]Tabel 5F B DATA'!T49","v":11}]
[{"$f":"'[1]Tabel 5F B DATA'!K50","v":"DJØF'ere i alt"},null,{"$f":"'[1]Tabel 5F B DATA'!M50","v":0},{"$f":"'[1]Tabel 5F B DATA'!N50","v":3},{"$f":"'[1]Tabel 5F B DATA'!O50","v":14},{"$f":"'[1]Tabel 5F B DATA'!P50","v":26},{"$f":"'[1]Tabel 5F B DATA'!Q50","v":15},{"$f":"'[1]Tabel 5F B DATA'!R50","v":61},null,{"$f":"'[1]Tabel 5F B DATA'!T50","v":22}]
[]
[]
[]
[]
[]
[]
[{"$f":"'[1]Tabel 5F B DATA'!K107","v":"Bornholm"}]
[]
[null,null,{"$f":"'[1]Tabel 5F B DATA'!M109","v":"Under 1 år"},{"$f":"'[1]Tabel 5F B DATA'!N109","v":" 1 - 2 år"},{"$f":"'[1]Tabel 5F B DATA'!O109","v":"2 - 4 år"},{"$f":"'[1]Tabel 5F B DATA'!P109","v":"5 - 9 år"},{"$f":"'[1]Tabel 5F B DATA'!Q109","v":"10 - 14 år"},{"$f":"'[1]Tabel 5F B DATA'!R109","v":"Over 15 år"},null,{"$f":"'[1]Tabel 5F B DATA'!T109","v":"Uoplyst"}]
[]
[{"$f":"'[1]Tabel 5F B DATA'!K111","v":"Civ. ing."},null,{"$f":"'[1]Tabel 5F B DATA'!M111","v":1},{"$f":"'[1]Tabel 5F B DATA'!N111","v":1},{"$f":"'[1]Tabel 5F B DATA'!O111","v":2},{"$f":"'[1]Tabel 5F B DATA'!P111","v":10},{"$f":"'[1]Tabel 5F B DATA'!Q111","v":4},{"$f":"'[1]Tabel 5F B DATA'!R111","v":15},null,{"$f":"'[1]Tabel 5F B DATA'!T111","v":1}]
[{"$f":"'[1]Tabel 5F B DATA'!K112","v":"Diplom ing."},null,{"$f":"'[1]Tabel 5F B DATA'!M112","v":1},{"$f":"'[1]Tabel 5F B DATA'!N112","v":1},{"$f":"'[1]Tabel 5F B DATA'!O112","v":5},{"$f":"'[1]Tabel 5F B DATA'!P112","v":8},{"$f":"'[1]Tabel 5F B DATA'!Q112","v":6},{"$f":"'[1]Tabel 5F B DATA'!R112","v":40},null,{"$f":"'[1]Tabel 5F B DATA'!T112","v":2}]
[{"$f":"'[1]Tabel 5F B DATA'!K113","v":"Cand. Scient. Tek"},null,{"$f":"'[1]Tabel 5F B DATA'!M113","v":2},{"$f":"'[1]Tabel 5F B DATA'!N113","v":4},{"$f":"'[1]Tabel 5F B DATA'!O113","v":9},{"$f":"'[1]Tabel 5F B DATA'!P113","v":7},{"$f":"'[1]Tabel 5F B DATA'!Q113","v":4},{"$f":"'[1]Tabel 5F B DATA'!R113","v":2},null,{"$f":"'[1]Tabel 5F B DATA'!T113","v":4}]
[{"$f":"'[1]Tabel 5F B DATA'!K114","v":"MA. Hum."},null,{"$f":"'[1]Tabel 5F B DATA'!M114","v":2},{"$f":"'[1]Tabel 5F B DATA'!N114","v":2},{"$f":"'[1]Tabel 5F B DATA'!O114","v":16},{"$f":"'[1]Tabel 5F B DATA'!P114","v":34},{"$f":"'[1]Tabel 5F B DATA'!Q114","v":18},{"$f":"'[1]Tabel 5F B DATA'!R114","v":45},null,{"$f":"'[1]Tabel 5F B DATA'!T114","v":8}]
[{"$f":"'[1]Tabel 5F B DATA'!K115","v":"MA. Nat."},null,{"$f":"'[1]Tabel 5F B DATA'!M115","v":0},{"$f":"'[1]Tabel 5F B DATA'!N115","v":0},{"$f":"'[1]Tabel 5F B DATA'!O115","v":0},{"$f":"'[1]Tabel 5F B DATA'!P115","v":4},{"$f":"'[1]Tabel 5F B DATA'!Q115","v":3},{"$f":"'[1]Tabel 5F B DATA'!R115","v":36},null,{"$f":"'[1]Tabel 5F B DATA'!T115","v":3}]
[{"$f":"'[1]Tabel 5F B DATA'!K116","v":"MA. Ph.d."},null,{"$f":"'[1]Tabel 5F B DATA'!M116","v":0},{"$f":"'[1]Tabel 5F B DATA'!N116","v":1},{"$f":"'[1]Tabel 5F B DATA'!O116","v":0},{"$f":"'[1]Tabel 5F B DATA'!P116","v":1},{"$f":"'[1]Tabel 5F B DATA'!Q116","v":2},{"$f":"'[1]Tabel 5F B DATA'!R116","v":3},null,{"$f":"'[1]Tabel 5F B DATA'!T116","v":0}]
[{"$f":"'[1]Tabel 5F B DATA'!K117","v":"MA. Samf."},null,{"$f":"'[1]Tabel 5F B DATA'!M117","v":0},{"$f":"'[1]Tabel 5F B DATA'!N117","v":2},{"$f":"'[1]Tabel 5F B DATA'!O117","v":3},{"$f":"'[1]Tabel 5F B DATA'!P117","v":3},{"$f":"'[1]Tabel 5F B DATA'!Q117","v":1},{"$f":"'[1]Tabel 5F B DATA'!R117","v":6},null,{"$f":"'[1]Tabel 5F B DATA'!T117","v":0}]
[{"$f":"'[1]Tabel 5F B DATA'!K118","v":"Øvrige Mag."},null,{"$f":"'[1]Tabel 5F B DATA'!M118","v":1},{"$f":"'[1]Tabel 5F B DATA'!N118","v":1},{"$f":"'[1]Tabel 5F B DATA'!O118","v":2},{"$f":"'[1]Tabel 5F B DATA'!P118","v":4},{"$f":"'[1]Tabel 5F B DATA'!Q118","v":2},{"$f":"'[1]Tabel 5F B DATA'!R118","v":6},null,{"$f":"'[1]Tabel 5F B DATA'!T118","v":0}]
[{"$f":"'[1]Tabel 5F B DATA'!K119","v":"Agronom"},null,{"$f":"'[1]Tabel 5F B DATA'!M119","v":0},{"$f":"'[1]Tabel 5F B DATA'!N119","v":0},{"$f":"'[1]Tabel 5F B DATA'!O119","v":1},{"$f":"'[1]Tabel 5F B DATA'!P119","v":0},{"$f":"'[1]Tabel 5F B DATA'!Q119","v":0},{"$f":"'[1]Tabel 5F B DATA'!R119","v":7},null,{"$f":"'[1]Tabel 5F B DATA'!T119","v":2}]
[{"$f":"'[1]Tabel 5F B DATA'!K120","v":"Landsk. Arkt."},null,{"$f":"'[1]Tabel 5F B DATA'!M120","v":0},{"$f":"'[1]Tabel 5F B DATA'!N120","v":0},{"$f":"'[1]Tabel 5F B DATA'!O120","v":0},{"$f":"'[1]Tabel 5F B DATA'!P120","v":0},{"$f":"'[1]Tabel 5F B DATA'!Q120","v":0},{"$f":"'[1]Tabel 5F B DATA'!R120","v":3},null,{"$f":"'[1]Tabel 5F B DATA'!T120","v":0}]
[{"$f":"'[1]Tabel 5F B DATA'!K121","v":"Hortonom"},null,{"$f":"'[1]Tabel 5F B DATA'!M121","v":0},{"$f":"'[1]Tabel 5F B DATA'!N121","v":0},{"$f":"'[1]Tabel 5F B DATA'!O121","v":0},{"$f":"'[1]Tabel 5F B DATA'!P121","v":0},{"$f":"'[1]Tabel 5F B DATA'!Q121","v":1},{"$f":"'[1]Tabel 5F B DATA'!R121","v":1},null,{"$f":"'[1]Tabel 5F B DATA'!T121","v":0}]
[{"$f":"'[1]Tabel 5F B DATA'!K122","v":"Forstkand."},null,{"$f":"'[1]Tabel 5F B DATA'!M122","v":0},{"$f":"'[1]Tabel 5F B DATA'!N122","v":0},{"$f":"'[1]Tabel 5F B DATA'!O122","v":0},{"$f":"'[1]Tabel 5F B DATA'!P122","v":0},{"$f":"'[1]Tabel 5F B DATA'!Q122","v":0},{"$f":"'[1]Tabel 5F B DATA'!R122","v":1},null,{"$f":"'[1]Tabel 5F B DATA'!T122","v":0}]
[{"$f":"'[1]Tabel 5F B DATA'!K123","v":"Jordbrugsakad."},null,{"$f":"'[1]Tabel 5F B DATA'!M123","v":0},{"$f":"'[1]Tabel 5F B DATA'!N123","v":0},{"$f":"'[1]Tabel 5F B DATA'!O123","v":1},{"$f":"'[1]Tabel 5F B DATA'!P123","v":0},{"$f":"'[1]Tabel 5F B DATA'!Q123","v":1},{"$f":"'[1]Tabel 5F B DATA'!R123","v":12},null,{"$f":"'[1]Tabel 5F B DATA'!T123","v":2}]
[{"$f":"'[1]Tabel 5F B DATA'!K124","v":"Mejeriing."},null,{"$f":"'[1]Tabel 5F B DATA'!M124","v":0},{"$f":"'[1]Tabel 5F B DATA'!N124","v":0},{"$f":"'[1]Tabel 5F B DATA'!O124","v":0},{"$f":"'[1]Tabel 5F B DATA'!P124","v":0},{"$f":"'[1]Tabel 5F B DATA'!Q124","v":0},{"$f":"'[1]Tabel 5F B DATA'!R124","v":0},null,{"$f":"'[1]Tabel 5F B DATA'!T124","v":0}]
[{"$f":"'[1]Tabel 5F B DATA'!K125","v":"Levn.m.kand."},null,{"$f":"'[1]Tabel 5F B DATA'!M125","v":0},{"$f":"'[1]Tabel 5F B DATA'!N125","v":0},{"$f":"'[1]Tabel 5F B DATA'!O125","v":0},{"$f":"'[1]Tabel 5F B DATA'!P125","v":1},{"$f":"'[1]Tabel 5F B DATA'!Q125","v":0},{"$f":"'[1]Tabel 5F B DATA'!R125","v":0},null,{"$f":"'[1]Tabel 5F B DATA'!T125","v":0}]
[{"$f":"'[1]Tabel 5F B DATA'!K126","v":"Dyrlæge"},null,{"$f":"'[1]Tabel 5F B DATA'!M126","v":0},{"$f":"'[1]Tabel 5F B DATA'!N126","v":2},{"$f":"'[1]Tabel 5F B DATA'!O126","v":0},{"$f":"'[1]Tabel 5F B DATA'!P126","v":6},{"$f":"'[1]Tabel 5F B DATA'!Q126","v":0},{"$f":"'[1]Tabel 5F B DATA'!R126","v":7},null,{"$f":"'[1]Tabel 5F B DATA'!T126","v":0}]
[{"$f":"'[1]Tabel 5F B DATA'!K127","v":"Farmaceut"},null,{"$f":"'[1]Tabel 5F B DATA'!M127","v":0},{"$f":"'[1]Tabel 5F B DATA'!N127","v":1},{"$f":"'[1]Tabel 5F B DATA'!O127","v":0},{"$f":"'[1]Tabel 5F B DATA'!P127","v":0},{"$f":"'[1]Tabel 5F B DATA'!Q127","v":1},{"$f":"'[1]Tabel 5F B DATA'!R127","v":5},null,{"$f":"'[1]Tabel 5F B DATA'!T127","v":0}]
[{"$f":"'[1]Tabel 5F B DATA'!K128","v":"Læge"},null,{"$f":"'[1]Tabel 5F B DATA'!M128","v":4},{"$f":"'[1]Tabel 5F B DATA'!N128","v":4},{"$f":"'[1]Tabel 5F B DATA'!O128","v":3},{"$f":"'[1]Tabel 5F B DATA'!P128","v":4},{"$f":"'[1]Tabel 5F B DATA'!Q128","v":1},{"$f":"'[1]Tabel 5F B DATA'!R128","v":8},null,{"$f":"'[1]Tabel 5F B DATA'!T128","v":6}]
[{"$f":"'[1]Tabel 5F B DATA'!K129","v":"Tandlæge"},null,{"$f":"'[1]Tabel 5F B DATA'!M129","v":0},{"$f":"'[1]Tabel 5F B DATA'!N129","v":0},{"$f":"'[1]Tabel 5F B DATA'!O129","v":0},{"$f":"'[1]Tabel 5F B DATA'!P129","v":2},{"$f":"'[1]Tabel 5F B DATA'!Q129","v":3},{"$f":"'[1]Tabel 5F B DATA'!R129","v":2},null,{"$f":"'[1]Tabel 5F B DATA'!T129","v":3}]
[{"$f":"'[1]Tabel 5F B DATA'!K130","v":"Arkitekt"},null,{"$f":"'[1]Tabel 5F B DATA'!M130","v":0},{"$f":"'[1]Tabel 5F B DATA'!N130","v":0},{"$f":"'[1]Tabel 5F B DATA'!O130","v":1},{"$f":"'[1]Tabel 5F B DATA'!P130","v":2},{"$f":"'[1]Tabel 5F B DATA'!Q130","v":1},{"$f":"'[1]Tabel 5F B DATA'!R130","v":8},null,{"$f":"'[1]Tabel 5F B DATA'!T130","v":2}]
[{"$f":"'[1]Tabel 5F B DATA'!K131","v":"Landinspek."},null,{"$f":"'[1]Tabel 5F B DATA'!M131","v":0},{"$f":"'[1]Tabel 5F B DATA'!N131","v":0},{"$f":"'[1]Tabel 5F B DATA'!O131","v":0},{"$f":"'[1]Tabel 5F B DATA'!P131","v":1},{"$f":"'[1]Tabel 5F B DATA'!Q131","v":0},{"$f":"'[1]Tabel 5F B DATA'!R131","v":0},null,{"$f":"'[1]Tabel 5F B DATA'!T131","v":0}]
[{"$f":"'[1]Tabel 5F B DATA'!K132","v":"Bibliotekar"},null,{"$f":"'[1]Tabel 5F B DATA'!M132","v":0},{"$f":"'[1]Tabel 5F B DATA'!N132","v":0},{"$f":"'[1]Tabel 5F B DATA'!O132","v":1},{"$f":"'[1]Tabel 5F B DATA'!P132","v":3},{"$f":"'[1]Tabel 5F B DATA'!Q132","v":1},{"$f":"'[1]Tabel 5F B DATA'!R132","v":7},null,{"$f":"'[1]Tabel 5F B DATA'!T132","v":4}]
[{"$f":"'[1]Tabel 5F B DATA'!K133","v":"Musikudd."},null,{"$f":"'[1]Tabel 5F B DATA'!M133","v":0},{"$f":"'[1]Tabel 5F B DATA'!N133","v":0},{"$f":"'[1]Tabel 5F B DATA'!O133","v":0},{"$f":"'[1]Tabel 5F B DATA'!P133","v":0},{"$f":"'[1]Tabel 5F B DATA'!Q133","v":0},{"$f":"'[1]Tabel 5F B DATA'!R133","v":2},null,{"$f":"'[1]Tabel 5F B DATA'!T133","v":0}]
[{"$f":"'[1]Tabel 5F B DATA'!K134","v":"Teolog"},null,{"$f":"'[1]Tabel 5F B DATA'!M134","v":0},{"$f":"'[1]Tabel 5F B DATA'!N134","v":0},{"$f":"'[1]Tabel 5F B DATA'!O134","v":1},{"$f":"'[1]Tabel 5F B DATA'!P134","v":0},{"$f":"'[1]Tabel 5F B DATA'!Q134","v":2},{"$f":"'[1]Tabel 5F B DATA'!R134","v":8},null,{"$f":"'[1]Tabel 5F B DATA'!T134","v":1}]
[{"$f":"'[1]Tabel 5F B DATA'!K135","v":"Psykolog"},null,{"$f":"'[1]Tabel 5F B DATA'!M135","v":3},{"$f":"'[1]Tabel 5F B DATA'!N135","v":4},{"$f":"'[1]Tabel 5F B DATA'!O135","v":6},{"$f":"'[1]Tabel 5F B DATA'!P135","v":6},{"$f":"'[1]Tabel 5F B DATA'!Q135","v":3},{"$f":"'[1]Tabel 5F B DATA'!R135","v":7},null,{"$f":"'[1]Tabel 5F B DATA'!T135","v":2}]
[{"$f":"'[1]Tabel 5F B DATA'!K136","v":"Jurist"},null,{"$f":"'[1]Tabel 5F B DATA'!M136","v":0},{"$f":"'[1]Tabel 5F B DATA'!N136","v":2},{"$f":"'[1]Tabel 5F B DATA'!O136","v":2},{"$f":"'[1]Tabel 5F B DATA'!P136","v":9},{"$f":"'[1]Tabel 5F B DATA'!Q136","v":1},{"$f":"'[1]Tabel 5F B DATA'!R136","v":14},null,{"$f":"'[1]Tabel 5F B DATA'!T136","v":4}]
[{"$f":"'[1]Tabel 5F B DATA'!K137","v":"Økonom"},null,{"$f":"'[1]Tabel 5F B DATA'!M137","v":0},{"$f":"'[1]Tabel 5F B DATA'!N137","v":0},{"$f":"'[1]Tabel 5F B DATA'!O137","v":2},{"$f":"'[1]Tabel 5F B DATA'!P137","v":2},{"$f":"'[1]Tabel 5F B DATA'!Q137","v":1},{"$f":"'[1]Tabel 5F B DATA'!R137","v":3},null,{"$f":"'[1]Tabel 5F B DATA'!T137","v":2}]
[{"$f":"'[1]Tabel 5F B DATA'!K138","v":"Samf. Adm."},null,{"$f":"'[1]Tabel 5F B DATA'!M138","v":0},{"$f":"'[1]Tabel 5F B DATA'!N138","v":1},{"$f":"'[1]Tabel 5F B DATA'!O138","v":6},{"$f":"'[1]Tabel 5F B DATA'!P138","v":12},{"$f":"'[1]Tabel 5F B DATA'!Q138","v":8},{"$f":"'[1]Tabel 5F B DATA'!R138","v":19},null,{"$f":"'[1]Tabel 5F B DATA'!T138","v":9}]
[{"$f":"'[1]Tabel 5F B DATA'!K139","v":"Cand. Merc."},null,{"$f":"'[1]Tabel 5F B DATA'!M139","v":0},{"$f":"'[1]Tabel 5F B DATA'!N139","v":0},{"$f":"'[1]Tabel 5F B DATA'!O139","v":4},{"$f":"'[1]Tabel 5F B DATA'!P139","v":3},{"$f":"'[1]Tabel 5F B DATA'!Q139","v":3},{"$f":"'[1]Tabel 5F B DATA'!R139","v":15},null,{"$f":"'[1]Tabel 5F B DATA'!T139","v":7}]
[{"$f":"'[1]Tabel 5F B DATA'!K140","v":"HA"},null,{"$f":"'[1]Tabel 5F B DATA'!M140","v":0},{"$f":"'[1]Tabel 5F B DATA'!N140","v":0},{"$f":"'[1]Tabel 5F B DATA'!O140","v":0},{"$f":"'[1]Tabel 5F B DATA'!P140","v":0},{"$f":"'[1]Tabel 5F B DATA'!Q140","v":2},{"$f":"'[1]Tabel 5F B DATA'!R140","v":10},null,{"$f":"'[1]Tabel 5F B DATA'!T140","v":0}]
[{"$f":"'[1]Tabel 5F B DATA'!K141","v":"HD"},null,{"$f":"'[1]Tabel 5F B DATA'!M141","v":0},{"$f":"'[1]Tabel 5F B DATA'!N141","v":0},{"$f":"'[1]Tabel 5F B DATA'!O141","v":0},{"$f":"'[1]Tabel 5F B DATA'!P141","v":2},{"$f":"'[1]Tabel 5F B DATA'!Q141","v":1},{"$f":"'[1]Tabel 5F B DATA'!R141","v":6},null,{"$f":"'[1]Tabel 5F B DATA'!T141","v":0}]
[{"$f":"'[1]Tabel 5F B DATA'!K142","v":"Komm. og Sprog"},null,{"$f":"'[1]Tabel 5F B DATA'!M142","v":0},{"$f":"'[1]Tabel 5F B DATA'!N142","v":1},{"$f":"'[1]Tabel 5F B DATA'!O142","v":0},{"$f":"'[1]Tabel 5F B DATA'!P142","v":3},{"$f":"'[1]Tabel 5F B DATA'!Q142","v":4},{"$f":"'[1]Tabel 5F B DATA'!R142","v":6},null,{"$f":"'[1]Tabel 5F B DATA'!T142","v":1}]
[{"$f":"'[1]Tabel 5F B DATA'!K143","v":"Bygningskonst."},null,{"$f":"'[1]Tabel 5F B DATA'!M143","v":2},{"$f":"'[1]Tabel 5F B DATA'!N143","v":2},{"$f":"'[1]Tabel 5F B DATA'!O143","v":3},{"$f":"'[1]Tabel 5F B DATA'!P143","v":3},{"$f":"'[1]Tabel 5F B DATA'!Q143","v":6},{"$f":"'[1]Tabel 5F B DATA'!R143","v":11},null,{"$f":"'[1]Tabel 5F B DATA'!T143","v":1}]
[{"$f":"'[1]Tabel 5F B DATA'!K144","v":"Cand. IT."},null,{"$f":"'[1]Tabel 5F B DATA'!M144","v":0},{"$f":"'[1]Tabel 5F B DATA'!N144","v":0},{"$f":"'[1]Tabel 5F B DATA'!O144","v":0},{"$f":"'[1]Tabel 5F B DATA'!P144","v":0},{"$f":"'[1]Tabel 5F B DATA'!Q144","v":0},{"$f":"'[1]Tabel 5F B DATA'!R144","v":1},null,{"$f":"'[1]Tabel 5F B DATA'!T144","v":1}]
[{"$f":"'[1]Tabel 5F B DATA'!K145","v":"Bac. Samf."},null,{"$f":"'[1]Tabel 5F B DATA'!M145","v":0},{"$f":"'[1]Tabel 5F B DATA'!N145","v":0},{"$f":"'[1]Tabel 5F B DATA'!O145","v":0},{"$f":"'[1]Tabel 5F B DATA'!P145","v":1},{"$f":"'[1]Tabel 5F B DATA'!Q145","v":0},{"$f":"'[1]Tabel 5F B DATA'!R145","v":0},null,{"$f":"'[1]Tabel 5F B DATA'!T145","v":4}]
[{"$f":"'[1]Tabel 5F B DATA'!K146","v":"Bac. Hum."},null,{"$f":"'[1]Tabel 5F B DATA'!M146","v":1},{"$f":"'[1]Tabel 5F B DATA'!N146","v":1},{"$f":"'[1]Tabel 5F B DATA'!O146","v":3},{"$f":"'[1]Tabel 5F B DATA'!P146","v":2},{"$f":"'[1]Tabel 5F B DATA'!Q146","v":1},{"$f":"'[1]Tabel 5F B DATA'!R146","v":5},null,{"$f":"'[1]Tabel 5F B DATA'!T146","v":0}]
[{"$f":"'[1]Tabel 5F B DATA'!K147","v":"Bac. Nat."},null,{"$f":"'[1]Tabel 5F B DATA'!M147","v":3},{"$f":"'[1]Tabel 5F B DATA'!N147","v":1},{"$f":"'[1]Tabel 5F B DATA'!O147","v":0},{"$f":"'[1]Tabel 5F B DATA'!P147","v":1},{"$f":"'[1]Tabel 5F B DATA'!Q147","v":0},{"$f":"'[1]Tabel 5F B DATA'!R147","v":2},null,{"$f":"'[1]Tabel 5F B DATA'!T147","v":3}]
[{"$f":"'[1]Tabel 5F B DATA'!K148","v":"Andre"},null,{"$f":"'[1]Tabel 5F B DATA'!M148","v":8},{"$f":"'[1]Tabel 5F B DATA'!N148","v":2},{"$f":"'[1]Tabel 5F B DATA'!O148","v":8},{"$f":"'[1]Tabel 5F B DATA'!P148","v":6},{"$f":"'[1]Tabel 5F B DATA'!Q148","v":9},{"$f":"'[1]Tabel 5F B DATA'!R148","v":51},null,{"$f":"'[1]Tabel 5F B DATA'!T148","v":25}]
[]
[{"$f":"'[1]Tabel 5F B DATA'!K150","v":"Total"},null,{"$f":"'[1]Tabel 5F B DATA'!M150","v":28},{"$f":"'[1]Tabel 5F B DATA'!N150","v":33},{"$f":"'[1]Tabel 5F B DATA'!O150","v":78},{"$f":"'[1]Tabel 5F B DATA'!P150","v":140},{"$f":"'[1]Tabel 5F B DATA'!Q150","v":89},{"$f":"'[1]Tabel 5F B DATA'!R150","v":362},null,{"$f":"'[1]Tabel 5F B DATA'!T150","v":95}]
[]
[{"$f":"'[1]Tabel 5F B DATA'!K152","v":"Ingeniører i alt"},null,{"$f":"'[1]Tabel 5F B DATA'!M152","v":2},{"$f":"'[1]Tabel 5F B DATA'!N152","v":2},{"$f":"'[1]Tabel 5F B DATA'!O152","v":7},{"$f":"'[1]Tabel 5F B DATA'!P152","v":18},{"$f":"'[1]Tabel 5F B DATA'!Q152","v":10},{"$f":"'[1]Tabel 5F B DATA'!R152","v":55},null,{"$f":"'[1]Tabel 5F B DATA'!T152","v":3}]
[{"$f":"'[1]Tabel 5F B DATA'!K153","v":"Magistre i alt"},null,{"$f":"'[1]Tabel 5F B DATA'!M153","v":3},{"$f":"'[1]Tabel 5F B DATA'!N153","v":6},{"$f":"'[1]Tabel 5F B DATA'!O153","v":21},{"$f":"'[1]Tabel 5F B DATA'!P153","v":46},{"$f":"'[1]Tabel 5F B DATA'!Q153","v":26},{"$f":"'[1]Tabel 5F B DATA'!R153","v":96},null,{"$f":"'[1]Tabel 5F B DATA'!T153","v":11}]
[{"$f":"'[1]Tabel 5F B DATA'!K154","v":"DJØF'ere i alt"},null,{"$f":"'[1]Tabel 5F B DATA'!M154","v":0},{"$f":"'[1]Tabel 5F B DATA'!N154","v":3},{"$f":"'[1]Tabel 5F B DATA'!O154","v":14},{"$f":"'[1]Tabel 5F B DATA'!P154","v":26},{"$f":"'[1]Tabel 5F B DATA'!Q154","v":15},{"$f":"'[1]Tabel 5F B DATA'!R154","v":61},null,{"$f":"'[1]Tabel 5F B DATA'!T154","v":22}]
[]
[]
[]
[]
[]
[]
[{"$f":"'[1]Tabel 5F B DATA'!K158","v":"Christiansø"}]
[]
[null,null,{"$f":"'[1]Tabel 5F B DATA'!M160","v":"Under 1 år"},{"$f":"'[1]Tabel 5F B DATA'!N160","v":" 1 - 2 år"},{"$f":"'[1]Tabel 5F B DATA'!O160","v":"2 - 4 år"},{"$f":"'[1]Tabel 5F B DATA'!P160","v":"5 - 9 år"},{"$f":"'[1]Tabel 5F B DATA'!Q160","v":"10 - 14 år"},{"$f":"'[1]Tabel 5F B DATA'!R160","v":"Over 15 år"},null,{"$f":"'[1]Tabel 5F B DATA'!T160","v":"Uoplyst"}]
[]
[{"$f":"'[1]Tabel 5F B DATA'!K162","v":"Civ. ing."},null,{"$f":"'[1]Tabel 5F B DATA'!M162","v":0},{"$f":"'[1]Tabel 5F B DATA'!N162","v":0},{"$f":"'[1]Tabel 5F B DATA'!O162","v":0},{"$f":"'[1]Tabel 5F B DATA'!P162","v":0},{"$f":"'[1]Tabel 5F B DATA'!Q162","v":0},{"$f":"'[1]Tabel 5F B DATA'!R162","v":0},null,{"$f":"'[1]Tabel 5F B DATA'!T162","v":0}]
[{"$f":"'[1]Tabel 5F B DATA'!K163","v":"Diplom ing."},null,{"$f":"'[1]Tabel 5F B DATA'!M163","v":0},{"$f":"'[1]Tabel 5F B DATA'!N163","v":0},{"$f":"'[1]Tabel 5F B DATA'!O163","v":0},{"$f":"'[1]Tabel 5F B DATA'!P163","v":0},{"$f":"'[1]Tabel 5F B DATA'!Q163","v":0},{"$f":"'[1]Tabel 5F B DATA'!R163","v":0},null,{"$f":"'[1]Tabel 5F B DATA'!T163","v":0}]
[{"$f":"'[1]Tabel 5F B DATA'!K164","v":"Cand. Scient. Tek"},null,{"$f":"'[1]Tabel 5F B DATA'!M164","v":0},{"$f":"'[1]Tabel 5F B DATA'!N164","v":0},{"$f":"'[1]Tabel 5F B DATA'!O164","v":0},{"$f":"'[1]Tabel 5F B DATA'!P164","v":0},{"$f":"'[1]Tabel 5F B DATA'!Q164","v":0},{"$f":"'[1]Tabel 5F B DATA'!R164","v":0},null,{"$f":"'[1]Tabel 5F B DATA'!T164","v":0}]
[{"$f":"'[1]Tabel 5F B DATA'!K165","v":"MA. Hum."},null,{"$f":"'[1]Tabel 5F B DATA'!M165","v":0},{"$f":"'[1]Tabel 5F B DATA'!N165","v":0},{"$f":"'[1]Tabel 5F B DATA'!O165","v":0},{"$f":"'[1]Tabel 5F B DATA'!P165","v":0},{"$f":"'[1]Tabel 5F B DATA'!Q165","v":0},{"$f":"'[1]Tabel 5F B DATA'!R165","v":0},null,{"$f":"'[1]Tabel 5F B DATA'!T165","v":0}]
[{"$f":"'[1]Tabel 5F B DATA'!K166","v":"MA. Nat."},null,{"$f":"'[1]Tabel 5F B DATA'!M166","v":0},{"$f":"'[1]Tabel 5F B DATA'!N166","v":0},{"$f":"'[1]Tabel 5F B DATA'!O166","v":0},{"$f":"'[1]Tabel 5F B DATA'!P166","v":0},{"$f":"'[1]Tabel 5F B DATA'!Q166","v":0},{"$f":"'[1]Tabel 5F B DATA'!R166","v":0},null,{"$f":"'[1]Tabel 5F B DATA'!T166","v":0}]
[{"$f":"'[1]Tabel 5F B DATA'!K167","v":"MA. Ph.d."},null,{"$f":"'[1]Tabel 5F B DATA'!M167","v":0},{"$f":"'[1]Tabel 5F B DATA'!N167","v":0},{"$f":"'[1]Tabel 5F B DATA'!O167","v":0},{"$f":"'[1]Tabel 5F B DATA'!P167","v":0},{"$f":"'[1]Tabel 5F B DATA'!Q167","v":0},{"$f":"'[1]Tabel 5F B DATA'!R167","v":0},null,{"$f":"'[1]Tabel 5F B DATA'!T167","v":0}]
[{"$f":"'[1]Tabel 5F B DATA'!K168","v":"MA. Samf."},null,{"$f":"'[1]Tabel 5F B DATA'!M168","v":0},{"$f":"'[1]Tabel 5F B DATA'!N168","v":0},{"$f":"'[1]Tabel 5F B DATA'!O168","v":0},{"$f":"'[1]Tabel 5F B DATA'!P168","v":0},{"$f":"'[1]Tabel 5F B DATA'!Q168","v":0},{"$f":"'[1]Tabel 5F B DATA'!R168","v":0},null,{"$f":"'[1]Tabel 5F B DATA'!T168","v":0}]
[{"$f":"'[1]Tabel 5F B DATA'!K169","v":"Øvrige Mag."},null,{"$f":"'[1]Tabel 5F B DATA'!M169","v":0},{"$f":"'[1]Tabel 5F B DATA'!N169","v":0},{"$f":"'[1]Tabel 5F B DATA'!O169","v":0},{"$f":"'[1]Tabel 5F B DATA'!P169","v":0},{"$f":"'[1]Tabel 5F B DATA'!Q169","v":0},{"$f":"'[1]Tabel 5F B DATA'!R169","v":0},null,{"$f":"'[1]Tabel 5F B DATA'!T169","v":0}]
[{"$f":"'[1]Tabel 5F B DATA'!K170","v":"Agronom"},null,{"$f":"'[1]Tabel 5F B DATA'!M170","v":0},{"$f":"'[1]Tabel 5F B DATA'!N170","v":0},{"$f":"'[1]Tabel 5F B DATA'!O170","v":0},{"$f":"'[1]Tabel 5F B DATA'!P170","v":0},{"$f":"'[1]Tabel 5F B DATA'!Q170","v":0},{"$f":"'[1]Tabel 5F B DATA'!R170","v":0},null,{"$f":"'[1]Tabel 5F B DATA'!T170","v":0}]
[{"$f":"'[1]Tabel 5F B DATA'!K171","v":"Landsk. Arkt."},null,{"$f":"'[1]Tabel 5F B DATA'!M171","v":0},{"$f":"'[1]Tabel 5F B DATA'!N171","v":0},{"$f":"'[1]Tabel 5F B DATA'!O171","v":0},{"$f":"'[1]Tabel 5F B DATA'!P171","v":0},{"$f":"'[1]Tabel 5F B DATA'!Q171","v":0},{"$f":"'[1]Tabel 5F B DATA'!R171","v":0},null,{"$f":"'[1]Tabel 5F B DATA'!T171","v":0}]
[{"$f":"'[1]Tabel 5F B DATA'!K172","v":"Hortonom"},null,{"$f":"'[1]Tabel 5F B DATA'!M172","v":0},{"$f":"'[1]Tabel 5F B DATA'!N172","v":0},{"$f":"'[1]Tabel 5F B DATA'!O172","v":0},{"$f":"'[1]Tabel 5F B DATA'!P172","v":0},{"$f":"'[1]Tabel 5F B DATA'!Q172","v":0},{"$f":"'[1]Tabel 5F B DATA'!R172","v":0},null,{"$f":"'[1]Tabel 5F B DATA'!T172","v":0}]
[{"$f":"'[1]Tabel 5F B DATA'!K173","v":"Forstkand."},null,{"$f":"'[1]Tabel 5F B DATA'!M173","v":0},{"$f":"'[1]Tabel 5F B DATA'!N173","v":0},{"$f":"'[1]Tabel 5F B DATA'!O173","v":0},{"$f":"'[1]Tabel 5F B DATA'!P173","v":0},{"$f":"'[1]Tabel 5F B DATA'!Q173","v":0},{"$f":"'[1]Tabel 5F B DATA'!R173","v":0},null,{"$f":"'[1]Tabel 5F B DATA'!T173","v":0}]
[{"$f":"'[1]Tabel 5F B DATA'!K174","v":"Jordbrugsakad."},null,{"$f":"'[1]Tabel 5F B DATA'!M174","v":0},{"$f":"'[1]Tabel 5F B DATA'!N174","v":0},{"$f":"'[1]Tabel 5F B DATA'!O174","v":0},{"$f":"'[1]Tabel 5F B DATA'!P174","v":0},{"$f":"'[1]Tabel 5F B DATA'!Q174","v":0},{"$f":"'[1]Tabel 5F B DATA'!R174","v":0},null,{"$f":"'[1]Tabel 5F B DATA'!T174","v":0}]
[{"$f":"'[1]Tabel 5F B DATA'!K175","v":"Mejeriing."},null,{"$f":"'[1]Tabel 5F B DATA'!M175","v":0},{"$f":"'[1]Tabel 5F B DATA'!N175","v":0},{"$f":"'[1]Tabel 5F B DATA'!O175","v":0},{"$f":"'[1]Tabel 5F B DATA'!P175","v":0},{"$f":"'[1]Tabel 5F B DATA'!Q175","v":0},{"$f":"'[1]Tabel 5F B DATA'!R175","v":0},null,{"$f":"'[1]Tabel 5F B DATA'!T175","v":0}]
[{"$f":"'[1]Tabel 5F B DATA'!K176","v":"Levn.m.kand."},null,{"$f":"'[1]Tabel 5F B DATA'!M176","v":0},{"$f":"'[1]Tabel 5F B DATA'!N176","v":0},{"$f":"'[1]Tabel 5F B DATA'!O176","v":0},{"$f":"'[1]Tabel 5F B DATA'!P176","v":0},{"$f":"'[1]Tabel 5F B DATA'!Q176","v":0},{"$f":"'[1]Tabel 5F B DATA'!R176","v":0},null,{"$f":"'[1]Tabel 5F B DATA'!T176","v":0}]
[{"$f":"'[1]Tabel 5F B DATA'!K177","v":"Dyrlæge"},null,{"$f":"'[1]Tabel 5F B DATA'!M177","v":0},{"$f":"'[1]Tabel 5F B DATA'!N177","v":0},{"$f":"'[1]Tabel 5F B DATA'!O177","v":0},{"$f":"'[1]Tabel 5F B DATA'!P177","v":0},{"$f":"'[1]Tabel 5F B DATA'!Q177","v":0},{"$f":"'[1]Tabel 5F B DATA'!R177","v":0},null,{"$f":"'[1]Tabel 5F B DATA'!T177","v":0}]
[{"$f":"'[1]Tabel 5F B DATA'!K178","v":"Farmaceut"},null,{"$f":"'[1]Tabel 5F B DATA'!M178","v":0},{"$f":"'[1]Tabel 5F B DATA'!N178","v":0},{"$f":"'[1]Tabel 5F B DATA'!O178","v":0},{"$f":"'[1]Tabel 5F B DATA'!P178","v":0},{"$f":"'[1]Tabel 5F B DATA'!Q178","v":0},{"$f":"'[1]Tabel 5F B DATA'!R178","v":0},null,{"$f":"'[1]Tabel 5F B DATA'!T178","v":0}]
[{"$f":"'[1]Tabel 5F B DATA'!K179","v":"Læge"},null,{"$f":"'[1]Tabel 5F B DATA'!M179","v":0},{"$f":"'[1]Tabel 5F B DATA'!N179","v":0},{"$f":"'[1]Tabel 5F B DATA'!O179","v":0},{"$f":"'[1]Tabel 5F B DATA'!P179","v":0},{"$f":"'[1]Tabel 5F B DATA'!Q179","v":0},{"$f":"'[1]Tabel 5F B DATA'!R179","v":1},null,{"$f":"'[1]Tabel 5F B DATA'!T179","v":0}]
[{"$f":"'[1]Tabel 5F B DATA'!K180","v":"Tandlæge"},null,{"$f":"'[1]Tabel 5F B DATA'!M180","v":0},{"$f":"'[1]Tabel 5F B DATA'!N180","v":0},{"$f":"'[1]Tabel 5F B DATA'!O180","v":0},{"$f":"'[1]Tabel 5F B DATA'!P180","v":0},{"$f":"'[1]Tabel 5F B DATA'!Q180","v":0},{"$f":"'[1]Tabel 5F B DATA'!R180","v":0},null,{"$f":"'[1]Tabel 5F B DATA'!T180","v":0}]
[{"$f":"'[1]Tabel 5F B DATA'!K181","v":"Arkitekt"},null,{"$f":"'[1]Tabel 5F B DATA'!M181","v":0},{"$f":"'[1]Tabel 5F B DATA'!N181","v":0},{"$f":"'[1]Tabel 5F B DATA'!O181","v":0},{"$f":"'[1]Tabel 5F B DATA'!P181","v":0},{"$f":"'[1]Tabel 5F B DATA'!Q181","v":0},{"$f":"'[1]Tabel 5F B DATA'!R181","v":0},null,{"$f":"'[1]Tabel 5F B DATA'!T181","v":0}]
[{"$f":"'[1]Tabel 5F B DATA'!K182","v":"Landinspek."},null,{"$f":"'[1]Tabel 5F B DATA'!M182","v":0},{"$f":"'[1]Tabel 5F B DATA'!N182","v":0},{"$f":"'[1]Tabel 5F B DATA'!O182","v":0},{"$f":"'[1]Tabel 5F B DATA'!P182","v":0},{"$f":"'[1]Tabel 5F B DATA'!Q182","v":0},{"$f":"'[1]Tabel 5F B DATA'!R182","v":0},null,{"$f":"'[1]Tabel 5F B DATA'!T182","v":0}]
[{"$f":"'[1]Tabel 5F B DATA'!K183","v":"Bibliotekar"},null,{"$f":"'[1]Tabel 5F B DATA'!M183","v":0},{"$f":"'[1]Tabel 5F B DATA'!N183","v":0},{"$f":"'[1]Tabel 5F B DATA'!O183","v":0},{"$f":"'[1]Tabel 5F B DATA'!P183","v":0},{"$f":"'[1]Tabel 5F B DATA'!Q183","v":0},{"$f":"'[1]Tabel 5F B DATA'!R183","v":0},null,{"$f":"'[1]Tabel 5F B DATA'!T183","v":0}]
[{"$f":"'[1]Tabel 5F B DATA'!K184","v":"Musikudd."},null,{"$f":"'[1]Tabel 5F B DATA'!M184","v":0},{"$f":"'[1]Tabel 5F B DATA'!N184","v":0},{"$f":"'[1]Tabel 5F B DATA'!O184","v":0},{"$f":"'[1]Tabel 5F B DATA'!P184","v":0},{"$f":"'[1]Tabel 5F B DATA'!Q184","v":0},{"$f":"'[1]Tabel 5F B DATA'!R184","v":0},null,{"$f":"'[1]Tabel 5F B DATA'!T184","v":0}]
[{"$f":"'[1]Tabel 5F B DATA'!K185","v":"Teolog"},null,{"$f":"'[1]Tabel 5F B DATA'!M185","v":0},{"$f":"'[1]Tabel 5F B DATA'!N185","v":0},{"$f":"'[1]Tabel 5F B DATA'!O185","v":0},{"$f":"'[1]Tabel 5F B DATA'!P185","v":0},{"$f":"'[1]Tabel 5F B DATA'!Q185","v":0},{"$f":"'[1]Tabel 5F B DATA'!R185","v":0},null,{"$f":"'[1]Tabel 5F B DATA'!T185","v":0}]
[{"$f":"'[1]Tabel 5F B DATA'!K186","v":"Psykolog"},null,{"$f":"'[1]Tabel 5F B DATA'!M186","v":0},{"$f":"'[1]Tabel 5F B DATA'!N186","v":0},{"$f":"'[1]Tabel 5F B DATA'!O186","v":0},{"$f":"'[1]Tabel 5F B DATA'!P186","v":0},{"$f":"'[1]Tabel 5F B DATA'!Q186","v":0},{"$f":"'[1]Tabel 5F B DATA'!R186","v":0},null,{"$f":"'[1]Tabel 5F B DATA'!T186","v":0}]
[{"$f":"'[1]Tabel 5F B DATA'!K187","v":"Jurist"},null,{"$f":"'[1]Tabel 5F B DATA'!M187","v":0},{"$f":"'[1]Tabel 5F B DATA'!N187","v":0},{"$f":"'[1]Tabel 5F B DATA'!O187","v":0},{"$f":"'[1]Tabel 5F B DATA'!P187","v":0},{"$f":"'[1]Tabel 5F B DATA'!Q187","v":0},{"$f":"'[1]Tabel 5F B DATA'!R187","v":0},null,{"$f":"'[1]Tabel 5F B DATA'!T187","v":0}]
[{"$f":"'[1]Tabel 5F B DATA'!K188","v":"Økonom"},null,{"$f":"'[1]Tabel 5F B DATA'!M188","v":0},{"$f":"'[1]Tabel 5F B DATA'!N188","v":0},{"$f":"'[1]Tabel 5F B DATA'!O188","v":0},{"$f":"'[1]Tabel 5F B DATA'!P188","v":0},{"$f":"'[1]Tabel 5F B DATA'!Q188","v":0},{"$f":"'[1]Tabel 5F B DATA'!R188","v":0},null,{"$f":"'[1]Tabel 5F B DATA'!T188","v":0}]
[{"$f":"'[1]Tabel 5F B DATA'!K189","v":"Samf. Adm."},null,{"$f":"'[1]Tabel 5F B DATA'!M189","v":0},{"$f":"'[1]Tabel 5F B DATA'!N189","v":0},{"$f":"'[1]Tabel 5F B DATA'!O189","v":0},{"$f":"'[1]Tabel 5F B DATA'!P189","v":0},{"$f":"'[1]Tabel 5F B DATA'!Q189","v":0},{"$f":"'[1]Tabel 5F B DATA'!R189","v":0},null,{"$f":"'[1]Tabel 5F B DATA'!T189","v":0}]
[{"$f":"'[1]Tabel 5F B DATA'!K190","v":"Cand. Merc."},null,{"$f":"'[1]Tabel 5F B DATA'!M190","v":0},{"$f":"'[1]Tabel 5F B DATA'!N190","v":0},{"$f":"'[1]Tabel 5F B DATA'!O190","v":0},{"$f":"'[1]Tabel 5F B DATA'!P190","v":0},{"$f":"'[1]Tabel 5F B DATA'!Q190","v":0},{"$f":"'[1]Tabel 5F B DATA'!R190","v":0},null,{"$f":"'[1]Tabel 5F B DATA'!T190","v":0}]
[{"$f":"'[1]Tabel 5F B DATA'!K191","v":"HA"},null,{"$f":"'[1]Tabel 5F B DATA'!M191","v":0},{"$f":"'[1]Tabel 5F B DATA'!N191","v":0},{"$f":"'[1]Tabel 5F B DATA'!O191","v":0},{"$f":"'[1]Tabel 5F B DATA'!P191","v":0},{"$f":"'[1]Tabel 5F B DATA'!Q191","v":0},{"$f":"'[1]Tabel 5F B DATA'!R191","v":0},null,{"$f":"'[1]Tabel 5F B DATA'!T191","v":0}]
[{"$f":"'[1]Tabel 5F B DATA'!K192","v":"HD"},null,{"$f":"'[1]Tabel 5F B DATA'!M192","v":0},{"$f":"'[1]Tabel 5F B DATA'!N192","v":0},{"$f":"'[1]Tabel 5F B DATA'!O192","v":0},{"$f":"'[1]Tabel 5F B DATA'!P192","v":0},{"$f":"'[1]Tabel 5F B DATA'!Q192","v":0},{"$f":"'[1]Tabel 5F B DATA'!R192","v":0},null,{"$f":"'[1]Tabel 5F B DATA'!T192","v":0}]
[{"$f":"'[1]Tabel 5F B DATA'!K193","v":"Komm. og Sprog"},null,{"$f":"'[1]Tabel 5F B DATA'!M193","v":0},{"$f":"'[1]Tabel 5F B DATA'!N193","v":0},{"$f":"'[1]Tabel 5F B DATA'!O193","v":0},{"$f":"'[1]Tabel 5F B DATA'!P193","v":0},{"$f":"'[1]Tabel 5F B DATA'!Q193","v":0},{"$f":"'[1]Tabel 5F B DATA'!R193","v":0},null,{"$f":"'[1]Tabel 5F B DATA'!T193","v":0}]
[{"$f":"'[1]Tabel 5F B DATA'!K194","v":"Bygningskonst."},null,{"$f":"'[1]Tabel 5F B DATA'!M194","v":0},{"$f":"'[1]Tabel 5F B DATA'!N194","v":0},{"$f":"'[1]Tabel 5F B DATA'!O194","v":0},{"$f":"'[1]Tabel 5F B DATA'!P194","v":0},{"$f":"'[1]Tabel 5F B DATA'!Q194","v":0},{"$f":"'[1]Tabel 5F B DATA'!R194","v":0},null,{"$f":"'[1]Tabel 5F B DATA'!T194","v":0}]
[{"$f":"'[1]Tabel 5F B DATA'!K195","v":"Cand. IT."},null,{"$f":"'[1]Tabel 5F B DATA'!M195","v":0},{"$f":"'[1]Tabel 5F B DATA'!N195","v":0},{"$f":"'[1]Tabel 5F B DATA'!O195","v":0},{"$f":"'[1]Tabel 5F B DATA'!P195","v":0},{"$f":"'[1]Tabel 5F B DATA'!Q195","v":0},{"$f":"'[1]Tabel 5F B DATA'!R195","v":0},null,{"$f":"'[1]Tabel 5F B DATA'!T195","v":0}]
[{"$f":"'[1]Tabel 5F B DATA'!K196","v":"Bac. Samf."},null,{"$f":"'[1]Tabel 5F B DATA'!M196","v":0},{"$f":"'[1]Tabel 5F B DATA'!N196","v":0},{"$f":"'[1]Tabel 5F B DATA'!O196","v":0},{"$f":"'[1]Tabel 5F B DATA'!P196","v":0},{"$f":"'[1]Tabel 5F B DATA'!Q196","v":0},{"$f":"'[1]Tabel 5F B DATA'!R196","v":0},null,{"$f":"'[1]Tabel 5F B DATA'!T196","v":0}]
[{"$f":"'[1]Tabel 5F B DATA'!K197","v":"Bac. Hum."},null,{"$f":"'[1]Tabel 5F B DATA'!M197","v":0},{"$f":"'[1]Tabel 5F B DATA'!N197","v":0},{"$f":"'[1]Tabel 5F B DATA'!O197","v":0},{"$f":"'[1]Tabel 5F B DATA'!P197","v":0},{"$f":"'[1]Tabel 5F B DATA'!Q197","v":0},{"$f":"'[1]Tabel 5F B DATA'!R197","v":0},null,{"$f":"'[1]Tabel 5F B DATA'!T197","v":0}]
[{"$f":"'[1]Tabel 5F B DATA'!K198","v":"Bac. Nat."},null,{"$f":"'[1]Tabel 5F B DATA'!M198","v":0},{"$f":"'[1]Tabel 5F B DATA'!N198","v":0},{"$f":"'[1]Tabel 5F B DATA'!O198","v":0},{"$f":"'[1]Tabel 5F B DATA'!P198","v":0},{"$f":"'[1]Tabel 5F B DATA'!Q198","v":0},{"$f":"'[1]Tabel 5F B DATA'!R198","v":0},null,{"$f":"'[1]Tabel 5F B DATA'!T198","v":0}]
[{"$f":"'[1]Tabel 5F B DATA'!K199","v":"Andre"},null,{"$f":"'[1]Tabel 5F B DATA'!M199","v":0},{"$f":"'[1]Tabel 5F B DATA'!N199","v":0},{"$f":"'[1]Tabel 5F B DATA'!O199","v":0},{"$f":"'[1]Tabel 5F B DATA'!P199","v":0},{"$f":"'[1]Tabel 5F B DATA'!Q199","v":0},{"$f":"'[1]Tabel 5F B DATA'!R199","v":0},null,{"$f":"'[1]Tabel 5F B DATA'!T199","v":0}]
[]
[{"$f":"'[1]Tabel 5F B DATA'!K201","v":"Total"},null,{"$f":"'[1]Tabel 5F B DATA'!M201","v":0},{"$f":"'[1]Tabel 5F B DATA'!N201","v":0},{"$f":"'[1]Tabel 5F B DATA'!O201","v":0},{"$f":"'[1]Tabel 5F B DATA'!P201","v":0},{"$f":"'[1]Tabel 5F B DATA'!Q201","v":0},{"$f":"'[1]Tabel 5F B DATA'!R201","v":1},null,{"$f":"'[1]Tabel 5F B DATA'!T201","v":0}]
[]
[{"$f":"'[1]Tabel 5F B DATA'!K203","v":"Ingeniører i alt"},null,{"$f":"'[1]Tabel 5F B DATA'!M203","v":0},{"$f":"'[1]Tabel 5F B DATA'!N203","v":0},{"$f":"'[1]Tabel 5F B DATA'!O203","v":0},{"$f":"'[1]Tabel 5F B DATA'!P203","v":0},{"$f":"'[1]Tabel 5F B DATA'!Q203","v":0},{"$f":"'[1]Tabel 5F B DATA'!R203","v":0},null,{"$f":"'[1]Tabel 5F B DATA'!T203","v":0}]
[{"$f":"'[1]Tabel 5F B DATA'!K204","v":"Magistre i alt"},null,{"$f":"'[1]Tabel 5F B DATA'!M204","v":0},{"$f":"'[1]Tabel 5F B DATA'!N204","v":0},{"$f":"'[1]Tabel 5F B DATA'!O204","v":0},{"$f":"'[1]Tabel 5F B DATA'!P204","v":0},{"$f":"'[1]Tabel 5F B DATA'!Q204","v":0},{"$f":"'[1]Tabel 5F B DATA'!R204","v":0},null,{"$f":"'[1]Tabel 5F B DATA'!T204","v":0}]
[{"$f":"'[1]Tabel 5F B DATA'!K205","v":"DJØF'ere i alt"},null,{"$f":"'[1]Tabel 5F B DATA'!M205","v":0},{"$f":"'[1]Tabel 5F B DATA'!N205","v":0},{"$f":"'[1]Tabel 5F B DATA'!O205","v":0},{"$f":"'[1]Tabel 5F B DATA'!P205","v":0},{"$f":"'[1]Tabel 5F B DATA'!Q205","v":0},{"$f":"'[1]Tabel 5F B DATA'!R205","v":0},null,{"$f":"'[1]Tabel 5F B DATA'!T205","v":0}]

{"sheet":"Tabel 5 B","index":10,"n_rows":158,"n_cols":10,"rows_kept":158,"cut":false,"hidden":false,"merged":[]}
[{"$f":"'[1]Tabel 5 B DATA'!L3","v":"Tabel 5. Antal ledighedsberørte - kandidatalder"}]
[]
[{"$f":"'[1]Tabel 5 B DATA'!L6","v":"Bornholm"}]
[]
[null,null,{"$f":"'[1]Tabel 5 B DATA'!N8","v":"Under 1 år"},{"$f":"'[1]Tabel 5 B DATA'!O8","v":" 1 - 2 år"},{"$f":"'[1]Tabel 5 B DATA'!P8","v":"2 - 4 år"},{"$f":"'[1]Tabel 5 B DATA'!Q8","v":"5 - 9 år"},{"$f":"'[1]Tabel 5 B DATA'!R8","v":"10 - 14 år"},{"$f":"'[1]Tabel 5 B DATA'!S8","v":"Over 15 år"},null,{"$f":"'[1]Tabel 5 B DATA'!U8","v":"Uoplyst"}]
[]
[{"$f":"'[1]Tabel 5 B DATA'!L10","v":"Civ. ing."},null,{"$f":"'[1]Tabel 5 B DATA'!N10","v":0},{"$f":"'[1]Tabel 5 B DATA'!O10","v":0},{"$f":"'[1]Tabel 5 B DATA'!P10","v":0},{"$f":"'[1]Tabel 5 B DATA'!Q10","v":3},{"$f":"'[1]Tabel 5 B DATA'!R10","v":0},{"$f":"'[1]Tabel 5 B DATA'!S10","v":0},null,{"$f":"'[1]Tabel 5 B DATA'!U10","v":0}]
[{"$f":"'[1]Tabel 5 B DATA'!L11","v":"Diplom ing."},null,{"$f":"'[1]Tabel 5 B DATA'!N11","v":0},{"$f":"'[1]Tabel 5 B DATA'!O11","v":0},{"$f":"'[1]Tabel 5 B DATA'!P11","v":0},{"$f":"'[1]Tabel 5 B DATA'!Q11","v":0},{"$f":"'[1]Tabel 5 B DATA'!R11","v":2},{"$f":"'[1]Tabel 5 B DATA'!S11","v":3},null,{"$f":"'[1]Tabel 5 B DATA'!U11","v":0}]
[{"$f":"'[1]Tabel 5 B DATA'!L12","v":"Cand. Scient. Tek"},null,{"$f":"'[1]Tabel 5 B DATA'!N12","v":1},{"$f":"'[1]Tabel 5 B DATA'!O12","v":0},{"$f":"'[1]Tabel 5 B DATA'!P12","v":3},{"$f":"'[1]Tabel 5 B DATA'!Q12","v":0},{"$f":"'[1]Tabel 5 B DATA'!R12","v":0},{"$f":"'[1]Tabel 5 B DATA'!S12","v":0},null,{"$f":"'[1]Tabel 5 B DATA'!U12","v":1}]
[{"$f":"'[1]Tabel 5 B DATA'!L13","v":"MA. Hum."},null,{"$f":"'[1]Tabel 5 B DATA'!N13","v":1},{"$f":"'[1]Tabel 5 B DATA'!O13","v":1},{"$f":"'[1]Tabel 5 B DATA'!P13","v":2},{"$f":"'[1]Tabel 5 B DATA'!Q13","v":4},{"$f":"'[1]Tabel 5 B DATA'!R13","v":3},{"$f":"'[1]Tabel 5 B DATA'!S13","v":3},null,{"$f":"'[1]Tabel 5 B DATA'!U13","v":4}]
[{"$f":"'[1]Tabel 5 B DATA'!L14","v":"MA. Nat."},null,{"$f":"'[1]Tabel 5 B DATA'!N14","v":0},{"$f":"'[1]Tabel 5 B DATA'!O14","v":0},{"$f":"'[1]Tabel 5 B DATA'!P14","v":0},{"$f":"'[1]Tabel 5 B DATA'!Q14","v":1},{"$f":"'[1]Tabel 5 B DATA'!R14","v":0},{"$f":"'[1]Tabel 5 B DATA'!S14","v":1},null,{"$f":"'[1]Tabel 5 B DATA'!U14","v":1}]
[{"$f":"'[1]Tabel 5 B DATA'!L15","v":"MA. Ph.d."},null,{"$f":"'[1]Tabel 5 B DATA'!N15","v":0},{"$f":"'[1]Tabel 5 B DATA'!O15","v":0},{"$f":"'[1]Tabel 5 B DATA'!P15","v":0},{"$f":"'[1]Tabel 5 B DATA'!Q15","v":1},{"$f":"'[1]Tabel 5 B DATA'!R15","v":0},{"$f":"'[1]Tabel 5 B DATA'!S15","v":0},null,{"$f":"'[1]Tabel 5 B DATA'!U15","v":0}]
[{"$f":"'[1]Tabel 5 B DATA'!L16","v":"MA. Samf."},null,{"$f":"'[1]Tabel 5 B DATA'!N16","v":0},{"$f":"'[1]Tabel 5 B DATA'!O16","v":0},{"$f":"'[1]Tabel 5 B DATA'!P16","v":0},{"$f":"'[1]Tabel 5 B DATA'!Q16","v":0},{"$f":"'[1]Tabel 5 B DATA'!R16","v":1},{"$f":"'[1]Tabel 5 B DATA'!S16","v":0},null,{"$f":"'[1]Tabel 5 B DATA'!U16","v":0}]
[{"$f":"'[1]Tabel 5 B DATA'!L17","v":"Øvrige Mag."},null,{"$f":"'[1]Tabel 5 B DATA'!N17","v":0},{"$f":"'[1]Tabel 5 B DATA'!O17","v":1},{"$f":"'[1]Tabel 5 B DATA'!P17","v":1},{"$f":"'[1]Tabel 5 B DATA'!Q17","v":2},{"$f":"'[1]Tabel 5 B DATA'!R17","v":0},{"$f":"'[1]Tabel 5 B DATA'!S17","v":1},null,{"$f":"'[1]Tabel 5 B DATA'!U17","v":0}]
[{"$f":"'[1]Tabel 5 B DATA'!L18","v":"Agronom"},null,{"$f":"'[1]Tabel 5 B DATA'!N18","v":0},{"$f":"'[1]Tabel 5 B DATA'!O18","v":0},{"$f":"'[1]Tabel 5 B DATA'!P18","v":0},{"$f":"'[1]Tabel 5 B DATA'!Q18","v":0},{"$f":"'[1]Tabel 5 B DATA'!R18","v":0},{"$f":"'[1]Tabel 5 B DATA'!S18","v":0},null,{"$f":"'[1]Tabel 5 B DATA'!U18","v":0}]
[{"$f":"'[1]Tabel 5 B DATA'!L19","v":"Landsk. Arkt."},null,{"$f":"'[1]Tabel 5 B DATA'!N19","v":0},{"$f":"'[1]Tabel 5 B DATA'!O19","v":0},{"$f":"'[1]Tabel 5 B DATA'!P19","v":0},{"$f":"'[1]Tabel 5 B DATA'!Q19","v":0},{"$f":"'[1]Tabel 5 B DATA'!R19","v":0},{"$f":"'[1]Tabel 5 B DATA'!S19","v":0},null,{"$f":"'[1]Tabel 5 B DATA'!U19","v":0}]
[{"$f":"'[1]Tabel 5 B DATA'!L20","v":"Hortonom"},null,{"$f":"'[1]Tabel 5 B DATA'!N20","v":0},{"$f":"'[1]Tabel 5 B DATA'!O20","v":0},{"$f":"'[1]Tabel 5 B DATA'!P20","v":0},{"$f":"'[1]Tabel 5 B DATA'!Q20","v":0},{"$f":"'[1]Tabel 5 B DATA'!R20","v":0},{"$f":"'[1]Tabel 5 B DATA'!S20","v":0},null,{"$f":"'[1]Tabel 5 B DATA'!U20","v":0}]
[{"$f":"'[1]Tabel 5 B DATA'!L21","v":"Forstkand."},null,{"$f":"'[1]Tabel 5 B DATA'!N21","v":0},{"$f":"'[1]Tabel 5 B DATA'!O21","v":0},{"$f":"'[1]Tabel 5 B DATA'!P21","v":0},{"$f":"'[1]Tabel 5 B DATA'!Q21","v":0},{"$f":"'[1]Tabel 5 B DATA'!R21","v":0},{"$f":"'[1]Tabel 5 B DATA'!S21","v":0},null,{"$f":"'[1]Tabel 5 B DATA'!U21","v":0}]
[{"$f":"'[1]Tabel 5 B DATA'!L22","v":"Jordbrugsakad."},null,{"$f":"'[1]Tabel 5 B DATA'!N22","v":0},{"$f":"'[1]Tabel 5 B DATA'!O22","v":0},{"$f":"'[1]Tabel 5 B DATA'!P22","v":0},{"$f":"'[1]Tabel 5 B DATA'!Q22","v":0},{"$f":"'[1]Tabel 5 B DATA'!R22","v":0},{"$f":"'[1]Tabel 5 B DATA'!S22","v":0},null,{"$f":"'[1]Tabel 5 B DATA'!U22","v":0}]
[{"$f":"'[1]Tabel 5 B DATA'!L23","v":"Mejeriing."},null,{"$f":"'[1]Tabel 5 B DATA'!N23","v":0},{"$f":"'[1]Tabel 5 B DATA'!O23","v":0},{"$f":"'[1]Tabel 5 B DATA'!P23","v":0},{"$f":"'[1]Tabel 5 B DATA'!Q23","v":0},{"$f":"'[1]Tabel 5 B DATA'!R23","v":0},{"$f":"'[1]Tabel 5 B DATA'!S23","v":0},null,{"$f":"'[1]Tabel 5 B DATA'!U23","v":0}]
[{"$f":"'[1]Tabel 5 B DATA'!L24","v":"Levn.m.kand."},null,{"$f":"'[1]Tabel 5 B DATA'!N24","v":0},{"$f":"'[1]Tabel 5 B DATA'!O24","v":0},{"$f":"'[1]Tabel 5 B DATA'!P24","v":0},{"$f":"'[1]Tabel 5 B DATA'!Q24","v":1},{"$f":"'[1]Tabel 5 B DATA'!R24","v":0},{"$f":"'[1]Tabel 5 B DATA'!S24","v":0},null,{"$f":"'[1]Tabel 5 B DATA'!U24","v":0}]
[{"$f":"'[1]Tabel 5 B DATA'!L25","v":"Dyrlæge"},null,{"$f":"'[1]Tabel 5 B DATA'!N25","v":0},{"$f":"'[1]Tabel 5 B DATA'!O25","v":0},{"$f":"'[1]Tabel 5 B DATA'!P25","v":0},{"$f":"'[1]Tabel 5 B DATA'!Q25","v":0},{"$f":"'[1]Tabel 5 B DATA'!R25","v":0},{"$f":"'[1]Tabel 5 B DATA'!S25","v":0},null,{"$f":"'[1]Tabel 5 B DATA'!U25","v":0}]
[{"$f":"'[1]Tabel 5 B DATA'!L26","v":"Farmaceut"},null,{"$f":"'[1]Tabel 5 B DATA'!N26","v":0},{"$f":"'[1]Tabel 5 B DATA'!O26","v":0},{"$f":"'[1]Tabel 5 B DATA'!P26","v":0},{"$f":"'[1]Tabel 5 B DATA'!Q26","v":0},{"$f":"'[1]Tabel 5 B DATA'!R26","v":0},{"$f":"'[1]Tabel 5 B DATA'!S26","v":0},null,{"$f":"'[1]Tabel 5 B DATA'!U26","v":0}]
[{"$f":"'[1]Tabel 5 B DATA'!L27","v":"Læge"},null,{"$f":"'[1]Tabel 5 B DATA'!N27","v":1},{"$f":"'[1]Tabel 5 B DATA'!O27","v":0},{"$f":"'[1]Tabel 5 B DATA'!P27","v":0},{"$f":"'[1]Tabel 5 B DATA'!Q27","v":0},{"$f":"'[1]Tabel 5 B DATA'!R27","v":0},{"$f":"'[1]Tabel 5 B DATA'!S27","v":0},null,{"$f":"'[1]Tabel 5 B DATA'!U27","v":0}]
[{"$f":"'[1]Tabel 5 B DATA'!L28","v":"Tandlæge"},null,{"$f":"'[1]Tabel 5 B DATA'!N28","v":0},{"$f":"'[1]Tabel 5 B DATA'!O28","v":0},{"$f":"'[1]Tabel 5 B DATA'!P28","v":0},{"$f":"'[1]Tabel 5 B DATA'!Q28","v":0},{"$f":"'[1]Tabel 5 B DATA'!R28","v":0},{"$f":"'[1]Tabel 5 B DATA'!S28","v":0},null,{"$f":"'[1]Tabel 5 B DATA'!U28","v":0}]
[{"$f":"'[1]Tabel 5 B DATA'!L29","v":"Arkitekt"},null,{"$f":"'[1]Tabel 5 B DATA'!N29","v":0},{"$f":"'[1]Tabel 5 B DATA'!O29","v":0},{"$f":"'[1]Tabel 5 B DATA'!P29","v":0},{"$f":"'[1]Tabel 5 B DATA'!Q29","v":0},{"$f":"'[1]Tabel 5 B DATA'!R29","v":0},{"$f":"'[1]Tabel 5 B DATA'!S29","v":1},null,{"$f":"'[1]Tabel 5 B DATA'!U29","v":0}]
[{"$f":"'[1]Tabel 5 B DATA'!L30","v":"Landinspek."},null,{"$f":"'[1]Tabel 5 B DATA'!N30","v":0},{"$f":"'[1]Tabel 5 B DATA'!O30","v":0},{"$f":"'[1]Tabel 5 B DATA'!P30","v":0},{"$f":"'[1]Tabel 5 B DATA'!Q30","v":0},{"$f":"'[1]Tabel 5 B DATA'!R30","v":0},{"$f":"'[1]Tabel 5 B DATA'!S30","v":0},null,{"$f":"'[1]Tabel 5 B DATA'!U30","v":0}]
[{"$f":"'[1]Tabel 5 B DATA'!L31","v":"Bibliotekar"},null,{"$f":"'[1]Tabel 5 B DATA'!N31","v":0},{"$f":"'[1]Tabel 5 B DATA'!O31","v":0},{"$f":"'[1]Tabel 5 B DATA'!P31","v":0},{"$f":"'[1]Tabel 5 B DATA'!Q31","v":0},{"$f":"'[1]Tabel 5 B DATA'!R31","v":0},{"$f":"'[1]Tabel 5 B DATA'!S31","v":1},null,{"$f":"'[1]Tabel 5 B DATA'!U31","v":0}]
[{"$f":"'[1]Tabel 5 B DATA'!L32","v":"Musikudd."},null,{"$f":"'[1]Tabel 5 B DATA'!N32","v":0},{"$f":"'[1]Tabel 5 B DATA'!O32","v":0},{"$f":"'[1]Tabel 5 B DATA'!P32","v":0},{"$f":"'[1]Tabel 5 B DATA'!Q32","v":0},{"$f":"'[1]Tabel 5 B DATA'!R32","v":0},{"$f":"'[1]Tabel 5 B DATA'!S32","v":1},null,{"$f":"'[1]Tabel 5 B DATA'!U32","v":0}]
[{"$f":"'[1]Tabel 5 B DATA'!L33","v":"Teolog"},null,{"$f":"'[1]Tabel 5 B DATA'!N33","v":0},{"$f":"'[1]Tabel 5 B DATA'!O33","v":0},{"$f":"'[1]Tabel 5 B DATA'!P33","v":0},{"$f":"'[1]Tabel 5 B DATA'!Q33","v":0},{"$f":"'[1]Tabel 5 B DATA'!R33","v":0},{"$f":"'[1]Tabel 5 B DATA'!S33","v":0},null,{"$f":"'[1]Tabel 5 B DATA'!U33","v":0}]
[{"$f":"'[1]Tabel 5 B DATA'!L34","v":"Psykolog"},null,{"$f":"'[1]Tabel 5 B DATA'!N34","v":1},{"$f":"'[1]Tabel 5 B DATA'!O34","v":0},{"$f":"'[1]Tabel 5 B DATA'!P34","v":0},{"$f":"'[1]Tabel 5 B DATA'!Q34","v":0},{"$f":"'[1]Tabel 5 B DATA'!R34","v":0},{"$f":"'[1]Tabel 5 B DATA'!S34","v":0},null,{"$f":"'[1]Tabel 5 B DATA'!U34","v":0}]
[{"$f":"'[1]Tabel 5 B DATA'!L35","v":"Jurist"},null,{"$f":"'[1]Tabel 5 B DATA'!N35","v":0},{"$f":"'[1]Tabel 5 B DATA'!O35","v":0},{"$f":"'[1]Tabel 5 B DATA'!P35","v":0},{"$f":"'[1]Tabel 5 B DATA'!Q35","v":0},{"$f":"'[1]Tabel 5 B DATA'!R35","v":0},{"$f":"'[1]Tabel 5 B DATA'!S35","v":0},null,{"$f":"'[1]Tabel 5 B DATA'!U35","v":0}]
[{"$f":"'[1]Tabel 5 B DATA'!L36","v":"Økonom"},null,{"$f":"'[1]Tabel 5 B DATA'!N36","v":0},{"$f":"'[1]Tabel 5 B DATA'!O36","v":0},{"$f":"'[1]Tabel 5 B DATA'!P36","v":0},{"$f":"'[1]Tabel 5 B DATA'!Q36","v":0},{"$f":"'[1]Tabel 5 B DATA'!R36","v":0},{"$f":"'[1]Tabel 5 B DATA'!S36","v":0},null,{"$f":"'[1]Tabel 5 B DATA'!U36","v":0}]
[{"$f":"'[1]Tabel 5 B DATA'!L37","v":"Samf. Adm."},null,{"$f":"'[1]Tabel 5 B DATA'!N37","v":0},{"$f":"'[1]Tabel 5 B DATA'!O37","v":0},{"$f":"'[1]Tabel 5 B DATA'!P37","v":0},{"$f":"'[1]Tabel 5 B DATA'!Q37","v":0},{"$f":"'[1]Tabel 5 B DATA'!R37","v":0},{"$f":"'[1]Tabel 5 B DATA'!S37","v":1},null,{"$f":"'[1]Tabel 5 B DATA'!U37","v":2}]
[{"$f":"'[1]Tabel 5 B DATA'!L38","v":"Cand. Merc."},null,{"$f":"'[1]Tabel 5 B DATA'!N38","v":0},{"$f":"'[1]Tabel 5 B DATA'!O38","v":0},{"$f":"'[1]Tabel 5 B DATA'!P38","v":0},{"$f":"'[1]Tabel 5 B DATA'!Q38","v":0},{"$f":"'[1]Tabel 5 B DATA'!R38","v":0},{"$f":"'[1]Tabel 5 B DATA'!S38","v":2},null,{"$f":"'[1]Tabel 5 B DATA'!U38","v":2}]
[{"$f":"'[1]Tabel 5 B DATA'!L39","v":"HA"},null,{"$f":"'[1]Tabel 5 B DATA'!N39","v":0},{"$f":"'[1]Tabel 5 B DATA'!O39","v":0},{"$f":"'[1]Tabel 5 B DATA'!P39","v":0},{"$f":"'[1]Tabel 5 B DATA'!Q39","v":0},{"$f":"'[1]Tabel 5 B DATA'!R39","v":0},{"$f":"'[1]Tabel 5 B DATA'!S39","v":1},null,{"$f":"'[1]Tabel 5 B DATA'!U39","v":0}]
[{"$f":"'[1]Tabel 5 B DATA'!L40","v":"HD"},null,{"$f":"'[1]Tabel 5 B DATA'!N40","v":0},{"$f":"'[1]Tabel 5 B DATA'!O40","v":0},{"$f":"'[1]Tabel 5 B DATA'!P40","v":0},{"$f":"'[1]Tabel 5 B DATA'!Q40","v":0},{"$f":"'[1]Tabel 5 B DATA'!R40","v":0},{"$f":"'[1]Tabel 5 B DATA'!S40","v":0},null,{"$f":"'[1]Tabel 5 B DATA'!U40","v":0}]
[{"$f":"'[1]Tabel 5 B DATA'!L41","v":"Komm. og Sprog"},null,{"$f":"'[1]Tabel 5 B DATA'!N41","v":0},{"$f":"'[1]Tabel 5 B DATA'!O41","v":0},{"$f":"'[1]Tabel 5 B DATA'!P41","v":0},{"$f":"'[1]Tabel 5 B DATA'!Q41","v":0},{"$f":"'[1]Tabel 5 B DATA'!R41","v":1},{"$f":"'[1]Tabel 5 B DATA'!S41","v":3},null,{"$f":"'[1]Tabel 5 B DATA'!U41","v":0}]
[{"$f":"'[1]Tabel 5 B DATA'!L42","v":"Bygningskonst."},null,{"$f":"'[1]Tabel 5 B DATA'!N42","v":0},{"$f":"'[1]Tabel 5 B DATA'!O42","v":0},{"$f":"'[1]Tabel 5 B DATA'!P42","v":0},{"$f":"'[1]Tabel 5 B DATA'!Q42","v":0},{"$f":"'[1]Tabel 5 B DATA'!R42","v":0},{"$f":"'[1]Tabel 5 B DATA'!S42","v":0},null,{"$f":"'[1]Tabel 5 B DATA'!U42","v":0}]
[{"$f":"'[1]Tabel 5 B DATA'!L43","v":"Cand. IT."},null,{"$f":"'[1]Tabel 5 B DATA'!N43","v":0},{"$f":"'[1]Tabel 5 B DATA'!O43","v":0},{"$f":"'[1]Tabel 5 B DATA'!P43","v":0},{"$f":"'[1]Tabel 5 B DATA'!Q43","v":0},{"$f":"'[1]Tabel 5 B DATA'!R43","v":0},{"$f":"'[1]Tabel 5 B DATA'!S43","v":0},null,{"$f":"'[1]Tabel 5 B DATA'!U43","v":0}]
[{"$f":"'[1]Tabel 5 B DATA'!L44","v":"Bac. Samf."},null,{"$f":"'[1]Tabel 5 B DATA'!N44","v":0},{"$f":"'[1]Tabel 5 B DATA'!O44","v":0},{"$f":"'[1]Tabel 5 B DATA'!P44","v":0},{"$f":"'[1]Tabel 5 B DATA'!Q44","v":0},{"$f":"'[1]Tabel 5 B DATA'!R44","v":0},{"$f":"'[1]Tabel 5 B DATA'!S44","v":0},null,{"$f":"'[1]Tabel 5 B DATA'!U44","v":0}]
[{"$f":"'[1]Tabel 5 B DATA'!L45","v":"Bac. Hum."},null,{"$f":"'[1]Tabel 5 B DATA'!N45","v":0},{"$f":"'[1]Tabel 5 B DATA'!O45","v":1},{"$f":"'[1]Tabel 5 B DATA'!P45","v":1},{"$f":"'[1]Tabel 5 B DATA'!Q45","v":0},{"$f":"'[1]Tabel 5 B DATA'!R45","v":0},{"$f":"'[1]Tabel 5 B DATA'!S45","v":1},null,{"$f":"'[1]Tabel 5 B DATA'!U45","v":0}]
[{"$f":"'[1]Tabel 5 B DATA'!L46","v":"Bac. Nat."},null,{"$f":"'[1]Tabel 5 B DATA'!N46","v":0},{"$f":"'[1]Tabel 5 B DATA'!O46","v":1},{"$f":"'[1]Tabel 5 B DATA'!P46","v":0},{"$f":"'[1]Tabel 5 B DATA'!Q46","v":0},{"$f":"'[1]Tabel 5 B DATA'!R46","v":0},{"$f":"'[1]Tabel 5 B DATA'!S46","v":0},null,{"$f":"'[1]Tabel 5 B DATA'!U46","v":1}]
[{"$f":"'[1]Tabel 5 B DATA'!L47","v":"Andre"},null,{"$f":"'[1]Tabel 5 B DATA'!N47","v":2},{"$f":"'[1]Tabel 5 B DATA'!O47","v":1},{"$f":"'[1]Tabel 5 B DATA'!P47","v":0},{"$f":"'[1]Tabel 5 B DATA'!Q47","v":2},{"$f":"'[1]Tabel 5 B DATA'!R47","v":1},{"$f":"'[1]Tabel 5 B DATA'!S47","v":4},null,{"$f":"'[1]Tabel 5 B DATA'!U47","v":2}]
[]
[{"$f":"'[1]Tabel 5 B DATA'!L49","v":"Total"},null,{"$f":"'[1]Tabel 5 B DATA'!N49","v":6},{"$f":"'[1]Tabel 5 B DATA'!O49","v":5},{"$f":"'[1]Tabel 5 B DATA'!P49","v":7},{"$f":"'[1]Tabel 5 B DATA'!Q49","v":14},{"$f":"'[1]Tabel 5 B DATA'!R49","v":8},{"$f":"'[1]Tabel 5 B DATA'!S49","v":23},null,{"$f":"'[1]Tabel 5 B DATA'!U49","v":13}]
[]
[{"$f":"'[1]Tabel 5 B DATA'!L51","v":"Ingeniører i alt"},null,{"$f":"'[1]Tabel 5 B DATA'!N51","v":0},{"$f":"'[1]Tabel 5 B DATA'!O51","v":0},{"$f":"'[1]Tabel 5 B DATA'!P51","v":0},{"$f":"'[1]Tabel 5 B DATA'!Q51","v":3},{"$f":"'[1]Tabel 5 B DATA'!R51","v":2},{"$f":"'[1]Tabel 5 B DATA'!S51","v":3},null,{"$f":"'[1]Tabel 5 B DATA'!U51","v":0}]
[{"$f":"'[1]Tabel 5 B DATA'!L52","v":"Magistre i alt"},null,{"$f":"'[1]Tabel 5 B DATA'!N52","v":1},{"$f":"'[1]Tabel 5 B DATA'!O52","v":2},{"$f":"'[1]Tabel 5 B DATA'!P52","v":3},{"$f":"'[1]Tabel 5 B DATA'!Q52","v":8},{"$f":"'[1]Tabel 5 B DATA'!R52","v":4},{"$f":"'[1]Tabel 5 B DATA'!S52","v":5},null,{"$f":"'[1]Tabel 5 B DATA'!U52","v":5}]
[{"$f":"'[1]Tabel 5 B DATA'!L53","v":"DJØF'ere i alt"},null,{"$f":"'[1]Tabel 5 B DATA'!N53","v":0},{"$f":"'[1]Tabel 5 B DATA'!O53","v":0},{"$f":"'[1]Tabel 5 B DATA'!P53","v":0},{"$f":"'[1]Tabel 5 B DATA'!Q53","v":0},{"$f":"'[1]Tabel 5 B DATA'!R53","v":0},{"$f":"'[1]Tabel 5 B DATA'!S53","v":4},null,{"$f":"'[1]Tabel 5 B DATA'!U53","v":4}]
[]
[]
[]
[]
[]
[]
[{"$f":"'[1]Tabel 5 B DATA'!L109","v":"Bornholm"}]
[]
[null,null,{"$f":"'[1]Tabel 5 B DATA'!N111","v":"Under 1 år"},{"$f":"'[1]Tabel 5 B DATA'!O111","v":" 1 - 2 år"},{"$f":"'[1]Tabel 5 B DATA'!P111","v":"2 - 4 år"},{"$f":"'[1]Tabel 5 B DATA'!Q111","v":"5 - 9 år"},{"$f":"'[1]Tabel 5 B DATA'!R111","v":"10 - 14 år"},{"$f":"'[1]Tabel 5 B DATA'!S111","v":"Over 15 år"},null,{"$f":"'[1]Tabel 5 B DATA'!U111","v":"Uoplyst"}]
[]
[{"$f":"'[1]Tabel 5 B DATA'!L113","v":"Civ. ing."},null,{"$f":"'[1]Tabel 5 B DATA'!N113","v":0},{"$f":"'[1]Tabel 5 B DATA'!O113","v":0},{"$f":"'[1]Tabel 5 B DATA'!P113","v":0},{"$f":"'[1]Tabel 5 B DATA'!Q113","v":3},{"$f":"'[1]Tabel 5 B DATA'!R113","v":0},{"$f":"'[1]Tabel 5 B DATA'!S113","v":0},null,{"$f":"'[1]Tabel 5 B DATA'!U113","v":0}]
[{"$f":"'[1]Tabel 5 B DATA'!L114","v":"Diplom ing."},null,{"$f":"'[1]Tabel 5 B DATA'!N114","v":0},{"$f":"'[1]Tabel 5 B DATA'!O114","v":0},{"$f":"'[1]Tabel 5 B DATA'!P114","v":0},{"$f":"'[1]Tabel 5 B DATA'!Q114","v":0},{"$f":"'[1]Tabel 5 B DATA'!R114","v":2},{"$f":"'[1]Tabel 5 B DATA'!S114","v":3},null,{"$f":"'[1]Tabel 5 B DATA'!U114","v":0}]
[{"$f":"'[1]Tabel 5 B DATA'!L115","v":"Cand. Scient. Tek"},null,{"$f":"'[1]Tabel 5 B DATA'!N115","v":1},{"$f":"'[1]Tabel 5 B DATA'!O115","v":0},{"$f":"'[1]Tabel 5 B DATA'!P115","v":3},{"$f":"'[1]Tabel 5 B DATA'!Q115","v":0},{"$f":"'[1]Tabel 5 B DATA'!R115","v":0},{"$f":"'[1]Tabel 5 B DATA'!S115","v":0},null,{"$f":"'[1]Tabel 5 B DATA'!U115","v":1}]
[{"$f":"'[1]Tabel 5 B DATA'!L116","v":"MA. Hum."},null,{"$f":"'[1]Tabel 5 B DATA'!N116","v":1},{"$f":"'[1]Tabel 5 B DATA'!O116","v":1},{"$f":"'[1]Tabel 5 B DATA'!P116","v":2},{"$f":"'[1]Tabel 5 B DATA'!Q116","v":4},{"$f":"'[1]Tabel 5 B DATA'!R116","v":3},{"$f":"'[1]Tabel 5 B DATA'!S116","v":3},null,{"$f":"'[1]Tabel 5 B DATA'!U116","v":4}]
[{"$f":"'[1]Tabel 5 B DATA'!L117","v":"MA. Nat."},null,{"$f":"'[1]Tabel 5 B DATA'!N117","v":0},{"$f":"'[1]Tabel 5 B DATA'!O117","v":0},{"$f":"'[1]Tabel 5 B DATA'!P117","v":0},{"$f":"'[1]Tabel 5 B DATA'!Q117","v":1},{"$f":"'[1]Tabel 5 B DATA'!R117","v":0},{"$f":"'[1]Tabel 5 B DATA'!S117","v":1},null,{"$f":"'[1]Tabel 5 B DATA'!U117","v":1}]
[{"$f":"'[1]Tabel 5 B DATA'!L118","v":"MA. Ph.d."},null,{"$f":"'[1]Tabel 5 B DATA'!N118","v":0},{"$f":"'[1]Tabel 5 B DATA'!O118","v":0},{"$f":"'[1]Tabel 5 B DATA'!P118","v":0},{"$f":"'[1]Tabel 5 B DATA'!Q118","v":1},{"$f":"'[1]Tabel 5 B DATA'!R118","v":0},{"$f":"'[1]Tabel 5 B DATA'!S118","v":0},null,{"$f":"'[1]Tabel 5 B DATA'!U118","v":0}]
[{"$f":"'[1]Tabel 5 B DATA'!L119","v":"MA. Samf."},null,{"$f":"'[1]Tabel 5 B DATA'!N119","v":0},{"$f":"'[1]Tabel 5 B DATA'!O119","v":0},{"$f":"'[1]Tabel 5 B DATA'!P119","v":0},{"$f":"'[1]Tabel 5 B DATA'!Q119","v":0},{"$f":"'[1]Tabel 5 B DATA'!R119","v":1},{"$f":"'[1]Tabel 5 B DATA'!S119","v":0},null,{"$f":"'[1]Tabel 5 B DATA'!U119","v":0}]
[{"$f":"'[1]Tabel 5 B DATA'!L120","v":"Øvrige Mag."},null,{"$f":"'[1]Tabel 5 B DATA'!N120","v":0},{"$f":"'[1]Tabel 5 B DATA'!O120","v":1},{"$f":"'[1]Tabel 5 B DATA'!P120","v":1},{"$f":"'[1]Tabel 5 B DATA'!Q120","v":2},{"$f":"'[1]Tabel 5 B DATA'!R120","v":0},{"$f":"'[1]Tabel 5 B DATA'!S120","v":1},null,{"$f":"'[1]Tabel 5 B DATA'!U120","v":0}]
[{"$f":"'[1]Tabel 5 B DATA'!L121","v":"Agronom"},null,{"$f":"'[1]Tabel 5 B DATA'!N121","v":0},{"$f":"'[1]Tabel 5 B DATA'!O121","v":0},{"$f":"'[1]Tabel 5 B DATA'!P121","v":0},{"$f":"'[1]Tabel 5 B DATA'!Q121","v":0},{"$f":"'[1]Tabel 5 B DATA'!R121","v":0},{"$f":"'[1]Tabel 5 B DATA'!S121","v":0},null,{"$f":"'[1]Tabel 5 B DATA'!U121","v":0}]
[{"$f":"'[1]Tabel 5 B DATA'!L122","v":"Landsk. Arkt."},null,{"$f":"'[1]Tabel 5 B DATA'!N122","v":0},{"$f":"'[1]Tabel 5 B DATA'!O122","v":0},{"$f":"'[1]Tabel 5 B DATA'!P122","v":0},{"$f":"'[1]Tabel 5 B DATA'!Q122","v":0},{"$f":"'[1]Tabel 5 B DATA'!R122","v":0},{"$f":"'[1]Tabel 5 B DATA'!S122","v":0},null,{"$f":"'[1]Tabel 5 B DATA'!U122","v":0}]
[{"$f":"'[1]Tabel 5 B DATA'!L123","v":"Hortonom"},null,{"$f":"'[1]Tabel 5 B DATA'!N123","v":0},{"$f":"'[1]Tabel 5 B DATA'!O123","v":0},{"$f":"'[1]Tabel 5 B DATA'!P123","v":0},{"$f":"'[1]Tabel 5 B DATA'!Q123","v":0},{"$f":"'[1]Tabel 5 B DATA'!R123","v":0},{"$f":"'[1]Tabel 5 B DATA'!S123","v":0},null,{"$f":"'[1]Tabel 5 B DATA'!U123","v":0}]
[{"$f":"'[1]Tabel 5 B DATA'!L124","v":"Forstkand."},null,{"$f":"'[1]Tabel 5 B DATA'!N124","v":0},{"$f":"'[1]Tabel 5 B DATA'!O124","v":0},{"$f":"'[1]Tabel 5 B DATA'!P124","v":0},{"$f":"'[1]Tabel 5 B DATA'!Q124","v":0},{"$f":"'[1]Tabel 5 B DATA'!R124","v":0},{"$f":"'[1]Tabel 5 B DATA'!S124","v":0},null,{"$f":"'[1]Tabel 5 B DATA'!U124","v":0}]
[{"$f":"'[1]Tabel 5 B DATA'!L125","v":"Jordbrugsakad."},null,{"$f":"'[1]Tabel 5 B DATA'!N125","v":0},{"$f":"'[1]Tabel 5 B DATA'!O125","v":0},{"$f":"'[1]Tabel 5 B DATA'!P125","v":0},{"$f":"'[1]Tabel 5 B DATA'!Q125","v":0},{"$f":"'[1]Tabel 5 B DATA'!R125","v":0},{"$f":"'[1]Tabel 5 B DATA'!S125","v":0},null,{"$f":"'[1]Tabel 5 B DATA'!U125","v":0}]
[{"$f":"'[1]Tabel 5 B DATA'!L126","v":"Mejeriing."},null,{"$f":"'[1]Tabel 5 B DATA'!N126","v":0},{"$f":"'[1]Tabel 5 B DATA'!O126","v":0},{"$f":"'[1]Tabel 5 B DATA'!P126","v":0},{"$f":"'[1]Tabel 5 B DATA'!Q126","v":0},{"$f":"'[1]Tabel 5 B DATA'!R126","v":0},{"$f":"'[1]Tabel 5 B DATA'!S126","v":0},null,{"$f":"'[1]Tabel 5 B DATA'!U126","v":0}]
[{"$f":"'[1]Tabel 5 B DATA'!L127","v":"Levn.m.kand."},null,{"$f":"'[1]Tabel 5 B DATA'!N127","v":0},{"$f":"'[1]Tabel 5 B DATA'!O127","v":0},{"$f":"'[1]Tabel 5 B DATA'!P127","v":0},{"$f":"'[1]Tabel 5 B DATA'!Q127","v":1},{"$f":"'[1]Tabel 5 B DATA'!R127","v":0},{"$f":"'[1]Tabel 5 B DATA'!S127","v":0},null,{"$f":"'[1]Tabel 5 B DATA'!U127","v":0}]
[{"$f":"'[1]Tabel 5 B DATA'!L128","v":"Dyrlæge"},null,{"$f":"'[1]Tabel 5 B DATA'!N128","v":0},{"$f":"'[1]Tabel 5 B DATA'!O128","v":0},{"$f":"'[1]Tabel 5 B DATA'!P128","v":0},{"$f":"'[1]Tabel 5 B DATA'!Q128","v":0},{"$f":"'[1]Tabel 5 B DATA'!R128","v":0},{"$f":"'[1]Tabel 5 B DATA'!S128","v":0},null,{"$f":"'[1]Tabel 5 B DATA'!U128","v":0}]
[{"$f":"'[1]Tabel 5 B DATA'!L129","v":"Farmaceut"},null,{"$f":"'[1]Tabel 5 B DATA'!N129","v":0},{"$f":"'[1]Tabel 5 B DATA'!O129","v":0},{"$f":"'[1]Tabel 5 B DATA'!P129","v":0},{"$f":"'[1]Tabel 5 B DATA'!Q129","v":0},{"$f":"'[1]Tabel 5 B DATA'!R129","v":0},{"$f":"'[1]Tabel 5 B DATA'!S129","v":0},null,{"$f":"'[1]Tabel 5 B DATA'!U129","v":0}]
[{"$f":"'[1]Tabel 5 B DATA'!L130","v":"Læge"},null,{"$f":"'[1]Tabel 5 B DATA'!N130","v":1},{"$f":"'[1]Tabel 5 B DATA'!O130","v":0},{"$f":"'[1]Tabel 5 B DATA'!P130","v":0},{"$f":"'[1]Tabel 5 B DATA'!Q130","v":0},{"$f":"'[1]Tabel 5 B DATA'!R130","v":0},{"$f":"'[1]Tabel 5 B DATA'!S130","v":0},null,{"$f":"'[1]Tabel 5 B DATA'!U130","v":0}]
[{"$f":"'[1]Tabel 5 B DATA'!L131","v":"Tandlæge"},null,{"$f":"'[1]Tabel 5 B DATA'!N131","v":0},{"$f":"'[1]Tabel 5 B DATA'!O131","v":0},{"$f":"'[1]Tabel 5 B DATA'!P131","v":0},{"$f":"'[1]Tabel 5 B DATA'!Q131","v":0},{"$f":"'[1]Tabel 5 B DATA'!R131","v":0},{"$f":"'[1]Tabel 5 B DATA'!S131","v":0},null,{"$f":"'[1]Tabel 5 B DATA'!U131","v":0}]
[{"$f":"'[1]Tabel 5 B DATA'!L132","v":"Arkitekt"},null,{"$f":"'[1]Tabel 5 B DATA'!N132","v":0},{"$f":"'[1]Tabel 5 B DATA'!O132","v":0},{"$f":"'[1]Tabel 5 B DATA'!P132","v":0},{"$f":"'[1]Tabel 5 B DATA'!Q132","v":0},{"$f":"'[1]Tabel 5 B DATA'!R132","v":0},{"$f":"'[1]Tabel 5 B DATA'!S132","v":1},null,{"$f":"'[1]Tabel 5 B DATA'!U132","v":0}]
[{"$f":"'[1]Tabel 5 B DATA'!L133","v":"Landinspek."},null,{"$f":"'[1]Tabel 5 B DATA'!N133","v":0},{"$f":"'[1]Tabel 5 B DATA'!O133","v":0},{"$f":"'[1]Tabel 5 B DATA'!P133","v":0},{"$f":"'[1]Tabel 5 B DATA'!Q133","v":0},{"$f":"'[1]Tabel 5 B DATA'!R133","v":0},{"$f":"'[1]Tabel 5 B DATA'!S133","v":0},null,{"$f":"'[1]Tabel 5 B DATA'!U133","v":0}]
[{"$f":"'[1]Tabel 5 B DATA'!L134","v":"Bibliotekar"},null,{"$f":"'[1]Tabel 5 B DATA'!N134","v":0},{"$f":"'[1]Tabel 5 B DATA'!O134","v":0},{"$f":"'[1]Tabel 5 B DATA'!P134","v":0},{"$f":"'[1]Tabel 5 B DATA'!Q134","v":0},{"$f":"'[1]Tabel 5 B DATA'!R134","v":0},{"$f":"'[1]Tabel 5 B DATA'!S134","v":1},null,{"$f":"'[1]Tabel 5 B DATA'!U134","v":0}]
[{"$f":"'[1]Tabel 5 B DATA'!L135","v":"Musikudd."},null,{"$f":"'[1]Tabel 5 B DATA'!N135","v":0},{"$f":"'[1]Tabel 5 B DATA'!O135","v":0},{"$f":"'[1]Tabel 5 B DATA'!P135","v":0},{"$f":"'[1]Tabel 5 B DATA'!Q135","v":0},{"$f":"'[1]Tabel 5 B DATA'!R135","v":0},{"$f":"'[1]Tabel 5 B DATA'!S135","v":1},null,{"$f":"'[1]Tabel 5 B DATA'!U135","v":0}]
[{"$f":"'[1]Tabel 5 B DATA'!L136","v":"Teolog"},null,{"$f":"'[1]Tabel 5 B DATA'!N136","v":0},{"$f":"'[1]Tabel 5 B DATA'!O136","v":0},{"$f":"'[1]Tabel 5 B DATA'!P136","v":0},{"$f":"'[1]Tabel 5 B DATA'!Q136","v":0},{"$f":"'[1]Tabel 5 B DATA'!R136","v":0},{"$f":"'[1]Tabel 5 B DATA'!S136","v":0},null,{"$f":"'[1]Tabel 5 B DATA'!U136","v":0}]
[{"$f":"'[1]Tabel 5 B DATA'!L137","v":"Psykolog"},null,{"$f":"'[1]Tabel 5 B DATA'!N137","v":1},{"$f":"'[1]Tabel 5 B DATA'!O137","v":0},{"$f":"'[1]Tabel 5 B DATA'!P137","v":0},{"$f":"'[1]Tabel 5 B DATA'!Q137","v":0},{"$f":"'[1]Tabel 5 B DATA'!R137","v":0},{"$f":"'[1]Tabel 5 B DATA'!S137","v":0},null,{"$f":"'[1]Tabel 5 B DATA'!U137","v":0}]
[{"$f":"'[1]Tabel 5 B DATA'!L138","v":"Jurist"},null,{"$f":"'[1]Tabel 5 B DATA'!N138","v":0},{"$f":"'[1]Tabel 5 B DATA'!O138","v":0},{"$f":"'[1]Tabel 5 B DATA'!P138","v":0},{"$f":"'[1]Tabel 5 B DATA'!Q138","v":0},{"$f":"'[1]Tabel 5 B DATA'!R138","v":0},{"$f":"'[1]Tabel 5 B DATA'!S138","v":0},null,{"$f":"'[1]Tabel 5 B DATA'!U138","v":0}]
[{"$f":"'[1]Tabel 5 B DATA'!L139","v":"Økonom"},null,{"$f":"'[1]Tabel 5 B DATA'!N139","v":0},{"$f":"'[1]Tabel 5 B DATA'!O139","v":0},{"$f":"'[1]Tabel 5 B DATA'!P139","v":0},{"$f":"'[1]Tabel 5 B DATA'!Q139","v":0},{"$f":"'[1]Tabel 5 B DATA'!R139","v":0},{"$f":"'[1]Tabel 5 B DATA'!S139","v":0},null,{"$f":"'[1]Tabel 5 B DATA'!U139","v":0}]
[{"$f":"'[1]Tabel 5 B DATA'!L140","v":"Samf. Adm."},null,{"$f":"'[1]Tabel 5 B DATA'!N140","v":0},{"$f":"'[1]Tabel 5 B DATA'!O140","v":0},{"$f":"'[1]Tabel 5 B DATA'!P140","v":0},{"$f":"'[1]Tabel 5 B DATA'!Q140","v":0},{"$f":"'[1]Tabel 5 B DATA'!R140","v":0},{"$f":"'[1]Tabel 5 B DATA'!S140","v":1},null,{"$f":"'[1]Tabel 5 B DATA'!U140","v":2}]
[{"$f":"'[1]Tabel 5 B DATA'!L141","v":"Cand. Merc."},null,{"$f":"'[1]Tabel 5 B DATA'!N141","v":0},{"$f":"'[1]Tabel 5 B DATA'!O141","v":0},{"$f":"'[1]Tabel 5 B DATA'!P141","v":0},{"$f":"'[1]Tabel 5 B DATA'!Q141","v":0},{"$f":"'[1]Tabel 5 B DATA'!R141","v":0},{"$f":"'[1]Tabel 5 B DATA'!S141","v":2},null,{"$f":"'[1]Tabel 5 B DATA'!U141","v":2}]
[{"$f":"'[1]Tabel 5 B DATA'!L142","v":"HA"},null,{"$f":"'[1]Tabel 5 B DATA'!N142","v":0},{"$f":"'[1]Tabel 5 B DATA'!O142","v":0},{"$f":"'[1]Tabel 5 B DATA'!P142","v":0},{"$f":"'[1]Tabel 5 B DATA'!Q142","v":0},{"$f":"'[1]Tabel 5 B DATA'!R142","v":0},{"$f":"'[1]Tabel 5 B DATA'!S142","v":1},null,{"$f":"'[1]Tabel 5 B DATA'!U142","v":0}]
[{"$f":"'[1]Tabel 5 B DATA'!L143","v":"HD"},null,{"$f":"'[1]Tabel 5 B DATA'!N143","v":0},{"$f":"'[1]Tabel 5 B DATA'!O143","v":0},{"$f":"'[1]Tabel 5 B DATA'!P143","v":0},{"$f":"'[1]Tabel 5 B DATA'!Q143","v":0},{"$f":"'[1]Tabel 5 B DATA'!R143","v":0},{"$f":"'[1]Tabel 5 B DATA'!S143","v":0},null,{"$f":"'[1]Tabel 5 B DATA'!U143","v":0}]
[{"$f":"'[1]Tabel 5 B DATA'!L144","v":"Komm. og Sprog"},null,{"$f":"'[1]Tabel 5 B DATA'!N144","v":0},{"$f":"'[1]Tabel 5 B DATA'!O144","v":0},{"$f":"'[1]Tabel 5 B DATA'!P144","v":0},{"$f":"'[1]Tabel 5 B DATA'!Q144","v":0},{"$f":"'[1]Tabel 5 B DATA'!R144","v":1},{"$f":"'[1]Tabel 5 B DATA'!S144","v":3},null,{"$f":"'[1]Tabel 5 B DATA'!U144","v":0}]
[{"$f":"'[1]Tabel 5 B DATA'!L145","v":"Bygningskonst."},null,{"$f":"'[1]Tabel 5 B DATA'!N145","v":0},{"$f":"'[1]Tabel 5 B DATA'!O145","v":0},{"$f":"'[1]Tabel 5 B DATA'!P145","v":0},{"$f":"'[1]Tabel 5 B DATA'!Q145","v":0},{"$f":"'[1]Tabel 5 B DATA'!R145","v":0},{"$f":"'[1]Tabel 5 B DATA'!S145","v":0},null,{"$f":"'[1]Tabel 5 B DATA'!U145","v":0}]
[{"$f":"'[1]Tabel 5 B DATA'!L146","v":"Cand. IT."},null,{"$f":"'[1]Tabel 5 B DATA'!N146","v":0},{"$f":"'[1]Tabel 5 B DATA'!O146","v":0},{"$f":"'[1]Tabel 5 B DATA'!P146","v":0},{"$f":"'[1]Tabel 5 B DATA'!Q146","v":0},{"$f":"'[1]Tabel 5 B DATA'!R146","v":0},{"$f":"'[1]Tabel 5 B DATA'!S146","v":0},null,{"$f":"'[1]Tabel 5 B DATA'!U146","v":0}]
[{"$f":"'[1]Tabel 5 B DATA'!L147","v":"Bac. Samf."},null,{"$f":"'[1]Tabel 5 B DATA'!N147","v":0},{"$f":"'[1]Tabel 5 B DATA'!O147","v":0},{"$f":"'[1]Tabel 5 B DATA'!P147","v":0},{"$f":"'[1]Tabel 5 B DATA'!Q147","v":0},{"$f":"'[1]Tabel 5 B DATA'!R147","v":0},{"$f":"'[1]Tabel 5 B DATA'!S147","v":0},null,{"$f":"'[1]Tabel 5 B DATA'!U147","v":0}]
[{"$f":"'[1]Tabel 5 B DATA'!L148","v":"Bac. Hum."},null,{"$f":"'[1]Tabel 5 B DATA'!N148","v":0},{"$f":"'[1]Tabel 5 B DATA'!O148","v":1},{"$f":"'[1]Tabel 5 B DATA'!P148","v":1},{"$f":"'[1]Tabel 5 B DATA'!Q148","v":0},{"$f":"'[1]Tabel 5 B DATA'!R148","v":0},{"$f":"'[1]Tabel 5 B DATA'!S148","v":1},null,{"$f":"'[1]Tabel 5 B DATA'!U148","v":0}]
[{"$f":"'[1]Tabel 5 B DATA'!L149","v":"Bac. Nat."},null,{"$f":"'[1]Tabel 5 B DATA'!N149","v":0},{"$f":"'[1]Tabel 5 B DATA'!O149","v":1},{"$f":"'[1]Tabel 5 B DATA'!P149","v":0},{"$f":"'[1]Tabel 5 B DATA'!Q149","v":0},{"$f":"'[1]Tabel 5 B DATA'!R149","v":0},{"$f":"'[1]Tabel 5 B DATA'!S149","v":0},null,{"$f":"'[1]Tabel 5 B DATA'!U149","v":1}]
[{"$f":"'[1]Tabel 5 B DATA'!L150","v":"Andre"},null,{"$f":"'[1]Tabel 5 B DATA'!N150","v":2},{"$f":"'[1]Tabel 5 B DATA'!O150","v":1},{"$f":"'[1]Tabel 5 B DATA'!P150","v":0},{"$f":"'[1]Tabel 5 B DATA'!Q150","v":2},{"$f":"'[1]Tabel 5 B DATA'!R150","v":1},{"$f":"'[1]Tabel 5 B DATA'!S150","v":4},null,{"$f":"'[1]Tabel 5 B DATA'!U150","v":2}]
[]
[{"$f":"'[1]Tabel 5 B DATA'!L152","v":"Total"},null,{"$f":"'[1]Tabel 5 B DATA'!N152","v":6},{"$f":"'[1]Tabel 5 B DATA'!O152","v":5},{"$f":"'[1]Tabel 5 B DATA'!P152","v":7},{"$f":"'[1]Tabel 5 B DATA'!Q152","v":14},{"$f":"'[1]Tabel 5 B DATA'!R152","v":8},{"$f":"'[1]Tabel 5 B DATA'!S152","v":23},null,{"$f":"'[1]Tabel 5 B DATA'!U152","v":13}]
[]
[{"$f":"'[1]Tabel 5 B DATA'!L154","v":"Ingeniører i alt"},null,{"$f":"'[1]Tabel 5 B DATA'!N154","v":0},{"$f":"'[1]Tabel 5 B DATA'!O154","v":0},{"$f":"'[1]Tabel 5 B DATA'!P154","v":0},{"$f":"'[1]Tabel 5 B DATA'!Q154","v":3},{"$f":"'[1]Tabel 5 B DATA'!R154","v":2},{"$f":"'[1]Tabel 5 B DATA'!S154","v":3},null,{"$f":"'[1]Tabel 5 B DATA'!U154","v":0}]
[{"$f":"'[1]Tabel 5 B DATA'!L155","v":"Magistre i alt"},null,{"$f":"'[1]Tabel 5 B DATA'!N155","v":1},{"$f":"'[1]Tabel 5 B DATA'!O155","v":2},{"$f":"'[1]Tabel 5 B DATA'!P155","v":3},{"$f":"'[1]Tabel 5 B DATA'!Q155","v":8},{"$f":"'[1]Tabel 5 B DATA'!R155","v":4},{"$f":"'[1]Tabel 5 B DATA'!S155","v":5},null,{"$f":"'[1]Tabel 5 B DATA'!U155","v":5}]
[{"$f":"'[1]Tabel 5 B DATA'!L156","v":"DJØF'ere i alt"},null,{"$f":"'[1]Tabel 5 B DATA'!N156","v":0},{"$f":"'[1]Tabel 5 B DATA'!O156","v":0},{"$f":"'[1]Tabel 5 B DATA'!P156","v":0},{"$f":"'[1]Tabel 5 B DATA'!Q156","v":0},{"$f":"'[1]Tabel 5 B DATA'!R156","v":0},{"$f":"'[1]Tabel 5 B DATA'!S156","v":4},null,{"$f":"'[1]Tabel 5 B DATA'!U156","v":4}]
[]
[]
[]
[]
[]
[]
[{"$f":"'[1]Tabel 5 B DATA'!L161","v":"Christiansø"}]
[]
[null,null,{"$f":"'[1]Tabel 5 B DATA'!N163","v":"Under 1 år"},{"$f":"'[1]Tabel 5 B DATA'!O163","v":" 1 - 2 år"},{"$f":"'[1]Tabel 5 B DATA'!P163","v":"2 - 4 år"},{"$f":"'[1]Tabel 5 B DATA'!Q163","v":"5 - 9 år"},{"$f":"'[1]Tabel 5 B DATA'!R163","v":"10 - 14 år"},{"$f":"'[1]Tabel 5 B DATA'!S163","v":"Over 15 år"},null,{"$f":"'[1]Tabel 5 B DATA'!U163","v":"Uoplyst"}]
[]
[{"$f":"'[1]Tabel 5 B DATA'!L165","v":"Civ. ing."},null,{"$f":"'[1]Tabel 5 B DATA'!N165","v":0},{"$f":"'[1]Tabel 5 B DATA'!O165","v":0},{"$f":"'[1]Tabel 5 B DATA'!P165","v":0},{"$f":"'[1]Tabel 5 B DATA'!Q165","v":0},{"$f":"'[1]Tabel 5 B DATA'!R165","v":0},{"$f":"'[1]Tabel 5 B DATA'!S165","v":0},null,{"$f":"'[1]Tabel 5 B DATA'!U165","v":0}]
[{"$f":"'[1]Tabel 5 B DATA'!L166","v":"Diplom ing."},null,{"$f":"'[1]Tabel 5 B DATA'!N166","v":0},{"$f":"'[1]Tabel 5 B DATA'!O166","v":0},{"$f":"'[1]Tabel 5 B DATA'!P166","v":0},{"$f":"'[1]Tabel 5 B DATA'!Q166","v":0},{"$f":"'[1]Tabel 5 B DATA'!R166","v":0},{"$f":"'[1]Tabel 5 B DATA'!S166","v":0},null,{"$f":"'[1]Tabel 5 B DATA'!U166","v":0}]
[{"$f":"'[1]Tabel 5 B DATA'!L167","v":"Cand. Scient. Tek"},null,{"$f":"'[1]Tabel 5 B DATA'!N167","v":0},{"$f":"'[1]Tabel 5 B DATA'!O167","v":0},{"$f":"'[1]Tabel 5 B DATA'!P167","v":0},{"$f":"'[1]Tabel 5 B DATA'!Q167","v":0},{"$f":"'[1]Tabel 5 B DATA'!R167","v":0},{"$f":"'[1]Tabel 5 B DATA'!S167","v":0},null,{"$f":"'[1]Tabel 5 B DATA'!U167","v":0}]
[{"$f":"'[1]Tabel 5 B DATA'!L168","v":"MA. Hum."},null,{"$f":"'[1]Tabel 5 B DATA'!N168","v":0},{"$f":"'[1]Tabel 5 B DATA'!O168","v":0},{"$f":"'[1]Tabel 5 B DATA'!P168","v":0},{"$f":"'[1]Tabel 5 B DATA'!Q168","v":0},{"$f":"'[1]Tabel 5 B DATA'!R168","v":0},{"$f":"'[1]Tabel 5 B DATA'!S168","v":0},null,{"$f":"'[1]Tabel 5 B DATA'!U168","v":0}]
[{"$f":"'[1]Tabel 5 B DATA'!L169","v":"MA. Nat."},null,{"$f":"'[1]Tabel 5 B DATA'!N169","v":0},{"$f":"'[1]Tabel 5 B DATA'!O169","v":0},{"$f":"'[1]Tabel 5 B DATA'!P169","v":0},{"$f":"'[1]Tabel 5 B DATA'!Q169","v":0},{"$f":"'[1]Tabel 5 B DATA'!R169","v":0},{"$f":"'[1]Tabel 5 B DATA'!S169","v":0},null,{"$f":"'[1]Tabel 5 B DATA'!U169","v":0}]
[{"$f":"'[1]Tabel 5 B DATA'!L170","v":"MA. Ph.d."},null,{"$f":"'[1]Tabel 5 B DATA'!N170","v":0},{"$f":"'[1]Tabel 5 B DATA'!O170","v":0},{"$f":"'[1]Tabel 5 B DATA'!P170","v":0},{"$f":"'[1]Tabel 5 B DATA'!Q170","v":0},{"$f":"'[1]Tabel 5 B DATA'!R170","v":0},{"$f":"'[1]Tabel 5 B DATA'!S170","v":0},null,{"$f":"'[1]Tabel 5 B DATA'!U170","v":0}]
[{"$f":"'[1]Tabel 5 B DATA'!L171","v":"MA. Samf."},null,{"$f":"'[1]Tabel 5 B DATA'!N171","v":0},{"$f":"'[1]Tabel 5 B DATA'!O171","v":0},{"$f":"'[1]Tabel 5 B DATA'!P171","v":0},{"$f":"'[1]Tabel 5 B DATA'!Q171","v":0},{"$f":"'[1]Tabel 5 B DATA'!R171","v":0},{"$f":"'[1]Tabel 5 B DATA'!S171","v":0},null,{"$f":"'[1]Tabel 5 B DATA'!U171","v":0}]
[{"$f":"'[1]Tabel 5 B DATA'!L172","v":"Øvrige Mag."},null,{"$f":"'[1]Tabel 5 B DATA'!N172","v":0},{"$f":"'[1]Tabel 5 B DATA'!O172","v":0},{"$f":"'[1]Tabel 5 B DATA'!P172","v":0},{"$f":"'[1]Tabel 5 B DATA'!Q172","v":0},{"$f":"'[1]Tabel 5 B DATA'!R172","v":0},{"$f":"'[1]Tabel 5 B DATA'!S172","v":0},null,{"$f":"'[1]Tabel 5 B DATA'!U172","v":0}]
[{"$f":"'[1]Tabel 5 B DATA'!L173","v":"Agronom"},null,{"$f":"'[1]Tabel 5 B DATA'!N173","v":0},{"$f":"'[1]Tabel 5 B DATA'!O173","v":0},{"$f":"'[1]Tabel 5 B DATA'!P173","v":0},{"$f":"'[1]Tabel 5 B DATA'!Q173","v":0},{"$f":"'[1]Tabel 5 B DATA'!R173","v":0},{"$f":"'[1]Tabel 5 B DATA'!S173","v":0},null,{"$f":"'[1]Tabel 5 B DATA'!U173","v":0}]
[{"$f":"'[1]Tabel 5 B DATA'!L174","v":"Landsk. Arkt."},null,{"$f":"'[1]Tabel 5 B DATA'!N174","v":0},{"$f":"'[1]Tabel 5 B DATA'!O174","v":0},{"$f":"'[1]Tabel 5 B DATA'!P174","v":0},{"$f":"'[1]Tabel 5 B DATA'!Q174","v":0},{"$f":"'[1]Tabel 5 B DATA'!R174","v":0},{"$f":"'[1]Tabel 5 B DATA'!S174","v":0},null,{"$f":"'[1]Tabel 5 B DATA'!U174","v":0}]
[{"$f":"'[1]Tabel 5 B DATA'!L175","v":"Hortonom"},null,{"$f":"'[1]Tabel 5 B DATA'!N175","v":0},{"$f":"'[1]Tabel 5 B DATA'!O175","v":0},{"$f":"'[1]Tabel 5 B DATA'!P175","v":0},{"$f":"'[1]Tabel 5 B DATA'!Q175","v":0},{"$f":"'[1]Tabel 5 B DATA'!R175","v":0},{"$f":"'[1]Tabel 5 B DATA'!S175","v":0},null,{"$f":"'[1]Tabel 5 B DATA'!U175","v":0}]
[{"$f":"'[1]Tabel 5 B DATA'!L176","v":"Forstkand."},null,{"$f":"'[1]Tabel 5 B DATA'!N176","v":0},{"$f":"'[1]Tabel 5 B DATA'!O176","v":0},{"$f":"'[1]Tabel 5 B DATA'!P176","v":0},{"$f":"'[1]Tabel 5 B DATA'!Q176","v":0},{"$f":"'[1]Tabel 5 B DATA'!R176","v":0},{"$f":"'[1]Tabel 5 B DATA'!S176","v":0},null,{"$f":"'[1]Tabel 5 B DATA'!U176","v":0}]
[{"$f":"'[1]Tabel 5 B DATA'!L177","v":"Jordbrugsakad."},null,{"$f":"'[1]Tabel 5 B DATA'!N177","v":0},{"$f":"'[1]Tabel 5 B DATA'!O177","v":0},{"$f":"'[1]Tabel 5 B DATA'!P177","v":0},{"$f":"'[1]Tabel 5 B DATA'!Q177","v":0},{"$f":"'[1]Tabel 5 B DATA'!R177","v":0},{"$f":"'[1]Tabel 5 B DATA'!S177","v":0},null,{"$f":"'[1]Tabel 5 B DATA'!U177","v":0}]
[{"$f":"'[1]Tabel 5 B DATA'!L178","v":"Mejeriing."},null,{"$f":"'[1]Tabel 5 B DATA'!N178","v":0},{"$f":"'[1]Tabel 5 B DATA'!O178","v":0},{"$f":"'[1]Tabel 5 B DATA'!P178","v":0},{"$f":"'[1]Tabel 5 B DATA'!Q178","v":0},{"$f":"'[1]Tabel 5 B DATA'!R178","v":0},{"$f":"'[1]Tabel 5 B DATA'!S178","v":0},null,{"$f":"'[1]Tabel 5 B DATA'!U178","v":0}]
[{"$f":"'[1]Tabel 5 B DATA'!L179","v":"Levn.m.kand."},null,{"$f":"'[1]Tabel 5 B DATA'!N179","v":0},{"$f":"'[1]Tabel 5 B DATA'!O179","v":0},{"$f":"'[1]Tabel 5 B DATA'!P179","v":0},{"$f":"'[1]Tabel 5 B DATA'!Q179","v":0},{"$f":"'[1]Tabel 5 B DATA'!R179","v":0},{"$f":"'[1]Tabel 5 B DATA'!S179","v":0},null,{"$f":"'[1]Tabel 5 B DATA'!U179","v":0}]
[{"$f":"'[1]Tabel 5 B DATA'!L180","v":"Dyrlæge"},null,{"$f":"'[1]Tabel 5 B DATA'!N180","v":0},{"$f":"'[1]Tabel 5 B DATA'!O180","v":0},{"$f":"'[1]Tabel 5 B DATA'!P180","v":0},{"$f":"'[1]Tabel 5 B DATA'!Q180","v":0},{"$f":"'[1]Tabel 5 B DATA'!R180","v":0},{"$f":"'[1]Tabel 5 B DATA'!S180","v":0},null,{"$f":"'[1]Tabel 5 B DATA'!U180","v":0}]
[{"$f":"'[1]Tabel 5 B DATA'!L181","v":"Farmaceut"},null,{"$f":"'[1]Tabel 5 B DATA'!N181","v":0},{"$f":"'[1]Tabel 5 B DATA'!O181","v":0},{"$f":"'[1]Tabel 5 B DATA'!P181","v":0},{"$f":"'[1]Tabel 5 B DATA'!Q181","v":0},{"$f":"'[1]Tabel 5 B DATA'!R181","v":0},{"$f":"'[1]Tabel 5 B DATA'!S181","v":0},null,{"$f":"'[1]Tabel 5 B DATA'!U181","v":0}]
[{"$f":"'[1]Tabel 5 B DATA'!L182","v":"Læge"},null,{"$f":"'[1]Tabel 5 B DATA'!N182","v":0},{"$f":"'[1]Tabel 5 B DATA'!O182","v":0},{"$f":"'[1]Tabel 5 B DATA'!P182","v":0},{"$f":"'[1]Tabel 5 B DATA'!Q182","v":0},{"$f":"'[1]Tabel 5 B DATA'!R182","v":0},{"$f":"'[1]Tabel 5 B DATA'!S182","v":0},null,{"$f":"'[1]Tabel 5 B DATA'!U182","v":0}]
[{"$f":"'[1]Tabel 5 B DATA'!L183","v":"Tandlæge"},null,{"$f":"'[1]Tabel 5 B DATA'!N183","v":0},{"$f":"'[1]Tabel 5 B DATA'!O183","v":0},{"$f":"'[1]Tabel 5 B DATA'!P183","v":0},{"$f":"'[1]Tabel 5 B DATA'!Q183","v":0},{"$f":"'[1]Tabel 5 B DATA'!R183","v":0},{"$f":"'[1]Tabel 5 B DATA'!S183","v":0},null,{"$f":"'[1]Tabel 5 B DATA'!U183","v":0}]
[{"$f":"'[1]Tabel 5 B DATA'!L184","v":"Arkitekt"},null,{"$f":"'[1]Tabel 5 B DATA'!N184","v":0},{"$f":"'[1]Tabel 5 B DATA'!O184","v":0},{"$f":"'[1]Tabel 5 B DATA'!P184","v":0},{"$f":"'[1]Tabel 5 B DATA'!Q184","v":0},{"$f":"'[1]Tabel 5 B DATA'!R184","v":0},{"$f":"'[1]Tabel 5 B DATA'!S184","v":0},null,{"$f":"'[1]Tabel 5 B DATA'!U184","v":0}]
[{"$f":"'[1]Tabel 5 B DATA'!L185","v":"Landinspek."},null,{"$f":"'[1]Tabel 5 B DATA'!N185","v":0},{"$f":"'[1]Tabel 5 B DATA'!O185","v":0},{"$f":"'[1]Tabel 5 B DATA'!P185","v":0},{"$f":"'[1]Tabel 5 B DATA'!Q185","v":0},{"$f":"'[1]Tabel 5 B DATA'!R185","v":0},{"$f":"'[1]Tabel 5 B DATA'!S185","v":0},null,{"$f":"'[1]Tabel 5 B DATA'!U185","v":0}]
[{"$f":"'[1]Tabel 5 B DATA'!L186","v":"Bibliotekar"},null,{"$f":"'[1]Tabel 5 B DATA'!N186","v":0},{"$f":"'[1]Tabel 5 B DATA'!O186","v":0},{"$f":"'[1]Tabel 5 B DATA'!P186","v":0},{"$f":"'[1]Tabel 5 B DATA'!Q186","v":0},{"$f":"'[1]Tabel 5 B DATA'!R186","v":0},{"$f":"'[1]Tabel 5 B DATA'!S186","v":0},null,{"$f":"'[1]Tabel 5 B DATA'!U186","v":0}]
[{"$f":"'[1]Tabel 5 B DATA'!L187","v":"Musikudd."},null,{"$f":"'[1]Tabel 5 B DATA'!N187","v":0},{"$f":"'[1]Tabel 5 B DATA'!O187","v":0},{"$f":"'[1]Tabel 5 B DATA'!P187","v":0},{"$f":"'[1]Tabel 5 B DATA'!Q187","v":0},{"$f":"'[1]Tabel 5 B DATA'!R187","v":0},{"$f":"'[1]Tabel 5 B DATA'!S187","v":0},null,{"$f":"'[1]Tabel 5 B DATA'!U187","v":0}]
[{"$f":"'[1]Tabel 5 B DATA'!L188","v":"Teolog"},null,{"$f":"'[1]Tabel 5 B DATA'!N188","v":0},{"$f":"'[1]Tabel 5 B DATA'!O188","v":0},{"$f":"'[1]Tabel 5 B DATA'!P188","v":0},{"$f":"'[1]Tabel 5 B DATA'!Q188","v":0},{"$f":"'[1]Tabel 5 B DATA'!R188","v":0},{"$f":"'[1]Tabel 5 B DATA'!S188","v":0},null,{"$f":"'[1]Tabel 5 B DATA'!U188","v":0}]
[{"$f":"'[1]Tabel 5 B DATA'!L189","v":"Psykolog"},null,{"$f":"'[1]Tabel 5 B DATA'!N189","v":0},{"$f":"'[1]Tabel 5 B DATA'!O189","v":0},{"$f":"'[1]Tabel 5 B DATA'!P189","v":0},{"$f":"'[1]Tabel 5 B DATA'!Q189","v":0},{"$f":"'[1]Tabel 5 B DATA'!R189","v":0},{"$f":"'[1]Tabel 5 B DATA'!S189","v":0},null,{"$f":"'[1]Tabel 5 B DATA'!U189","v":0}]
[{"$f":"'[1]Tabel 5 B DATA'!L190","v":"Jurist"},null,{"$f":"'[1]Tabel 5 B DATA'!N190","v":0},{"$f":"'[1]Tabel 5 B DATA'!O190","v":0},{"$f":"'[1]Tabel 5 B DATA'!P190","v":0},{"$f":"'[1]Tabel 5 B DATA'!Q190","v":0},{"$f":"'[1]Tabel 5 B DATA'!R190","v":0},{"$f":"'[1]Tabel 5 B DATA'!S190","v":0},null,{"$f":"'[1]Tabel 5 B DATA'!U190","v":0}]
[{"$f":"'[1]Tabel 5 B DATA'!L191","v":"Økonom"},null,{"$f":"'[1]Tabel 5 B DATA'!N191","v":0},{"$f":"'[1]Tabel 5 B DATA'!O191","v":0},{"$f":"'[1]Tabel 5 B DATA'!P191","v":0},{"$f":"'[1]Tabel 5 B DATA'!Q191","v":0},{"$f":"'[1]Tabel 5 B DATA'!R191","v":0},{"$f":"'[1]Tabel 5 B DATA'!S191","v":0},null,{"$f":"'[1]Tabel 5 B DATA'!U191","v":0}]
[{"$f":"'[1]Tabel 5 B DATA'!L192","v":"Samf. Adm."},null,{"$f":"'[1]Tabel 5 B DATA'!N192","v":0},{"$f":"'[1]Tabel 5 B DATA'!O192","v":0},{"$f":"'[1]Tabel 5 B DATA'!P192","v":0},{"$f":"'[1]Tabel 5 B DATA'!Q192","v":0},{"$f":"'[1]Tabel 5 B DATA'!R192","v":0},{"$f":"'[1]Tabel 5 B DATA'!S192","v":0},null,{"$f":"'[1]Tabel 5 B DATA'!U192","v":0}]
[{"$f":"'[1]Tabel 5 B DATA'!L193","v":"Cand. Merc."},null,{"$f":"'[1]Tabel 5 B DATA'!N193","v":0},{"$f":"'[1]Tabel 5 B DATA'!O193","v":0},{"$f":"'[1]Tabel 5 B DATA'!P193","v":0},{"$f":"'[1]Tabel 5 B DATA'!Q193","v":0},{"$f":"'[1]Tabel 5 B DATA'!R193","v":0},{"$f":"'[1]Tabel 5 B DATA'!S193","v":0},null,{"$f":"'[1]Tabel 5 B DATA'!U193","v":0}]
[{"$f":"'[1]Tabel 5 B DATA'!L194","v":"HA"},null,{"$f":"'[1]Tabel 5 B DATA'!N194","v":0},{"$f":"'[1]Tabel 5 B DATA'!O194","v":0},{"$f":"'[1]Tabel 5 B DATA'!P194","v":0},{"$f":"'[1]Tabel 5 B DATA'!Q194","v":0},{"$f":"'[1]Tabel 5 B DATA'!R194","v":0},{"$f":"'[1]Tabel 5 B DATA'!S194","v":0},null,{"$f":"'[1]Tabel 5 B DATA'!U194","v":0}]
[{"$f":"'[1]Tabel 5 B DATA'!L195","v":"HD"},null,{"$f":"'[1]Tabel 5 B DATA'!N195","v":0},{"$f":"'[1]Tabel 5 B DATA'!O195","v":0},{"$f":"'[1]Tabel 5 B DATA'!P195","v":0},{"$f":"'[1]Tabel 5 B DATA'!Q195","v":0},{"$f":"'[1]Tabel 5 B DATA'!R195","v":0},{"$f":"'[1]Tabel 5 B DATA'!S195","v":0},null,{"$f":"'[1]Tabel 5 B DATA'!U195","v":0}]
[{"$f":"'[1]Tabel 5 B DATA'!L196","v":"Komm. og Sprog"},null,{"$f":"'[1]Tabel 5 B DATA'!N196","v":0},{"$f":"'[1]Tabel 5 B DATA'!O196","v":0},{"$f":"'[1]Tabel 5 B DATA'!P196","v":0},{"$f":"'[1]Tabel 5 B DATA'!Q196","v":0},{"$f":"'[1]Tabel 5 B DATA'!R196","v":0},{"$f":"'[1]Tabel 5 B DATA'!S196","v":0},null,{"$f":"'[1]Tabel 5 B DATA'!U196","v":0}]
[{"$f":"'[1]Tabel 5 B DATA'!L197","v":"Bygningskonst."},null,{"$f":"'[1]Tabel 5 B DATA'!N197","v":0},{"$f":"'[1]Tabel 5 B DATA'!O197","v":0},{"$f":"'[1]Tabel 5 B DATA'!P197","v":0},{"$f":"'[1]Tabel 5 B DATA'!Q197","v":0},{"$f":"'[1]Tabel 5 B DATA'!R197","v":0},{"$f":"'[1]Tabel 5 B DATA'!S197","v":0},null,{"$f":"'[1]Tabel 5 B DATA'!U197","v":0}]
[{"$f":"'[1]Tabel 5 B DATA'!L198","v":"Cand. IT."},null,{"$f":"'[1]Tabel 5 B DATA'!N198","v":0},{"$f":"'[1]Tabel 5 B DATA'!O198","v":0},{"$f":"'[1]Tabel 5 B DATA'!P198","v":0},{"$f":"'[1]Tabel 5 B DATA'!Q198","v":0},{"$f":"'[1]Tabel 5 B DATA'!R198","v":0},{"$f":"'[1]Tabel 5 B DATA'!S198","v":0},null,{"$f":"'[1]Tabel 5 B DATA'!U198","v":0}]
[{"$f":"'[1]Tabel 5 B DATA'!L199","v":"Bac. Samf."},null,{"$f":"'[1]Tabel 5 B DATA'!N199","v":0},{"$f":"'[1]Tabel 5 B DATA'!O199","v":0},{"$f":"'[1]Tabel 5 B DATA'!P199","v":0},{"$f":"'[1]Tabel 5 B DATA'!Q199","v":0},{"$f":"'[1]Tabel 5 B DATA'!R199","v":0},{"$f":"'[1]Tabel 5 B DATA'!S199","v":0},null,{"$f":"'[1]Tabel 5 B DATA'!U199","v":0}]
[{"$f":"'[1]Tabel 5 B DATA'!L200","v":"Bac. Hum."},null,{"$f":"'[1]Tabel 5 B DATA'!N200","v":0},{"$f":"'[1]Tabel 5 B DATA'!O200","v":0},{"$f":"'[1]Tabel 5 B DATA'!P200","v":0},{"$f":"'[1]Tabel 5 B DATA'!Q200","v":0},{"$f":"'[1]Tabel 5 B DATA'!R200","v":0},{"$f":"'[1]Tabel 5 B DATA'!S200","v":0},null,{"$f":"'[1]Tabel 5 B DATA'!U200","v":0}]
[{"$f":"'[1]Tabel 5 B DATA'!L201","v":"Bac. Nat."},null,{"$f":"'[1]Tabel 5 B DATA'!N201","v":0},{"$f":"'[1]Tabel 5 B DATA'!O201","v":0},{"$f":"'[1]Tabel 5 B DATA'!P201","v":0},{"$f":"'[1]Tabel 5 B DATA'!Q201","v":0},{"$f":"'[1]Tabel 5 B DATA'!R201","v":0},{"$f":"'[1]Tabel 5 B DATA'!S201","v":0},null,{"$f":"'[1]Tabel 5 B DATA'!U201","v":0}]
[{"$f":"'[1]Tabel 5 B DATA'!L202","v":"Andre"},null,{"$f":"'[1]Tabel 5 B DATA'!N202","v":0},{"$f":"'[1]Tabel 5 B DATA'!O202","v":0},{"$f":"'[1]Tabel 5 B DATA'!P202","v":0},{"$f":"'[1]Tabel 5 B DATA'!Q202","v":0},{"$f":"'[1]Tabel 5 B DATA'!R202","v":0},{"$f":"'[1]Tabel 5 B DATA'!S202","v":0},null,{"$f":"'[1]Tabel 5 B DATA'!U202","v":0}]
[]
[{"$f":"'[1]Tabel 5 B DATA'!L204","v":"Total"},null,{"$f":"'[1]Tabel 5 B DATA'!N204","v":0},{"$f":"'[1]Tabel 5 B DATA'!O204","v":0},{"$f":"'[1]Tabel 5 B DATA'!P204","v":0},{"$f":"'[1]Tabel 5 B DATA'!Q204","v":0},{"$f":"'[1]Tabel 5 B DATA'!R204","v":0},{"$f":"'[1]Tabel 5 B DATA'!S204","v":0},null,{"$f":"'[1]Tabel 5 B DATA'!U204","v":0}]
[]
[{"$f":"'[1]Tabel 5 B DATA'!L206","v":"Ingeniører i alt"},null,{"$f":"'[1]Tabel 5 B DATA'!N206","v":0},{"$f":"'[1]Tabel 5 B DATA'!O206","v":0},{"$f":"'[1]Tabel 5 B DATA'!P206","v":0},{"$f":"'[1]Tabel 5 B DATA'!Q206","v":0},{"$f":"'[1]Tabel 5 B DATA'!R206","v":0},{"$f":"'[1]Tabel 5 B DATA'!S206","v":0},null,{"$f":"'[1]Tabel 5 B DATA'!U206","v":0}]
[{"$f":"'[1]Tabel 5 B DATA'!L207","v":"Magistre i alt"},null,{"$f":"'[1]Tabel 5 B DATA'!N207","v":0},{"$f":"'[1]Tabel 5 B DATA'!O207","v":0},{"$f":"'[1]Tabel 5 B DATA'!P207","v":0},{"$f":"'[1]Tabel 5 B DATA'!Q207","v":0},{"$f":"'[1]Tabel 5 B DATA'!R207","v":0},{"$f":"'[1]Tabel 5 B DATA'!S207","v":0},null,{"$f":"'[1]Tabel 5 B DATA'!U207","v":0}]
[{"$f":"'[1]Tabel 5 B DATA'!L208","v":"DJØF'ere i alt"},null,{"$f":"'[1]Tabel 5 B DATA'!N208","v":0},{"$f":"'[1]Tabel 5 B DATA'!O208","v":0},{"$f":"'[1]Tabel 5 B DATA'!P208","v":0},{"$f":"'[1]Tabel 5 B DATA'!Q208","v":0},{"$f":"'[1]Tabel 5 B DATA'!R208","v":0},{"$f":"'[1]Tabel 5 B DATA'!S208","v":0},null,{"$f":"'[1]Tabel 5 B DATA'!U208","v":0}]

{"sheet":"Tabel 5Br B","index":11,"n_rows":158,"n_cols":10,"rows_kept":158,"cut":false,"hidden":false,"merged":[]}
[{"$f":"'[1]Tabel 5 Br B DATA'!K4","v":"Tabel 5. Gns. antal ledige - kandidatalder"}]
[]
[{"$f":"'[1]Tabel 5 Br B DATA'!K7","v":"Bornholm"}]
[]
[null,null,{"$f":"'[1]Tabel 5 Br B DATA'!M9","v":"Under 1 år"},{"$f":"'[1]Tabel 5 Br B DATA'!N9","v":" 1 - 2 år"},{"$f":"'[1]Tabel 5 Br B DATA'!O9","v":"2 - 4 år"},{"$f":"'[1]Tabel 5 Br B DATA'!P9","v":"5 - 9 år"},{"$f":"'[1]Tabel 5 Br B DATA'!Q9","v":"10 - 14 år"},{"$f":"'[1]Tabel 5 Br B DATA'!R9","v":"Over 15 år"},null,{"$f":"'[1]Tabel 5 Br B DATA'!T9","v":"Uoplyst"}]
[]
[{"$f":"'[1]Tabel 5 Br B DATA'!K11","v":"Civ. ing."},null,{"$f":"'[1]Tabel 5 Br B DATA'!M11","v":0},{"$f":"'[1]Tabel 5 Br B DATA'!N11","v":0},{"$f":"'[1]Tabel 5 Br B DATA'!O11","v":0},{"$f":"'[1]Tabel 5 Br B DATA'!P11","v":2.3744776398677701},{"$f":"'[1]Tabel 5 Br B DATA'!Q11","v":0},{"$f":"'[1]Tabel 5 Br B DATA'!R11","v":0},null,{"$f":"'[1]Tabel 5 Br B DATA'!T11","v":0}]
[{"$f":"'[1]Tabel 5 Br B DATA'!K12","v":"Diplom ing."},null,{"$f":"'[1]Tabel 5 Br B DATA'!M12","v":0},{"$f":"'[1]Tabel 5 Br B DATA'!N12","v":0},{"$f":"'[1]Tabel 5 Br B DATA'!O12","v":0},{"$f":"'[1]Tabel 5 Br B DATA'!P12","v":0},{"$f":"'[1]Tabel 5 Br B DATA'!Q12","v":1.0908750701677796},{"$f":"'[1]Tabel 5 Br B DATA'!R12","v":2.9339487307428485},null,{"$f":"'[1]Tabel 5 Br B DATA'!T12","v":0}]
[{"$f":"'[1]Tabel 5 Br B DATA'!K13","v":"Cand. Scient. Tek"},null,{"$f":"'[1]Tabel 5 Br B DATA'!M13","v":0.28254225659577514},{"$f":"'[1]Tabel 5 Br B DATA'!N13","v":0},{"$f":"'[1]Tabel 5 Br B DATA'!O13","v":2.0838271065926364},{"$f":"'[1]Tabel 5 Br B DATA'!P13","v":0},{"$f":"'[1]Tabel 5 Br B DATA'!Q13","v":0},{"$f":"'[1]Tabel 5 Br B DATA'!R13","v":0},null,{"$f":"'[1]Tabel 5 Br B DATA'!T13","v":0.19896463543940968}]
[{"$f":"'[1]Tabel 5 Br B DATA'!K14","v":"MA. Hum."},null,{"$f":"'[1]Tabel 5 Br B DATA'!M14","v":0.99981288592277906},{"$f":"'[1]Tabel 5 Br B DATA'!N14","v":0.99981288592277906},{"$f":"'[1]Tabel 5 Br B DATA'!O14","v":1.2773654337927951},{"$f":"'[1]Tabel 5 Br B DATA'!P14","v":2.9763612549117511},{"$f":"'[1]Tabel 5 Br B DATA'!Q14","v":2.217301815006536},{"$f":"'[1]Tabel 5 Br B DATA'!R14","v":2.9994386577683372},null,{"$f":"'[1]Tabel 5 Br B DATA'!T14","v":3.4254350402295302}]
[{"$f":"'[1]Tabel 5 Br B DATA'!K15","v":"MA. Nat."},null,{"$f":"'[1]Tabel 5 Br B DATA'!M15","v":0},{"$f":"'[1]Tabel 5 Br B DATA'!N15","v":0},{"$f":"'[1]Tabel 5 Br B DATA'!O15","v":0},{"$f":"'[1]Tabel 5 Br B DATA'!P15","v":0.26133599451132028},{"$f":"'[1]Tabel 5 Br B DATA'!Q15","v":0},{"$f":"'[1]Tabel 5 Br B DATA'!R15","v":0.9187301191292967},null,{"$f":"'[1]Tabel 5 Br B DATA'!T15","v":0.99981288592278439}]
[{"$f":"'[1]Tabel 5 Br B DATA'!K16","v":"MA. Ph.d."},null,{"$f":"'[1]Tabel 5 Br B DATA'!M16","v":0},{"$f":"'[1]Tabel 5 Br B DATA'!N16","v":0},{"$f":"'[1]Tabel 5 Br B DATA'!O16","v":0},{"$f":"'[1]Tabel 5 Br B DATA'!P16","v":0.99981288592278439},{"$f":"'[1]Tabel 5 Br B DATA'!Q16","v":0},{"$f":"'[1]Tabel 5 Br B DATA'!R16","v":0},null,{"$f":"'[1]Tabel 5 Br B DATA'!T16","v":0}]
[{"$f":"'[1]Tabel 5 Br B DATA'!K17","v":"MA. Samf."},null,{"$f":"'[1]Tabel 5 Br B DATA'!M17","v":0},{"$f":"'[1]Tabel 5 Br B DATA'!N17","v":0},{"$f":"'[1]Tabel 5 Br B DATA'!O17","v":0},{"$f":"'[1]Tabel 5 Br B DATA'!P17","v":0},{"$f":"'[1]Tabel 5 Br B DATA'!Q17","v":0.9998128859227835},{"$f":"'[1]Tabel 5 Br B DATA'!R17","v":0},null,{"$f":"'[1]Tabel 5 Br B DATA'!T17","v":0}]
[{"$f":"'[1]Tabel 5 Br B DATA'!K18","v":"Øvrige Mag."},null,{"$f":"'[1]Tabel 5 Br B DATA'!M18","v":0},{"$f":"'[1]Tabel 5 Br B DATA'!N18","v":0.67672924593026806},{"$f":"'[1]Tabel 5 Br B DATA'!O18","v":0.99981288592278261},{"$f":"'[1]Tabel 5 Br B DATA'!P18","v":1.999625771845567},{"$f":"'[1]Tabel 5 Br B DATA'!Q18","v":0},{"$f":"'[1]Tabel 5 Br B DATA'!R18","v":0.99981288592278439},null,{"$f":"'[1]Tabel 5 Br B DATA'!T18","v":0}]
[{"$f":"'[1]Tabel 5 Br B DATA'!K19","v":"Agronom"},null,{"$f":"'[1]Tabel 5 Br B DATA'!M19","v":0},{"$f":"'[1]Tabel 5 Br B DATA'!N19","v":0},{"$f":"'[1]Tabel 5 Br B DATA'!O19","v":0},{"$f":"'[1]Tabel 5 Br B DATA'!P19","v":0},{"$f":"'[1]Tabel 5 Br B DATA'!Q19","v":0},{"$f":"'[1]Tabel 5 Br B DATA'!R19","v":0},null,{"$f":"'[1]Tabel 5 Br B DATA'!T19","v":0}]
[{"$f":"'[1]Tabel 5 Br B DATA'!K20","v":"Landsk. Arkt."},null,{"$f":"'[1]Tabel 5 Br B DATA'!M20","v":0},{"$f":"'[1]Tabel 5 Br B DATA'!N20","v":0},{"$f":"'[1]Tabel 5 Br B DATA'!O20","v":0},{"$f":"'[1]Tabel 5 Br B DATA'!P20","v":0},{"$f":"'[1]Tabel 5 Br B DATA'!Q20","v":0},{"$f":"'[1]Tabel 5 Br B DATA'!R20","v":0},null,{"$f":"'[1]Tabel 5 Br B DATA'!T20","v":0}]
[{"$f":"'[1]Tabel 5 Br B DATA'!K21","v":"Hortonom"},null,{"$f":"'[1]Tabel 5 Br B DATA'!M21","v":0},{"$f":"'[1]Tabel 5 Br B DATA'!N21","v":0},{"$f":"'[1]Tabel 5 Br B DATA'!O21","v":0},{"$f":"'[1]Tabel 5 Br B DATA'!P21","v":0},{"$f":"'[1]Tabel 5 Br B DATA'!Q21","v":0},{"$f":"'[1]Tabel 5 Br B DATA'!R21","v":0},null,{"$f":"'[1]Tabel 5 Br B DATA'!T21","v":0}]
[{"$f":"'[1]Tabel 5 Br B DATA'!K22","v":"Forstkand."},null,{"$f":"'[1]Tabel 5 Br B DATA'!M22","v":0},{"$f":"'[1]Tabel 5 Br B DATA'!N22","v":0},{"$f":"'[1]Tabel 5 Br B DATA'!O22","v":0},{"$f":"'[1]Tabel 5 Br B DATA'!P22","v":0},{"$f":"'[1]Tabel 5 Br B DATA'!Q22","v":0},{"$f":"'[1]Tabel 5 Br B DATA'!R22","v":0},null,{"$f":"'[1]Tabel 5 Br B DATA'!T22","v":0}]
[{"$f":"'[1]Tabel 5 Br B DATA'!K23","v":"Jordbrugsakad."},null,{"$f":"'[1]Tabel 5 Br B DATA'!M23","v":0},{"$f":"'[1]Tabel 5 Br B DATA'!N23","v":0},{"$f":"'[1]Tabel 5 Br B DATA'!O23","v":0},{"$f":"'[1]Tabel 5 Br B DATA'!P23","v":0},{"$f":"'[1]Tabel 5 Br B DATA'!Q23","v":0},{"$f":"'[1]Tabel 5 Br B DATA'!R23","v":0},null,{"$f":"'[1]Tabel 5 Br B DATA'!T23","v":0}]
[{"$f":"'[1]Tabel 5 Br B DATA'!K24","v":"Mejeriing."},null,{"$f":"'[1]Tabel 5 Br B DATA'!M24","v":0},{"$f":"'[1]Tabel 5 Br B DATA'!N24","v":0},{"$f":"'[1]Tabel 5 Br B DATA'!O24","v":0},{"$f":"'[1]Tabel 5 Br B DATA'!P24","v":0},{"$f":"'[1]Tabel 5 Br B DATA'!Q24","v":0},{"$f":"'[1]Tabel 5 Br B DATA'!R24","v":0},null,{"$f":"'[1]Tabel 5 Br B DATA'!T24","v":0}]
[{"$f":"'[1]Tabel 5 Br B DATA'!K25","v":"Levn.m.kand."},null,{"$f":"'[1]Tabel 5 Br B DATA'!M25","v":0},{"$f":"'[1]Tabel 5 Br B DATA'!N25","v":0},{"$f":"'[1]Tabel 5 Br B DATA'!O25","v":0},{"$f":"'[1]Tabel 5 Br B DATA'!P25","v":0.99981288592278439},{"$f":"'[1]Tabel 5 Br B DATA'!Q25","v":0},{"$f":"'[1]Tabel 5 Br B DATA'!R25","v":0},null,{"$f":"'[1]Tabel 5 Br B DATA'!T25","v":0}]
[{"$f":"'[1]Tabel 5 Br B DATA'!K26","v":"Dyrlæge"},null,{"$f":"'[1]Tabel 5 Br B DATA'!M26","v":0},{"$f":"'[1]Tabel 5 Br B DATA'!N26","v":0},{"$f":"'[1]Tabel 5 Br B DATA'!O26","v":0},{"$f":"'[1]Tabel 5 Br B DATA'!P26","v":0},{"$f":"'[1]Tabel 5 Br B DATA'!Q26","v":0},{"$f":"'[1]Tabel 5 Br B DATA'!R26","v":0},null,{"$f":"'[1]Tabel 5 Br B DATA'!T26","v":0}]
[{"$f":"'[1]Tabel 5 Br B DATA'!K27","v":"Farmaceut"},null,{"$f":"'[1]Tabel 5 Br B DATA'!M27","v":0},{"$f":"'[1]Tabel 5 Br B DATA'!N27","v":0},{"$f":"'[1]Tabel 5 Br B DATA'!O27","v":0},{"$f":"'[1]Tabel 5 Br B DATA'!P27","v":0},{"$f":"'[1]Tabel 5 Br B DATA'!Q27","v":0},{"$f":"'[1]Tabel 5 Br B DATA'!R27","v":0},null,{"$f":"'[1]Tabel 5 Br B DATA'!T27","v":0}]
[{"$f":"'[1]Tabel 5 Br B DATA'!K28","v":"Læge"},null,{"$f":"'[1]Tabel 5 Br B DATA'!M28","v":0.99981288592278617},{"$f":"'[1]Tabel 5 Br B DATA'!N28","v":0},{"$f":"'[1]Tabel 5 Br B DATA'!O28","v":0},{"$f":"'[1]Tabel 5 Br B DATA'!P28","v":0},{"$f":"'[1]Tabel 5 Br B DATA'!Q28","v":0},{"$f":"'[1]Tabel 5 Br B DATA'!R28","v":0},null,{"$f":"'[1]Tabel 5 Br B DATA'!T28","v":0}]
[{"$f":"'[1]Tabel 5 Br B DATA'!K29","v":"Tandlæge"},null,{"$f":"'[1]Tabel 5 Br B DATA'!M29","v":0},{"$f":"'[1]Tabel 5 Br B DATA'!N29","v":0},{"$f":"'[1]Tabel 5 Br B DATA'!O29","v":0},{"$f":"'[1]Tabel 5 Br B DATA'!P29","v":0},{"$f":"'[1]Tabel 5 Br B DATA'!Q29","v":0},{"$f":"'[1]Tabel 5 Br B DATA'!R29","v":0},null,{"$f":"'[1]Tabel 5 Br B DATA'!T29","v":0}]
[{"$f":"'[1]Tabel 5 Br B DATA'!K30","v":"Arkitekt"},null,{"$f":"'[1]Tabel 5 Br B DATA'!M30","v":0},{"$f":"'[1]Tabel 5 Br B DATA'!N30","v":0},{"$f":"'[1]Tabel 5 Br B DATA'!O30","v":0},{"$f":"'[1]Tabel 5 Br B DATA'!P30","v":0},{"$f":"'[1]Tabel 5 Br B DATA'!Q30","v":0},{"$f":"'[1]Tabel 5 Br B DATA'!R30","v":0.42599638246117877},null,{"$f":"'[1]Tabel 5 Br B DATA'!T30","v":0}]
[{"$f":"'[1]Tabel 5 Br B DATA'!K31","v":"Landinspek."},null,{"$f":"'[1]Tabel 5 Br B DATA'!M31","v":0},{"$f":"'[1]Tabel 5 Br B DATA'!N31","v":0},{"$f":"'[1]Tabel 5 Br B DATA'!O31","v":0},{"$f":"'[1]Tabel 5 Br B DATA'!P31","v":0},{"$f":"'[1]Tabel 5 Br B DATA'!Q31","v":0},{"$f":"'[1]Tabel 5 Br B DATA'!R31","v":0},null,{"$f":"'[1]Tabel 5 Br B DATA'!T31","v":0}]
[{"$f":"'[1]Tabel 5 Br B DATA'!K32","v":"Bibliotekar"},null,{"$f":"'[1]Tabel 5 Br B DATA'!M32","v":0},{"$f":"'[1]Tabel 5 Br B DATA'!N32","v":0},{"$f":"'[1]Tabel 5 Br B DATA'!O32","v":0},{"$f":"'[1]Tabel 5 Br B DATA'!P32","v":0},{"$f":"'[1]Tabel 5 Br B DATA'!Q32","v":0},{"$f":"'[1]Tabel 5 Br B DATA'!R32","v":0.9998128859227835},null,{"$f":"'[1]Tabel 5 Br B DATA'!T32","v":0}]
[{"$f":"'[1]Tabel 5 Br B DATA'!K33","v":"Musikudd."},null,{"$f":"'[1]Tabel 5 Br B DATA'!M33","v":0},{"$f":"'[1]Tabel 5 Br B DATA'!N33","v":0},{"$f":"'[1]Tabel 5 Br B DATA'!O33","v":0},{"$f":"'[1]Tabel 5 Br B DATA'!P33","v":0},{"$f":"'[1]Tabel 5 Br B DATA'!Q33","v":0},{"$f":"'[1]Tabel 5 Br B DATA'!R33","v":0.99981288592278439},null,{"$f":"'[1]Tabel 5 Br B DATA'!T33","v":0}]
[{"$f":"'[1]Tabel 5 Br B DATA'!K34","v":"Teolog"},null,{"$f":"'[1]Tabel 5 Br B DATA'!M34","v":0},{"$f":"'[1]Tabel 5 Br B DATA'!N34","v":0},{"$f":"'[1]Tabel 5 Br B DATA'!O34","v":0},{"$f":"'[1]Tabel 5 Br B DATA'!P34","v":0},{"$f":"'[1]Tabel 5 Br B DATA'!Q34","v":0},{"$f":"'[1]Tabel 5 Br B DATA'!R34","v":0},null,{"$f":"'[1]Tabel 5 Br B DATA'!T34","v":0}]
[{"$f":"'[1]Tabel 5 Br B DATA'!K35","v":"Psykolog"},null,{"$f":"'[1]Tabel 5 Br B DATA'!M35","v":0.85012162415019787},{"$f":"'[1]Tabel 5 Br B DATA'!N35","v":0},{"$f":"'[1]Tabel 5 Br B DATA'!O35","v":0},{"$f":"'[1]Tabel 5 Br B DATA'!P35","v":0},{"$f":"'[1]Tabel 5 Br B DATA'!Q35","v":0},{"$f":"'[1]Tabel 5 Br B DATA'!R35","v":0},null,{"$f":"'[1]Tabel 5 Br B DATA'!T35","v":0}]
[{"$f":"'[1]Tabel 5 Br B DATA'!K36","v":"Jurist"},null,{"$f":"'[1]Tabel 5 Br B DATA'!M36","v":0},{"$f":"'[1]Tabel 5 Br B DATA'!N36","v":0},{"$f":"'[1]Tabel 5 Br B DATA'!O36","v":0},{"$f":"'[1]Tabel 5 Br B DATA'!P36","v":0},{"$f":"'[1]Tabel 5 Br B DATA'!Q36","v":0},{"$f":"'[1]Tabel 5 Br B DATA'!R36","v":0},null,{"$f":"'[1]Tabel 5 Br B DATA'!T36","v":0}]
[{"$f":"'[1]Tabel 5 Br B DATA'!K37","v":"Økonom"},null,{"$f":"'[1]Tabel 5 Br B DATA'!M37","v":0},{"$f":"'[1]Tabel 5 Br B DATA'!N37","v":0},{"$f":"'[1]Tabel 5 Br B DATA'!O37","v":0},{"$f":"'[1]Tabel 5 Br B DATA'!P37","v":0},{"$f":"'[1]Tabel 5 Br B DATA'!Q37","v":0},{"$f":"'[1]Tabel 5 Br B DATA'!R37","v":0},null,{"$f":"'[1]Tabel 5 Br B DATA'!T37","v":0}]
[{"$f":"'[1]Tabel 5 Br B DATA'!K38","v":"Samf. Adm."},null,{"$f":"'[1]Tabel 5 Br B DATA'!M38","v":0},{"$f":"'[1]Tabel 5 Br B DATA'!N38","v":0},{"$f":"'[1]Tabel 5 Br B DATA'!O38","v":0},{"$f":"'[1]Tabel 5 Br B DATA'!P38","v":0},{"$f":"'[1]Tabel 5 Br B DATA'!Q38","v":0},{"$f":"'[1]Tabel 5 Br B DATA'!R38","v":0.99981288592279327},null,{"$f":"'[1]Tabel 5 Br B DATA'!T38","v":1.9996257718455652}]
[{"$f":"'[1]Tabel 5 Br B DATA'!K39","v":"Cand. Merc."},null,{"$f":"'[1]Tabel 5 Br B DATA'!M39","v":0},{"$f":"'[1]Tabel 5 Br B DATA'!N39","v":0},{"$f":"'[1]Tabel 5 Br B DATA'!O39","v":0},{"$f":"'[1]Tabel 5 Br B DATA'!P39","v":0},{"$f":"'[1]Tabel 5 Br B DATA'!Q39","v":0},{"$f":"'[1]Tabel 5 Br B DATA'!R39","v":1.9996257718455723},null,{"$f":"'[1]Tabel 5 Br B DATA'!T39","v":1.5380777147134097}]
[{"$f":"'[1]Tabel 5 Br B DATA'!K40","v":"HA"},null,{"$f":"'[1]Tabel 5 Br B DATA'!M40","v":0},{"$f":"'[1]Tabel 5 Br B DATA'!N40","v":0},{"$f":"'[1]Tabel 5 Br B DATA'!O40","v":0},{"$f":"'[1]Tabel 5 Br B DATA'!P40","v":0},{"$f":"'[1]Tabel 5 Br B DATA'!Q40","v":0},{"$f":"'[1]Tabel 5 Br B DATA'!R40","v":0.23264516933824098},null,{"$f":"'[1]Tabel 5 Br B DATA'!T40","v":0}]
[{"$f":"'[1]Tabel 5 Br B DATA'!K41","v":"HD"},null,{"$f":"'[1]Tabel 5 Br B DATA'!M41","v":0},{"$f":"'[1]Tabel 5 Br B DATA'!N41","v":0},{"$f":"'[1]Tabel 5 Br B DATA'!O41","v":0},{"$f":"'[1]Tabel 5 Br B DATA'!P41","v":0},{"$f":"'[1]Tabel 5 Br B DATA'!Q41","v":0},{"$f":"'[1]Tabel 5 Br B DATA'!R41","v":0},null,{"$f":"'[1]Tabel 5 Br B DATA'!T41","v":0}]
[{"$f":"'[1]Tabel 5 Br B DATA'!K42","v":"Komm. og Sprog"},null,{"$f":"'[1]Tabel 5 Br B DATA'!M42","v":0},{"$f":"'[1]Tabel 5 Br B DATA'!N42","v":0},{"$f":"'[1]Tabel 5 Br B DATA'!O42","v":0},{"$f":"'[1]Tabel 5 Br B DATA'!P42","v":0},{"$f":"'[1]Tabel 5 Br B DATA'!Q42","v":0.86134846878313454},{"$f":"'[1]Tabel 5 Br B DATA'!R42","v":2.0688579804153981},null,{"$f":"'[1]Tabel 5 Br B DATA'!T42","v":0}]
[{"$f":"'[1]Tabel 5 Br B DATA'!K43","v":"Bygningskonst."},null,{"$f":"'[1]Tabel 5 Br B DATA'!M43","v":0},{"$f":"'[1]Tabel 5 Br B DATA'!N43","v":0},{"$f":"'[1]Tabel 5 Br B DATA'!O43","v":0},{"$f":"'[1]Tabel 5 Br B DATA'!P43","v":0},{"$f":"'[1]Tabel 5 Br B DATA'!Q43","v":0},{"$f":"'[1]Tabel 5 Br B DATA'!R43","v":0},null,{"$f":"'[1]Tabel 5 Br B DATA'!T43","v":0}]
[{"$f":"'[1]Tabel 5 Br B DATA'!K44","v":"Cand. IT."},null,{"$f":"'[1]Tabel 5 Br B DATA'!M44","v":0},{"$f":"'[1]Tabel 5 Br B DATA'!N44","v":0},{"$f":"'[1]Tabel 5 Br B DATA'!O44","v":0},{"$f":"'[1]Tabel 5 Br B DATA'!P44","v":0},{"$f":"'[1]Tabel 5 Br B DATA'!Q44","v":0},{"$f":"'[1]Tabel 5 Br B DATA'!R44","v":0},null,{"$f":"'[1]Tabel 5 Br B DATA'!T44","v":0}]
[{"$f":"'[1]Tabel 5 Br B DATA'!K45","v":"Bac. Samf."},null,{"$f":"'[1]Tabel 5 Br B DATA'!M45","v":0},{"$f":"'[1]Tabel 5 Br B DATA'!N45","v":0},{"$f":"'[1]Tabel 5 Br B DATA'!O45","v":0},{"$f":"'[1]Tabel 5 Br B DATA'!P45","v":0},{"$f":"'[1]Tabel 5 Br B DATA'!Q45","v":0},{"$f":"'[1]Tabel 5 Br B DATA'!R45","v":0},null,{"$f":"'[1]Tabel 5 Br B DATA'!T45","v":0}]
[{"$f":"'[1]Tabel 5 Br B DATA'!K46","v":"Bac. Hum."},null,{"$f":"'[1]Tabel 5 Br B DATA'!M46","v":0},{"$f":"'[1]Tabel 5 Br B DATA'!N46","v":0.16902638308488349},{"$f":"'[1]Tabel 5 Br B DATA'!O46","v":0.99981288592278617},{"$f":"'[1]Tabel 5 Br B DATA'!P46","v":0},{"$f":"'[1]Tabel 5 Br B DATA'!Q46","v":0},{"$f":"'[1]Tabel 5 Br B DATA'!R46","v":0.99981288592278261},null,{"$f":"'[1]Tabel 5 Br B DATA'!T46","v":0}]
[{"$f":"'[1]Tabel 5 Br B DATA'!K47","v":"Bac. Nat."},null,{"$f":"'[1]Tabel 5 Br B DATA'!M47","v":0},{"$f":"'[1]Tabel 5 Br B DATA'!N47","v":0.99981288592278439},{"$f":"'[1]Tabel 5 Br B DATA'!O47","v":0},{"$f":"'[1]Tabel 5 Br B DATA'!P47","v":0},{"$f":"'[1]Tabel 5 Br B DATA'!Q47","v":0},{"$f":"'[1]Tabel 5 Br B DATA'!R47","v":0},null,{"$f":"'[1]Tabel 5 Br B DATA'!T47","v":0.9998128859227835}]
[{"$f":"'[1]Tabel 5 Br B DATA'!K48","v":"Andre"},null,{"$f":"'[1]Tabel 5 Br B DATA'!M48","v":1.9996257718455723},{"$f":"'[1]Tabel 5 Br B DATA'!N48","v":7.4221917295581363E-2},{"$f":"'[1]Tabel 5 Br B DATA'!O48","v":0},{"$f":"'[1]Tabel 5 Br B DATA'!P48","v":1.2511694629825882},{"$f":"'[1]Tabel 5 Br B DATA'!Q48","v":0.99981288592277906},{"$f":"'[1]Tabel 5 Br B DATA'!R48","v":2.3414208195596586},null,{"$f":"'[1]Tabel 5 Br B DATA'!T48","v":1.7258155055198614}]
[]
[{"$f":"'[1]Tabel 5 Br B DATA'!K50","v":"Total"},null,{"$f":"'[1]Tabel 5 Br B DATA'!M50","v":5.1319154244371106},{"$f":"'[1]Tabel 5 Br B DATA'!N50","v":2.9196033181562964},{"$f":"'[1]Tabel 5 Br B DATA'!O50","v":5.3608183122310002},{"$f":"'[1]Tabel 5 Br B DATA'!P50","v":10.862595895964565},{"$f":"'[1]Tabel 5 Br B DATA'!Q50","v":6.1691511258030127},{"$f":"'[1]Tabel 5 Br B DATA'!R50","v":18.919728060874462},null,{"$f":"'[1]Tabel 5 Br B DATA'!T50","v":10.887544439593345}]
[]
[{"$f":"'[1]Tabel 5 Br B DATA'!K52","v":"Ingeniører i alt"},null,{"$f":"'[1]Tabel 5 Br B DATA'!M52","v":0},{"$f":"'[1]Tabel 5 Br B DATA'!N52","v":0},{"$f":"'[1]Tabel 5 Br B DATA'!O52","v":0},{"$f":"'[1]Tabel 5 Br B DATA'!P52","v":2.3744776398677701},{"$f":"'[1]Tabel 5 Br B DATA'!Q52","v":1.0908750701677796},{"$f":"'[1]Tabel 5 Br B DATA'!R52","v":2.9339487307428485},null,{"$f":"'[1]Tabel 5 Br B DATA'!T52","v":0}]
[{"$f":"'[1]Tabel 5 Br B DATA'!K53","v":"Magistre i alt"},null,{"$f":"'[1]Tabel 5 Br B DATA'!M53","v":0.99981288592277906},{"$f":"'[1]Tabel 5 Br B DATA'!N53","v":1.6765421318530471},{"$f":"'[1]Tabel 5 Br B DATA'!O53","v":2.2771783197155777},{"$f":"'[1]Tabel 5 Br B DATA'!P53","v":6.2371359071914227},{"$f":"'[1]Tabel 5 Br B DATA'!Q53","v":3.2171147009293195},{"$f":"'[1]Tabel 5 Br B DATA'!R53","v":4.9179816628204183},null,{"$f":"'[1]Tabel 5 Br B DATA'!T53","v":4.4252479261523145}]
[{"$f":"'[1]Tabel 5 Br B DATA'!K54","v":"DJØF'ere i alt"},null,{"$f":"'[1]Tabel 5 Br B DATA'!M54","v":0},{"$f":"'[1]Tabel 5 Br B DATA'!N54","v":0},{"$f":"'[1]Tabel 5 Br B DATA'!O54","v":0},{"$f":"'[1]Tabel 5 Br B DATA'!P54","v":0},{"$f":"'[1]Tabel 5 Br B DATA'!Q54","v":0},{"$f":"'[1]Tabel 5 Br B DATA'!R54","v":3.2320838271066066},null,{"$f":"'[1]Tabel 5 Br B DATA'!T54","v":3.5377034865589749}]
[]
[]
[]
[]
[]
[]
[{"$f":"'[1]Tabel 5 Br B DATA'!K111","v":"Bornholm"}]
[]
[null,null,{"$f":"'[1]Tabel 5 Br B DATA'!M113","v":"Under 1 år"},{"$f":"'[1]Tabel 5 Br B DATA'!N113","v":" 1 - 2 år"},{"$f":"'[1]Tabel 5 Br B DATA'!O113","v":"2 - 4 år"},{"$f":"'[1]Tabel 5 Br B DATA'!P113","v":"5 - 9 år"},{"$f":"'[1]Tabel 5 Br B DATA'!Q113","v":"10 - 14 år"},{"$f":"'[1]Tabel 5 Br B DATA'!R113","v":"Over 15 år"},null,{"$f":"'[1]Tabel 5 Br B DATA'!T113","v":"Uoplyst"}]
[]
[{"$f":"'[1]Tabel 5 Br B DATA'!K115","v":"Civ. ing."},null,{"$f":"'[1]Tabel 5 Br B DATA'!M115","v":0},{"$f":"'[1]Tabel 5 Br B DATA'!N115","v":0},{"$f":"'[1]Tabel 5 Br B DATA'!O115","v":0},{"$f":"'[1]Tabel 5 Br B DATA'!P115","v":2.3744776398677727},{"$f":"'[1]Tabel 5 Br B DATA'!Q115","v":0},{"$f":"'[1]Tabel 5 Br B DATA'!R115","v":0},null,{"$f":"'[1]Tabel 5 Br B DATA'!T115","v":0}]
[{"$f":"'[1]Tabel 5 Br B DATA'!K116","v":"Diplom ing."},null,{"$f":"'[1]Tabel 5 Br B DATA'!M116","v":0},{"$f":"'[1]Tabel 5 Br B DATA'!N116","v":0},{"$f":"'[1]Tabel 5 Br B DATA'!O116","v":0},{"$f":"'[1]Tabel 5 Br B DATA'!P116","v":0},{"$f":"'[1]Tabel 5 Br B DATA'!Q116","v":1.0908750701677787},{"$f":"'[1]Tabel 5 Br B DATA'!R116","v":2.9339487307428431},null,{"$f":"'[1]Tabel 5 Br B DATA'!T116","v":0}]
[{"$f":"'[1]Tabel 5 Br B DATA'!K117","v":"Cand. Scient. Tek"},null,{"$f":"'[1]Tabel 5 Br B DATA'!M117","v":0.2825422565957712},{"$f":"'[1]Tabel 5 Br B DATA'!N117","v":0},{"$f":"'[1]Tabel 5 Br B DATA'!O117","v":2.0838271065926528},{"$f":"'[1]Tabel 5 Br B DATA'!P117","v":0},{"$f":"'[1]Tabel 5 Br B DATA'!Q117","v":0},{"$f":"'[1]Tabel 5 Br B DATA'!R117","v":0},null,{"$f":"'[1]Tabel 5 Br B DATA'!T117","v":0.19896463543940621}]
[{"$f":"'[1]Tabel 5 Br B DATA'!K118","v":"MA. Hum."},null,{"$f":"'[1]Tabel 5 Br B DATA'!M118","v":0.99981288592278428},{"$f":"'[1]Tabel 5 Br B DATA'!N118","v":0.99981288592278428},{"$f":"'[1]Tabel 5 Br B DATA'!O118","v":1.2773654337928022},{"$f":"'[1]Tabel 5 Br B DATA'!P118","v":2.9763612549117444},{"$f":"'[1]Tabel 5 Br B DATA'!Q118","v":2.2173018150065489},{"$f":"'[1]Tabel 5 Br B DATA'!R118","v":2.9994386577683527},null,{"$f":"'[1]Tabel 5 Br B DATA'!T118","v":3.4254350402295266}]
[{"$f":"'[1]Tabel 5 Br B DATA'!K119","v":"MA. Nat."},null,{"$f":"'[1]Tabel 5 Br B DATA'!M119","v":0},{"$f":"'[1]Tabel 5 Br B DATA'!N119","v":0},{"$f":"'[1]Tabel 5 Br B DATA'!O119","v":0},{"$f":"'[1]Tabel 5 Br B DATA'!P119","v":0.26133599451132039},{"$f":"'[1]Tabel 5 Br B DATA'!Q119","v":0},{"$f":"'[1]Tabel 5 Br B DATA'!R119","v":0.91873011912929581},null,{"$f":"'[1]Tabel 5 Br B DATA'!T119","v":0.99981288592278428}]
[{"$f":"'[1]Tabel 5 Br B DATA'!K120","v":"MA. Ph.d."},null,{"$f":"'[1]Tabel 5 Br B DATA'!M120","v":0},{"$f":"'[1]Tabel 5 Br B DATA'!N120","v":0},{"$f":"'[1]Tabel 5 Br B DATA'!O120","v":0},{"$f":"'[1]Tabel 5 Br B DATA'!P120","v":0.99981288592278428},{"$f":"'[1]Tabel 5 Br B DATA'!Q120","v":0},{"$f":"'[1]Tabel 5 Br B DATA'!R120","v":0},null,{"$f":"'[1]Tabel 5 Br B DATA'!T120","v":0}]
[{"$f":"'[1]Tabel 5 Br B DATA'!K121","v":"MA. Samf."},null,{"$f":"'[1]Tabel 5 Br B DATA'!M121","v":0},{"$f":"'[1]Tabel 5 Br B DATA'!N121","v":0},{"$f":"'[1]Tabel 5 Br B DATA'!O121","v":0},{"$f":"'[1]Tabel 5 Br B DATA'!P121","v":0},{"$f":"'[1]Tabel 5 Br B DATA'!Q121","v":0.99981288592278428},{"$f":"'[1]Tabel 5 Br B DATA'!R121","v":0},null,{"$f":"'[1]Tabel 5 Br B DATA'!T121","v":0}]
[{"$f":"'[1]Tabel 5 Br B DATA'!K122","v":"Øvrige Mag."},null,{"$f":"'[1]Tabel 5 Br B DATA'!M122","v":0},{"$f":"'[1]Tabel 5 Br B DATA'!N122","v":0.67672924593026873},{"$f":"'[1]Tabel 5 Br B DATA'!O122","v":0.99981288592278428},{"$f":"'[1]Tabel 5 Br B DATA'!P122","v":1.9996257718455686},{"$f":"'[1]Tabel 5 Br B DATA'!Q122","v":0},{"$f":"'[1]Tabel 5 Br B DATA'!R122","v":0.99981288592278428},null,{"$f":"'[1]Tabel 5 Br B DATA'!T122","v":0}]
[{"$f":"'[1]Tabel 5 Br B DATA'!K123","v":"Agronom"},null,{"$f":"'[1]Tabel 5 Br B DATA'!M123","v":0},{"$f":"'[1]Tabel 5 Br B DATA'!N123","v":0},{"$f":"'[1]Tabel 5 Br B DATA'!O123","v":0},{"$f":"'[1]Tabel 5 Br B DATA'!P123","v":0},{"$f":"'[1]Tabel 5 Br B DATA'!Q123","v":0},{"$f":"'[1]Tabel 5 Br B DATA'!R123","v":0},null,{"$f":"'[1]Tabel 5 Br B DATA'!T123","v":0}]
[{"$f":"'[1]Tabel 5 Br B DATA'!K124","v":"Landsk. Arkt."},null,{"$f":"'[1]Tabel 5 Br B DATA'!M124","v":0},{"$f":"'[1]Tabel 5 Br B DATA'!N124","v":0},{"$f":"'[1]Tabel 5 Br B DATA'!O124","v":0},{"$f":"'[1]Tabel 5 Br B DATA'!P124","v":0},{"$f":"'[1]Tabel 5 Br B DATA'!Q124","v":0},{"$f":"'[1]Tabel 5 Br B DATA'!R124","v":0},null,{"$f":"'[1]Tabel 5 Br B DATA'!T124","v":0}]
[{"$f":"'[1]Tabel 5 Br B DATA'!K125","v":"Hortonom"},null,{"$f":"'[1]Tabel 5 Br B DATA'!M125","v":0},{"$f":"'[1]Tabel 5 Br B DATA'!N125","v":0},{"$f":"'[1]Tabel 5 Br B DATA'!O125","v":0},{"$f":"'[1]Tabel 5 Br B DATA'!P125","v":0},{"$f":"'[1]Tabel 5 Br B DATA'!Q125","v":0},{"$f":"'[1]Tabel 5 Br B DATA'!R125","v":0},null,{"$f":"'[1]Tabel 5 Br B DATA'!T125","v":0}]
[{"$f":"'[1]Tabel 5 Br B DATA'!K126","v":"Forstkand."},null,{"$f":"'[1]Tabel 5 Br B DATA'!M126","v":0},{"$f":"'[1]Tabel 5 Br B DATA'!N126","v":0},{"$f":"'[1]Tabel 5 Br B DATA'!O126","v":0},{"$f":"'[1]Tabel 5 Br B DATA'!P126","v":0},{"$f":"'[1]Tabel 5 Br B DATA'!Q126","v":0},{"$f":"'[1]Tabel 5 Br B DATA'!R126","v":0},null,{"$f":"'[1]Tabel 5 Br B DATA'!T126","v":0}]
[{"$f":"'[1]Tabel 5 Br B DATA'!K127","v":"Jordbrugsakad."},null,{"$f":"'[1]Tabel 5 Br B DATA'!M127","v":0},{"$f":"'[1]Tabel 5 Br B DATA'!N127","v":0},{"$f":"'[1]Tabel 5 Br B DATA'!O127","v":0},{"$f":"'[1]Tabel 5 Br B DATA'!P127","v":0},{"$f":"'[1]Tabel 5 Br B DATA'!Q127","v":0},{"$f":"'[1]Tabel 5 Br B DATA'!R127","v":0},null,{"$f":"'[1]Tabel 5 Br B DATA'!T127","v":0}]
[{"$f":"'[1]Tabel 5 Br B DATA'!K128","v":"Mejeriing."},null,{"$f":"'[1]Tabel 5 Br B DATA'!M128","v":0},{"$f":"'[1]Tabel 5 Br B DATA'!N128","v":0},{"$f":"'[1]Tabel 5 Br B DATA'!O128","v":0},{"$f":"'[1]Tabel 5 Br B DATA'!P128","v":0},{"$f":"'[1]Tabel 5 Br B DATA'!Q128","v":0},{"$f":"'[1]Tabel 5 Br B DATA'!R128","v":0},null,{"$f":"'[1]Tabel 5 Br B DATA'!T128","v":0}]
[{"$f":"'[1]Tabel 5 Br B DATA'!K129","v":"Levn.m.kand."},null,{"$f":"'[1]Tabel 5 Br B DATA'!M129","v":0},{"$f":"'[1]Tabel 5 Br B DATA'!N129","v":0},{"$f":"'[1]Tabel 5 Br B DATA'!O129","v":0},{"$f":"'[1]Tabel 5 Br B DATA'!P129","v":0.99981288592278428},{"$f":"'[1]Tabel 5 Br B DATA'!Q129","v":0},{"$f":"'[1]Tabel 5 Br B DATA'!R129","v":0},null,{"$f":"'[1]Tabel 5 Br B DATA'!T129","v":0}]
[{"$f":"'[1]Tabel 5 Br B DATA'!K130","v":"Dyrlæge"},null,{"$f":"'[1]Tabel 5 Br B DATA'!M130","v":0},{"$f":"'[1]Tabel 5 Br B DATA'!N130","v":0},{"$f":"'[1]Tabel 5 Br B DATA'!O130","v":0},{"$f":"'[1]Tabel 5 Br B DATA'!P130","v":0},{"$f":"'[1]Tabel 5 Br B DATA'!Q130","v":0},{"$f":"'[1]Tabel 5 Br B DATA'!R130","v":0},null,{"$f":"'[1]Tabel 5 Br B DATA'!T130","v":0}]
[{"$f":"'[1]Tabel 5 Br B DATA'!K131","v":"Farmaceut"},null,{"$f":"'[1]Tabel 5 Br B DATA'!M131","v":0},{"$f":"'[1]Tabel 5 Br B DATA'!N131","v":0},{"$f":"'[1]Tabel 5 Br B DATA'!O131","v":0},{"$f":"'[1]Tabel 5 Br B DATA'!P131","v":0},{"$f":"'[1]Tabel 5 Br B DATA'!Q131","v":0},{"$f":"'[1]Tabel 5 Br B DATA'!R131","v":0},null,{"$f":"'[1]Tabel 5 Br B DATA'!T131","v":0}]
[{"$f":"'[1]Tabel 5 Br B DATA'!K132","v":"Læge"},null,{"$f":"'[1]Tabel 5 Br B DATA'!M132","v":0.99981288592278428},{"$f":"'[1]Tabel 5 Br B DATA'!N132","v":0},{"$f":"'[1]Tabel 5 Br B DATA'!O132","v":0},{"$f":"'[1]Tabel 5 Br B DATA'!P132","v":0},{"$f":"'[1]Tabel 5 Br B DATA'!Q132","v":0},{"$f":"'[1]Tabel 5 Br B DATA'!R132","v":0},null,{"$f":"'[1]Tabel 5 Br B DATA'!T132","v":0}]
[{"$f":"'[1]Tabel 5 Br B DATA'!K133","v":"Tandlæge"},null,{"$f":"'[1]Tabel 5 Br B DATA'!M133","v":0},{"$f":"'[1]Tabel 5 Br B DATA'!N133","v":0},{"$f":"'[1]Tabel 5 Br B DATA'!O133","v":0},{"$f":"'[1]Tabel 5 Br B DATA'!P133","v":0},{"$f":"'[1]Tabel 5 Br B DATA'!Q133","v":0},{"$f":"'[1]Tabel 5 Br B DATA'!R133","v":0},null,{"$f":"'[1]Tabel 5 Br B DATA'!T133","v":0}]
[{"$f":"'[1]Tabel 5 Br B DATA'!K134","v":"Arkitekt"},null,{"$f":"'[1]Tabel 5 Br B DATA'!M134","v":0},{"$f":"'[1]Tabel 5 Br B DATA'!N134","v":0},{"$f":"'[1]Tabel 5 Br B DATA'!O134","v":0},{"$f":"'[1]Tabel 5 Br B DATA'!P134","v":0},{"$f":"'[1]Tabel 5 Br B DATA'!Q134","v":0},{"$f":"'[1]Tabel 5 Br B DATA'!R134","v":0.42599638246117377},null,{"$f":"'[1]Tabel 5 Br B DATA'!T134","v":0}]
[{"$f":"'[1]Tabel 5 Br B DATA'!K135","v":"Landinspek."},null,{"$f":"'[1]Tabel 5 Br B DATA'!M135","v":0},{"$f":"'[1]Tabel 5 Br B DATA'!N135","v":0},{"$f":"'[1]Tabel 5 Br B DATA'!O135","v":0},{"$f":"'[1]Tabel 5 Br B DATA'!P135","v":0},{"$f":"'[1]Tabel 5 Br B DATA'!Q135","v":0},{"$f":"'[1]Tabel 5 Br B DATA'!R135","v":0},null,{"$f":"'[1]Tabel 5 Br B DATA'!T135","v":0}]
[{"$f":"'[1]Tabel 5 Br B DATA'!K136","v":"Bibliotekar"},null,{"$f":"'[1]Tabel 5 Br B DATA'!M136","v":0},{"$f":"'[1]Tabel 5 Br B DATA'!N136","v":0},{"$f":"'[1]Tabel 5 Br B DATA'!O136","v":0},{"$f":"'[1]Tabel 5 Br B DATA'!P136","v":0},{"$f":"'[1]Tabel 5 Br B DATA'!Q136","v":0},{"$f":"'[1]Tabel 5 Br B DATA'!R136","v":0.99981288592278428},null,{"$f":"'[1]Tabel 5 Br B DATA'!T136","v":0}]
[{"$f":"'[1]Tabel 5 Br B DATA'!K137","v":"Musikudd."},null,{"$f":"'[1]Tabel 5 Br B DATA'!M137","v":0},{"$f":"'[1]Tabel 5 Br B DATA'!N137","v":0},{"$f":"'[1]Tabel 5 Br B DATA'!O137","v":0},{"$f":"'[1]Tabel 5 Br B DATA'!P137","v":0},{"$f":"'[1]Tabel 5 Br B DATA'!Q137","v":0},{"$f":"'[1]Tabel 5 Br B DATA'!R137","v":0.99981288592278428},null,{"$f":"'[1]Tabel 5 Br B DATA'!T137","v":0}]
[{"$f":"'[1]Tabel 5 Br B DATA'!K138","v":"Teolog"},null,{"$f":"'[1]Tabel 5 Br B DATA'!M138","v":0},{"$f":"'[1]Tabel 5 Br B DATA'!N138","v":0},{"$f":"'[1]Tabel 5 Br B DATA'!O138","v":0},{"$f":"'[1]Tabel 5 Br B DATA'!P138","v":0},{"$f":"'[1]Tabel 5 Br B DATA'!Q138","v":0},{"$f":"'[1]Tabel 5 Br B DATA'!R138","v":0},null,{"$f":"'[1]Tabel 5 Br B DATA'!T138","v":0}]
[{"$f":"'[1]Tabel 5 Br B DATA'!K139","v":"Psykolog"},null,{"$f":"'[1]Tabel 5 Br B DATA'!M139","v":0.85012162415019021},{"$f":"'[1]Tabel 5 Br B DATA'!N139","v":0},{"$f":"'[1]Tabel 5 Br B DATA'!O139","v":0},{"$f":"'[1]Tabel 5 Br B DATA'!P139","v":0},{"$f":"'[1]Tabel 5 Br B DATA'!Q139","v":0},{"$f":"'[1]Tabel 5 Br B DATA'!R139","v":0},null,{"$f":"'[1]Tabel 5 Br B DATA'!T139","v":0}]
[{"$f":"'[1]Tabel 5 Br B DATA'!K140","v":"Jurist"},null,{"$f":"'[1]Tabel 5 Br B DATA'!M140","v":0},{"$f":"'[1]Tabel 5 Br B DATA'!N140","v":0},{"$f":"'[1]Tabel 5 Br B DATA'!O140","v":0},{"$f":"'[1]Tabel 5 Br B DATA'!P140","v":0},{"$f":"'[1]Tabel 5 Br B DATA'!Q140","v":0},{"$f":"'[1]Tabel 5 Br B DATA'!R140","v":0},null,{"$f":"'[1]Tabel 5 Br B DATA'!T140","v":0}]
[{"$f":"'[1]Tabel 5 Br B DATA'!K141","v":"Økonom"},null,{"$f":"'[1]Tabel 5 Br B DATA'!M141","v":0},{"$f":"'[1]Tabel 5 Br B DATA'!N141","v":0},{"$f":"'[1]Tabel 5 Br B DATA'!O141","v":0},{"$f":"'[1]Tabel 5 Br B DATA'!P141","v":0},{"$f":"'[1]Tabel 5 Br B DATA'!Q141","v":0},{"$f":"'[1]Tabel 5 Br B DATA'!R141","v":0},null,{"$f":"'[1]Tabel 5 Br B DATA'!T141","v":0}]
[{"$f":"'[1]Tabel 5 Br B DATA'!K142","v":"Samf. Adm."},null,{"$f":"'[1]Tabel 5 Br B DATA'!M142","v":0},{"$f":"'[1]Tabel 5 Br B DATA'!N142","v":0},{"$f":"'[1]Tabel 5 Br B DATA'!O142","v":0},{"$f":"'[1]Tabel 5 Br B DATA'!P142","v":0},{"$f":"'[1]Tabel 5 Br B DATA'!Q142","v":0},{"$f":"'[1]Tabel 5 Br B DATA'!R142","v":0.99981288592278428},null,{"$f":"'[1]Tabel 5 Br B DATA'!T142","v":1.9996257718455686}]
[{"$f":"'[1]Tabel 5 Br B DATA'!K143","v":"Cand. Merc."},null,{"$f":"'[1]Tabel 5 Br B DATA'!M143","v":0},{"$f":"'[1]Tabel 5 Br B DATA'!N143","v":0},{"$f":"'[1]Tabel 5 Br B DATA'!O143","v":0},{"$f":"'[1]Tabel 5 Br B DATA'!P143","v":0},{"$f":"'[1]Tabel 5 Br B DATA'!Q143","v":0},{"$f":"'[1]Tabel 5 Br B DATA'!R143","v":1.9996257718455686},null,{"$f":"'[1]Tabel 5 Br B DATA'!T143","v":1.5380777147134035}]
[{"$f":"'[1]Tabel 5 Br B DATA'!K144","v":"HA"},null,{"$f":"'[1]Tabel 5 Br B DATA'!M144","v":0},{"$f":"'[1]Tabel 5 Br B DATA'!N144","v":0},{"$f":"'[1]Tabel 5 Br B DATA'!O144","v":0},{"$f":"'[1]Tabel 5 Br B DATA'!P144","v":0},{"$f":"'[1]Tabel 5 Br B DATA'!Q144","v":0},{"$f":"'[1]Tabel 5 Br B DATA'!R144","v":0.23264516933823984},null,{"$f":"'[1]Tabel 5 Br B DATA'!T144","v":0}]
[{"$f":"'[1]Tabel 5 Br B DATA'!K145","v":"HD"},null,{"$f":"'[1]Tabel 5 Br B DATA'!M145","v":0},{"$f":"'[1]Tabel 5 Br B DATA'!N145","v":0},{"$f":"'[1]Tabel 5 Br B DATA'!O145","v":0},{"$f":"'[1]Tabel 5 Br B DATA'!P145","v":0},{"$f":"'[1]Tabel 5 Br B DATA'!Q145","v":0},{"$f":"'[1]Tabel 5 Br B DATA'!R145","v":0},null,{"$f":"'[1]Tabel 5 Br B DATA'!T145","v":0}]
[{"$f":"'[1]Tabel 5 Br B DATA'!K146","v":"Komm. og Sprog"},null,{"$f":"'[1]Tabel 5 Br B DATA'!M146","v":0},{"$f":"'[1]Tabel 5 Br B DATA'!N146","v":0},{"$f":"'[1]Tabel 5 Br B DATA'!O146","v":0},{"$f":"'[1]Tabel 5 Br B DATA'!P146","v":0},{"$f":"'[1]Tabel 5 Br B DATA'!Q146","v":0.86134846878313465},{"$f":"'[1]Tabel 5 Br B DATA'!R146","v":2.0688579804153933},null,{"$f":"'[1]Tabel 5 Br B DATA'!T146","v":0}]
[{"$f":"'[1]Tabel 5 Br B DATA'!K147","v":"Bygningskonst."},null,{"$f":"'[1]Tabel 5 Br B DATA'!M147","v":0},{"$f":"'[1]Tabel 5 Br B DATA'!N147","v":0},{"$f":"'[1]Tabel 5 Br B DATA'!O147","v":0},{"$f":"'[1]Tabel 5 Br B DATA'!P147","v":0},{"$f":"'[1]Tabel 5 Br B DATA'!Q147","v":0},{"$f":"'[1]Tabel 5 Br B DATA'!R147","v":0},null,{"$f":"'[1]Tabel 5 Br B DATA'!T147","v":0}]
[{"$f":"'[1]Tabel 5 Br B DATA'!K148","v":"Cand. IT."},null,{"$f":"'[1]Tabel 5 Br B DATA'!M148","v":0},{"$f":"'[1]Tabel 5 Br B DATA'!N148","v":0},{"$f":"'[1]Tabel 5 Br B DATA'!O148","v":0},{"$f":"'[1]Tabel 5 Br B DATA'!P148","v":0},{"$f":"'[1]Tabel 5 Br B DATA'!Q148","v":0},{"$f":"'[1]Tabel 5 Br B DATA'!R148","v":0},null,{"$f":"'[1]Tabel 5 Br B DATA'!T148","v":0}]
[{"$f":"'[1]Tabel 5 Br B DATA'!K149","v":"Bac. Samf."},null,{"$f":"'[1]Tabel 5 Br B DATA'!M149","v":0},{"$f":"'[1]Tabel 5 Br B DATA'!N149","v":0},{"$f":"'[1]Tabel 5 Br B DATA'!O149","v":0},{"$f":"'[1]Tabel 5 Br B DATA'!P149","v":0},{"$f":"'[1]Tabel 5 Br B DATA'!Q149","v":0},{"$f":"'[1]Tabel 5 Br B DATA'!R149","v":0},null,{"$f":"'[1]Tabel 5 Br B DATA'!T149","v":0}]
[{"$f":"'[1]Tabel 5 Br B DATA'!K150","v":"Bac. Hum."},null,{"$f":"'[1]Tabel 5 Br B DATA'!M150","v":0},{"$f":"'[1]Tabel 5 Br B DATA'!N150","v":0.1690263830848874},{"$f":"'[1]Tabel 5 Br B DATA'!O150","v":0.99981288592278428},{"$f":"'[1]Tabel 5 Br B DATA'!P150","v":0},{"$f":"'[1]Tabel 5 Br B DATA'!Q150","v":0},{"$f":"'[1]Tabel 5 Br B DATA'!R150","v":0.99981288592278428},null,{"$f":"'[1]Tabel 5 Br B DATA'!T150","v":0}]
[{"$f":"'[1]Tabel 5 Br B DATA'!K151","v":"Bac. Nat."},null,{"$f":"'[1]Tabel 5 Br B DATA'!M151","v":0},{"$f":"'[1]Tabel 5 Br B DATA'!N151","v":0.99981288592278428},{"$f":"'[1]Tabel 5 Br B DATA'!O151","v":0},{"$f":"'[1]Tabel 5 Br B DATA'!P151","v":0},{"$f":"'[1]Tabel 5 Br B DATA'!Q151","v":0},{"$f":"'[1]Tabel 5 Br B DATA'!R151","v":0},null,{"$f":"'[1]Tabel 5 Br B DATA'!T151","v":0.99981288592278428}]
[{"$f":"'[1]Tabel 5 Br B DATA'!K152","v":"Andre"},null,{"$f":"'[1]Tabel 5 Br B DATA'!M152","v":1.9996257718455686},{"$f":"'[1]Tabel 5 Br B DATA'!N152","v":7.4221917295577866E-2},{"$f":"'[1]Tabel 5 Br B DATA'!O152","v":0},{"$f":"'[1]Tabel 5 Br B DATA'!P152","v":1.2511694629825985},{"$f":"'[1]Tabel 5 Br B DATA'!Q152","v":0.99981288592278428},{"$f":"'[1]Tabel 5 Br B DATA'!R152","v":2.3414208195596582},null,{"$f":"'[1]Tabel 5 Br B DATA'!T152","v":1.7258155055198654}]
[]
[{"$f":"'[1]Tabel 5 Br B DATA'!K154","v":"Total"},null,{"$f":"'[1]Tabel 5 Br B DATA'!M154","v":5.131915424437099},{"$f":"'[1]Tabel 5 Br B DATA'!N154","v":2.9196033181563026},{"$f":"'[1]Tabel 5 Br B DATA'!O154","v":5.3608183122310233},{"$f":"'[1]Tabel 5 Br B DATA'!P154","v":10.862595895964574},{"$f":"'[1]Tabel 5 Br B DATA'!Q154","v":6.1691511258030305},{"$f":"'[1]Tabel 5 Br B DATA'!R154","v":18.919728060874448},null,{"$f":"'[1]Tabel 5 Br B DATA'!T154","v":10.88754443959334}]
[]
[{"$f":"'[1]Tabel 5 Br B DATA'!K156","v":"Ingeniører i alt"},null,{"$f":"'[1]Tabel 5 Br B DATA'!M156","v":0},{"$f":"'[1]Tabel 5 Br B DATA'!N156","v":0},{"$f":"'[1]Tabel 5 Br B DATA'!O156","v":0},{"$f":"'[1]Tabel 5 Br B DATA'!P156","v":2.3744776398677727},{"$f":"'[1]Tabel 5 Br B DATA'!Q156","v":1.0908750701677787},{"$f":"'[1]Tabel 5 Br B DATA'!R156","v":2.9339487307428431},null,{"$f":"'[1]Tabel 5 Br B DATA'!T156","v":0}]
[{"$f":"'[1]Tabel 5 Br B DATA'!K157","v":"Magistre i alt"},null,{"$f":"'[1]Tabel 5 Br B DATA'!M157","v":0.99981288592278428},{"$f":"'[1]Tabel 5 Br B DATA'!N157","v":1.6765421318530529},{"$f":"'[1]Tabel 5 Br B DATA'!O157","v":2.2771783197155866},{"$f":"'[1]Tabel 5 Br B DATA'!P157","v":6.2371359071914174},{"$f":"'[1]Tabel 5 Br B DATA'!Q157","v":3.2171147009293333},{"$f":"'[1]Tabel 5 Br B DATA'!R157","v":4.9179816628204325},null,{"$f":"'[1]Tabel 5 Br B DATA'!T157","v":4.425247926152311}]
[{"$f":"'[1]Tabel 5 Br B DATA'!K158","v":"DJØF'ere i alt"},null,{"$f":"'[1]Tabel 5 Br B DATA'!M158","v":0},{"$f":"'[1]Tabel 5 Br B DATA'!N158","v":0},{"$f":"'[1]Tabel 5 Br B DATA'!O158","v":0},{"$f":"'[1]Tabel 5 Br B DATA'!P158","v":0},{"$f":"'[1]Tabel 5 Br B DATA'!Q158","v":0},{"$f":"'[1]Tabel 5 Br B DATA'!R158","v":3.2320838271065924},null,{"$f":"'[1]Tabel 5 Br B DATA'!T158","v":3.5377034865589723}]
[]
[]
[]
[]
[]
[]
[{"$f":"'[1]Tabel 5 Br B DATA'!K163","v":"Christiansø"}]
[]
[null,null,{"$f":"'[1]Tabel 5 Br B DATA'!M165","v":"Under 1 år"},{"$f":"'[1]Tabel 5 Br B DATA'!N165","v":" 1 - 2 år"},{"$f":"'[1]Tabel 5 Br B DATA'!O165","v":"2 - 4 år"},{"$f":"'[1]Tabel 5 Br B DATA'!P165","v":"5 - 9 år"},{"$f":"'[1]Tabel 5 Br B DATA'!Q165","v":"10 - 14 år"},{"$f":"'[1]Tabel 5 Br B DATA'!R165","v":"Over 15 år"},null,{"$f":"'[1]Tabel 5 Br B DATA'!T165","v":"Uoplyst"}]
[]
[{"$f":"'[1]Tabel 5 Br B DATA'!K167","v":"Civ. ing."},null,{"$f":"'[1]Tabel 5 Br B DATA'!M167","v":0},{"$f":"'[1]Tabel 5 Br B DATA'!N167","v":0},{"$f":"'[1]Tabel 5 Br B DATA'!O167","v":0},{"$f":"'[1]Tabel 5 Br B DATA'!P167","v":0},{"$f":"'[1]Tabel 5 Br B DATA'!Q167","v":0},{"$f":"'[1]Tabel 5 Br B DATA'!R167","v":0},null,{"$f":"'[1]Tabel 5 Br B DATA'!T167","v":0}]
[{"$f":"'[1]Tabel 5 Br B DATA'!K168","v":"Diplom ing."},null,{"$f":"'[1]Tabel 5 Br B DATA'!M168","v":0},{"$f":"'[1]Tabel 5 Br B DATA'!N168","v":0},{"$f":"'[1]Tabel 5 Br B DATA'!O168","v":0},{"$f":"'[1]Tabel 5 Br B DATA'!P168","v":0},{"$f":"'[1]Tabel 5 Br B DATA'!Q168","v":0},{"$f":"'[1]Tabel 5 Br B DATA'!R168","v":0},null,{"$f":"'[1]Tabel 5 Br B DATA'!T168","v":0}]
[{"$f":"'[1]Tabel 5 Br B DATA'!K169","v":"Cand. Scient. Tek"},null,{"$f":"'[1]Tabel 5 Br B DATA'!M169","v":0},{"$f":"'[1]Tabel 5 Br B DATA'!N169","v":0},{"$f":"'[1]Tabel 5 Br B DATA'!O169","v":0},{"$f":"'[1]Tabel 5 Br B DATA'!P169","v":0},{"$f":"'[1]Tabel 5 Br B DATA'!Q169","v":0},{"$f":"'[1]Tabel 5 Br B DATA'!R169","v":0},null,{"$f":"'[1]Tabel 5 Br B DATA'!T169","v":0}]
[{"$f":"'[1]Tabel 5 Br B DATA'!K170","v":"MA. Hum."},null,{"$f":"'[1]Tabel 5 Br B DATA'!M170","v":0},{"$f":"'[1]Tabel 5 Br B DATA'!N170","v":0},{"$f":"'[1]Tabel 5 Br B DATA'!O170","v":0},{"$f":"'[1]Tabel 5 Br B DATA'!P170","v":0},{"$f":"'[1]Tabel 5 Br B DATA'!Q170","v":0},{"$f":"'[1]Tabel 5 Br B DATA'!R170","v":0},null,{"$f":"'[1]Tabel 5 Br B DATA'!T170","v":0}]
[{"$f":"'[1]Tabel 5 Br B DATA'!K171","v":"MA. Nat."},null,{"$f":"'[1]Tabel 5 Br B DATA'!M171","v":0},{"$f":"'[1]Tabel 5 Br B DATA'!N171","v":0},{"$f":"'[1]Tabel 5 Br B DATA'!O171","v":0},{"$f":"'[1]Tabel 5 Br B DATA'!P171","v":0},{"$f":"'[1]Tabel 5 Br B DATA'!Q171","v":0},{"$f":"'[1]Tabel 5 Br B DATA'!R171","v":0},null,{"$f":"'[1]Tabel 5 Br B DATA'!T171","v":0}]
[{"$f":"'[1]Tabel 5 Br B DATA'!K172","v":"MA. Ph.d."},null,{"$f":"'[1]Tabel 5 Br B DATA'!M172","v":0},{"$f":"'[1]Tabel 5 Br B DATA'!N172","v":0},{"$f":"'[1]Tabel 5 Br B DATA'!O172","v":0},{"$f":"'[1]Tabel 5 Br B DATA'!P172","v":0},{"$f":"'[1]Tabel 5 Br B DATA'!Q172","v":0},{"$f":"'[1]Tabel 5 Br B DATA'!R172","v":0},null,{"$f":"'[1]Tabel 5 Br B DATA'!T172","v":0}]
[{"$f":"'[1]Tabel 5 Br B DATA'!K173","v":"MA. Samf."},null,{"$f":"'[1]Tabel 5 Br B DATA'!M173","v":0},{"$f":"'[1]Tabel 5 Br B DATA'!N173","v":0},{"$f":"'[1]Tabel 5 Br B DATA'!O173","v":0},{"$f":"'[1]Tabel 5 Br B DATA'!P173","v":0},{"$f":"'[1]Tabel 5 Br B DATA'!Q173","v":0},{"$f":"'[1]Tabel 5 Br B DATA'!R173","v":0},null,{"$f":"'[1]Tabel 5 Br B DATA'!T173","v":0}]
[{"$f":"'[1]Tabel 5 Br B DATA'!K174","v":"Øvrige Mag."},null,{"$f":"'[1]Tabel 5 Br B DATA'!M174","v":0},{"$f":"'[1]Tabel 5 Br B DATA'!N174","v":0},{"$f":"'[1]Tabel 5 Br B DATA'!O174","v":0},{"$f":"'[1]Tabel 5 Br B DATA'!P174","v":0},{"$f":"'[1]Tabel 5 Br B DATA'!Q174","v":0},{"$f":"'[1]Tabel 5 Br B DATA'!R174","v":0},null,{"$f":"'[1]Tabel 5 Br B DATA'!T174","v":0}]
[{"$f":"'[1]Tabel 5 Br B DATA'!K175","v":"Agronom"},null,{"$f":"'[1]Tabel 5 Br B DATA'!M175","v":0},{"$f":"'[1]Tabel 5 Br B DATA'!N175","v":0},{"$f":"'[1]Tabel 5 Br B DATA'!O175","v":0},{"$f":"'[1]Tabel 5 Br B DATA'!P175","v":0},{"$f":"'[1]Tabel 5 Br B DATA'!Q175","v":0},{"$f":"'[1]Tabel 5 Br B DATA'!R175","v":0},null,{"$f":"'[1]Tabel 5 Br B DATA'!T175","v":0}]
[{"$f":"'[1]Tabel 5 Br B DATA'!K176","v":"Landsk. Arkt."},null,{"$f":"'[1]Tabel 5 Br B DATA'!M176","v":0},{"$f":"'[1]Tabel 5 Br B DATA'!N176","v":0},{"$f":"'[1]Tabel 5 Br B DATA'!O176","v":0},{"$f":"'[1]Tabel 5 Br B DATA'!P176","v":0},{"$f":"'[1]Tabel 5 Br B DATA'!Q176","v":0},{"$f":"'[1]Tabel 5 Br B DATA'!R176","v":0},null,{"$f":"'[1]Tabel 5 Br B DATA'!T176","v":0}]
[{"$f":"'[1]Tabel 5 Br B DATA'!K177","v":"Hortonom"},null,{"$f":"'[1]Tabel 5 Br B DATA'!M177","v":0},{"$f":"'[1]Tabel 5 Br B DATA'!N177","v":0},{"$f":"'[1]Tabel 5 Br B DATA'!O177","v":0},{"$f":"'[1]Tabel 5 Br B DATA'!P177","v":0},{"$f":"'[1]Tabel 5 Br B DATA'!Q177","v":0},{"$f":"'[1]Tabel 5 Br B DATA'!R177","v":0},null,{"$f":"'[1]Tabel 5 Br B DATA'!T177","v":0}]
[{"$f":"'[1]Tabel 5 Br B DATA'!K178","v":"Forstkand."},null,{"$f":"'[1]Tabel 5 Br B DATA'!M178","v":0},{"$f":"'[1]Tabel 5 Br B DATA'!N178","v":0},{"$f":"'[1]Tabel 5 Br B DATA'!O178","v":0},{"$f":"'[1]Tabel 5 Br B DATA'!P178","v":0},{"$f":"'[1]Tabel 5 Br B DATA'!Q178","v":0},{"$f":"'[1]Tabel 5 Br B DATA'!R178","v":0},null,{"$f":"'[1]Tabel 5 Br B DATA'!T178","v":0}]
[{"$f":"'[1]Tabel 5 Br B DATA'!K179","v":"Jordbrugsakad."},null,{"$f":"'[1]Tabel 5 Br B DATA'!M179","v":0},{"$f":"'[1]Tabel 5 Br B DATA'!N179","v":0},{"$f":"'[1]Tabel 5 Br B DATA'!O179","v":0},{"$f":"'[1]Tabel 5 Br B DATA'!P179","v":0},{"$f":"'[1]Tabel 5 Br B DATA'!Q179","v":0},{"$f":"'[1]Tabel 5 Br B DATA'!R179","v":0},null,{"$f":"'[1]Tabel 5 Br B DATA'!T179","v":0}]
[{"$f":"'[1]Tabel 5 Br B DATA'!K180","v":"Mejeriing."},null,{"$f":"'[1]Tabel 5 Br B DATA'!M180","v":0},{"$f":"'[1]Tabel 5 Br B DATA'!N180","v":0},{"$f":"'[1]Tabel 5 Br B DATA'!O180","v":0},{"$f":"'[1]Tabel 5 Br B DATA'!P180","v":0},{"$f":"'[1]Tabel 5 Br B DATA'!Q180","v":0},{"$f":"'[1]Tabel 5 Br B DATA'!R180","v":0},null,{"$f":"'[1]Tabel 5 Br B DATA'!T180","v":0}]
[{"$f":"'[1]Tabel 5 Br B DATA'!K181","v":"Levn.m.kand."},null,{"$f":"'[1]Tabel 5 Br B DATA'!M181","v":0},{"$f":"'[1]Tabel 5 Br B DATA'!N181","v":0},{"$f":"'[1]Tabel 5 Br B DATA'!O181","v":0},{"$f":"'[1]Tabel 5 Br B DATA'!P181","v":0},{"$f":"'[1]Tabel 5 Br B DATA'!Q181","v":0},{"$f":"'[1]Tabel 5 Br B DATA'!R181","v":0},null,{"$f":"'[1]Tabel 5 Br B DATA'!T181","v":0}]
[{"$f":"'[1]Tabel 5 Br B DATA'!K182","v":"Dyrlæge"},null,{"$f":"'[1]Tabel 5 Br B DATA'!M182","v":0},{"$f":"'[1]Tabel 5 Br B DATA'!N182","v":0},{"$f":"'[1]Tabel 5 Br B DATA'!O182","v":0},{"$f":"'[1]Tabel 5 Br B DATA'!P182","v":0},{"$f":"'[1]Tabel 5 Br B DATA'!Q182","v":0},{"$f":"'[1]Tabel 5 Br B DATA'!R182","v":0},null,{"$f":"'[1]Tabel 5 Br B DATA'!T182","v":0}]
[{"$f":"'[1]Tabel 5 Br B DATA'!K183","v":"Farmaceut"},null,{"$f":"'[1]Tabel 5 Br B DATA'!M183","v":0},{"$f":"'[1]Tabel 5 Br B DATA'!N183","v":0},{"$f":"'[1]Tabel 5 Br B DATA'!O183","v":0},{"$f":"'[1]Tabel 5 Br B DATA'!P183","v":0},{"$f":"'[1]Tabel 5 Br B DATA'!Q183","v":0},{"$f":"'[1]Tabel 5 Br B DATA'!R183","v":0},null,{"$f":"'[1]Tabel 5 Br B DATA'!T183","v":0}]
[{"$f":"'[1]Tabel 5 Br B DATA'!K184","v":"Læge"},null,{"$f":"'[1]Tabel 5 Br B DATA'!M184","v":0},{"$f":"'[1]Tabel 5 Br B DATA'!N184","v":0},{"$f":"'[1]Tabel 5 Br B DATA'!O184","v":0},{"$f":"'[1]Tabel 5 Br B DATA'!P184","v":0},{"$f":"'[1]Tabel 5 Br B DATA'!Q184","v":0},{"$f":"'[1]Tabel 5 Br B DATA'!R184","v":0},null,{"$f":"'[1]Tabel 5 Br B DATA'!T184","v":0}]
[{"$f":"'[1]Tabel 5 Br B DATA'!K185","v":"Tandlæge"},null,{"$f":"'[1]Tabel 5 Br B DATA'!M185","v":0},{"$f":"'[1]Tabel 5 Br B DATA'!N185","v":0},{"$f":"'[1]Tabel 5 Br B DATA'!O185","v":0},{"$f":"'[1]Tabel 5 Br B DATA'!P185","v":0},{"$f":"'[1]Tabel 5 Br B DATA'!Q185","v":0},{"$f":"'[1]Tabel 5 Br B DATA'!R185","v":0},null,{"$f":"'[1]Tabel 5 Br B DATA'!T185","v":0}]
[{"$f":"'[1]Tabel 5 Br B DATA'!K186","v":"Arkitekt"},null,{"$f":"'[1]Tabel 5 Br B DATA'!M186","v":0},{"$f":"'[1]Tabel 5 Br B DATA'!N186","v":0},{"$f":"'[1]Tabel 5 Br B DATA'!O186","v":0},{"$f":"'[1]Tabel 5 Br B DATA'!P186","v":0},{"$f":"'[1]Tabel 5 Br B DATA'!Q186","v":0},{"$f":"'[1]Tabel 5 Br B DATA'!R186","v":0},null,{"$f":"'[1]Tabel 5 Br B DATA'!T186","v":0}]
[{"$f":"'[1]Tabel 5 Br B DATA'!K187","v":"Landinspek."},null,{"$f":"'[1]Tabel 5 Br B DATA'!M187","v":0},{"$f":"'[1]Tabel 5 Br B DATA'!N187","v":0},{"$f":"'[1]Tabel 5 Br B DATA'!O187","v":0},{"$f":"'[1]Tabel 5 Br B DATA'!P187","v":0},{"$f":"'[1]Tabel 5 Br B DATA'!Q187","v":0},{"$f":"'[1]Tabel 5 Br B DATA'!R187","v":0},null,{"$f":"'[1]Tabel 5 Br B DATA'!T187","v":0}]
[{"$f":"'[1]Tabel 5 Br B DATA'!K188","v":"Bibliotekar"},null,{"$f":"'[1]Tabel 5 Br B DATA'!M188","v":0},{"$f":"'[1]Tabel 5 Br B DATA'!N188","v":0},{"$f":"'[1]Tabel 5 Br B DATA'!O188","v":0},{"$f":"'[1]Tabel 5 Br B DATA'!P188","v":0},{"$f":"'[1]Tabel 5 Br B DATA'!Q188","v":0},{"$f":"'[1]Tabel 5 Br B DATA'!R188","v":0},null,{"$f":"'[1]Tabel 5 Br B DATA'!T188","v":0}]
[{"$f":"'[1]Tabel 5 Br B DATA'!K189","v":"Musikudd."},null,{"$f":"'[1]Tabel 5 Br B DATA'!M189","v":0},{"$f":"'[1]Tabel 5 Br B DATA'!N189","v":0},{"$f":"'[1]Tabel 5 Br B DATA'!O189","v":0},{"$f":"'[1]Tabel 5 Br B DATA'!P189","v":0},{"$f":"'[1]Tabel 5 Br B DATA'!Q189","v":0},{"$f":"'[1]Tabel 5 Br B DATA'!R189","v":0},null,{"$f":"'[1]Tabel 5 Br B DATA'!T189","v":0}]
[{"$f":"'[1]Tabel 5 Br B DATA'!K190","v":"Teolog"},null,{"$f":"'[1]Tabel 5 Br B DATA'!M190","v":0},{"$f":"'[1]Tabel 5 Br B DATA'!N190","v":0},{"$f":"'[1]Tabel 5 Br B DATA'!O190","v":0},{"$f":"'[1]Tabel 5 Br B DATA'!P190","v":0},{"$f":"'[1]Tabel 5 Br B DATA'!Q190","v":0},{"$f":"'[1]Tabel 5 Br B DATA'!R190","v":0},null,{"$f":"'[1]Tabel 5 Br B DATA'!T190","v":0}]
[{"$f":"'[1]Tabel 5 Br B DATA'!K191","v":"Psykolog"},null,{"$f":"'[1]Tabel 5 Br B DATA'!M191","v":0},{"$f":"'[1]Tabel 5 Br B DATA'!N191","v":0},{"$f":"'[1]Tabel 5 Br B DATA'!O191","v":0},{"$f":"'[1]Tabel 5 Br B DATA'!P191","v":0},{"$f":"'[1]Tabel 5 Br B DATA'!Q191","v":0},{"$f":"'[1]Tabel 5 Br B DATA'!R191","v":0},null,{"$f":"'[1]Tabel 5 Br B DATA'!T191","v":0}]
[{"$f":"'[1]Tabel 5 Br B DATA'!K192","v":"Jurist"},null,{"$f":"'[1]Tabel 5 Br B DATA'!M192","v":0},{"$f":"'[1]Tabel 5 Br B DATA'!N192","v":0},{"$f":"'[1]Tabel 5 Br B DATA'!O192","v":0},{"$f":"'[1]Tabel 5 Br B DATA'!P192","v":0},{"$f":"'[1]Tabel 5 Br B DATA'!Q192","v":0},{"$f":"'[1]Tabel 5 Br B DATA'!R192","v":0},null,{"$f":"'[1]Tabel 5 Br B DATA'!T192","v":0}]
[{"$f":"'[1]Tabel 5 Br B DATA'!K193","v":"Økonom"},null,{"$f":"'[1]Tabel 5 Br B DATA'!M193","v":0},{"$f":"'[1]Tabel 5 Br B DATA'!N193","v":0},{"$f":"'[1]Tabel 5 Br B DATA'!O193","v":0},{"$f":"'[1]Tabel 5 Br B DATA'!P193","v":0},{"$f":"'[1]Tabel 5 Br B DATA'!Q193","v":0},{"$f":"'[1]Tabel 5 Br B DATA'!R193","v":0},null,{"$f":"'[1]Tabel 5 Br B DATA'!T193","v":0}]
[{"$f":"'[1]Tabel 5 Br B DATA'!K194","v":"Samf. Adm."},null,{"$f":"'[1]Tabel 5 Br B DATA'!M194","v":0},{"$f":"'[1]Tabel 5 Br B DATA'!N194","v":0},{"$f":"'[1]Tabel 5 Br B DATA'!O194","v":0},{"$f":"'[1]Tabel 5 Br B DATA'!P194","v":0},{"$f":"'[1]Tabel 5 Br B DATA'!Q194","v":0},{"$f":"'[1]Tabel 5 Br B DATA'!R194","v":0},null,{"$f":"'[1]Tabel 5 Br B DATA'!T194","v":0}]
[{"$f":"'[1]Tabel 5 Br B DATA'!K195","v":"Cand. Merc."},null,{"$f":"'[1]Tabel 5 Br B DATA'!M195","v":0},{"$f":"'[1]Tabel 5 Br B DATA'!N195","v":0},{"$f":"'[1]Tabel 5 Br B DATA'!O195","v":0},{"$f":"'[1]Tabel 5 Br B DATA'!P195","v":0},{"$f":"'[1]Tabel 5 Br B DATA'!Q195","v":0},{"$f":"'[1]Tabel 5 Br B DATA'!R195","v":0},null,{"$f":"'[1]Tabel 5 Br B DATA'!T195","v":0}]
[{"$f":"'[1]Tabel 5 Br B DATA'!K196","v":"HA"},null,{"$f":"'[1]Tabel 5 Br B DATA'!M196","v":0},{"$f":"'[1]Tabel 5 Br B DATA'!N196","v":0},{"$f":"'[1]Tabel 5 Br B DATA'!O196","v":0},{"$f":"'[1]Tabel 5 Br B DATA'!P196","v":0},{"$f":"'[1]Tabel 5 Br B DATA'!Q196","v":0},{"$f":"'[1]Tabel 5 Br B DATA'!R196","v":0},null,{"$f":"'[1]Tabel 5 Br B DATA'!T196","v":0}]
[{"$f":"'[1]Tabel 5 Br B DATA'!K197","v":"HD"},null,{"$f":"'[1]Tabel 5 Br B DATA'!M197","v":0},{"$f":"'[1]Tabel 5 Br B DATA'!N197","v":0},{"$f":"'[1]Tabel 5 Br B DATA'!O197","v":0},{"$f":"'[1]Tabel 5 Br B DATA'!P197","v":0},{"$f":"'[1]Tabel 5 Br B DATA'!Q197","v":0},{"$f":"'[1]Tabel 5 Br B DATA'!R197","v":0},null,{"$f":"'[1]Tabel 5 Br B DATA'!T197","v":0}]
[{"$f":"'[1]Tabel 5 Br B DATA'!K198","v":"Komm. og Sprog"},null,{"$f":"'[1]Tabel 5 Br B DATA'!M198","v":0},{"$f":"'[1]Tabel 5 Br B DATA'!N198","v":0},{"$f":"'[1]Tabel 5 Br B DATA'!O198","v":0},{"$f":"'[1]Tabel 5 Br B DATA'!P198","v":0},{"$f":"'[1]Tabel 5 Br B DATA'!Q198","v":0},{"$f":"'[1]Tabel 5 Br B DATA'!R198","v":0},null,{"$f":"'[1]Tabel 5 Br B DATA'!T198","v":0}]
[{"$f":"'[1]Tabel 5 Br B DATA'!K199","v":"Bygningskonst."},null,{"$f":"'[1]Tabel 5 Br B DATA'!M199","v":0},{"$f":"'[1]Tabel 5 Br B DATA'!N199","v":0},{"$f":"'[1]Tabel 5 Br B DATA'!O199","v":0},{"$f":"'[1]Tabel 5 Br B DATA'!P199","v":0},{"$f":"'[1]Tabel 5 Br B DATA'!Q199","v":0},{"$f":"'[1]Tabel 5 Br B DATA'!R199","v":0},null,{"$f":"'[1]Tabel 5 Br B DATA'!T199","v":0}]
[{"$f":"'[1]Tabel 5 Br B DATA'!K200","v":"Cand. IT."},null,{"$f":"'[1]Tabel 5 Br B DATA'!M200","v":0},{"$f":"'[1]Tabel 5 Br B DATA'!N200","v":0},{"$f":"'[1]Tabel 5 Br B DATA'!O200","v":0},{"$f":"'[1]Tabel 5 Br B DATA'!P200","v":0},{"$f":"'[1]Tabel 5 Br B DATA'!Q200","v":0},{"$f":"'[1]Tabel 5 Br B DATA'!R200","v":0},null,{"$f":"'[1]Tabel 5 Br B DATA'!T200","v":0}]
[{"$f":"'[1]Tabel 5 Br B DATA'!K201","v":"Bac. Samf."},null,{"$f":"'[1]Tabel 5 Br B DATA'!M201","v":0},{"$f":"'[1]Tabel 5 Br B DATA'!N201","v":0},{"$f":"'[1]Tabel 5 Br B DATA'!O201","v":0},{"$f":"'[1]Tabel 5 Br B DATA'!P201","v":0},{"$f":"'[1]Tabel 5 Br B DATA'!Q201","v":0},{"$f":"'[1]Tabel 5 Br B DATA'!R201","v":0},null,{"$f":"'[1]Tabel 5 Br B DATA'!T201","v":0}]
[{"$f":"'[1]Tabel 5 Br B DATA'!K202","v":"Bac. Hum."},null,{"$f":"'[1]Tabel 5 Br B DATA'!M202","v":0},{"$f":"'[1]Tabel 5 Br B DATA'!N202","v":0},{"$f":"'[1]Tabel 5 Br B DATA'!O202","v":0},{"$f":"'[1]Tabel 5 Br B DATA'!P202","v":0},{"$f":"'[1]Tabel 5 Br B DATA'!Q202","v":0},{"$f":"'[1]Tabel 5 Br B DATA'!R202","v":0},null,{"$f":"'[1]Tabel 5 Br B DATA'!T202","v":0}]
[{"$f":"'[1]Tabel 5 Br B DATA'!K203","v":"Bac. Nat."},null,{"$f":"'[1]Tabel 5 Br B DATA'!M203","v":0},{"$f":"'[1]Tabel 5 Br B DATA'!N203","v":0},{"$f":"'[1]Tabel 5 Br B DATA'!O203","v":0},{"$f":"'[1]Tabel 5 Br B DATA'!P203","v":0},{"$f":"'[1]Tabel 5 Br B DATA'!Q203","v":0},{"$f":"'[1]Tabel 5 Br B DATA'!R203","v":0},null,{"$f":"'[1]Tabel 5 Br B DATA'!T203","v":0}]
[{"$f":"'[1]Tabel 5 Br B DATA'!K204","v":"Andre"},null,{"$f":"'[1]Tabel 5 Br B DATA'!M204","v":0},{"$f":"'[1]Tabel 5 Br B DATA'!N204","v":0},{"$f":"'[1]Tabel 5 Br B DATA'!O204","v":0},{"$f":"'[1]Tabel 5 Br B DATA'!P204","v":0},{"$f":"'[1]Tabel 5 Br B DATA'!Q204","v":0},{"$f":"'[1]Tabel 5 Br B DATA'!R204","v":0},null,{"$f":"'[1]Tabel 5 Br B DATA'!T204","v":0}]
[]
[{"$f":"'[1]Tabel 5 Br B DATA'!K206","v":"Total"},null,{"$f":"'[1]Tabel 5 Br B DATA'!M206","v":0},{"$f":"'[1]Tabel 5 Br B DATA'!N206","v":0},{"$f":"'[1]Tabel 5 Br B DATA'!O206","v":0},{"$f":"'[1]Tabel 5 Br B DATA'!P206","v":0},{"$f":"'[1]Tabel 5 Br B DATA'!Q206","v":0},{"$f":"'[1]Tabel 5 Br B DATA'!R206","v":0},null,{"$f":"'[1]Tabel 5 Br B DATA'!T206","v":0}]
[]
[{"$f":"'[1]Tabel 5 Br B DATA'!K208","v":"Ingeniører i alt"},null,{"$f":"'[1]Tabel 5 Br B DATA'!M208","v":0},{"$f":"'[1]Tabel 5 Br B DATA'!N208","v":0},{"$f":"'[1]Tabel 5 Br B DATA'!O208","v":0},{"$f":"'[1]Tabel 5 Br B DATA'!P208","v":0},{"$f":"'[1]Tabel 5 Br B DATA'!Q208","v":0},{"$f":"'[1]Tabel 5 Br B DATA'!R208","v":0},null,{"$f":"'[1]Tabel 5 Br B DATA'!T208","v":0}]
[{"$f":"'[1]Tabel 5 Br B DATA'!K209","v":"Magistre i alt"},null,{"$f":"'[1]Tabel 5 Br B DATA'!M209","v":0},{"$f":"'[1]Tabel 5 Br B DATA'!N209","v":0},{"$f":"'[1]Tabel 5 Br B DATA'!O209","v":0},{"$f":"'[1]Tabel 5 Br B DATA'!P209","v":0},{"$f":"'[1]Tabel 5 Br B DATA'!Q209","v":0},{"$f":"'[1]Tabel 5 Br B DATA'!R209","v":0},null,{"$f":"'[1]Tabel 5 Br B DATA'!T209","v":0}]
[{"$f":"'[1]Tabel 5 Br B DATA'!K210","v":"DJØF'ere i alt"},null,{"$f":"'[1]Tabel 5 Br B DATA'!M210","v":0},{"$f":"'[1]Tabel 5 Br B DATA'!N210","v":0},{"$f":"'[1]Tabel 5 Br B DATA'!O210","v":0},{"$f":"'[1]Tabel 5 Br B DATA'!P210","v":0},{"$f":"'[1]Tabel 5 Br B DATA'!Q210","v":0},{"$f":"'[1]Tabel 5 Br B DATA'!R210","v":0},null,{"$f":"'[1]Tabel 5 Br B DATA'!T210","v":0}]

{"sheet":"Tabel 5P B","index":12,"n_rows":158,"n_cols":10,"rows_kept":158,"cut":false,"hidden":false,"merged":[]}
["Tabel 5. Ledighedsberørte i pct. af forsikrede - kandidatalder"]
[]
["Bornholm"]
[]
[null,null,"Under 1 år"," 1 - 2 år","2 - 4 år","5 - 9 år","10 - 14 år","Over 15 år",null,"Uoplyst"]
[]
["Civ. ing.",null,{"$f":"IF(OR('Tabel 5F B'!C7<5,'Tabel 5 B'!C7<0.5),\"-\",IFERROR('Tabel 5 B'!C7/'Tabel 5F B'!C7*100,\"-\"))","v":"-"},{"$f":"IF(OR('Tabel 5F B'!D7<5,'Tabel 5 B'!D7<0.5),\"-\",IFERROR('Tabel 5 B'!D7/'Tabel 5F B'!D7*100,\"-\"))","v":"-"},{"$f":"IF(OR('Tabel 5F B'!E7<5,'Tabel 5 B'!E7<0.5),\"-\",IFERROR('Tabel 5 B'!E7/'Tabel 5F B'!E7*100,\"-\"))","v":"-"},{"$f":"IF(OR('Tabel 5F B'!F7<5,'Tabel 5 B'!F7<0.5),\"-\",IFERROR('Tabel 5 B'!F7/'Tabel 5F B'!F7*100,\"-\"))","v":30},{"$f":"IF(OR('Tabel 5F B'!G7<5,'Tabel 5 B'!G7<0.5),\"-\",IFERROR('Tabel 5 B'!G7/'Tabel 5F B'!G7*100,\"-\"))","v":"-"},{"$f":"IF(OR('Tabel 5F B'!H7<5,'Tabel 5 B'!H7<0.5),\"-\",IFERROR('Tabel 5 B'!H7/'Tabel 5F B'!H7*100,\"-\"))","v":"-"},null,{"$f":"IF(OR('Tabel 5F B'!J7<5,'Tabel 5 B'!J7<0.5),\"-\",IFERROR('Tabel 5 B'!J7/'Tabel 5F B'!J7*100,\"-\"))","v":"-"}]
["Diplom ing.",null,{"$f":"IF(OR('Tabel 5F B'!C8<5,'Tabel 5 B'!C8<0.5),\"-\",IFERROR('Tabel 5 B'!C8/'Tabel 5F B'!C8*100,\"-\"))","v":"-"},{"$f":"IF(OR('Tabel 5F B'!D8<5,'Tabel 5 B'!D8<0.5),\"-\",IFERROR('Tabel 5 B'!D8/'Tabel 5F B'!D8*100,\"-\"))","v":"-"},{"$f":"IF(OR('Tabel 5F B'!E8<5,'Tabel 5 B'!E8<0.5),\"-\",IFERROR('Tabel 5 B'!E8/'Tabel 5F B'!E8*100,\"-\"))","v":"-"},{"$f":"IF(OR('Tabel 5F B'!F8<5,'Tabel 5 B'!F8<0.5),\"-\",IFERROR('Tabel 5 B'!F8/'Tabel 5F B'!F8*100,\"-\"))","v":"-"},{"$f":"IF(OR('Tabel 5F B'!G8<5,'Tabel 5 B'!G8<0.5),\"-\",IFERROR('Tabel 5 B'!G8/'Tabel 5F B'!G8*100,\"-\"))","v":33.333333333333329},{"$f":"IF(OR('Tabel 5F B'!H8<5,'Tabel 5 B'!H8<0.5),\"-\",IFERROR('Tabel 5 B'!H8/'Tabel 5F B'!H8*100,\"-\"))","v":7.5},null,{"$f":"IF(OR('Tabel 5F B'!J8<5,'Tabel 5 B'!J8<0.5),\"-\",IFERROR('Tabel 5 B'!J8/'Tabel 5F B'!J8*100,\"-\"))","v":"-"}]
["Cand. Scient. Tek",null,{"$f":"IF(OR('Tabel 5F B'!C9<5,'Tabel 5 B'!C9<0.5),\"-\",IFERROR('Tabel 5 B'!C9/'Tabel 5F B'!C9*100,\"-\"))","v":"-"},{"$f":"IF(OR('Tabel 5F B'!D9<5,'Tabel 5 B'!D9<0.5),\"-\",IFERROR('Tabel 5 B'!D9/'Tabel 5F B'!D9*100,\"-\"))","v":"-"},{"$f":"IF(OR('Tabel 5F B'!E9<5,'Tabel 5 B'!E9<0.5),\"-\",IFERROR('Tabel 5 B'!E9/'Tabel 5F B'!E9*100,\"-\"))","v":33.333333333333329},{"$f":"IF(OR('Tabel 5F B'!F9<5,'Tabel 5 B'!F9<0.5),\"-\",IFERROR('Tabel 5 B'!F9/'Tabel 5F B'!F9*100,\"-\"))","v":"-"},{"$f":"IF(OR('Tabel 5F B'!G9<5,'Tabel 5 B'!G9<0.5),\"-\",IFERROR('Tabel 5 B'!G9/'Tabel 5F B'!G9*100,\"-\"))","v":"-"},{"$f":"IF(OR('Tabel 5F B'!H9<5,'Tabel 5 B'!H9<0.5),\"-\",IFERROR('Tabel 5 B'!H9/'Tabel 5F B'!H9*100,\"-\"))","v":"-"},null,{"$f":"IF(OR('Tabel 5F B'!J9<5,'Tabel 5 B'!J9<0.5),\"-\",IFERROR('Tabel 5 B'!J9/'Tabel 5F B'!J9*100,\"-\"))","v":"-"}]
["MA. Hum.",null,{"$f":"IF(OR('Tabel 5F B'!C10<5,'Tabel 5 B'!C10<0.5),\"-\",IFERROR('Tabel 5 B'!C10/'Tabel 5F B'!C10*100,\"-\"))","v":"-"},{"$f":"IF(OR('Tabel 5F B'!D10<5,'Tabel 5 B'!D10<0.5),\"-\",IFERROR('Tabel 5 B'!D10/'Tabel 5F B'!D10*100,\"-\"))","v":"-"},{"$f":"IF(OR('Tabel 5F B'!E10<5,'Tabel 5 B'!E10<0.5),\"-\",IFERROR('Tabel 5 B'!E10/'Tabel 5F B'!E10*100,\"-\"))","v":12.5},{"$f":"IF(OR('Tabel 5F B'!F10<5,'Tabel 5 B'!F10<0.5),\"-\",IFERROR('Tabel 5 B'!F10/'Tabel 5F B'!F10*100,\"-\"))","v":11.76470588235294},{"$f":"IF(OR('Tabel 5F B'!G10<5,'Tabel 5 B'!G10<0.5),\"-\",IFERROR('Tabel 5 B'!G10/'Tabel 5F B'!G10*100,\"-\"))","v":16.666666666666664},{"$f":"IF(OR('Tabel 5F B'!H10<5,'Tabel 5 B'!H10<0.5),\"-\",IFERROR('Tabel 5 B'!H10/'Tabel 5F B'!H10*100,\"-\"))","v":6.666666666666667},null,{"$f":"IF(OR('Tabel 5F B'!J10<5,'Tabel 5 B'!J10<0.5),\"-\",IFERROR('Tabel 5 B'!J10/'Tabel 5F B'!J10*100,\"-\"))","v":50}]
["MA. Nat.",null,{"$f":"IF(OR('Tabel 5F B'!C11<5,'Tabel 5 B'!C11<0.5),\"-\",IFERROR('Tabel 5 B'!C11/'Tabel 5F B'!C11*100,\"-\"))","v":"-"},{"$f":"IF(OR('Tabel 5F B'!D11<5,'Tabel 5 B'!D11<0.5),\"-\",IFERROR('Tabel 5 B'!D11/'Tabel 5F B'!D11*100,\"-\"))","v":"-"},{"$f":"IF(OR('Tabel 5F B'!E11<5,'Tabel 5 B'!E11<0.5),\"-\",IFERROR('Tabel 5 B'!E11/'Tabel 5F B'!E11*100,\"-\"))","v":"-"},{"$f":"IF(OR('Tabel 5F B'!F11<5,'Tabel 5 B'!F11<0.5),\"-\",IFERROR('Tabel 5 B'!F11/'Tabel 5F B'!F11*100,\"-\"))","v":"-"},{"$f":"IF(OR('Tabel 5F B'!G11<5,'Tabel 5 B'!G11<0.5),\"-\",IFERROR('Tabel 5 B'!G11/'Tabel 5F B'!G11*100,\"-\"))","v":"-"},{"$f":"IF(OR('Tabel 5F B'!H11<5,'Tabel 5 B'!H11<0.5),\"-\",IFERROR('Tabel 5 B'!H11/'Tabel 5F B'!H11*100,\"-\"))","v":2.7777777777777777},null,{"$f":"IF(OR('Tabel 5F B'!J11<5,'Tabel 5 B'!J11<0.5),\"-\",IFERROR('Tabel 5 B'!J11/'Tabel 5F B'!J11*100,\"-\"))","v":"-"}]
["MA. Ph.d.",null,{"$f":"IF(OR('Tabel 5F B'!C12<5,'Tabel 5 B'!C12<0.5),\"-\",IFERROR('Tabel 5 B'!C12/'Tabel 5F B'!C12*100,\"-\"))","v":"-"},{"$f":"IF(OR('Tabel 5F B'!D12<5,'Tabel 5 B'!D12<0.5),\"-\",IFERROR('Tabel 5 B'!D12/'Tabel 5F B'!D12*100,\"-\"))","v":"-"},{"$f":"IF(OR('Tabel 5F B'!E12<5,'Tabel 5 B'!E12<0.5),\"-\",IFERROR('Tabel 5 B'!E12/'Tabel 5F B'!E12*100,\"-\"))","v":"-"},{"$f":"IF(OR('Tabel 5F B'!F12<5,'Tabel 5 B'!F12<0.5),\"-\",IFERROR('Tabel 5 B'!F12/'Tabel 5F B'!F12*100,\"-\"))","v":"-"},{"$f":"IF(OR('Tabel 5F B'!G12<5,'Tabel 5 B'!G12<0.5),\"-\",IFERROR('Tabel 5 B'!G12/'Tabel 5F B'!G12*100,\"-\"))","v":"-"},{"$f":"IF(OR('Tabel 5F B'!H12<5,'Tabel 5 B'!H12<0.5),\"-\",IFERROR('Tabel 5 B'!H12/'Tabel 5F B'!H12*100,\"-\"))","v":"-"},null,{"$f":"IF(OR('Tabel 5F B'!J12<5,'Tabel 5 B'!J12<0.5),\"-\",IFERROR('Tabel 5 B'!J12/'Tabel 5F B'!J12*100,\"-\"))","v":"-"}]
["MA. Samf.",null,{"$f":"IF(OR('Tabel 5F B'!C13<5,'Tabel 5 B'!C13<0.5),\"-\",IFERROR('Tabel 5 B'!C13/'Tabel 5F B'!C13*100,\"-\"))","v":"-"},{"$f":"IF(OR('Tabel 5F B'!D13<5,'Tabel 5 B'!D13<0.5),\"-\",IFERROR('Tabel 5 B'!D13/'Tabel 5F B'!D13*100,\"-\"))","v":"-"},{"$f":"IF(OR('Tabel 5F B'!E13<5,'Tabel 5 B'!E13<0.5),\"-\",IFERROR('Tabel 5 B'!E13/'Tabel 5F B'!E13*100,\"-\"))","v":"-"},{"$f":"IF(OR('Tabel 5F B'!F13<5,'Tabel 5 B'!F13<0.5),\"-\",IFERROR('Tabel 5 B'!F13/'Tabel 5F B'!F13*100,\"-\"))","v":"-"},{"$f":"IF(OR('Tabel 5F B'!G13<5,'Tabel 5 B'!G13<0.5),\"-\",IFERROR('Tabel 5 B'!G13/'Tabel 5F B'!G13*100,\"-\"))","v":"-"},{"$f":"IF(OR('Tabel 5F B'!H13<5,'Tabel 5 B'!H13<0.5),\"-\",IFERROR('Tabel 5 B'!H13/'Tabel 5F B'!H13*100,\"-\"))","v":"-"},null,{"$f":"IF(OR('Tabel 5F B'!J13<5,'Tabel 5 B'!J13<0.5),\"-\",IFERROR('Tabel 5 B'!J13/'Tabel 5F B'!J13*100,\"-\"))","v":"-"}]
["Øvrige Mag.",null,{"$f":"IF(OR('Tabel 5F B'!C14<5,'Tabel 5 B'!C14<0.5),\"-\",IFERROR('Tabel 5 B'!C14/'Tabel 5F B'!C14*100,\"-\"))","v":"-"},{"$f":"IF(OR('Tabel 5F B'!D14<5,'Tabel 5 B'!D14<0.5),\"-\",IFERROR('Tabel 5 B'!D14/'Tabel 5F B'!D14*100,\"-\"))","v":"-"},{"$f":"IF(OR('Tabel 5F B'!E14<5,'Tabel 5 B'!E14<0.5),\"-\",IFERROR('Tabel 5 B'!E14/'Tabel 5F B'!E14*100,\"-\"))","v":"-"},{"$f":"IF(OR('Tabel 5F B'!F14<5,'Tabel 5 B'!F14<0.5),\"-\",IFERROR('Tabel 5 B'!F14/'Tabel 5F B'!F14*100,\"-\"))","v":"-"},{"$f":"IF(OR('Tabel 5F B'!G14<5,'Tabel 5 B'!G14<0.5),\"-\",IFERROR('Tabel 5 B'!G14/'Tabel 5F B'!G14*100,\"-\"))","v":"-"},{"$f":"IF(OR('Tabel 5F B'!H14<5,'Tabel 5 B'!H14<0.5),\"-\",IFERROR('Tabel 5 B'!H14/'Tabel 5F B'!H14*100,\"-\"))","v":16.666666666666664},null,{"$f":"IF(OR('Tabel 5F B'!J14<5,'Tabel 5 B'!J14<0.5),\"-\",IFERROR('Tabel 5 B'!J14/'Tabel 5F B'!J14*100,\"-\"))","v":"-"}]
["Agronom",null,{"$f":"IF(OR('Tabel 5F B'!C15<5,'Tabel 5 B'!C15<0.5),\"-\",IFERROR('Tabel 5 B'!C15/'Tabel 5F B'!C15*100,\"-\"))","v":"-"},{"$f":"IF(OR('Tabel 5F B'!D15<5,'Tabel 5 B'!D15<0.5),\"-\",IFERROR('Tabel 5 B'!D15/'Tabel 5F B'!D15*100,\"-\"))","v":"-"},{"$f":"IF(OR('Tabel 5F B'!E15<5,'Tabel 5 B'!E15<0.5),\"-\",IFERROR('Tabel 5 B'!E15/'Tabel 5F B'!E15*100,\"-\"))","v":"-"},{"$f":"IF(OR('Tabel 5F B'!F15<5,'Tabel 5 B'!F15<0.5),\"-\",IFERROR('Tabel 5 B'!F15/'Tabel 5F B'!F15*100,\"-\"))","v":"-"},{"$f":"IF(OR('Tabel 5F B'!G15<5,'Tabel 5 B'!G15<0.5),\"-\",IFERROR('Tabel 5 B'!G15/'Tabel 5F B'!G15*100,\"-\"))","v":"-"},{"$f":"IF(OR('Tabel 5F B'!H15<5,'Tabel 5 B'!H15<0.5),\"-\",IFERROR('Tabel 5 B'!H15/'Tabel 5F B'!H15*100,\"-\"))","v":"-"},null,{"$f":"IF(OR('Tabel 5F B'!J15<5,'Tabel 5 B'!J15<0.5),\"-\",IFERROR('Tabel 5 B'!J15/'Tabel 5F B'!J15*100,\"-\"))","v":"-"}]
["Landsk. Arkt.",null,{"$f":"IF(OR('Tabel 5F B'!C16<5,'Tabel 5 B'!C16<0.5),\"-\",IFERROR('Tabel 5 B'!C16/'Tabel 5F B'!C16*100,\"-\"))","v":"-"},{"$f":"IF(OR('Tabel 5F B'!D16<5,'Tabel 5 B'!D16<0.5),\"-\",IFERROR('Tabel 5 B'!D16/'Tabel 5F B'!D16*100,\"-\"))","v":"-"},{"$f":"IF(OR('Tabel 5F B'!E16<5,'Tabel 5 B'!E16<0.5),\"-\",IFERROR('Tabel 5 B'!E16/'Tabel 5F B'!E16*100,\"-\"))","v":"-"},{"$f":"IF(OR('Tabel 5F B'!F16<5,'Tabel 5 B'!F16<0.5),\"-\",IFERROR('Tabel 5 B'!F16/'Tabel 5F B'!F16*100,\"-\"))","v":"-"},{"$f":"IF(OR('Tabel 5F B'!G16<5,'Tabel 5 B'!G16<0.5),\"-\",IFERROR('Tabel 5 B'!G16/'Tabel 5F B'!G16*100,\"-\"))","v":"-"},{"$f":"IF(OR('Tabel 5F B'!H16<5,'Tabel 5 B'!H16<0.5),\"-\",IFERROR('Tabel 5 B'!H16/'Tabel 5F B'!H16*100,\"-\"))","v":"-"},null,{"$f":"IF(OR('Tabel 5F B'!J16<5,'Tabel 5 B'!J16<0.5),\"-\",IFERROR('Tabel 5 B'!J16/'Tabel 5F B'!J16*100,\"-\"))","v":"-"}]
["Hortonom",null,{"$f":"IF(OR('Tabel 5F B'!C17<5,'Tabel 5 B'!C17<0.5),\"-\",IFERROR('Tabel 5 B'!C17/'Tabel 5F B'!C17*100,\"-\"))","v":"-"},{"$f":"IF(OR('Tabel 5F B'!D17<5,'Tabel 5 B'!D17<0.5),\"-\",IFERROR('Tabel 5 B'!D17/'Tabel 5F B'!D17*100,\"-\"))","v":"-"},{"$f":"IF(OR('Tabel 5F B'!E17<5,'Tabel 5 B'!E17<0.5),\"-\",IFERROR('Tabel 5 B'!E17/'Tabel 5F B'!E17*100,\"-\"))","v":"-"},{"$f":"IF(OR('Tabel 5F B'!F17<5,'Tabel 5 B'!F17<0.5),\"-\",IFERROR('Tabel 5 B'!F17/'Tabel 5F B'!F17*100,\"-\"))","v":"-"},{"$f":"IF(OR('Tabel 5F B'!G17<5,'Tabel 5 B'!G17<0.5),\"-\",IFERROR('Tabel 5 B'!G17/'Tabel 5F B'!G17*100,\"-\"))","v":"-"},{"$f":"IF(OR('Tabel 5F B'!H17<5,'Tabel 5 B'!H17<0.5),\"-\",IFERROR('Tabel 5 B'!H17/'Tabel 5F B'!H17*100,\"-\"))","v":"-"},null,{"$f":"IF(OR('Tabel 5F B'!J17<5,'Tabel 5 B'!J17<0.5),\"-\",IFERROR('Tabel 5 B'!J17/'Tabel 5F B'!J17*100,\"-\"))","v":"-"}]
["Forstkand.",null,{"$f":"IF(OR('Tabel 5F B'!C18<5,'Tabel 5 B'!C18<0.5),\"-\",IFERROR('Tabel 5 B'!C18/'Tabel 5F B'!C18*100,\"-\"))","v":"-"},{"$f":"IF(OR('Tabel 5F B'!D18<5,'Tabel 5 B'!D18<0.5),\"-\",IFERROR('Tabel 5 B'!D18/'Tabel 5F B'!D18*100,\"-\"))","v":"-"},{"$f":"IF(OR('Tabel 5F B'!E18<5,'Tabel 5 B'!E18<0.5),\"-\",IFERROR('Tabel 5 B'!E18/'Tabel 5F B'!E18*100,\"-\"))","v":"-"},{"$f":"IF(OR('Tabel 5F B'!F18<5,'Tabel 5 B'!F18<0.5),\"-\",IFERROR('Tabel 5 B'!F18/'Tabel 5F B'!F18*100,\"-\"))","v":"-"},{"$f":"IF(OR('Tabel 5F B'!G18<5,'Tabel 5 B'!G18<0.5),\"-\",IFERROR('Tabel 5 B'!G18/'Tabel 5F B'!G18*100,\"-\"))","v":"-"},{"$f":"IF(OR('Tabel 5F B'!H18<5,'Tabel 5 B'!H18<0.5),\"-\",IFERROR('Tabel 5 B'!H18/'Tabel 5F B'!H18*100,\"-\"))","v":"-"},null,{"$f":"IF(OR('Tabel 5F B'!J18<5,'Tabel 5 B'!J18<0.5),\"-\",IFERROR('Tabel 5 B'!J18/'Tabel 5F B'!J18*100,\"-\"))","v":"-"}]
["Jordbrugsakad.",null,{"$f":"IF(OR('Tabel 5F B'!C19<5,'Tabel 5 B'!C19<0.5),\"-\",IFERROR('Tabel 5 B'!C19/'Tabel 5F B'!C19*100,\"-\"))","v":"-"},{"$f":"IF(OR('Tabel 5F B'!D19<5,'Tabel 5 B'!D19<0.5),\"-\",IFERROR('Tabel 5 B'!D19/'Tabel 5F B'!D19*100,\"-\"))","v":"-"},{"$f":"IF(OR('Tabel 5F B'!E19<5,'Tabel 5 B'!E19<0.5),\"-\",IFERROR('Tabel 5 B'!E19/'Tabel 5F B'!E19*100,\"-\"))","v":"-"},{"$f":"IF(OR('Tabel 5F B'!F19<5,'Tabel 5 B'!F19<0.5),\"-\",IFERROR('Tabel 5 B'!F19/'Tabel 5F B'!F19*100,\"-\"))","v":"-"},{"$f":"IF(OR('Tabel 5F B'!G19<5,'Tabel 5 B'!G19<0.5),\"-\",IFERROR('Tabel 5 B'!G19/'Tabel 5F B'!G19*100,\"-\"))","v":"-"},{"$f":"IF(OR('Tabel 5F B'!H19<5,'Tabel 5 B'!H19<0.5),\"-\",IFERROR('Tabel 5 B'!H19/'Tabel 5F B'!H19*100,\"-\"))","v":"-"},null,{"$f":"IF(OR('Tabel 5F B'!J19<5,'Tabel 5 B'!J19<0.5),\"-\",IFERROR('Tabel 5 B'!J19/'Tabel 5F B'!J19*100,\"-\"))","v":"-"}]
["Mejeriing.",null,{"$f":"IF(OR('Tabel 5F B'!C20<5,'Tabel 5 B'!C20<0.5),\"-\",IFERROR('Tabel 5 B'!C20/'Tabel 5F B'!C20*100,\"-\"))","v":"-"},{"$f":"IF(OR('Tabel 5F B'!D20<5,'Tabel 5 B'!D20<0.5),\"-\",IFERROR('Tabel 5 B'!D20/'Tabel 5F B'!D20*100,\"-\"))","v":"-"},{"$f":"IF(OR('Tabel 5F B'!E20<5,'Tabel 5 B'!E20<0.5),\"-\",IFERROR('Tabel 5 B'!E20/'Tabel 5F B'!E20*100,\"-\"))","v":"-"},{"$f":"IF(OR('Tabel 5F B'!F20<5,'Tabel 5 B'!F20<0.5),\"-\",IFERROR('Tabel 5 B'!F20/'Tabel 5F B'!F20*100,\"-\"))","v":"-"},{"$f":"IF(OR('Tabel 5F B'!G20<5,'Tabel 5 B'!G20<0.5),\"-\",IFERROR('Tabel 5 B'!G20/'Tabel 5F B'!G20*100,\"-\"))","v":"-"},{"$f":"IF(OR('Tabel 5F B'!H20<5,'Tabel 5 B'!H20<0.5),\"-\",IFERROR('Tabel 5 B'!H20/'Tabel 5F B'!H20*100,\"-\"))","v":"-"},null,{"$f":"IF(OR('Tabel 5F B'!J20<5,'Tabel 5 B'!J20<0.5),\"-\",IFERROR('Tabel 5 B'!J20/'Tabel 5F B'!J20*100,\"-\"))","v":"-"}]
["Levn.m.kand.",null,{"$f":"IF(OR('Tabel 5F B'!C21<5,'Tabel 5 B'!C21<0.5),\"-\",IFERROR('Tabel 5 B'!C21/'Tabel 5F B'!C21*100,\"-\"))","v":"-"},{"$f":"IF(OR('Tabel 5F B'!D21<5,'Tabel 5 B'!D21<0.5),\"-\",IFERROR('Tabel 5 B'!D21/'Tabel 5F B'!D21*100,\"-\"))","v":"-"},{"$f":"IF(OR('Tabel 5F B'!E21<5,'Tabel 5 B'!E21<0.5),\"-\",IFERROR('Tabel 5 B'!E21/'Tabel 5F B'!E21*100,\"-\"))","v":"-"},{"$f":"IF(OR('Tabel 5F B'!F21<5,'Tabel 5 B'!F21<0.5),\"-\",IFERROR('Tabel 5 B'!F21/'Tabel 5F B'!F21*100,\"-\"))","v":"-"},{"$f":"IF(OR('Tabel 5F B'!G21<5,'Tabel 5 B'!G21<0.5),\"-\",IFERROR('Tabel 5 B'!G21/'Tabel 5F B'!G21*100,\"-\"))","v":"-"},{"$f":"IF(OR('Tabel 5F B'!H21<5,'Tabel 5 B'!H21<0.5),\"-\",IFERROR('Tabel 5 B'!H21/'Tabel 5F B'!H21*100,\"-\"))","v":"-"},null,{"$f":"IF(OR('Tabel 5F B'!J21<5,'Tabel 5 B'!J21<0.5),\"-\",IFERROR('Tabel 5 B'!J21/'Tabel 5F B'!J21*100,\"-\"))","v":"-"}]
["Dyrlæge",null,{"$f":"IF(OR('Tabel 5F B'!C22<5,'Tabel 5 B'!C22<0.5),\"-\",IFERROR('Tabel 5 B'!C22/'Tabel 5F B'!C22*100,\"-\"))","v":"-"},{"$f":"IF(OR('Tabel 5F B'!D22<5,'Tabel 5 B'!D22<0.5),\"-\",IFERROR('Tabel 5 B'!D22/'Tabel 5F B'!D22*100,\"-\"))","v":"-"},{"$f":"IF(OR('Tabel 5F B'!E22<5,'Tabel 5 B'!E22<0.5),\"-\",IFERROR('Tabel 5 B'!E22/'Tabel 5F B'!E22*100,\"-\"))","v":"-"},{"$f":"IF(OR('Tabel 5F B'!F22<5,'Tabel 5 B'!F22<0.5),\"-\",IFERROR('Tabel 5 B'!F22/'Tabel 5F B'!F22*100,\"-\"))","v":"-"},{"$f":"IF(OR('Tabel 5F B'!G22<5,'Tabel 5 B'!G22<0.5),\"-\",IFERROR('Tabel 5 B'!G22/'Tabel 5F B'!G22*100,\"-\"))","v":"-"},{"$f":"IF(OR('Tabel 5F B'!H22<5,'Tabel 5 B'!H22<0.5),\"-\",IFERROR('Tabel 5 B'!H22/'Tabel 5F B'!H22*100,\"-\"))","v":"-"},null,{"$f":"IF(OR('Tabel 5F B'!J22<5,'Tabel 5 B'!J22<0.5),\"-\",IFERROR('Tabel 5 B'!J22/'Tabel 5F B'!J22*100,\"-\"))","v":"-"}]
["Farmaceut",null,{"$f":"IF(OR('Tabel 5F B'!C23<5,'Tabel 5 B'!C23<0.5),\"-\",IFERROR('Tabel 5 B'!C23/'Tabel 5F B'!C23*100,\"-\"))","v":"-"},{"$f":"IF(OR('Tabel 5F B'!D23<5,'Tabel 5 B'!D23<0.5),\"-\",IFERROR('Tabel 5 B'!D23/'Tabel 5F B'!D23*100,\"-\"))","v":"-"},{"$f":"IF(OR('Tabel 5F B'!E23<5,'Tabel 5 B'!E23<0.5),\"-\",IFERROR('Tabel 5 B'!E23/'Tabel 5F B'!E23*100,\"-\"))","v":"-"},{"$f":"IF(OR('Tabel 5F B'!F23<5,'Tabel 5 B'!F23<0.5),\"-\",IFERROR('Tabel 5 B'!F23/'Tabel 5F B'!F23*100,\"-\"))","v":"-"},{"$f":"IF(OR('Tabel 5F B'!G23<5,'Tabel 5 B'!G23<0.5),\"-\",IFERROR('Tabel 5 B'!G23/'Tabel 5F B'!G23*100,\"-\"))","v":"-"},{"$f":"IF(OR('Tabel 5F B'!H23<5,'Tabel 5 B'!H23<0.5),\"-\",IFERROR('Tabel 5 B'!H23/'Tabel 5F B'!H23*100,\"-\"))","v":"-"},null,{"$f":"IF(OR('Tabel 5F B'!J23<5,'Tabel 5 B'!J23<0.5),\"-\",IFERROR('Tabel 5 B'!J23/'Tabel 5F B'!J23*100,\"-\"))","v":"-"}]
["Læge",null,{"$f":"IF(OR('Tabel 5F B'!C24<5,'Tabel 5 B'!C24<0.5),\"-\",IFERROR('Tabel 5 B'!C24/'Tabel 5F B'!C24*100,\"-\"))","v":"-"},{"$f":"IF(OR('Tabel 5F B'!D24<5,'Tabel 5 B'!D24<0.5),\"-\",IFERROR('Tabel 5 B'!D24/'Tabel 5F B'!D24*100,\"-\"))","v":"-"},{"$f":"IF(OR('Tabel 5F B'!E24<5,'Tabel 5 B'!E24<0.5),\"-\",IFERROR('Tabel 5 B'!E24/'Tabel 5F B'!E24*100,\"-\"))","v":"-"},{"$f":"IF(OR('Tabel 5F B'!F24<5,'Tabel 5 B'!F24<0.5),\"-\",IFERROR('Tabel 5 B'!F24/'Tabel 5F B'!F24*100,\"-\"))","v":"-"},{"$f":"IF(OR('Tabel 5F B'!G24<5,'Tabel 5 B'!G24<0.5),\"-\",IFERROR('Tabel 5 B'!G24/'Tabel 5F B'!G24*100,\"-\"))","v":"-"},{"$f":"IF(OR('Tabel 5F B'!H24<5,'Tabel 5 B'!H24<0.5),\"-\",IFERROR('Tabel 5 B'!H24/'Tabel 5F B'!H24*100,\"-\"))","v":"-"},null,{"$f":"IF(OR('Tabel 5F B'!J24<5,'Tabel 5 B'!J24<0.5),\"-\",IFERROR('Tabel 5 B'!J24/'Tabel 5F B'!J24*100,\"-\"))","v":"-"}]
["Tandlæge",null,{"$f":"IF(OR('Tabel 5F B'!C25<5,'Tabel 5 B'!C25<0.5),\"-\",IFERROR('Tabel 5 B'!C25/'Tabel 5F B'!C25*100,\"-\"))","v":"-"},{"$f":"IF(OR('Tabel 5F B'!D25<5,'Tabel 5 B'!D25<0.5),\"-\",IFERROR('Tabel 5 B'!D25/'Tabel 5F B'!D25*100,\"-\"))","v":"-"},{"$f":"IF(OR('Tabel 5F B'!E25<5,'Tabel 5 B'!E25<0.5),\"-\",IFERROR('Tabel 5 B'!E25/'Tabel 5F B'!E25*100,\"-\"))","v":"-"},{"$f":"IF(OR('Tabel 5F B'!F25<5,'Tabel 5 B'!F25<0.5),\"-\",IFERROR('Tabel 5 B'!F25/'Tabel 5F B'!F25*100,\"-\"))","v":"-"},{"$f":"IF(OR('Tabel 5F B'!G25<5,'Tabel 5 B'!G25<0.5),\"-\",IFERROR('Tabel 5 B'!G25/'Tabel 5F B'!G25*100,\"-\"))","v":"-"},{"$f":"IF(OR('Tabel 5F B'!H25<5,'Tabel 5 B'!H25<0.5),\"-\",IFERROR('Tabel 5 B'!H25/'Tabel 5F B'!H25*100,\"-\"))","v":"-"},null,{"$f":"IF(OR('Tabel 5F B'!J25<5,'Tabel 5 B'!J25<0.5),\"-\",IFERROR('Tabel 5 B'!J25/'Tabel 5F B'!J25*100,\"-\"))","v":"-"}]
["Arkitekt",null,{"$f":"IF(OR('Tabel 5F B'!C26<5,'Tabel 5 B'!C26<0.5),\"-\",IFERROR('Tabel 5 B'!C26/'Tabel 5F B'!C26*100,\"-\"))","v":"-"},{"$f":"IF(OR('Tabel 5F B'!D26<5,'Tabel 5 B'!D26<0.5),\"-\",IFERROR('Tabel 5 B'!D26/'Tabel 5F B'!D26*100,\"-\"))","v":"-"},{"$f":"IF(OR('Tabel 5F B'!E26<5,'Tabel 5 B'!E26<0.5),\"-\",IFERROR('Tabel 5 B'!E26/'Tabel 5F B'!E26*100,\"-\"))","v":"-"},{"$f":"IF(OR('Tabel 5F B'!F26<5,'Tabel 5 B'!F26<0.5),\"-\",IFERROR('Tabel 5 B'!F26/'Tabel 5F B'!F26*100,\"-\"))","v":"-"},{"$f":"IF(OR('Tabel 5F B'!G26<5,'Tabel 5 B'!G26<0.5),\"-\",IFERROR('Tabel 5 B'!G26/'Tabel 5F B'!G26*100,\"-\"))","v":"-"},{"$f":"IF(OR('Tabel 5F B'!H26<5,'Tabel 5 B'!H26<0.5),\"-\",IFERROR('Tabel 5 B'!H26/'Tabel 5F B'!H26*100,\"-\"))","v":12.5},null,{"$f":"IF(OR('Tabel 5F B'!J26<5,'Tabel 5 B'!J26<0.5),\"-\",IFERROR('Tabel 5 B'!J26/'Tabel 5F B'!J26*100,\"-\"))","v":"-"}]
["Landinspek.",null,{"$f":"IF(OR('Tabel 5F B'!C27<5,'Tabel 5 B'!C27<0.5),\"-\",IFERROR('Tabel 5 B'!C27/'Tabel 5F B'!C27*100,\"-\"))","v":"-"},{"$f":"IF(OR('Tabel 5F B'!D27<5,'Tabel 5 B'!D27<0.5),\"-\",IFERROR('Tabel 5 B'!D27/'Tabel 5F B'!D27*100,\"-\"))","v":"-"},{"$f":"IF(OR('Tabel 5F B'!E27<5,'Tabel 5 B'!E27<0.5),\"-\",IFERROR('Tabel 5 B'!E27/'Tabel 5F B'!E27*100,\"-\"))","v":"-"},{"$f":"IF(OR('Tabel 5F B'!F27<5,'Tabel 5 B'!F27<0.5),\"-\",IFERROR('Tabel 5 B'!F27/'Tabel 5F B'!F27*100,\"-\"))","v":"-"},{"$f":"IF(OR('Tabel 5F B'!G27<5,'Tabel 5 B'!G27<0.5),\"-\",IFERROR('Tabel 5 B'!G27/'Tabel 5F B'!G27*100,\"-\"))","v":"-"},{"$f":"IF(OR('Tabel 5F B'!H27<5,'Tabel 5 B'!H27<0.5),\"-\",IFERROR('Tabel 5 B'!H27/'Tabel 5F B'!H27*100,\"-\"))","v":"-"},null,{"$f":"IF(OR('Tabel 5F B'!J27<5,'Tabel 5 B'!J27<0.5),\"-\",IFERROR('Tabel 5 B'!J27/'Tabel 5F B'!J27*100,\"-\"))","v":"-"}]
["Bibliotekar",null,{"$f":"IF(OR('Tabel 5F B'!C28<5,'Tabel 5 B'!C28<0.5),\"-\",IFERROR('Tabel 5 B'!C28/'Tabel 5F B'!C28*100,\"-\"))","v":"-"},{"$f":"IF(OR('Tabel 5F B'!D28<5,'Tabel 5 B'!D28<0.5),\"-\",IFERROR('Tabel 5 B'!D28/'Tabel 5F B'!D28*100,\"-\"))","v":"-"},{"$f":"IF(OR('Tabel 5F B'!E28<5,'Tabel 5 B'!E28<0.5),\"-\",IFERROR('Tabel 5 B'!E28/'Tabel 5F B'!E28*100,\"-\"))","v":"-"},{"$f":"IF(OR('Tabel 5F B'!F28<5,'Tabel 5 B'!F28<0.5),\"-\",IFERROR('Tabel 5 B'!F28/'Tabel 5F B'!F28*100,\"-\"))","v":"-"},{"$f":"IF(OR('Tabel 5F B'!G28<5,'Tabel 5 B'!G28<0.5),\"-\",IFERROR('Tabel 5 B'!G28/'Tabel 5F B'!G28*100,\"-\"))","v":"-"},{"$f":"IF(OR('Tabel 5F B'!H28<5,'Tabel 5 B'!H28<0.5),\"-\",IFERROR('Tabel 5 B'!H28/'Tabel 5F B'!H28*100,\"-\"))","v":14.285714285714285},null,{"$f":"IF(OR('Tabel 5F B'!J28<5,'Tabel 5 B'!J28<0.5),\"-\",IFERROR('Tabel 5 B'!J28/'Tabel 5F B'!J28*100,\"-\"))","v":"-"}]
["Musikudd.",null,{"$f":"IF(OR('Tabel 5F B'!C29<5,'Tabel 5 B'!C29<0.5),\"-\",IFERROR('Tabel 5 B'!C29/'Tabel 5F B'!C29*100,\"-\"))","v":"-"},{"$f":"IF(OR('Tabel 5F B'!D29<5,'Tabel 5 B'!D29<0.5),\"-\",IFERROR('Tabel 5 B'!D29/'Tabel 5F B'!D29*100,\"-\"))","v":"-"},{"$f":"IF(OR('Tabel 5F B'!E29<5,'Tabel 5 B'!E29<0.5),\"-\",IFERROR('Tabel 5 B'!E29/'Tabel 5F B'!E29*100,\"-\"))","v":"-"},{"$f":"IF(OR('Tabel 5F B'!F29<5,'Tabel 5 B'!F29<0.5),\"-\",IFERROR('Tabel 5 B'!F29/'Tabel 5F B'!F29*100,\"-\"))","v":"-"},{"$f":"IF(OR('Tabel 5F B'!G29<5,'Tabel 5 B'!G29<0.5),\"-\",IFERROR('Tabel 5 B'!G29/'Tabel 5F B'!G29*100,\"-\"))","v":"-"},{"$f":"IF(OR('Tabel 5F B'!H29<5,'Tabel 5 B'!H29<0.5),\"-\",IFERROR('Tabel 5 B'!H29/'Tabel 5F B'!H29*100,\"-\"))","v":"-"},null,{"$f":"IF(OR('Tabel 5F B'!J29<5,'Tabel 5 B'!J29<0.5),\"-\",IFERROR('Tabel 5 B'!J29/'Tabel 5F B'!J29*100,\"-\"))","v":"-"}]
["Teolog",null,{"$f":"IF(OR('Tabel 5F B'!C30<5,'Tabel 5 B'!C30<0.5),\"-\",IFERROR('Tabel 5 B'!C30/'Tabel 5F B'!C30*100,\"-\"))","v":"-"},{"$f":"IF(OR('Tabel 5F B'!D30<5,'Tabel 5 B'!D30<0.5),\"-\",IFERROR('Tabel 5 B'!D30/'Tabel 5F B'!D30*100,\"-\"))","v":"-"},{"$f":"IF(OR('Tabel 5F B'!E30<5,'Tabel 5 B'!E30<0.5),\"-\",IFERROR('Tabel 5 B'!E30/'Tabel 5F B'!E30*100,\"-\"))","v":"-"},{"$f":"IF(OR('Tabel 5F B'!F30<5,'Tabel 5 B'!F30<0.5),\"-\",IFERROR('Tabel 5 B'!F30/'Tabel 5F B'!F30*100,\"-\"))","v":"-"},{"$f":"IF(OR('Tabel 5F B'!G30<5,'Tabel 5 B'!G30<0.5),\"-\",IFERROR('Tabel 5 B'!G30/'Tabel 5F B'!G30*100,\"-\"))","v":"-"},{"$f":"IF(OR('Tabel 5F B'!H30<5,'Tabel 5 B'!H30<0.5),\"-\",IFERROR('Tabel 5 B'!H30/'Tabel 5F B'!H30*100,\"-\"))","v":"-"},null,{"$f":"IF(OR('Tabel 5F B'!J30<5,'Tabel 5 B'!J30<0.5),\"-\",IFERROR('Tabel 5 B'!J30/'Tabel 5F B'!J30*100,\"-\"))","v":"-"}]
["Psykolog",null,{"$f":"IF(OR('Tabel 5F B'!C31<5,'Tabel 5 B'!C31<0.5),\"-\",IFERROR('Tabel 5 B'!C31/'Tabel 5F B'!C31*100,\"-\"))","v":"-"},{"$f":"IF(OR('Tabel 5F B'!D31<5,'Tabel 5 B'!D31<0.5),\"-\",IFERROR('Tabel 5 B'!D31/'Tabel 5F B'!D31*100,\"-\"))","v":"-"},{"$f":"IF(OR('Tabel 5F B'!E31<5,'Tabel 5 B'!E31<0.5),\"-\",IFERROR('Tabel 5 B'!E31/'Tabel 5F B'!E31*100,\"-\"))","v":"-"},{"$f":"IF(OR('Tabel 5F B'!F31<5,'Tabel 5 B'!F31<0.5),\"-\",IFERROR('Tabel 5 B'!F31/'Tabel 5F B'!F31*100,\"-\"))","v":"-"},{"$f":"IF(OR('Tabel 5F B'!G31<5,'Tabel 5 B'!G31<0.5),\"-\",IFERROR('Tabel 5 B'!G31/'Tabel 5F B'!G31*100,\"-\"))","v":"-"},{"$f":"IF(OR('Tabel 5F B'!H31<5,'Tabel 5 B'!H31<0.5),\"-\",IFERROR('Tabel 5 B'!H31/'Tabel 5F B'!H31*100,\"-\"))","v":"-"},null,{"$f":"IF(OR('Tabel 5F B'!J31<5,'Tabel 5 B'!J31<0.5),\"-\",IFERROR('Tabel 5 B'!J31/'Tabel 5F B'!J31*100,\"-\"))","v":"-"}]
["Jurist",null,{"$f":"IF(OR('Tabel 5F B'!C32<5,'Tabel 5 B'!C32<0.5),\"-\",IFERROR('Tabel 5 B'!C32/'Tabel 5F B'!C32*100,\"-\"))","v":"-"},{"$f":"IF(OR('Tabel 5F B'!D32<5,'Tabel 5 B'!D32<0.5),\"-\",IFERROR('Tabel 5 B'!D32/'Tabel 5F B'!D32*100,\"-\"))","v":"-"},{"$f":"IF(OR('Tabel 5F B'!E32<5,'Tabel 5 B'!E32<0.5),\"-\",IFERROR('Tabel 5 B'!E32/'Tabel 5F B'!E32*100,\"-\"))","v":"-"},{"$f":"IF(OR('Tabel 5F B'!F32<5,'Tabel 5 B'!F32<0.5),\"-\",IFERROR('Tabel 5 B'!F32/'Tabel 5F B'!F32*100,\"-\"))","v":"-"},{"$f":"IF(OR('Tabel 5F B'!G32<5,'Tabel 5 B'!G32<0.5),\"-\",IFERROR('Tabel 5 B'!G32/'Tabel 5F B'!G32*100,\"-\"))","v":"-"},{"$f":"IF(OR('Tabel 5F B'!H32<5,'Tabel 5 B'!H32<0.5),\"-\",IFERROR('Tabel 5 B'!H32/'Tabel 5F B'!H32*100,\"-\"))","v":"-"},null,{"$f":"IF(OR('Tabel 5F B'!J32<5,'Tabel 5 B'!J32<0.5),\"-\",IFERROR('Tabel 5 B'!J32/'Tabel 5F B'!J32*100,\"-\"))","v":"-"}]
["Økonom",null,{"$f":"IF(OR('Tabel 5F B'!C33<5,'Tabel 5 B'!C33<0.5),\"-\",IFERROR('Tabel 5 B'!C33/'Tabel 5F B'!C33*100,\"-\"))","v":"-"},{"$f":"IF(OR('Tabel 5F B'!D33<5,'Tabel 5 B'!D33<0.5),\"-\",IFERROR('Tabel 5 B'!D33/'Tabel 5F B'!D33*100,\"-\"))","v":"-"},{"$f":"IF(OR('Tabel 5F B'!E33<5,'Tabel 5 B'!E33<0.5),\"-\",IFERROR('Tabel 5 B'!E33/'Tabel 5F B'!E33*100,\"-\"))","v":"-"},{"$f":"IF(OR('Tabel 5F B'!F33<5,'Tabel 5 B'!F33<0.5),\"-\",IFERROR('Tabel 5 B'!F33/'Tabel 5F B'!F33*100,\"-\"))","v":"-"},{"$f":"IF(OR('Tabel 5F B'!G33<5,'Tabel 5 B'!G33<0.5),\"-\",IFERROR('Tabel 5 B'!G33/'Tabel 5F B'!G33*100,\"-\"))","v":"-"},{"$f":"IF(OR('Tabel 5F B'!H33<5,'Tabel 5 B'!H33<0.5),\"-\",IFERROR('Tabel 5 B'!H33/'Tabel 5F B'!H33*100,\"-\"))","v":"-"},null,{"$f":"IF(OR('Tabel 5F B'!J33<5,'Tabel 5 B'!J33<0.5),\"-\",IFERROR('Tabel 5 B'!J33/'Tabel 5F B'!J33*100,\"-\"))","v":"-"}]
["Samf. Adm.",null,{"$f":"IF(OR('Tabel 5F B'!C34<5,'Tabel 5 B'!C34<0.5),\"-\",IFERROR('Tabel 5 B'!C34/'Tabel 5F B'!C34*100,\"-\"))","v":"-"},{"$f":"IF(OR('Tabel 5F B'!D34<5,'Tabel 5 B'!D34<0.5),\"-\",IFERROR('Tabel 5 B'!D34/'Tabel 5F B'!D34*100,\"-\"))","v":"-"},{"$f":"IF(OR('Tabel 5F B'!E34<5,'Tabel 5 B'!E34<0.5),\"-\",IFERROR('Tabel 5 B'!E34/'Tabel 5F B'!E34*100,\"-\"))","v":"-"},{"$f":"IF(OR('Tabel 5F B'!F34<5,'Tabel 5 B'!F34<0.5),\"-\",IFERROR('Tabel 5 B'!F34/'Tabel 5F B'!F34*100,\"-\"))","v":"-"},{"$f":"IF(OR('Tabel 5F B'!G34<5,'Tabel 5 B'!G34<0.5),\"-\",IFERROR('Tabel 5 B'!G34/'Tabel 5F B'!G34*100,\"-\"))","v":"-"},{"$f":"IF(OR('Tabel 5F B'!H34<5,'Tabel 5 B'!H34<0.5),\"-\",IFERROR('Tabel 5 B'!H34/'Tabel 5F B'!H34*100,\"-\"))","v":5.2631578947368416},null,{"$f":"IF(OR('Tabel 5F B'!J34<5,'Tabel 5 B'!J34<0.5),\"-\",IFERROR('Tabel 5 B'!J34/'Tabel 5F B'!J34*100,\"-\"))","v":22.222222222222221}]
["Cand. Merc.",null,{"$f":"IF(OR('Tabel 5F B'!C35<5,'Tabel 5 B'!C35<0.5),\"-\",IFERROR('Tabel 5 B'!C35/'Tabel 5F B'!C35*100,\"-\"))","v":"-"},{"$f":"IF(OR('Tabel 5F B'!D35<5,'Tabel 5 B'!D35<0.5),\"-\",IFERROR('Tabel 5 B'!D35/'Tabel 5F B'!D35*100,\"-\"))","v":"-"},{"$f":"IF(OR('Tabel 5F B'!E35<5,'Tabel 5 B'!E35<0.5),\"-\",IFERROR('Tabel 5 B'!E35/'Tabel 5F B'!E35*100,\"-\"))","v":"-"},{"$f":"IF(OR('Tabel 5F B'!F35<5,'Tabel 5 B'!F35<0.5),\"-\",IFERROR('Tabel 5 B'!F35/'Tabel 5F B'!F35*100,\"-\"))","v":"-"},{"$f":"IF(OR('Tabel 5F B'!G35<5,'Tabel 5 B'!G35<0.5),\"-\",IFERROR('Tabel 5 B'!G35/'Tabel 5F B'!G35*100,\"-\"))","v":"-"},{"$f":"IF(OR('Tabel 5F B'!H35<5,'Tabel 5 B'!H35<0.5),\"-\",IFERROR('Tabel 5 B'!H35/'Tabel 5F B'!H35*100,\"-\"))","v":13.333333333333334},null,{"$f":"IF(OR('Tabel 5F B'!J35<5,'Tabel 5 B'!J35<0.5),\"-\",IFERROR('Tabel 5 B'!J35/'Tabel 5F B'!J35*100,\"-\"))","v":28.571428571428569}]
["HA",null,{"$f":"IF(OR('Tabel 5F B'!C36<5,'Tabel 5 B'!C36<0.5),\"-\",IFERROR('Tabel 5 B'!C36/'Tabel 5F B'!C36*100,\"-\"))","v":"-"},{"$f":"IF(OR('Tabel 5F B'!D36<5,'Tabel 5 B'!D36<0.5),\"-\",IFERROR('Tabel 5 B'!D36/'Tabel 5F B'!D36*100,\"-\"))","v":"-"},{"$f":"IF(OR('Tabel 5F B'!E36<5,'Tabel 5 B'!E36<0.5),\"-\",IFERROR('Tabel 5 B'!E36/'Tabel 5F B'!E36*100,\"-\"))","v":"-"},{"$f":"IF(OR('Tabel 5F B'!F36<5,'Tabel 5 B'!F36<0.5),\"-\",IFERROR('Tabel 5 B'!F36/'Tabel 5F B'!F36*100,\"-\"))","v":"-"},{"$f":"IF(OR('Tabel 5F B'!G36<5,'Tabel 5 B'!G36<0.5),\"-\",IFERROR('Tabel 5 B'!G36/'Tabel 5F B'!G36*100,\"-\"))","v":"-"},{"$f":"IF(OR('Tabel 5F B'!H36<5,'Tabel 5 B'!H36<0.5),\"-\",IFERROR('Tabel 5 B'!H36/'Tabel 5F B'!H36*100,\"-\"))","v":10},null,{"$f":"IF(OR('Tabel 5F B'!J36<5,'Tabel 5 B'!J36<0.5),\"-\",IFERROR('Tabel 5 B'!J36/'Tabel 5F B'!J36*100,\"-\"))","v":"-"}]
["HD",null,{"$f":"IF(OR('Tabel 5F B'!C37<5,'Tabel 5 B'!C37<0.5),\"-\",IFERROR('Tabel 5 B'!C37/'Tabel 5F B'!C37*100,\"-\"))","v":"-"},{"$f":"IF(OR('Tabel 5F B'!D37<5,'Tabel 5 B'!D37<0.5),\"-\",IFERROR('Tabel 5 B'!D37/'Tabel 5F B'!D37*100,\"-\"))","v":"-"},{"$f":"IF(OR('Tabel 5F B'!E37<5,'Tabel 5 B'!E37<0.5),\"-\",IFERROR('Tabel 5 B'!E37/'Tabel 5F B'!E37*100,\"-\"))","v":"-"},{"$f":"IF(OR('Tabel 5F B'!F37<5,'Tabel 5 B'!F37<0.5),\"-\",IFERROR('Tabel 5 B'!F37/'Tabel 5F B'!F37*100,\"-\"))","v":"-"},{"$f":"IF(OR('Tabel 5F B'!G37<5,'Tabel 5 B'!G37<0.5),\"-\",IFERROR('Tabel 5 B'!G37/'Tabel 5F B'!G37*100,\"-\"))","v":"-"},{"$f":"IF(OR('Tabel 5F B'!H37<5,'Tabel 5 B'!H37<0.5),\"-\",IFERROR('Tabel 5 B'!H37/'Tabel 5F B'!H37*100,\"-\"))","v":"-"},null,{"$f":"IF(OR('Tabel 5F B'!J37<5,'Tabel 5 B'!J37<0.5),\"-\",IFERROR('Tabel 5 B'!J37/'Tabel 5F B'!J37*100,\"-\"))","v":"-"}]
["Komm. og Sprog",null,{"$f":"IF(OR('Tabel 5F B'!C38<5,'Tabel 5 B'!C38<0.5),\"-\",IFERROR('Tabel 5 B'!C38/'Tabel 5F B'!C38*100,\"-\"))","v":"-"},{"$f":"IF(OR('Tabel 5F B'!D38<5,'Tabel 5 B'!D38<0.5),\"-\",IFERROR('Tabel 5 B'!D38/'Tabel 5F B'!D38*100,\"-\"))","v":"-"},{"$f":"IF(OR('Tabel 5F B'!E38<5,'Tabel 5 B'!E38<0.5),\"-\",IFERROR('Tabel 5 B'!E38/'Tabel 5F B'!E38*100,\"-\"))","v":"-"},{"$f":"IF(OR('Tabel 5F B'!F38<5,'Tabel 5 B'!F38<0.5),\"-\",IFERROR('Tabel 5 B'!F38/'Tabel 5F B'!F38*100,\"-\"))","v":"-"},{"$f":"IF(OR('Tabel 5F B'!G38<5,'Tabel 5 B'!G38<0.5),\"-\",IFERROR('Tabel 5 B'!G38/'Tabel 5F B'!G38*100,\"-\"))","v":"-"},{"$f":"IF(OR('Tabel 5F B'!H38<5,'Tabel 5 B'!H38<0.5),\"-\",IFERROR('Tabel 5 B'!H38/'Tabel 5F B'!H38*100,\"-\"))","v":50},null,{"$f":"IF(OR('Tabel 5F B'!J38<5,'Tabel 5 B'!J38<0.5),\"-\",IFERROR('Tabel 5 B'!J38/'Tabel 5F B'!J38*100,\"-\"))","v":"-"}]
["Bygningskonst.",null,{"$f":"IF(OR('Tabel 5F B'!C39<5,'Tabel 5 B'!C39<0.5),\"-\",IFERROR('Tabel 5 B'!C39/'Tabel 5F B'!C39*100,\"-\"))","v":"-"},{"$f":"IF(OR('Tabel 5F B'!D39<5,'Tabel 5 B'!D39<0.5),\"-\",IFERROR('Tabel 5 B'!D39/'Tabel 5F B'!D39*100,\"-\"))","v":"-"},{"$f":"IF(OR('Tabel 5F B'!E39<5,'Tabel 5 B'!E39<0.5),\"-\",IFERROR('Tabel 5 B'!E39/'Tabel 5F B'!E39*100,\"-\"))","v":"-"},{"$f":"IF(OR('Tabel 5F B'!F39<5,'Tabel 5 B'!F39<0.5),\"-\",IFERROR('Tabel 5 B'!F39/'Tabel 5F B'!F39*100,\"-\"))","v":"-"},{"$f":"IF(OR('Tabel 5F B'!G39<5,'Tabel 5 B'!G39<0.5),\"-\",IFERROR('Tabel 5 B'!G39/'Tabel 5F B'!G39*100,\"-\"))","v":"-"},{"$f":"IF(OR('Tabel 5F B'!H39<5,'Tabel 5 B'!H39<0.5),\"-\",IFERROR('Tabel 5 B'!H39/'Tabel 5F B'!H39*100,\"-\"))","v":"-"},null,{"$f":"IF(OR('Tabel 5F B'!J39<5,'Tabel 5 B'!J39<0.5),\"-\",IFERROR('Tabel 5 B'!J39/'Tabel 5F B'!J39*100,\"-\"))","v":"-"}]
["Cand. IT.",null,{"$f":"IF(OR('Tabel 5F B'!C40<5,'Tabel 5 B'!C40<0.5),\"-\",IFERROR('Tabel 5 B'!C40/'Tabel 5F B'!C40*100,\"-\"))","v":"-"},{"$f":"IF(OR('Tabel 5F B'!D40<5,'Tabel 5 B'!D40<0.5),\"-\",IFERROR('Tabel 5 B'!D40/'Tabel 5F B'!D40*100,\"-\"))","v":"-"},{"$f":"IF(OR('Tabel 5F B'!E40<5,'Tabel 5 B'!E40<0.5),\"-\",IFERROR('Tabel 5 B'!E40/'Tabel 5F B'!E40*100,\"-\"))","v":"-"},{"$f":"IF(OR('Tabel 5F B'!F40<5,'Tabel 5 B'!F40<0.5),\"-\",IFERROR('Tabel 5 B'!F40/'Tabel 5F B'!F40*100,\"-\"))","v":"-"},{"$f":"IF(OR('Tabel 5F B'!G40<5,'Tabel 5 B'!G40<0.5),\"-\",IFERROR('Tabel 5 B'!G40/'Tabel 5F B'!G40*100,\"-\"))","v":"-"},{"$f":"IF(OR('Tabel 5F B'!H40<5,'Tabel 5 B'!H40<0.5),\"-\",IFERROR('Tabel 5 B'!H40/'Tabel 5F B'!H40*100,\"-\"))","v":"-"},null,{"$f":"IF(OR('Tabel 5F B'!J40<5,'Tabel 5 B'!J40<0.5),\"-\",IFERROR('Tabel 5 B'!J40/'Tabel 5F B'!J40*100,\"-\"))","v":"-"}]
["Bac. Samf.",null,{"$f":"IF(OR('Tabel 5F B'!C41<5,'Tabel 5 B'!C41<0.5),\"-\",IFERROR('Tabel 5 B'!C41/'Tabel 5F B'!C41*100,\"-\"))","v":"-"},{"$f":"IF(OR('Tabel 5F B'!D41<5,'Tabel 5 B'!D41<0.5),\"-\",IFERROR('Tabel 5 B'!D41/'Tabel 5F B'!D41*100,\"-\"))","v":"-"},{"$f":"IF(OR('Tabel 5F B'!E41<5,'Tabel 5 B'!E41<0.5),\"-\",IFERROR('Tabel 5 B'!E41/'Tabel 5F B'!E41*100,\"-\"))","v":"-"},{"$f":"IF(OR('Tabel 5F B'!F41<5,'Tabel 5 B'!F41<0.5),\"-\",IFERROR('Tabel 5 B'!F41/'Tabel 5F B'!F41*100,\"-\"))","v":"-"},{"$f":"IF(OR('Tabel 5F B'!G41<5,'Tabel 5 B'!G41<0.5),\"-\",IFERROR('Tabel 5 B'!G41/'Tabel 5F B'!G41*100,\"-\"))","v":"-"},{"$f":"IF(OR('Tabel 5F B'!H41<5,'Tabel 5 B'!H41<0.5),\"-\",IFERROR('Tabel 5 B'!H41/'Tabel 5F B'!H41*100,\"-\"))","v":"-"},null,{"$f":"IF(OR('Tabel 5F B'!J41<5,'Tabel 5 B'!J41<0.5),\"-\",IFERROR('Tabel 5 B'!J41/'Tabel 5F B'!J41*100,\"-\"))","v":"-"}]
["Bac. Hum.",null,{"$f":"IF(OR('Tabel 5F B'!C42<5,'Tabel 5 B'!C42<0.5),\"-\",IFERROR('Tabel 5 B'!C42/'Tabel 5F B'!C42*100,\"-\"))","v":"-"},{"$f":"IF(OR('Tabel 5F B'!D42<5,'Tabel 5 B'!D42<0.5),\"-\",IFERROR('Tabel 5 B'!D42/'Tabel 5F B'!D42*100,\"-\"))","v":"-"},{"$f":"IF(OR('Tabel 5F B'!E42<5,'Tabel 5 B'!E42<0.5),\"-\",IFERROR('Tabel 5 B'!E42/'Tabel 5F B'!E42*100,\"-\"))","v":"-"},{"$f":"IF(OR('Tabel 5F B'!F42<5,'Tabel 5 B'!F42<0.5),\"-\",IFERROR('Tabel 5 B'!F42/'Tabel 5F B'!F42*100,\"-\"))","v":"-"},{"$f":"IF(OR('Tabel 5F B'!G42<5,'Tabel 5 B'!G42<0.5),\"-\",IFERROR('Tabel 5 B'!G42/'Tabel 5F B'!G42*100,\"-\"))","v":"-"},{"$f":"IF(OR('Tabel 5F B'!H42<5,'Tabel 5 B'!H42<0.5),\"-\",IFERROR('Tabel 5 B'!H42/'Tabel 5F B'!H42*100,\"-\"))","v":20},null,{"$f":"IF(OR('Tabel 5F B'!J42<5,'Tabel 5 B'!J42<0.5),\"-\",IFERROR('Tabel 5 B'!J42/'Tabel 5F B'!J42*100,\"-\"))","v":"-"}]
["Bac. Nat.",null,{"$f":"IF(OR('Tabel 5F B'!C43<5,'Tabel 5 B'!C43<0.5),\"-\",IFERROR('Tabel 5 B'!C43/'Tabel 5F B'!C43*100,\"-\"))","v":"-"},{"$f":"IF(OR('Tabel 5F B'!D43<5,'Tabel 5 B'!D43<0.5),\"-\",IFERROR('Tabel 5 B'!D43/'Tabel 5F B'!D43*100,\"-\"))","v":"-"},{"$f":"IF(OR('Tabel 5F B'!E43<5,'Tabel 5 B'!E43<0.5),\"-\",IFERROR('Tabel 5 B'!E43/'Tabel 5F B'!E43*100,\"-\"))","v":"-"},{"$f":"IF(OR('Tabel 5F B'!F43<5,'Tabel 5 B'!F43<0.5),\"-\",IFERROR('Tabel 5 B'!F43/'Tabel 5F B'!F43*100,\"-\"))","v":"-"},{"$f":"IF(OR('Tabel 5F B'!G43<5,'Tabel 5 B'!G43<0.5),\"-\",IFERROR('Tabel 5 B'!G43/'Tabel 5F B'!G43*100,\"-\"))","v":"-"},{"$f":"IF(OR('Tabel 5F B'!H43<5,'Tabel 5 B'!H43<0.5),\"-\",IFERROR('Tabel 5 B'!H43/'Tabel 5F B'!H43*100,\"-\"))","v":"-"},null,{"$f":"IF(OR('Tabel 5F B'!J43<5,'Tabel 5 B'!J43<0.5),\"-\",IFERROR('Tabel 5 B'!J43/'Tabel 5F B'!J43*100,\"-\"))","v":"-"}]
["Andre",null,{"$f":"IF(OR('Tabel 5F B'!C44<5,'Tabel 5 B'!C44<0.5),\"-\",IFERROR('Tabel 5 B'!C44/'Tabel 5F B'!C44*100,\"-\"))","v":25},{"$f":"IF(OR('Tabel 5F B'!D44<5,'Tabel 5 B'!D44<0.5),\"-\",IFERROR('Tabel 5 B'!D44/'Tabel 5F B'!D44*100,\"-\"))","v":"-"},{"$f":"IF(OR('Tabel 5F B'!E44<5,'Tabel 5 B'!E44<0.5),\"-\",IFERROR('Tabel 5 B'!E44/'Tabel 5F B'!E44*100,\"-\"))","v":"-"},{"$f":"IF(OR('Tabel 5F B'!F44<5,'Tabel 5 B'!F44<0.5),\"-\",IFERROR('Tabel 5 B'!F44/'Tabel 5F B'!F44*100,\"-\"))","v":33.333333333333329},{"$f":"IF(OR('Tabel 5F B'!G44<5,'Tabel 5 B'!G44<0.5),\"-\",IFERROR('Tabel 5 B'!G44/'Tabel 5F B'!G44*100,\"-\"))","v":11.111111111111111},{"$f":"IF(OR('Tabel 5F B'!H44<5,'Tabel 5 B'!H44<0.5),\"-\",IFERROR('Tabel 5 B'!H44/'Tabel 5F B'!H44*100,\"-\"))","v":7.8431372549019605},null,{"$f":"IF(OR('Tabel 5F B'!J44<5,'Tabel 5 B'!J44<0.5),\"-\",IFERROR('Tabel 5 B'!J44/'Tabel 5F B'!J44*100,\"-\"))","v":8}]
[]
["Total",null,{"$f":"IF(OR('Tabel 5F B'!C46<5,'Tabel 5 B'!C46<0.5),\"-\",IFERROR('Tabel 5 B'!C46/'Tabel 5F B'!C46*100,\"-\"))","v":21.428571428571427},{"$f":"IF(OR('Tabel 5F B'!D46<5,'Tabel 5 B'!D46<0.5),\"-\",IFERROR('Tabel 5 B'!D46/'Tabel 5F B'!D46*100,\"-\"))","v":15.151515151515152},{"$f":"IF(OR('Tabel 5F B'!E46<5,'Tabel 5 B'!E46<0.5),\"-\",IFERROR('Tabel 5 B'!E46/'Tabel 5F B'!E46*100,\"-\"))","v":8.9743589743589745},{"$f":"IF(OR('Tabel 5F B'!F46<5,'Tabel 5 B'!F46<0.5),\"-\",IFERROR('Tabel 5 B'!F46/'Tabel 5F B'!F46*100,\"-\"))","v":10},{"$f":"IF(OR('Tabel 5F B'!G46<5,'Tabel 5 B'!G46<0.5),\"-\",IFERROR('Tabel 5 B'!G46/'Tabel 5F B'!G46*100,\"-\"))","v":8.9887640449438209},{"$f":"IF(OR('Tabel 5F B'!H46<5,'Tabel 5 B'!H46<0.5),\"-\",IFERROR('Tabel 5 B'!H46/'Tabel 5F B'!H46*100,\"-\"))","v":6.336088154269973},null,{"$f":"IF(OR('Tabel 5F B'!J46<5,'Tabel 5 B'!J46<0.5),\"-\",IFERROR('Tabel 5 B'!J46/'Tabel 5F B'!J46*100,\"-\"))","v":13.684210526315791}]
[]
["Ingeniører i alt",null,{"$f":"IF(OR('Tabel 5F B'!C48<5,'Tabel 5 B'!C48<0.5),\"-\",IFERROR('Tabel 5 B'!C48/'Tabel 5F B'!C48*100,\"-\"))","v":"-"},{"$f":"IF(OR('Tabel 5F B'!D48<5,'Tabel 5 B'!D48<0.5),\"-\",IFERROR('Tabel 5 B'!D48/'Tabel 5F B'!D48*100,\"-\"))","v":"-"},{"$f":"IF(OR('Tabel 5F B'!E48<5,'Tabel 5 B'!E48<0.5),\"-\",IFERROR('Tabel 5 B'!E48/'Tabel 5F B'!E48*100,\"-\"))","v":"-"},{"$f":"IF(OR('Tabel 5F B'!F48<5,'Tabel 5 B'!F48<0.5),\"-\",IFERROR('Tabel 5 B'!F48/'Tabel 5F B'!F48*100,\"-\"))","v":16.666666666666664},{"$f":"IF(OR('Tabel 5F B'!G48<5,'Tabel 5 B'!G48<0.5),\"-\",IFERROR('Tabel 5 B'!G48/'Tabel 5F B'!G48*100,\"-\"))","v":20},{"$f":"IF(OR('Tabel 5F B'!H48<5,'Tabel 5 B'!H48<0.5),\"-\",IFERROR('Tabel 5 B'!H48/'Tabel 5F B'!H48*100,\"-\"))","v":5.4545454545454541},null,{"$f":"IF(OR('Tabel 5F B'!J48<5,'Tabel 5 B'!J48<0.5),\"-\",IFERROR('Tabel 5 B'!J48/'Tabel 5F B'!J48*100,\"-\"))","v":"-"}]
["Magistre i alt",null,{"$f":"IF(OR('Tabel 5F B'!C49<5,'Tabel 5 B'!C49<0.5),\"-\",IFERROR('Tabel 5 B'!C49/'Tabel 5F B'!C49*100,\"-\"))","v":"-"},{"$f":"IF(OR('Tabel 5F B'!D49<5,'Tabel 5 B'!D49<0.5),\"-\",IFERROR('Tabel 5 B'!D49/'Tabel 5F B'!D49*100,\"-\"))","v":33.333333333333329},{"$f":"IF(OR('Tabel 5F B'!E49<5,'Tabel 5 B'!E49<0.5),\"-\",IFERROR('Tabel 5 B'!E49/'Tabel 5F B'!E49*100,\"-\"))","v":14.285714285714285},{"$f":"IF(OR('Tabel 5F B'!F49<5,'Tabel 5 B'!F49<0.5),\"-\",IFERROR('Tabel 5 B'!F49/'Tabel 5F B'!F49*100,\"-\"))","v":17.391304347826086},{"$f":"IF(OR('Tabel 5F B'!G49<5,'Tabel 5 B'!G49<0.5),\"-\",IFERROR('Tabel 5 B'!G49/'Tabel 5F B'!G49*100,\"-\"))","v":15.384615384615385},{"$f":"IF(OR('Tabel 5F B'!H49<5,'Tabel 5 B'!H49<0.5),\"-\",IFERROR('Tabel 5 B'!H49/'Tabel 5F B'!H49*100,\"-\"))","v":5.2083333333333339},null,{"$f":"IF(OR('Tabel 5F B'!J49<5,'Tabel 5 B'!J49<0.5),\"-\",IFERROR('Tabel 5 B'!J49/'Tabel 5F B'!J49*100,\"-\"))","v":45.454545454545453}]
["DJØF'ere i alt",null,{"$f":"IF(OR('Tabel 5F B'!C50<5,'Tabel 5 B'!C50<0.5),\"-\",IFERROR('Tabel 5 B'!C50/'Tabel 5F B'!C50*100,\"-\"))","v":"-"},{"$f":"IF(OR('Tabel 5F B'!D50<5,'Tabel 5 B'!D50<0.5),\"-\",IFERROR('Tabel 5 B'!D50/'Tabel 5F B'!D50*100,\"-\"))","v":"-"},{"$f":"IF(OR('Tabel 5F B'!E50<5,'Tabel 5 B'!E50<0.5),\"-\",IFERROR('Tabel 5 B'!E50/'Tabel 5F B'!E50*100,\"-\"))","v":"-"},{"$f":"IF(OR('Tabel 5F B'!F50<5,'Tabel 5 B'!F50<0.5),\"-\",IFERROR('Tabel 5 B'!F50/'Tabel 5F B'!F50*100,\"-\"))","v":"-"},{"$f":"IF(OR('Tabel 5F B'!G50<5,'Tabel 5 B'!G50<0.5),\"-\",IFERROR('Tabel 5 B'!G50/'Tabel 5F B'!G50*100,\"-\"))","v":"-"},{"$f":"IF(OR('Tabel 5F B'!H50<5,'Tabel 5 B'!H50<0.5),\"-\",IFERROR('Tabel 5 B'!H50/'Tabel 5F B'!H50*100,\"-\"))","v":6.557377049180328},null,{"$f":"IF(OR('Tabel 5F B'!J50<5,'Tabel 5 B'!J50<0.5),\"-\",IFERROR('Tabel 5 B'!J50/'Tabel 5F B'!J50*100,\"-\"))","v":18.181818181818183}]
[]
[]
[]
[]
[]
[]
["Bornholm"]
[]
[null,null,"Under 1 år"," 1 - 2 år","2 - 4 år","5 - 9 år","10 - 14 år","Over 15 år",null,"Uoplyst"]
[]
["Civ. ing.",null,{"$f":"IF(OR('Tabel 5F B'!C61<5,'Tabel 5 B'!C61<0.5),\"-\",IFERROR('Tabel 5 B'!C61/'Tabel 5F B'!C61*100,\"-\"))","v":"-"},{"$f":"IF(OR('Tabel 5F B'!D61<5,'Tabel 5 B'!D61<0.5),\"-\",IFERROR('Tabel 5 B'!D61/'Tabel 5F B'!D61*100,\"-\"))","v":"-"},{"$f":"IF(OR('Tabel 5F B'!E61<5,'Tabel 5 B'!E61<0.5),\"-\",IFERROR('Tabel 5 B'!E61/'Tabel 5F B'!E61*100,\"-\"))","v":"-"},{"$f":"IF(OR('Tabel 5F B'!F61<5,'Tabel 5 B'!F61<0.5),\"-\",IFERROR('Tabel 5 B'!F61/'Tabel 5F B'!F61*100,\"-\"))","v":30},{"$f":"IF(OR('Tabel 5F B'!G61<5,'Tabel 5 B'!G61<0.5),\"-\",IFERROR('Tabel 5 B'!G61/'Tabel 5F B'!G61*100,\"-\"))","v":"-"},{"$f":"IF(OR('Tabel 5F B'!H61<5,'Tabel 5 B'!H61<0.5),\"-\",IFERROR('Tabel 5 B'!H61/'Tabel 5F B'!H61*100,\"-\"))","v":"-"},null,{"$f":"IF(OR('Tabel 5F B'!J61<5,'Tabel 5 B'!J61<0.5),\"-\",IFERROR('Tabel 5 B'!J61/'Tabel 5F B'!J61*100,\"-\"))","v":"-"}]
["Diplom ing.",null,{"$f":"IF(OR('Tabel 5F B'!C62<5,'Tabel 5 B'!C62<0.5),\"-\",IFERROR('Tabel 5 B'!C62/'Tabel 5F B'!C62*100,\"-\"))","v":"-"},{"$f":"IF(OR('Tabel 5F B'!D62<5,'Tabel 5 B'!D62<0.5),\"-\",IFERROR('Tabel 5 B'!D62/'Tabel 5F B'!D62*100,\"-\"))","v":"-"},{"$f":"IF(OR('Tabel 5F B'!E62<5,'Tabel 5 B'!E62<0.5),\"-\",IFERROR('Tabel 5 B'!E62/'Tabel 5F B'!E62*100,\"-\"))","v":"-"},{"$f":"IF(OR('Tabel 5F B'!F62<5,'Tabel 5 B'!F62<0.5),\"-\",IFERROR('Tabel 5 B'!F62/'Tabel 5F B'!F62*100,\"-\"))","v":"-"},{"$f":"IF(OR('Tabel 5F B'!G62<5,'Tabel 5 B'!G62<0.5),\"-\",IFERROR('Tabel 5 B'!G62/'Tabel 5F B'!G62*100,\"-\"))","v":33.333333333333329},{"$f":"IF(OR('Tabel 5F B'!H62<5,'Tabel 5 B'!H62<0.5),\"-\",IFERROR('Tabel 5 B'!H62/'Tabel 5F B'!H62*100,\"-\"))","v":7.5},null,{"$f":"IF(OR('Tabel 5F B'!J62<5,'Tabel 5 B'!J62<0.5),\"-\",IFERROR('Tabel 5 B'!J62/'Tabel 5F B'!J62*100,\"-\"))","v":"-"}]
["Cand. Scient. Tek",null,{"$f":"IF(OR('Tabel 5F B'!C63<5,'Tabel 5 B'!C63<0.5),\"-\",IFERROR('Tabel 5 B'!C63/'Tabel 5F B'!C63*100,\"-\"))","v":"-"},{"$f":"IF(OR('Tabel 5F B'!D63<5,'Tabel 5 B'!D63<0.5),\"-\",IFERROR('Tabel 5 B'!D63/'Tabel 5F B'!D63*100,\"-\"))","v":"-"},{"$f":"IF(OR('Tabel 5F B'!E63<5,'Tabel 5 B'!E63<0.5),\"-\",IFERROR('Tabel 5 B'!E63/'Tabel 5F B'!E63*100,\"-\"))","v":33.333333333333329},{"$f":"IF(OR('Tabel 5F B'!F63<5,'Tabel 5 B'!F63<0.5),\"-\",IFERROR('Tabel 5 B'!F63/'Tabel 5F B'!F63*100,\"-\"))","v":"-"},{"$f":"IF(OR('Tabel 5F B'!G63<5,'Tabel 5 B'!G63<0.5),\"-\",IFERROR('Tabel 5 B'!G63/'Tabel 5F B'!G63*100,\"-\"))","v":"-"},{"$f":"IF(OR('Tabel 5F B'!H63<5,'Tabel 5 B'!H63<0.5),\"-\",IFERROR('Tabel 5 B'!H63/'Tabel 5F B'!H63*100,\"-\"))","v":"-"},null,{"$f":"IF(OR('Tabel 5F B'!J63<5,'Tabel 5 B'!J63<0.5),\"-\",IFERROR('Tabel 5 B'!J63/'Tabel 5F B'!J63*100,\"-\"))","v":"-"}]
["MA. Hum.",null,{"$f":"IF(OR('Tabel 5F B'!C64<5,'Tabel 5 B'!C64<0.5),\"-\",IFERROR('Tabel 5 B'!C64/'Tabel 5F B'!C64*100,\"-\"))","v":"-"},{"$f":"IF(OR('Tabel 5F B'!D64<5,'Tabel 5 B'!D64<0.5),\"-\",IFERROR('Tabel 5 B'!D64/'Tabel 5F B'!D64*100,\"-\"))","v":"-"},{"$f":"IF(OR('Tabel 5F B'!E64<5,'Tabel 5 B'!E64<0.5),\"-\",IFERROR('Tabel 5 B'!E64/'Tabel 5F B'!E64*100,\"-\"))","v":12.5},{"$f":"IF(OR('Tabel 5F B'!F64<5,'Tabel 5 B'!F64<0.5),\"-\",IFERROR('Tabel 5 B'!F64/'Tabel 5F B'!F64*100,\"-\"))","v":11.76470588235294},{"$f":"IF(OR('Tabel 5F B'!G64<5,'Tabel 5 B'!G64<0.5),\"-\",IFERROR('Tabel 5 B'!G64/'Tabel 5F B'!G64*100,\"-\"))","v":16.666666666666664},{"$f":"IF(OR('Tabel 5F B'!H64<5,'Tabel 5 B'!H64<0.5),\"-\",IFERROR('Tabel 5 B'!H64/'Tabel 5F B'!H64*100,\"-\"))","v":6.666666666666667},null,{"$f":"IF(OR('Tabel 5F B'!J64<5,'Tabel 5 B'!J64<0.5),\"-\",IFERROR('Tabel 5 B'!J64/'Tabel 5F B'!J64*100,\"-\"))","v":50}]
["MA. Nat.",null,{"$f":"IF(OR('Tabel 5F B'!C65<5,'Tabel 5 B'!C65<0.5),\"-\",IFERROR('Tabel 5 B'!C65/'Tabel 5F B'!C65*100,\"-\"))","v":"-"},{"$f":"IF(OR('Tabel 5F B'!D65<5,'Tabel 5 B'!D65<0.5),\"-\",IFERROR('Tabel 5 B'!D65/'Tabel 5F B'!D65*100,\"-\"))","v":"-"},{"$f":"IF(OR('Tabel 5F B'!E65<5,'Tabel 5 B'!E65<0.5),\"-\",IFERROR('Tabel 5 B'!E65/'Tabel 5F B'!E65*100,\"-\"))","v":"-"},{"$f":"IF(OR('Tabel 5F B'!F65<5,'Tabel 5 B'!F65<0.5),\"-\",IFERROR('Tabel 5 B'!F65/'Tabel 5F B'!F65*100,\"-\"))","v":"-"},{"$f":"IF(OR('Tabel 5F B'!G65<5,'Tabel 5 B'!G65<0.5),\"-\",IFERROR('Tabel 5 B'!G65/'Tabel 5F B'!G65*100,\"-\"))","v":"-"},{"$f":"IF(OR('Tabel 5F B'!H65<5,'Tabel 5 B'!H65<0.5),\"-\",IFERROR('Tabel 5 B'!H65/'Tabel 5F B'!H65*100,\"-\"))","v":2.7777777777777777},null,{"$f":"IF(OR('Tabel 5F B'!J65<5,'Tabel 5 B'!J65<0.5),\"-\",IFERROR('Tabel 5 B'!J65/'Tabel 5F B'!J65*100,\"-\"))","v":"-"}]
["MA. Ph.d.",null,{"$f":"IF(OR('Tabel 5F B'!C66<5,'Tabel 5 B'!C66<0.5),\"-\",IFERROR('Tabel 5 B'!C66/'Tabel 5F B'!C66*100,\"-\"))","v":"-"},{"$f":"IF(OR('Tabel 5F B'!D66<5,'Tabel 5 B'!D66<0.5),\"-\",IFERROR('Tabel 5 B'!D66/'Tabel 5F B'!D66*100,\"-\"))","v":"-"},{"$f":"IF(OR('Tabel 5F B'!E66<5,'Tabel 5 B'!E66<0.5),\"-\",IFERROR('Tabel 5 B'!E66/'Tabel 5F B'!E66*100,\"-\"))","v":"-"},{"$f":"IF(OR('Tabel 5F B'!F66<5,'Tabel 5 B'!F66<0.5),\"-\",IFERROR('Tabel 5 B'!F66/'Tabel 5F B'!F66*100,\"-\"))","v":"-"},{"$f":"IF(OR('Tabel 5F B'!G66<5,'Tabel 5 B'!G66<0.5),\"-\",IFERROR('Tabel 5 B'!G66/'Tabel 5F B'!G66*100,\"-\"))","v":"-"},{"$f":"IF(OR('Tabel 5F B'!H66<5,'Tabel 5 B'!H66<0.5),\"-\",IFERROR('Tabel 5 B'!H66/'Tabel 5F B'!H66*100,\"-\"))","v":"-"},null,{"$f":"IF(OR('Tabel 5F B'!J66<5,'Tabel 5 B'!J66<0.5),\"-\",IFERROR('Tabel 5 B'!J66/'Tabel 5F B'!J66*100,\"-\"))","v":"-"}]
["MA. Samf.",null,{"$f":"IF(OR('Tabel 5F B'!C67<5,'Tabel 5 B'!C67<0.5),\"-\",IFERROR('Tabel 5 B'!C67/'Tabel 5F B'!C67*100,\"-\"))","v":"-"},{"$f":"IF(OR('Tabel 5F B'!D67<5,'Tabel 5 B'!D67<0.5),\"-\",IFERROR('Tabel 5 B'!D67/'Tabel 5F B'!D67*100,\"-\"))","v":"-"},{"$f":"IF(OR('Tabel 5F B'!E67<5,'Tabel 5 B'!E67<0.5),\"-\",IFERROR('Tabel 5 B'!E67/'Tabel 5F B'!E67*100,\"-\"))","v":"-"},{"$f":"IF(OR('Tabel 5F B'!F67<5,'Tabel 5 B'!F67<0.5),\"-\",IFERROR('Tabel 5 B'!F67/'Tabel 5F B'!F67*100,\"-\"))","v":"-"},{"$f":"IF(OR('Tabel 5F B'!G67<5,'Tabel 5 B'!G67<0.5),\"-\",IFERROR('Tabel 5 B'!G67/'Tabel 5F B'!G67*100,\"-\"))","v":"-"},{"$f":"IF(OR('Tabel 5F B'!H67<5,'Tabel 5 B'!H67<0.5),\"-\",IFERROR('Tabel 5 B'!H67/'Tabel 5F B'!H67*100,\"-\"))","v":"-"},null,{"$f":"IF(OR('Tabel 5F B'!J67<5,'Tabel 5 B'!J67<0.5),\"-\",IFERROR('Tabel 5 B'!J67/'Tabel 5F B'!J67*100,\"-\"))","v":"-"}]
["Øvrige Mag.",null,{"$f":"IF(OR('Tabel 5F B'!C68<5,'Tabel 5 B'!C68<0.5),\"-\",IFERROR('Tabel 5 B'!C68/'Tabel 5F B'!C68*100,\"-\"))","v":"-"},{"$f":"IF(OR('Tabel 5F B'!D68<5,'Tabel 5 B'!D68<0.5),\"-\",IFERROR('Tabel 5 B'!D68/'Tabel 5F B'!D68*100,\"-\"))","v":"-"},{"$f":"IF(OR('Tabel 5F B'!E68<5,'Tabel 5 B'!E68<0.5),\"-\",IFERROR('Tabel 5 B'!E68/'Tabel 5F B'!E68*100,\"-\"))","v":"-"},{"$f":"IF(OR('Tabel 5F B'!F68<5,'Tabel 5 B'!F68<0.5),\"-\",IFERROR('Tabel 5 B'!F68/'Tabel 5F B'!F68*100,\"-\"))","v":"-"},{"$f":"IF(OR('Tabel 5F B'!G68<5,'Tabel 5 B'!G68<0.5),\"-\",IFERROR('Tabel 5 B'!G68/'Tabel 5F B'!G68*100,\"-\"))","v":"-"},{"$f":"IF(OR('Tabel 5F B'!H68<5,'Tabel 5 B'!H68<0.5),\"-\",IFERROR('Tabel 5 B'!H68/'Tabel 5F B'!H68*100,\"-\"))","v":16.666666666666664},null,{"$f":"IF(OR('Tabel 5F B'!J68<5,'Tabel 5 B'!J68<0.5),\"-\",IFERROR('Tabel 5 B'!J68/'Tabel 5F B'!J68*100,\"-\"))","v":"-"}]
["Agronom",null,{"$f":"IF(OR('Tabel 5F B'!C69<5,'Tabel 5 B'!C69<0.5),\"-\",IFERROR('Tabel 5 B'!C69/'Tabel 5F B'!C69*100,\"-\"))","v":"-"},{"$f":"IF(OR('Tabel 5F B'!D69<5,'Tabel 5 B'!D69<0.5),\"-\",IFERROR('Tabel 5 B'!D69/'Tabel 5F B'!D69*100,\"-\"))","v":"-"},{"$f":"IF(OR('Tabel 5F B'!E69<5,'Tabel 5 B'!E69<0.5),\"-\",IFERROR('Tabel 5 B'!E69/'Tabel 5F B'!E69*100,\"-\"))","v":"-"},{"$f":"IF(OR('Tabel 5F B'!F69<5,'Tabel 5 B'!F69<0.5),\"-\",IFERROR('Tabel 5 B'!F69/'Tabel 5F B'!F69*100,\"-\"))","v":"-"},{"$f":"IF(OR('Tabel 5F B'!G69<5,'Tabel 5 B'!G69<0.5),\"-\",IFERROR('Tabel 5 B'!G69/'Tabel 5F B'!G69*100,\"-\"))","v":"-"},{"$f":"IF(OR('Tabel 5F B'!H69<5,'Tabel 5 B'!H69<0.5),\"-\",IFERROR('Tabel 5 B'!H69/'Tabel 5F B'!H69*100,\"-\"))","v":"-"},null,{"$f":"IF(OR('Tabel 5F B'!J69<5,'Tabel 5 B'!J69<0.5),\"-\",IFERROR('Tabel 5 B'!J69/'Tabel 5F B'!J69*100,\"-\"))","v":"-"}]
["Landsk. Arkt.",null,{"$f":"IF(OR('Tabel 5F B'!C70<5,'Tabel 5 B'!C70<0.5),\"-\",IFERROR('Tabel 5 B'!C70/'Tabel 5F B'!C70*100,\"-\"))","v":"-"},{"$f":"IF(OR('Tabel 5F B'!D70<5,'Tabel 5 B'!D70<0.5),\"-\",IFERROR('Tabel 5 B'!D70/'Tabel 5F B'!D70*100,\"-\"))","v":"-"},{"$f":"IF(OR('Tabel 5F B'!E70<5,'Tabel 5 B'!E70<0.5),\"-\",IFERROR('Tabel 5 B'!E70/'Tabel 5F B'!E70*100,\"-\"))","v":"-"},{"$f":"IF(OR('Tabel 5F B'!F70<5,'Tabel 5 B'!F70<0.5),\"-\",IFERROR('Tabel 5 B'!F70/'Tabel 5F B'!F70*100,\"-\"))","v":"-"},{"$f":"IF(OR('Tabel 5F B'!G70<5,'Tabel 5 B'!G70<0.5),\"-\",IFERROR('Tabel 5 B'!G70/'Tabel 5F B'!G70*100,\"-\"))","v":"-"},{"$f":"IF(OR('Tabel 5F B'!H70<5,'Tabel 5 B'!H70<0.5),\"-\",IFERROR('Tabel 5 B'!H70/'Tabel 5F B'!H70*100,\"-\"))","v":"-"},null,{"$f":"IF(OR('Tabel 5F B'!J70<5,'Tabel 5 B'!J70<0.5),\"-\",IFERROR('Tabel 5 B'!J70/'Tabel 5F B'!J70*100,\"-\"))","v":"-"}]
["Hortonom",null,{"$f":"IF(OR('Tabel 5F B'!C71<5,'Tabel 5 B'!C71<0.5),\"-\",IFERROR('Tabel 5 B'!C71/'Tabel 5F B'!C71*100,\"-\"))","v":"-"},{"$f":"IF(OR('Tabel 5F B'!D71<5,'Tabel 5 B'!D71<0.5),\"-\",IFERROR('Tabel 5 B'!D71/'Tabel 5F B'!D71*100,\"-\"))","v":"-"},{"$f":"IF(OR('Tabel 5F B'!E71<5,'Tabel 5 B'!E71<0.5),\"-\",IFERROR('Tabel 5 B'!E71/'Tabel 5F B'!E71*100,\"-\"))","v":"-"},{"$f":"IF(OR('Tabel 5F B'!F71<5,'Tabel 5 B'!F71<0.5),\"-\",IFERROR('Tabel 5 B'!F71/'Tabel 5F B'!F71*100,\"-\"))","v":"-"},{"$f":"IF(OR('Tabel 5F B'!G71<5,'Tabel 5 B'!G71<0.5),\"-\",IFERROR('Tabel 5 B'!G71/'Tabel 5F B'!G71*100,\"-\"))","v":"-"},{"$f":"IF(OR('Tabel 5F B'!H71<5,'Tabel 5 B'!H71<0.5),\"-\",IFERROR('Tabel 5 B'!H71/'Tabel 5F B'!H71*100,\"-\"))","v":"-"},null,{"$f":"IF(OR('Tabel 5F B'!J71<5,'Tabel 5 B'!J71<0.5),\"-\",IFERROR('Tabel 5 B'!J71/'Tabel 5F B'!J71*100,\"-\"))","v":"-"}]
["Forstkand.",null,{"$f":"IF(OR('Tabel 5F B'!C72<5,'Tabel 5 B'!C72<0.5),\"-\",IFERROR('Tabel 5 B'!C72/'Tabel 5F B'!C72*100,\"-\"))","v":"-"},{"$f":"IF(OR('Tabel 5F B'!D72<5,'Tabel 5 B'!D72<0.5),\"-\",IFERROR('Tabel 5 B'!D72/'Tabel 5F B'!D72*100,\"-\"))","v":"-"},{"$f":"IF(OR('Tabel 5F B'!E72<5,'Tabel 5 B'!E72<0.5),\"-\",IFERROR('Tabel 5 B'!E72/'Tabel 5F B'!E72*100,\"-\"))","v":"-"},{"$f":"IF(OR('Tabel 5F B'!F72<5,'Tabel 5 B'!F72<0.5),\"-\",IFERROR('Tabel 5 B'!F72/'Tabel 5F B'!F72*100,\"-\"))","v":"-"},{"$f":"IF(OR('Tabel 5F B'!G72<5,'Tabel 5 B'!G72<0.5),\"-\",IFERROR('Tabel 5 B'!G72/'Tabel 5F B'!G72*100,\"-\"))","v":"-"},{"$f":"IF(OR('Tabel 5F B'!H72<5,'Tabel 5 B'!H72<0.5),\"-\",IFERROR('Tabel 5 B'!H72/'Tabel 5F B'!H72*100,\"-\"))","v":"-"},null,{"$f":"IF(OR('Tabel 5F B'!J72<5,'Tabel 5 B'!J72<0.5),\"-\",IFERROR('Tabel 5 B'!J72/'Tabel 5F B'!J72*100,\"-\"))","v":"-"}]
["Jordbrugsakad.",null,{"$f":"IF(OR('Tabel 5F B'!C73<5,'Tabel 5 B'!C73<0.5),\"-\",IFERROR('Tabel 5 B'!C73/'Tabel 5F B'!C73*100,\"-\"))","v":"-"},{"$f":"IF(OR('Tabel 5F B'!D73<5,'Tabel 5 B'!D73<0.5),\"-\",IFERROR('Tabel 5 B'!D73/'Tabel 5F B'!D73*100,\"-\"))","v":"-"},{"$f":"IF(OR('Tabel 5F B'!E73<5,'Tabel 5 B'!E73<0.5),\"-\",IFERROR('Tabel 5 B'!E73/'Tabel 5F B'!E73*100,\"-\"))","v":"-"},{"$f":"IF(OR('Tabel 5F B'!F73<5,'Tabel 5 B'!F73<0.5),\"-\",IFERROR('Tabel 5 B'!F73/'Tabel 5F B'!F73*100,\"-\"))","v":"-"},{"$f":"IF(OR('Tabel 5F B'!G73<5,'Tabel 5 B'!G73<0.5),\"-\",IFERROR('Tabel 5 B'!G73/'Tabel 5F B'!G73*100,\"-\"))","v":"-"},{"$f":"IF(OR('Tabel 5F B'!H73<5,'Tabel 5 B'!H73<0.5),\"-\",IFERROR('Tabel 5 B'!H73/'Tabel 5F B'!H73*100,\"-\"))","v":"-"},null,{"$f":"IF(OR('Tabel 5F B'!J73<5,'Tabel 5 B'!J73<0.5),\"-\",IFERROR('Tabel 5 B'!J73/'Tabel 5F B'!J73*100,\"-\"))","v":"-"}]
["Mejeriing.",null,{"$f":"IF(OR('Tabel 5F B'!C74<5,'Tabel 5 B'!C74<0.5),\"-\",IFERROR('Tabel 5 B'!C74/'Tabel 5F B'!C74*100,\"-\"))","v":"-"},{"$f":"IF(OR('Tabel 5F B'!D74<5,'Tabel 5 B'!D74<0.5),\"-\",IFERROR('Tabel 5 B'!D74/'Tabel 5F B'!D74*100,\"-\"))","v":"-"},{"$f":"IF(OR('Tabel 5F B'!E74<5,'Tabel 5 B'!E74<0.5),\"-\",IFERROR('Tabel 5 B'!E74/'Tabel 5F B'!E74*100,\"-\"))","v":"-"},{"$f":"IF(OR('Tabel 5F B'!F74<5,'Tabel 5 B'!F74<0.5),\"-\",IFERROR('Tabel 5 B'!F74/'Tabel 5F B'!F74*100,\"-\"))","v":"-"},{"$f":"IF(OR('Tabel 5F B'!G74<5,'Tabel 5 B'!G74<0.5),\"-\",IFERROR('Tabel 5 B'!G74/'Tabel 5F B'!G74*100,\"-\"))","v":"-"},{"$f":"IF(OR('Tabel 5F B'!H74<5,'Tabel 5 B'!H74<0.5),\"-\",IFERROR('Tabel 5 B'!H74/'Tabel 5F B'!H74*100,\"-\"))","v":"-"},null,{"$f":"IF(OR('Tabel 5F B'!J74<5,'Tabel 5 B'!J74<0.5),\"-\",IFERROR('Tabel 5 B'!J74/'Tabel 5F B'!J74*100,\"-\"))","v":"-"}]
["Levn.m.kand.",null,{"$f":"IF(OR('Tabel 5F B'!C75<5,'Tabel 5 B'!C75<0.5),\"-\",IFERROR('Tabel 5 B'!C75/'Tabel 5F B'!C75*100,\"-\"))","v":"-"},{"$f":"IF(OR('Tabel 5F B'!D75<5,'Tabel 5 B'!D75<0.5),\"-\",IFERROR('Tabel 5 B'!D75/'Tabel 5F B'!D75*100,\"-\"))","v":"-"},{"$f":"IF(OR('Tabel 5F B'!E75<5,'Tabel 5 B'!E75<0.5),\"-\",IFERROR('Tabel 5 B'!E75/'Tabel 5F B'!E75*100,\"-\"))","v":"-"},{"$f":"IF(OR('Tabel 5F B'!F75<5,'Tabel 5 B'!F75<0.5),\"-\",IFERROR('Tabel 5 B'!F75/'Tabel 5F B'!F75*100,\"-\"))","v":"-"},{"$f":"IF(OR('Tabel 5F B'!G75<5,'Tabel 5 B'!G75<0.5),\"-\",IFERROR('Tabel 5 B'!G75/'Tabel 5F B'!G75*100,\"-\"))","v":"-"},{"$f":"IF(OR('Tabel 5F B'!H75<5,'Tabel 5 B'!H75<0.5),\"-\",IFERROR('Tabel 5 B'!H75/'Tabel 5F B'!H75*100,\"-\"))","v":"-"},null,{"$f":"IF(OR('Tabel 5F B'!J75<5,'Tabel 5 B'!J75<0.5),\"-\",IFERROR('Tabel 5 B'!J75/'Tabel 5F B'!J75*100,\"-\"))","v":"-"}]
["Dyrlæge",null,{"$f":"IF(OR('Tabel 5F B'!C76<5,'Tabel 5 B'!C76<0.5),\"-\",IFERROR('Tabel 5 B'!C76/'Tabel 5F B'!C76*100,\"-\"))","v":"-"},{"$f":"IF(OR('Tabel 5F B'!D76<5,'Tabel 5 B'!D76<0.5),\"-\",IFERROR('Tabel 5 B'!D76/'Tabel 5F B'!D76*100,\"-\"))","v":"-"},{"$f":"IF(OR('Tabel 5F B'!E76<5,'Tabel 5 B'!E76<0.5),\"-\",IFERROR('Tabel 5 B'!E76/'Tabel 5F B'!E76*100,\"-\"))","v":"-"},{"$f":"IF(OR('Tabel 5F B'!F76<5,'Tabel 5 B'!F76<0.5),\"-\",IFERROR('Tabel 5 B'!F76/'Tabel 5F B'!F76*100,\"-\"))","v":"-"},{"$f":"IF(OR('Tabel 5F B'!G76<5,'Tabel 5 B'!G76<0.5),\"-\",IFERROR('Tabel 5 B'!G76/'Tabel 5F B'!G76*100,\"-\"))","v":"-"},{"$f":"IF(OR('Tabel 5F B'!H76<5,'Tabel 5 B'!H76<0.5),\"-\",IFERROR('Tabel 5 B'!H76/'Tabel 5F B'!H76*100,\"-\"))","v":"-"},null,{"$f":"IF(OR('Tabel 5F B'!J76<5,'Tabel 5 B'!J76<0.5),\"-\",IFERROR('Tabel 5 B'!J76/'Tabel 5F B'!J76*100,\"-\"))","v":"-"}]
["Farmaceut",null,{"$f":"IF(OR('Tabel 5F B'!C77<5,'Tabel 5 B'!C77<0.5),\"-\",IFERROR('Tabel 5 B'!C77/'Tabel 5F B'!C77*100,\"-\"))","v":"-"},{"$f":"IF(OR('Tabel 5F B'!D77<5,'Tabel 5 B'!D77<0.5),\"-\",IFERROR('Tabel 5 B'!D77/'Tabel 5F B'!D77*100,\"-\"))","v":"-"},{"$f":"IF(OR('Tabel 5F B'!E77<5,'Tabel 5 B'!E77<0.5),\"-\",IFERROR('Tabel 5 B'!E77/'Tabel 5F B'!E77*100,\"-\"))","v":"-"},{"$f":"IF(OR('Tabel 5F B'!F77<5,'Tabel 5 B'!F77<0.5),\"-\",IFERROR('Tabel 5 B'!F77/'Tabel 5F B'!F77*100,\"-\"))","v":"-"},{"$f":"IF(OR('Tabel 5F B'!G77<5,'Tabel 5 B'!G77<0.5),\"-\",IFERROR('Tabel 5 B'!G77/'Tabel 5F B'!G77*100,\"-\"))","v":"-"},{"$f":"IF(OR('Tabel 5F B'!H77<5,'Tabel 5 B'!H77<0.5),\"-\",IFERROR('Tabel 5 B'!H77/'Tabel 5F B'!H77*100,\"-\"))","v":"-"},null,{"$f":"IF(OR('Tabel 5F B'!J77<5,'Tabel 5 B'!J77<0.5),\"-\",IFERROR('Tabel 5 B'!J77/'Tabel 5F B'!J77*100,\"-\"))","v":"-"}]
["Læge",null,{"$f":"IF(OR('Tabel 5F B'!C78<5,'Tabel 5 B'!C78<0.5),\"-\",IFERROR('Tabel 5 B'!C78/'Tabel 5F B'!C78*100,\"-\"))","v":"-"},{"$f":"IF(OR('Tabel 5F B'!D78<5,'Tabel 5 B'!D78<0.5),\"-\",IFERROR('Tabel 5 B'!D78/'Tabel 5F B'!D78*100,\"-\"))","v":"-"},{"$f":"IF(OR('Tabel 5F B'!E78<5,'Tabel 5 B'!E78<0.5),\"-\",IFERROR('Tabel 5 B'!E78/'Tabel 5F B'!E78*100,\"-\"))","v":"-"},{"$f":"IF(OR('Tabel 5F B'!F78<5,'Tabel 5 B'!F78<0.5),\"-\",IFERROR('Tabel 5 B'!F78/'Tabel 5F B'!F78*100,\"-\"))","v":"-"},{"$f":"IF(OR('Tabel 5F B'!G78<5,'Tabel 5 B'!G78<0.5),\"-\",IFERROR('Tabel 5 B'!G78/'Tabel 5F B'!G78*100,\"-\"))","v":"-"},{"$f":"IF(OR('Tabel 5F B'!H78<5,'Tabel 5 B'!H78<0.5),\"-\",IFERROR('Tabel 5 B'!H78/'Tabel 5F B'!H78*100,\"-\"))","v":"-"},null,{"$f":"IF(OR('Tabel 5F B'!J78<5,'Tabel 5 B'!J78<0.5),\"-\",IFERROR('Tabel 5 B'!J78/'Tabel 5F B'!J78*100,\"-\"))","v":"-"}]
["Tandlæge",null,{"$f":"IF(OR('Tabel 5F B'!C79<5,'Tabel 5 B'!C79<0.5),\"-\",IFERROR('Tabel 5 B'!C79/'Tabel 5F B'!C79*100,\"-\"))","v":"-"},{"$f":"IF(OR('Tabel 5F B'!D79<5,'Tabel 5 B'!D79<0.5),\"-\",IFERROR('Tabel 5 B'!D79/'Tabel 5F B'!D79*100,\"-\"))","v":"-"},{"$f":"IF(OR('Tabel 5F B'!E79<5,'Tabel 5 B'!E79<0.5),\"-\",IFERROR('Tabel 5 B'!E79/'Tabel 5F B'!E79*100,\"-\"))","v":"-"},{"$f":"IF(OR('Tabel 5F B'!F79<5,'Tabel 5 B'!F79<0.5),\"-\",IFERROR('Tabel 5 B'!F79/'Tabel 5F B'!F79*100,\"-\"))","v":"-"},{"$f":"IF(OR('Tabel 5F B'!G79<5,'Tabel 5 B'!G79<0.5),\"-\",IFERROR('Tabel 5 B'!G79/'Tabel 5F B'!G79*100,\"-\"))","v":"-"},{"$f":"IF(OR('Tabel 5F B'!H79<5,'Tabel 5 B'!H79<0.5),\"-\",IFERROR('Tabel 5 B'!H79/'Tabel 5F B'!H79*100,\"-\"))","v":"-"},null,{"$f":"IF(OR('Tabel 5F B'!J79<5,'Tabel 5 B'!J79<0.5),\"-\",IFERROR('Tabel 5 B'!J79/'Tabel 5F B'!J79*100,\"-\"))","v":"-"}]
["Arkitekt",null,{"$f":"IF(OR('Tabel 5F B'!C80<5,'Tabel 5 B'!C80<0.5),\"-\",IFERROR('Tabel 5 B'!C80/'Tabel 5F B'!C80*100,\"-\"))","v":"-"},{"$f":"IF(OR('Tabel 5F B'!D80<5,'Tabel 5 B'!D80<0.5),\"-\",IFERROR('Tabel 5 B'!D80/'Tabel 5F B'!D80*100,\"-\"))","v":"-"},{"$f":"IF(OR('Tabel 5F B'!E80<5,'Tabel 5 B'!E80<0.5),\"-\",IFERROR('Tabel 5 B'!E80/'Tabel 5F B'!E80*100,\"-\"))","v":"-"},{"$f":"IF(OR('Tabel 5F B'!F80<5,'Tabel 5 B'!F80<0.5),\"-\",IFERROR('Tabel 5 B'!F80/'Tabel 5F B'!F80*100,\"-\"))","v":"-"},{"$f":"IF(OR('Tabel 5F B'!G80<5,'Tabel 5 B'!G80<0.5),\"-\",IFERROR('Tabel 5 B'!G80/'Tabel 5F B'!G80*100,\"-\"))","v":"-"},{"$f":"IF(OR('Tabel 5F B'!H80<5,'Tabel 5 B'!H80<0.5),\"-\",IFERROR('Tabel 5 B'!H80/'Tabel 5F B'!H80*100,\"-\"))","v":12.5},null,{"$f":"IF(OR('Tabel 5F B'!J80<5,'Tabel 5 B'!J80<0.5),\"-\",IFERROR('Tabel 5 B'!J80/'Tabel 5F B'!J80*100,\"-\"))","v":"-"}]
["Landinspek.",null,{"$f":"IF(OR('Tabel 5F B'!C81<5,'Tabel 5 B'!C81<0.5),\"-\",IFERROR('Tabel 5 B'!C81/'Tabel 5F B'!C81*100,\"-\"))","v":"-"},{"$f":"IF(OR('Tabel 5F B'!D81<5,'Tabel 5 B'!D81<0.5),\"-\",IFERROR('Tabel 5 B'!D81/'Tabel 5F B'!D81*100,\"-\"))","v":"-"},{"$f":"IF(OR('Tabel 5F B'!E81<5,'Tabel 5 B'!E81<0.5),\"-\",IFERROR('Tabel 5 B'!E81/'Tabel 5F B'!E81*100,\"-\"))","v":"-"},{"$f":"IF(OR('Tabel 5F B'!F81<5,'Tabel 5 B'!F81<0.5),\"-\",IFERROR('Tabel 5 B'!F81/'Tabel 5F B'!F81*100,\"-\"))","v":"-"},{"$f":"IF(OR('Tabel 5F B'!G81<5,'Tabel 5 B'!G81<0.5),\"-\",IFERROR('Tabel 5 B'!G81/'Tabel 5F B'!G81*100,\"-\"))","v":"-"},{"$f":"IF(OR('Tabel 5F B'!H81<5,'Tabel 5 B'!H81<0.5),\"-\",IFERROR('Tabel 5 B'!H81/'Tabel 5F B'!H81*100,\"-\"))","v":"-"},null,{"$f":"IF(OR('Tabel 5F B'!J81<5,'Tabel 5 B'!J81<0.5),\"-\",IFERROR('Tabel 5 B'!J81/'Tabel 5F B'!J81*100,\"-\"))","v":"-"}]
["Bibliotekar",null,{"$f":"IF(OR('Tabel 5F B'!C82<5,'Tabel 5 B'!C82<0.5),\"-\",IFERROR('Tabel 5 B'!C82/'Tabel 5F B'!C82*100,\"-\"))","v":"-"},{"$f":"IF(OR('Tabel 5F B'!D82<5,'Tabel 5 B'!D82<0.5),\"-\",IFERROR('Tabel 5 B'!D82/'Tabel 5F B'!D82*100,\"-\"))","v":"-"},{"$f":"IF(OR('Tabel 5F B'!E82<5,'Tabel 5 B'!E82<0.5),\"-\",IFERROR('Tabel 5 B'!E82/'Tabel 5F B'!E82*100,\"-\"))","v":"-"},{"$f":"IF(OR('Tabel 5F B'!F82<5,'Tabel 5 B'!F82<0.5),\"-\",IFERROR('Tabel 5 B'!F82/'Tabel 5F B'!F82*100,\"-\"))","v":"-"},{"$f":"IF(OR('Tabel 5F B'!G82<5,'Tabel 5 B'!G82<0.5),\"-\",IFERROR('Tabel 5 B'!G82/'Tabel 5F B'!G82*100,\"-\"))","v":"-"},{"$f":"IF(OR('Tabel 5F B'!H82<5,'Tabel 5 B'!H82<0.5),\"-\",IFERROR('Tabel 5 B'!H82/'Tabel 5F B'!H82*100,\"-\"))","v":14.285714285714285},null,{"$f":"IF(OR('Tabel 5F B'!J82<5,'Tabel 5 B'!J82<0.5),\"-\",IFERROR('Tabel 5 B'!J82/'Tabel 5F B'!J82*100,\"-\"))","v":"-"}]
["Musikudd.",null,{"$f":"IF(OR('Tabel 5F B'!C83<5,'Tabel 5 B'!C83<0.5),\"-\",IFERROR('Tabel 5 B'!C83/'Tabel 5F B'!C83*100,\"-\"))","v":"-"},{"$f":"IF(OR('Tabel 5F B'!D83<5,'Tabel 5 B'!D83<0.5),\"-\",IFERROR('Tabel 5 B'!D83/'Tabel 5F B'!D83*100,\"-\"))","v":"-"},{"$f":"IF(OR('Tabel 5F B'!E83<5,'Tabel 5 B'!E83<0.5),\"-\",IFERROR('Tabel 5 B'!E83/'Tabel 5F B'!E83*100,\"-\"))","v":"-"},{"$f":"IF(OR('Tabel 5F B'!F83<5,'Tabel 5 B'!F83<0.5),\"-\",IFERROR('Tabel 5 B'!F83/'Tabel 5F B'!F83*100,\"-\"))","v":"-"},{"$f":"IF(OR('Tabel 5F B'!G83<5,'Tabel 5 B'!G83<0.5),\"-\",IFERROR('Tabel 5 B'!G83/'Tabel 5F B'!G83*100,\"-\"))","v":"-"},{"$f":"IF(OR('Tabel 5F B'!H83<5,'Tabel 5 B'!H83<0.5),\"-\",IFERROR('Tabel 5 B'!H83/'Tabel 5F B'!H83*100,\"-\"))","v":"-"},null,{"$f":"IF(OR('Tabel 5F B'!J83<5,'Tabel 5 B'!J83<0.5),\"-\",IFERROR('Tabel 5 B'!J83/'Tabel 5F B'!J83*100,\"-\"))","v":"-"}]
["Teolog",null,{"$f":"IF(OR('Tabel 5F B'!C84<5,'Tabel 5 B'!C84<0.5),\"-\",IFERROR('Tabel 5 B'!C84/'Tabel 5F B'!C84*100,\"-\"))","v":"-"},{"$f":"IF(OR('Tabel 5F B'!D84<5,'Tabel 5 B'!D84<0.5),\"-\",IFERROR('Tabel 5 B'!D84/'Tabel 5F B'!D84*100,\"-\"))","v":"-"},{"$f":"IF(OR('Tabel 5F B'!E84<5,'Tabel 5 B'!E84<0.5),\"-\",IFERROR('Tabel 5 B'!E84/'Tabel 5F B'!E84*100,\"-\"))","v":"-"},{"$f":"IF(OR('Tabel 5F B'!F84<5,'Tabel 5 B'!F84<0.5),\"-\",IFERROR('Tabel 5 B'!F84/'Tabel 5F B'!F84*100,\"-\"))","v":"-"},{"$f":"IF(OR('Tabel 5F B'!G84<5,'Tabel 5 B'!G84<0.5),\"-\",IFERROR('Tabel 5 B'!G84/'Tabel 5F B'!G84*100,\"-\"))","v":"-"},{"$f":"IF(OR('Tabel 5F B'!H84<5,'Tabel 5 B'!H84<0.5),\"-\",IFERROR('Tabel 5 B'!H84/'Tabel 5F B'!H84*100,\"-\"))","v":"-"},null,{"$f":"IF(OR('Tabel 5F B'!J84<5,'Tabel 5 B'!J84<0.5),\"-\",IFERROR('Tabel 5 B'!J84/'Tabel 5F B'!J84*100,\"-\"))","v":"-"}]
["Psykolog",null,{"$f":"IF(OR('Tabel 5F B'!C85<5,'Tabel 5 B'!C85<0.5),\"-\",IFERROR('Tabel 5 B'!C85/'Tabel 5F B'!C85*100,\"-\"))","v":"-"},{"$f":"IF(OR('Tabel 5F B'!D85<5,'Tabel 5 B'!D85<0.5),\"-\",IFERROR('Tabel 5 B'!D85/'Tabel 5F B'!D85*100,\"-\"))","v":"-"},{"$f":"IF(OR('Tabel 5F B'!E85<5,'Tabel 5 B'!E85<0.5),\"-\",IFERROR('Tabel 5 B'!E85/'Tabel 5F B'!E85*100,\"-\"))","v":"-"},{"$f":"IF(OR('Tabel 5F B'!F85<5,'Tabel 5 B'!F85<0.5),\"-\",IFERROR('Tabel 5 B'!F85/'Tabel 5F B'!F85*100,\"-\"))","v":"-"},{"$f":"IF(OR('Tabel 5F B'!G85<5,'Tabel 5 B'!G85<0.5),\"-\",IFERROR('Tabel 5 B'!G85/'Tabel 5F B'!G85*100,\"-\"))","v":"-"},{"$f":"IF(OR('Tabel 5F B'!H85<5,'Tabel 5 B'!H85<0.5),\"-\",IFERROR('Tabel 5 B'!H85/'Tabel 5F B'!H85*100,\"-\"))","v":"-"},null,{"$f":"IF(OR('Tabel 5F B'!J85<5,'Tabel 5 B'!J85<0.5),\"-\",IFERROR('Tabel 5 B'!J85/'Tabel 5F B'!J85*100,\"-\"))","v":"-"}]
["Jurist",null,{"$f":"IF(OR('Tabel 5F B'!C86<5,'Tabel 5 B'!C86<0.5),\"-\",IFERROR('Tabel 5 B'!C86/'Tabel 5F B'!C86*100,\"-\"))","v":"-"},{"$f":"IF(OR('Tabel 5F B'!D86<5,'Tabel 5 B'!D86<0.5),\"-\",IFERROR('Tabel 5 B'!D86/'Tabel 5F B'!D86*100,\"-\"))","v":"-"},{"$f":"IF(OR('Tabel 5F B'!E86<5,'Tabel 5 B'!E86<0.5),\"-\",IFERROR('Tabel 5 B'!E86/'Tabel 5F B'!E86*100,\"-\"))","v":"-"},{"$f":"IF(OR('Tabel 5F B'!F86<5,'Tabel 5 B'!F86<0.5),\"-\",IFERROR('Tabel 5 B'!F86/'Tabel 5F B'!F86*100,\"-\"))","v":"-"},{"$f":"IF(OR('Tabel 5F B'!G86<5,'Tabel 5 B'!G86<0.5),\"-\",IFERROR('Tabel 5 B'!G86/'Tabel 5F B'!G86*100,\"-\"))","v":"-"},{"$f":"IF(OR('Tabel 5F B'!H86<5,'Tabel 5 B'!H86<0.5),\"-\",IFERROR('Tabel 5 B'!H86/'Tabel 5F B'!H86*100,\"-\"))","v":"-"},null,{"$f":"IF(OR('Tabel 5F B'!J86<5,'Tabel 5 B'!J86<0.5),\"-\",IFERROR('Tabel 5 B'!J86/'Tabel 5F B'!J86*100,\"-\"))","v":"-"}]
["Økonom",null,{"$f":"IF(OR('Tabel 5F B'!C87<5,'Tabel 5 B'!C87<0.5),\"-\",IFERROR('Tabel 5 B'!C87/'Tabel 5F B'!C87*100,\"-\"))","v":"-"},{"$f":"IF(OR('Tabel 5F B'!D87<5,'Tabel 5 B'!D87<0.5),\"-\",IFERROR('Tabel 5 B'!D87/'Tabel 5F B'!D87*100,\"-\"))","v":"-"},{"$f":"IF(OR('Tabel 5F B'!E87<5,'Tabel 5 B'!E87<0.5),\"-\",IFERROR('Tabel 5 B'!E87/'Tabel 5F B'!E87*100,\"-\"))","v":"-"},{"$f":"IF(OR('Tabel 5F B'!F87<5,'Tabel 5 B'!F87<0.5),\"-\",IFERROR('Tabel 5 B'!F87/'Tabel 5F B'!F87*100,\"-\"))","v":"-"},{"$f":"IF(OR('Tabel 5F B'!G87<5,'Tabel 5 B'!G87<0.5),\"-\",IFERROR('Tabel 5 B'!G87/'Tabel 5F B'!G87*100,\"-\"))","v":"-"},{"$f":"IF(OR('Tabel 5F B'!H87<5,'Tabel 5 B'!H87<0.5),\"-\",IFERROR('Tabel 5 B'!H87/'Tabel 5F B'!H87*100,\"-\"))","v":"-"},null,{"$f":"IF(OR('Tabel 5F B'!J87<5,'Tabel 5 B'!J87<0.5),\"-\",IFERROR('Tabel 5 B'!J87/'Tabel 5F B'!J87*100,\"-\"))","v":"-"}]
["Samf. Adm.",null,{"$f":"IF(OR('Tabel 5F B'!C88<5,'Tabel 5 B'!C88<0.5),\"-\",IFERROR('Tabel 5 B'!C88/'Tabel 5F B'!C88*100,\"-\"))","v":"-"},{"$f":"IF(OR('Tabel 5F B'!D88<5,'Tabel 5 B'!D88<0.5),\"-\",IFERROR('Tabel 5 B'!D88/'Tabel 5F B'!D88*100,\"-\"))","v":"-"},{"$f":"IF(OR('Tabel 5F B'!E88<5,'Tabel 5 B'!E88<0.5),\"-\",IFERROR('Tabel 5 B'!E88/'Tabel 5F B'!E88*100,\"-\"))","v":"-"},{"$f":"IF(OR('Tabel 5F B'!F88<5,'Tabel 5 B'!F88<0.5),\"-\",IFERROR('Tabel 5 B'!F88/'Tabel 5F B'!F88*100,\"-\"))","v":"-"},{"$f":"IF(OR('Tabel 5F B'!G88<5,'Tabel 5 B'!G88<0.5),\"-\",IFERROR('Tabel 5 B'!G88/'Tabel 5F B'!G88*100,\"-\"))","v":"-"},{"$f":"IF(OR('Tabel 5F B'!H88<5,'Tabel 5 B'!H88<0.5),\"-\",IFERROR('Tabel 5 B'!H88/'Tabel 5F B'!H88*100,\"-\"))","v":5.2631578947368416},null,{"$f":"IF(OR('Tabel 5F B'!J88<5,'Tabel 5 B'!J88<0.5),\"-\",IFERROR('Tabel 5 B'!J88/'Tabel 5F B'!J88*100,\"-\"))","v":22.222222222222221}]
["Cand. Merc.",null,{"$f":"IF(OR('Tabel 5F B'!C89<5,'Tabel 5 B'!C89<0.5),\"-\",IFERROR('Tabel 5 B'!C89/'Tabel 5F B'!C89*100,\"-\"))","v":"-"},{"$f":"IF(OR('Tabel 5F B'!D89<5,'Tabel 5 B'!D89<0.5),\"-\",IFERROR('Tabel 5 B'!D89/'Tabel 5F B'!D89*100,\"-\"))","v":"-"},{"$f":"IF(OR('Tabel 5F B'!E89<5,'Tabel 5 B'!E89<0.5),\"-\",IFERROR('Tabel 5 B'!E89/'Tabel 5F B'!E89*100,\"-\"))","v":"-"},{"$f":"IF(OR('Tabel 5F B'!F89<5,'Tabel 5 B'!F89<0.5),\"-\",IFERROR('Tabel 5 B'!F89/'Tabel 5F B'!F89*100,\"-\"))","v":"-"},{"$f":"IF(OR('Tabel 5F B'!G89<5,'Tabel 5 B'!G89<0.5),\"-\",IFERROR('Tabel 5 B'!G89/'Tabel 5F B'!G89*100,\"-\"))","v":"-"},{"$f":"IF(OR('Tabel 5F B'!H89<5,'Tabel 5 B'!H89<0.5),\"-\",IFERROR('Tabel 5 B'!H89/'Tabel 5F B'!H89*100,\"-\"))","v":13.333333333333334},null,{"$f":"IF(OR('Tabel 5F B'!J89<5,'Tabel 5 B'!J89<0.5),\"-\",IFERROR('Tabel 5 B'!J89/'Tabel 5F B'!J89*100,\"-\"))","v":28.571428571428569}]
["HA",null,{"$f":"IF(OR('Tabel 5F B'!C90<5,'Tabel 5 B'!C90<0.5),\"-\",IFERROR('Tabel 5 B'!C90/'Tabel 5F B'!C90*100,\"-\"))","v":"-"},{"$f":"IF(OR('Tabel 5F B'!D90<5,'Tabel 5 B'!D90<0.5),\"-\",IFERROR('Tabel 5 B'!D90/'Tabel 5F B'!D90*100,\"-\"))","v":"-"},{"$f":"IF(OR('Tabel 5F B'!E90<5,'Tabel 5 B'!E90<0.5),\"-\",IFERROR('Tabel 5 B'!E90/'Tabel 5F B'!E90*100,\"-\"))","v":"-"},{"$f":"IF(OR('Tabel 5F B'!F90<5,'Tabel 5 B'!F90<0.5),\"-\",IFERROR('Tabel 5 B'!F90/'Tabel 5F B'!F90*100,\"-\"))","v":"-"},{"$f":"IF(OR('Tabel 5F B'!G90<5,'Tabel 5 B'!G90<0.5),\"-\",IFERROR('Tabel 5 B'!G90/'Tabel 5F B'!G90*100,\"-\"))","v":"-"},{"$f":"IF(OR('Tabel 5F B'!H90<5,'Tabel 5 B'!H90<0.5),\"-\",IFERROR('Tabel 5 B'!H90/'Tabel 5F B'!H90*100,\"-\"))","v":10},null,{"$f":"IF(OR('Tabel 5F B'!J90<5,'Tabel 5 B'!J90<0.5),\"-\",IFERROR('Tabel 5 B'!J90/'Tabel 5F B'!J90*100,\"-\"))","v":"-"}]
["HD",null,{"$f":"IF(OR('Tabel 5F B'!C91<5,'Tabel 5 B'!C91<0.5),\"-\",IFERROR('Tabel 5 B'!C91/'Tabel 5F B'!C91*100,\"-\"))","v":"-"},{"$f":"IF(OR('Tabel 5F B'!D91<5,'Tabel 5 B'!D91<0.5),\"-\",IFERROR('Tabel 5 B'!D91/'Tabel 5F B'!D91*100,\"-\"))","v":"-"},{"$f":"IF(OR('Tabel 5F B'!E91<5,'Tabel 5 B'!E91<0.5),\"-\",IFERROR('Tabel 5 B'!E91/'Tabel 5F B'!E91*100,\"-\"))","v":"-"},{"$f":"IF(OR('Tabel 5F B'!F91<5,'Tabel 5 B'!F91<0.5),\"-\",IFERROR('Tabel 5 B'!F91/'Tabel 5F B'!F91*100,\"-\"))","v":"-"},{"$f":"IF(OR('Tabel 5F B'!G91<5,'Tabel 5 B'!G91<0.5),\"-\",IFERROR('Tabel 5 B'!G91/'Tabel 5F B'!G91*100,\"-\"))","v":"-"},{"$f":"IF(OR('Tabel 5F B'!H91<5,'Tabel 5 B'!H91<0.5),\"-\",IFERROR('Tabel 5 B'!H91/'Tabel 5F B'!H91*100,\"-\"))","v":"-"},null,{"$f":"IF(OR('Tabel 5F B'!J91<5,'Tabel 5 B'!J91<0.5),\"-\",IFERROR('Tabel 5 B'!J91/'Tabel 5F B'!J91*100,\"-\"))","v":"-"}]
["Komm. og Sprog",null,{"$f":"IF(OR('Tabel 5F B'!C92<5,'Tabel 5 B'!C92<0.5),\"-\",IFERROR('Tabel 5 B'!C92/'Tabel 5F B'!C92*100,\"-\"))","v":"-"},{"$f":"IF(OR('Tabel 5F B'!D92<5,'Tabel 5 B'!D92<0.5),\"-\",IFERROR('Tabel 5 B'!D92/'Tabel 5F B'!D92*100,\"-\"))","v":"-"},{"$f":"IF(OR('Tabel 5F B'!E92<5,'Tabel 5 B'!E92<0.5),\"-\",IFERROR('Tabel 5 B'!E92/'Tabel 5F B'!E92*100,\"-\"))","v":"-"},{"$f":"IF(OR('Tabel 5F B'!F92<5,'Tabel 5 B'!F92<0.5),\"-\",IFERROR('Tabel 5 B'!F92/'Tabel 5F B'!F92*100,\"-\"))","v":"-"},{"$f":"IF(OR('Tabel 5F B'!G92<5,'Tabel 5 B'!G92<0.5),\"-\",IFERROR('Tabel 5 B'!G92/'Tabel 5F B'!G92*100,\"-\"))","v":"-"},{"$f":"IF(OR('Tabel 5F B'!H92<5,'Tabel 5 B'!H92<0.5),\"-\",IFERROR('Tabel 5 B'!H92/'Tabel 5F B'!H92*100,\"-\"))","v":50},null,{"$f":"IF(OR('Tabel 5F B'!J92<5,'Tabel 5 B'!J92<0.5),\"-\",IFERROR('Tabel 5 B'!J92/'Tabel 5F B'!J92*100,\"-\"))","v":"-"}]
["Bygningskonst.",null,{"$f":"IF(OR('Tabel 5F B'!C93<5,'Tabel 5 B'!C93<0.5),\"-\",IFERROR('Tabel 5 B'!C93/'Tabel 5F B'!C93*100,\"-\"))","v":"-"},{"$f":"IF(OR('Tabel 5F B'!D93<5,'Tabel 5 B'!D93<0.5),\"-\",IFERROR('Tabel 5 B'!D93/'Tabel 5F B'!D93*100,\"-\"))","v":"-"},{"$f":"IF(OR('Tabel 5F B'!E93<5,'Tabel 5 B'!E93<0.5),\"-\",IFERROR('Tabel 5 B'!E93/'Tabel 5F B'!E93*100,\"-\"))","v":"-"},{"$f":"IF(OR('Tabel 5F B'!F93<5,'Tabel 5 B'!F93<0.5),\"-\",IFERROR('Tabel 5 B'!F93/'Tabel 5F B'!F93*100,\"-\"))","v":"-"},{"$f":"IF(OR('Tabel 5F B'!G93<5,'Tabel 5 B'!G93<0.5),\"-\",IFERROR('Tabel 5 B'!G93/'Tabel 5F B'!G93*100,\"-\"))","v":"-"},{"$f":"IF(OR('Tabel 5F B'!H93<5,'Tabel 5 B'!H93<0.5),\"-\",IFERROR('Tabel 5 B'!H93/'Tabel 5F B'!H93*100,\"-\"))","v":"-"},null,{"$f":"IF(OR('Tabel 5F B'!J93<5,'Tabel 5 B'!J93<0.5),\"-\",IFERROR('Tabel 5 B'!J93/'Tabel 5F B'!J93*100,\"-\"))","v":"-"}]
["Cand. IT.",null,{"$f":"IF(OR('Tabel 5F B'!C94<5,'Tabel 5 B'!C94<0.5),\"-\",IFERROR('Tabel 5 B'!C94/'Tabel 5F B'!C94*100,\"-\"))","v":"-"},{"$f":"IF(OR('Tabel 5F B'!D94<5,'Tabel 5 B'!D94<0.5),\"-\",IFERROR('Tabel 5 B'!D94/'Tabel 5F B'!D94*100,\"-\"))","v":"-"},{"$f":"IF(OR('Tabel 5F B'!E94<5,'Tabel 5 B'!E94<0.5),\"-\",IFERROR('Tabel 5 B'!E94/'Tabel 5F B'!E94*100,\"-\"))","v":"-"},{"$f":"IF(OR('Tabel 5F B'!F94<5,'Tabel 5 B'!F94<0.5),\"-\",IFERROR('Tabel 5 B'!F94/'Tabel 5F B'!F94*100,\"-\"))","v":"-"},{"$f":"IF(OR('Tabel 5F B'!G94<5,'Tabel 5 B'!G94<0.5),\"-\",IFERROR('Tabel 5 B'!G94/'Tabel 5F B'!G94*100,\"-\"))","v":"-"},{"$f":"IF(OR('Tabel 5F B'!H94<5,'Tabel 5 B'!H94<0.5),\"-\",IFERROR('Tabel 5 B'!H94/'Tabel 5F B'!H94*100,\"-\"))","v":"-"},null,{"$f":"IF(OR('Tabel 5F B'!J94<5,'Tabel 5 B'!J94<0.5),\"-\",IFERROR('Tabel 5 B'!J94/'Tabel 5F B'!J94*100,\"-\"))","v":"-"}]
["Bac. Samf.",null,{"$f":"IF(OR('Tabel 5F B'!C95<5,'Tabel 5 B'!C95<0.5),\"-\",IFERROR('Tabel 5 B'!C95/'Tabel 5F B'!C95*100,\"-\"))","v":"-"},{"$f":"IF(OR('Tabel 5F B'!D95<5,'Tabel 5 B'!D95<0.5),\"-\",IFERROR('Tabel 5 B'!D95/'Tabel 5F B'!D95*100,\"-\"))","v":"-"},{"$f":"IF(OR('Tabel 5F B'!E95<5,'Tabel 5 B'!E95<0.5),\"-\",IFERROR('Tabel 5 B'!E95/'Tabel 5F B'!E95*100,\"-\"))","v":"-"},{"$f":"IF(OR('Tabel 5F B'!F95<5,'Tabel 5 B'!F95<0.5),\"-\",IFERROR('Tabel 5 B'!F95/'Tabel 5F B'!F95*100,\"-\"))","v":"-"},{"$f":"IF(OR('Tabel 5F B'!G95<5,'Tabel 5 B'!G95<0.5),\"-\",IFERROR('Tabel 5 B'!G95/'Tabel 5F B'!G95*100,\"-\"))","v":"-"},{"$f":"IF(OR('Tabel 5F B'!H95<5,'Tabel 5 B'!H95<0.5),\"-\",IFERROR('Tabel 5 B'!H95/'Tabel 5F B'!H95*100,\"-\"))","v":"-"},null,{"$f":"IF(OR('Tabel 5F B'!J95<5,'Tabel 5 B'!J95<0.5),\"-\",IFERROR('Tabel 5 B'!J95/'Tabel 5F B'!J95*100,\"-\"))","v":"-"}]
["Bac. Hum.",null,{"$f":"IF(OR('Tabel 5F B'!C96<5,'Tabel 5 B'!C96<0.5),\"-\",IFERROR('Tabel 5 B'!C96/'Tabel 5F B'!C96*100,\"-\"))","v":"-"},{"$f":"IF(OR('Tabel 5F B'!D96<5,'Tabel 5 B'!D96<0.5),\"-\",IFERROR('Tabel 5 B'!D96/'Tabel 5F B'!D96*100,\"-\"))","v":"-"},{"$f":"IF(OR('Tabel 5F B'!E96<5,'Tabel 5 B'!E96<0.5),\"-\",IFERROR('Tabel 5 B'!E96/'Tabel 5F B'!E96*100,\"-\"))","v":"-"},{"$f":"IF(OR('Tabel 5F B'!F96<5,'Tabel 5 B'!F96<0.5),\"-\",IFERROR('Tabel 5 B'!F96/'Tabel 5F B'!F96*100,\"-\"))","v":"-"},{"$f":"IF(OR('Tabel 5F B'!G96<5,'Tabel 5 B'!G96<0.5),\"-\",IFERROR('Tabel 5 B'!G96/'Tabel 5F B'!G96*100,\"-\"))","v":"-"},{"$f":"IF(OR('Tabel 5F B'!H96<5,'Tabel 5 B'!H96<0.5),\"-\",IFERROR('Tabel 5 B'!H96/'Tabel 5F B'!H96*100,\"-\"))","v":20},null,{"$f":"IF(OR('Tabel 5F B'!J96<5,'Tabel 5 B'!J96<0.5),\"-\",IFERROR('Tabel 5 B'!J96/'Tabel 5F B'!J96*100,\"-\"))","v":"-"}]
["Bac. Nat.",null,{"$f":"IF(OR('Tabel 5F B'!C97<5,'Tabel 5 B'!C97<0.5),\"-\",IFERROR('Tabel 5 B'!C97/'Tabel 5F B'!C97*100,\"-\"))","v":"-"},{"$f":"IF(OR('Tabel 5F B'!D97<5,'Tabel 5 B'!D97<0.5),\"-\",IFERROR('Tabel 5 B'!D97/'Tabel 5F B'!D97*100,\"-\"))","v":"-"},{"$f":"IF(OR('Tabel 5F B'!E97<5,'Tabel 5 B'!E97<0.5),\"-\",IFERROR('Tabel 5 B'!E97/'Tabel 5F B'!E97*100,\"-\"))","v":"-"},{"$f":"IF(OR('Tabel 5F B'!F97<5,'Tabel 5 B'!F97<0.5),\"-\",IFERROR('Tabel 5 B'!F97/'Tabel 5F B'!F97*100,\"-\"))","v":"-"},{"$f":"IF(OR('Tabel 5F B'!G97<5,'Tabel 5 B'!G97<0.5),\"-\",IFERROR('Tabel 5 B'!G97/'Tabel 5F B'!G97*100,\"-\"))","v":"-"},{"$f":"IF(OR('Tabel 5F B'!H97<5,'Tabel 5 B'!H97<0.5),\"-\",IFERROR('Tabel 5 B'!H97/'Tabel 5F B'!H97*100,\"-\"))","v":"-"},null,{"$f":"IF(OR('Tabel 5F B'!J97<5,'Tabel 5 B'!J97<0.5),\"-\",IFERROR('Tabel 5 B'!J97/'Tabel 5F B'!J97*100,\"-\"))","v":"-"}]
["Andre",null,{"$f":"IF(OR('Tabel 5F B'!C98<5,'Tabel 5 B'!C98<0.5),\"-\",IFERROR('Tabel 5 B'!C98/'Tabel 5F B'!C98*100,\"-\"))","v":25},{"$f":"IF(OR('Tabel 5F B'!D98<5,'Tabel 5 B'!D98<0.5),\"-\",IFERROR('Tabel 5 B'!D98/'Tabel 5F B'!D98*100,\"-\"))","v":"-"},{"$f":"IF(OR('Tabel 5F B'!E98<5,'Tabel 5 B'!E98<0.5),\"-\",IFERROR('Tabel 5 B'!E98/'Tabel 5F B'!E98*100,\"-\"))","v":"-"},{"$f":"IF(OR('Tabel 5F B'!F98<5,'Tabel 5 B'!F98<0.5),\"-\",IFERROR('Tabel 5 B'!F98/'Tabel 5F B'!F98*100,\"-\"))","v":33.333333333333329},{"$f":"IF(OR('Tabel 5F B'!G98<5,'Tabel 5 B'!G98<0.5),\"-\",IFERROR('Tabel 5 B'!G98/'Tabel 5F B'!G98*100,\"-\"))","v":11.111111111111111},{"$f":"IF(OR('Tabel 5F B'!H98<5,'Tabel 5 B'!H98<0.5),\"-\",IFERROR('Tabel 5 B'!H98/'Tabel 5F B'!H98*100,\"-\"))","v":7.8431372549019605},null,{"$f":"IF(OR('Tabel 5F B'!J98<5,'Tabel 5 B'!J98<0.5),\"-\",IFERROR('Tabel 5 B'!J98/'Tabel 5F B'!J98*100,\"-\"))","v":8}]
[]
["Total",null,{"$f":"IF(OR('Tabel 5F B'!C100<5,'Tabel 5 B'!C100<0.5),\"-\",IFERROR('Tabel 5 B'!C100/'Tabel 5F B'!C100*100,\"-\"))","v":21.428571428571427},{"$f":"IF(OR('Tabel 5F B'!D100<5,'Tabel 5 B'!D100<0.5),\"-\",IFERROR('Tabel 5 B'!D100/'Tabel 5F B'!D100*100,\"-\"))","v":15.151515151515152},{"$f":"IF(OR('Tabel 5F B'!E100<5,'Tabel 5 B'!E100<0.5),\"-\",IFERROR('Tabel 5 B'!E100/'Tabel 5F B'!E100*100,\"-\"))","v":8.9743589743589745},{"$f":"IF(OR('Tabel 5F B'!F100<5,'Tabel 5 B'!F100<0.5),\"-\",IFERROR('Tabel 5 B'!F100/'Tabel 5F B'!F100*100,\"-\"))","v":10},{"$f":"IF(OR('Tabel 5F B'!G100<5,'Tabel 5 B'!G100<0.5),\"-\",IFERROR('Tabel 5 B'!G100/'Tabel 5F B'!G100*100,\"-\"))","v":8.9887640449438209},{"$f":"IF(OR('Tabel 5F B'!H100<5,'Tabel 5 B'!H100<0.5),\"-\",IFERROR('Tabel 5 B'!H100/'Tabel 5F B'!H100*100,\"-\"))","v":6.3535911602209953},null,{"$f":"IF(OR('Tabel 5F B'!J100<5,'Tabel 5 B'!J100<0.5),\"-\",IFERROR('Tabel 5 B'!J100/'Tabel 5F B'!J100*100,\"-\"))","v":13.684210526315791}]
[]
["Ingeniører i alt",null,{"$f":"IF(OR('Tabel 5F B'!C102<5,'Tabel 5 B'!C102<0.5),\"-\",IFERROR('Tabel 5 B'!C102/'Tabel 5F B'!C102*100,\"-\"))","v":"-"},{"$f":"IF(OR('Tabel 5F B'!D102<5,'Tabel 5 B'!D102<0.5),\"-\",IFERROR('Tabel 5 B'!D102/'Tabel 5F B'!D102*100,\"-\"))","v":"-"},{"$f":"IF(OR('Tabel 5F B'!E102<5,'Tabel 5 B'!E102<0.5),\"-\",IFERROR('Tabel 5 B'!E102/'Tabel 5F B'!E102*100,\"-\"))","v":"-"},{"$f":"IF(OR('Tabel 5F B'!F102<5,'Tabel 5 B'!F102<0.5),\"-\",IFERROR('Tabel 5 B'!F102/'Tabel 5F B'!F102*100,\"-\"))","v":16.666666666666664},{"$f":"IF(OR('Tabel 5F B'!G102<5,'Tabel 5 B'!G102<0.5),\"-\",IFERROR('Tabel 5 B'!G102/'Tabel 5F B'!G102*100,\"-\"))","v":20},{"$f":"IF(OR('Tabel 5F B'!H102<5,'Tabel 5 B'!H102<0.5),\"-\",IFERROR('Tabel 5 B'!H102/'Tabel 5F B'!H102*100,\"-\"))","v":5.4545454545454541},null,{"$f":"IF(OR('Tabel 5F B'!J102<5,'Tabel 5 B'!J102<0.5),\"-\",IFERROR('Tabel 5 B'!J102/'Tabel 5F B'!J102*100,\"-\"))","v":"-"}]
["Magistre i alt",null,{"$f":"IF(OR('Tabel 5F B'!C103<5,'Tabel 5 B'!C103<0.5),\"-\",IFERROR('Tabel 5 B'!C103/'Tabel 5F B'!C103*100,\"-\"))","v":"-"},{"$f":"IF(OR('Tabel 5F B'!D103<5,'Tabel 5 B'!D103<0.5),\"-\",IFERROR('Tabel 5 B'!D103/'Tabel 5F B'!D103*100,\"-\"))","v":33.333333333333329},{"$f":"IF(OR('Tabel 5F B'!E103<5,'Tabel 5 B'!E103<0.5),\"-\",IFERROR('Tabel 5 B'!E103/'Tabel 5F B'!E103*100,\"-\"))","v":14.285714285714285},{"$f":"IF(OR('Tabel 5F B'!F103<5,'Tabel 5 B'!F103<0.5),\"-\",IFERROR('Tabel 5 B'!F103/'Tabel 5F B'!F103*100,\"-\"))","v":17.391304347826086},{"$f":"IF(OR('Tabel 5F B'!G103<5,'Tabel 5 B'!G103<0.5),\"-\",IFERROR('Tabel 5 B'!G103/'Tabel 5F B'!G103*100,\"-\"))","v":15.384615384615385},{"$f":"IF(OR('Tabel 5F B'!H103<5,'Tabel 5 B'!H103<0.5),\"-\",IFERROR('Tabel 5 B'!H103/'Tabel 5F B'!H103*100,\"-\"))","v":5.2083333333333339},null,{"$f":"IF(OR('Tabel 5F B'!J103<5,'Tabel 5 B'!J103<0.5),\"-\",IFERROR('Tabel 5 B'!J103/'Tabel 5F B'!J103*100,\"-\"))","v":45.454545454545453}]
["DJØF'ere i alt",null,{"$f":"IF(OR('Tabel 5F B'!C104<5,'Tabel 5 B'!C104<0.5),\"-\",IFERROR('Tabel 5 B'!C104/'Tabel 5F B'!C104*100,\"-\"))","v":"-"},{"$f":"IF(OR('Tabel 5F B'!D104<5,'Tabel 5 B'!D104<0.5),\"-\",IFERROR('Tabel 5 B'!D104/'Tabel 5F B'!D104*100,\"-\"))","v":"-"},{"$f":"IF(OR('Tabel 5F B'!E104<5,'Tabel 5 B'!E104<0.5),\"-\",IFERROR('Tabel 5 B'!E104/'Tabel 5F B'!E104*100,\"-\"))","v":"-"},{"$f":"IF(OR('Tabel 5F B'!F104<5,'Tabel 5 B'!F104<0.5),\"-\",IFERROR('Tabel 5 B'!F104/'Tabel 5F B'!F104*100,\"-\"))","v":"-"},{"$f":"IF(OR('Tabel 5F B'!G104<5,'Tabel 5 B'!G104<0.5),\"-\",IFERROR('Tabel 5 B'!G104/'Tabel 5F B'!G104*100,\"-\"))","v":"-"},{"$f":"IF(OR('Tabel 5F B'!H104<5,'Tabel 5 B'!H104<0.5),\"-\",IFERROR('Tabel 5 B'!H104/'Tabel 5F B'!H104*100,\"-\"))","v":6.557377049180328},null,{"$f":"IF(OR('Tabel 5F B'!J104<5,'Tabel 5 B'!J104<0.5),\"-\",IFERROR('Tabel 5 B'!J104/'Tabel 5F B'!J104*100,\"-\"))","v":18.181818181818183}]
[]
[]
[]
[]
[]
[]
["Christiansø"]
[]
[null,null,"Under 1 år"," 1 - 2 år","2 - 4 år","5 - 9 år","10 - 14 år","Over 15 år",null,"Uoplyst"]
[]
["Civ. ing.",null,{"$f":"IF(OR('Tabel 5F B'!C115<5,'Tabel 5 B'!C115<0.5),\"-\",IFERROR('Tabel 5 B'!C115/'Tabel 5F B'!C115*100,\"-\"))","v":"-"},{"$f":"IF(OR('Tabel 5F B'!D115<5,'Tabel 5 B'!D115<0.5),\"-\",IFERROR('Tabel 5 B'!D115/'Tabel 5F B'!D115*100,\"-\"))","v":"-"},{"$f":"IF(OR('Tabel 5F B'!E115<5,'Tabel 5 B'!E115<0.5),\"-\",IFERROR('Tabel 5 B'!E115/'Tabel 5F B'!E115*100,\"-\"))","v":"-"},{"$f":"IF(OR('Tabel 5F B'!F115<5,'Tabel 5 B'!F115<0.5),\"-\",IFERROR('Tabel 5 B'!F115/'Tabel 5F B'!F115*100,\"-\"))","v":"-"},{"$f":"IF(OR('Tabel 5F B'!G115<5,'Tabel 5 B'!G115<0.5),\"-\",IFERROR('Tabel 5 B'!G115/'Tabel 5F B'!G115*100,\"-\"))","v":"-"},{"$f":"IF(OR('Tabel 5F B'!H115<5,'Tabel 5 B'!H115<0.5),\"-\",IFERROR('Tabel 5 B'!H115/'Tabel 5F B'!H115*100,\"-\"))","v":"-"},null,{"$f":"IF(OR('Tabel 5F B'!J115<5,'Tabel 5 B'!J115<0.5),\"-\",IFERROR('Tabel 5 B'!J115/'Tabel 5F B'!J115*100,\"-\"))","v":"-"}]
["Diplom ing.",null,{"$f":"IF(OR('Tabel 5F B'!C116<5,'Tabel 5 B'!C116<0.5),\"-\",IFERROR('Tabel 5 B'!C116/'Tabel 5F B'!C116*100,\"-\"))","v":"-"},{"$f":"IF(OR('Tabel 5F B'!D116<5,'Tabel 5 B'!D116<0.5),\"-\",IFERROR('Tabel 5 B'!D116/'Tabel 5F B'!D116*100,\"-\"))","v":"-"},{"$f":"IF(OR('Tabel 5F B'!E116<5,'Tabel 5 B'!E116<0.5),\"-\",IFERROR('Tabel 5 B'!E116/'Tabel 5F B'!E116*100,\"-\"))","v":"-"},{"$f":"IF(OR('Tabel 5F B'!F116<5,'Tabel 5 B'!F116<0.5),\"-\",IFERROR('Tabel 5 B'!F116/'Tabel 5F B'!F116*100,\"-\"))","v":"-"},{"$f":"IF(OR('Tabel 5F B'!G116<5,'Tabel 5 B'!G116<0.5),\"-\",IFERROR('Tabel 5 B'!G116/'Tabel 5F B'!G116*100,\"-\"))","v":"-"},{"$f":"IF(OR('Tabel 5F B'!H116<5,'Tabel 5 B'!H116<0.5),\"-\",IFERROR('Tabel 5 B'!H116/'Tabel 5F B'!H116*100,\"-\"))","v":"-"},null,{"$f":"IF(OR('Tabel 5F B'!J116<5,'Tabel 5 B'!J116<0.5),\"-\",IFERROR('Tabel 5 B'!J116/'Tabel 5F B'!J116*100,\"-\"))","v":"-"}]
["Cand. Scient. Tek",null,{"$f":"IF(OR('Tabel 5F B'!C117<5,'Tabel 5 B'!C117<0.5),\"-\",IFERROR('Tabel 5 B'!C117/'Tabel 5F B'!C117*100,\"-\"))","v":"-"},{"$f":"IF(OR('Tabel 5F B'!D117<5,'Tabel 5 B'!D117<0.5),\"-\",IFERROR('Tabel 5 B'!D117/'Tabel 5F B'!D117*100,\"-\"))","v":"-"},{"$f":"IF(OR('Tabel 5F B'!E117<5,'Tabel 5 B'!E117<0.5),\"-\",IFERROR('Tabel 5 B'!E117/'Tabel 5F B'!E117*100,\"-\"))","v":"-"},{"$f":"IF(OR('Tabel 5F B'!F117<5,'Tabel 5 B'!F117<0.5),\"-\",IFERROR('Tabel 5 B'!F117/'Tabel 5F B'!F117*100,\"-\"))","v":"-"},{"$f":"IF(OR('Tabel 5F B'!G117<5,'Tabel 5 B'!G117<0.5),\"-\",IFERROR('Tabel 5 B'!G117/'Tabel 5F B'!G117*100,\"-\"))","v":"-"},{"$f":"IF(OR('Tabel 5F B'!H117<5,'Tabel 5 B'!H117<0.5),\"-\",IFERROR('Tabel 5 B'!H117/'Tabel 5F B'!H117*100,\"-\"))","v":"-"},null,{"$f":"IF(OR('Tabel 5F B'!J117<5,'Tabel 5 B'!J117<0.5),\"-\",IFERROR('Tabel 5 B'!J117/'Tabel 5F B'!J117*100,\"-\"))","v":"-"}]
["MA. Hum.",null,{"$f":"IF(OR('Tabel 5F B'!C118<5,'Tabel 5 B'!C118<0.5),\"-\",IFERROR('Tabel 5 B'!C118/'Tabel 5F B'!C118*100,\"-\"))","v":"-"},{"$f":"IF(OR('Tabel 5F B'!D118<5,'Tabel 5 B'!D118<0.5),\"-\",IFERROR('Tabel 5 B'!D118/'Tabel 5F B'!D118*100,\"-\"))","v":"-"},{"$f":"IF(OR('Tabel 5F B'!E118<5,'Tabel 5 B'!E118<0.5),\"-\",IFERROR('Tabel 5 B'!E118/'Tabel 5F B'!E118*100,\"-\"))","v":"-"},{"$f":"IF(OR('Tabel 5F B'!F118<5,'Tabel 5 B'!F118<0.5),\"-\",IFERROR('Tabel 5 B'!F118/'Tabel 5F B'!F118*100,\"-\"))","v":"-"},{"$f":"IF(OR('Tabel 5F B'!G118<5,'Tabel 5 B'!G118<0.5),\"-\",IFERROR('Tabel 5 B'!G118/'Tabel 5F B'!G118*100,\"-\"))","v":"-"},{"$f":"IF(OR('Tabel 5F B'!H118<5,'Tabel 5 B'!H118<0.5),\"-\",IFERROR('Tabel 5 B'!H118/'Tabel 5F B'!H118*100,\"-\"))","v":"-"},null,{"$f":"IF(OR('Tabel 5F B'!J118<5,'Tabel 5 B'!J118<0.5),\"-\",IFERROR('Tabel 5 B'!J118/'Tabel 5F B'!J118*100,\"-\"))","v":"-"}]
["MA. Nat.",null,{"$f":"IF(OR('Tabel 5F B'!C119<5,'Tabel 5 B'!C119<0.5),\"-\",IFERROR('Tabel 5 B'!C119/'Tabel 5F B'!C119*100,\"-\"))","v":"-"},{"$f":"IF(OR('Tabel 5F B'!D119<5,'Tabel 5 B'!D119<0.5),\"-\",IFERROR('Tabel 5 B'!D119/'Tabel 5F B'!D119*100,\"-\"))","v":"-"},{"$f":"IF(OR('Tabel 5F B'!E119<5,'Tabel 5 B'!E119<0.5),\"-\",IFERROR('Tabel 5 B'!E119/'Tabel 5F B'!E119*100,\"-\"))","v":"-"},{"$f":"IF(OR('Tabel 5F B'!F119<5,'Tabel 5 B'!F119<0.5),\"-\",IFERROR('Tabel 5 B'!F119/'Tabel 5F B'!F119*100,\"-\"))","v":"-"},{"$f":"IF(OR('Tabel 5F B'!G119<5,'Tabel 5 B'!G119<0.5),\"-\",IFERROR('Tabel 5 B'!G119/'Tabel 5F B'!G119*100,\"-\"))","v":"-"},{"$f":"IF(OR('Tabel 5F B'!H119<5,'Tabel 5 B'!H119<0.5),\"-\",IFERROR('Tabel 5 B'!H119/'Tabel 5F B'!H119*100,\"-\"))","v":"-"},null,{"$f":"IF(OR('Tabel 5F B'!J119<5,'Tabel 5 B'!J119<0.5),\"-\",IFERROR('Tabel 5 B'!J119/'Tabel 5F B'!J119*100,\"-\"))","v":"-"}]
["MA. Ph.d.",null,{"$f":"IF(OR('Tabel 5F B'!C120<5,'Tabel 5 B'!C120<0.5),\"-\",IFERROR('Tabel 5 B'!C120/'Tabel 5F B'!C120*100,\"-\"))","v":"-"},{"$f":"IF(OR('Tabel 5F B'!D120<5,'Tabel 5 B'!D120<0.5),\"-\",IFERROR('Tabel 5 B'!D120/'Tabel 5F B'!D120*100,\"-\"))","v":"-"},{"$f":"IF(OR('Tabel 5F B'!E120<5,'Tabel 5 B'!E120<0.5),\"-\",IFERROR('Tabel 5 B'!E120/'Tabel 5F B'!E120*100,\"-\"))","v":"-"},{"$f":"IF(OR('Tabel 5F B'!F120<5,'Tabel 5 B'!F120<0.5),\"-\",IFERROR('Tabel 5 B'!F120/'Tabel 5F B'!F120*100,\"-\"))","v":"-"},{"$f":"IF(OR('Tabel 5F B'!G120<5,'Tabel 5 B'!G120<0.5),\"-\",IFERROR('Tabel 5 B'!G120/'Tabel 5F B'!G120*100,\"-\"))","v":"-"},{"$f":"IF(OR('Tabel 5F B'!H120<5,'Tabel 5 B'!H120<0.5),\"-\",IFERROR('Tabel 5 B'!H120/'Tabel 5F B'!H120*100,\"-\"))","v":"-"},null,{"$f":"IF(OR('Tabel 5F B'!J120<5,'Tabel 5 B'!J120<0.5),\"-\",IFERROR('Tabel 5 B'!J120/'Tabel 5F B'!J120*100,\"-\"))","v":"-"}]
["MA. Samf.",null,{"$f":"IF(OR('Tabel 5F B'!C121<5,'Tabel 5 B'!C121<0.5),\"-\",IFERROR('Tabel 5 B'!C121/'Tabel 5F B'!C121*100,\"-\"))","v":"-"},{"$f":"IF(OR('Tabel 5F B'!D121<5,'Tabel 5 B'!D121<0.5),\"-\",IFERROR('Tabel 5 B'!D121/'Tabel 5F B'!D121*100,\"-\"))","v":"-"},{"$f":"IF(OR('Tabel 5F B'!E121<5,'Tabel 5 B'!E121<0.5),\"-\",IFERROR('Tabel 5 B'!E121/'Tabel 5F B'!E121*100,\"-\"))","v":"-"},{"$f":"IF(OR('Tabel 5F B'!F121<5,'Tabel 5 B'!F121<0.5),\"-\",IFERROR('Tabel 5 B'!F121/'Tabel 5F B'!F121*100,\"-\"))","v":"-"},{"$f":"IF(OR('Tabel 5F B'!G121<5,'Tabel 5 B'!G121<0.5),\"-\",IFERROR('Tabel 5 B'!G121/'Tabel 5F B'!G121*100,\"-\"))","v":"-"},{"$f":"IF(OR('Tabel 5F B'!H121<5,'Tabel 5 B'!H121<0.5),\"-\",IFERROR('Tabel 5 B'!H121/'Tabel 5F B'!H121*100,\"-\"))","v":"-"},null,{"$f":"IF(OR('Tabel 5F B'!J121<5,'Tabel 5 B'!J121<0.5),\"-\",IFERROR('Tabel 5 B'!J121/'Tabel 5F B'!J121*100,\"-\"))","v":"-"}]
["Øvrige Mag.",null,{"$f":"IF(OR('Tabel 5F B'!C122<5,'Tabel 5 B'!C122<0.5),\"-\",IFERROR('Tabel 5 B'!C122/'Tabel 5F B'!C122*100,\"-\"))","v":"-"},{"$f":"IF(OR('Tabel 5F B'!D122<5,'Tabel 5 B'!D122<0.5),\"-\",IFERROR('Tabel 5 B'!D122/'Tabel 5F B'!D122*100,\"-\"))","v":"-"},{"$f":"IF(OR('Tabel 5F B'!E122<5,'Tabel 5 B'!E122<0.5),\"-\",IFERROR('Tabel 5 B'!E122/'Tabel 5F B'!E122*100,\"-\"))","v":"-"},{"$f":"IF(OR('Tabel 5F B'!F122<5,'Tabel 5 B'!F122<0.5),\"-\",IFERROR('Tabel 5 B'!F122/'Tabel 5F B'!F122*100,\"-\"))","v":"-"},{"$f":"IF(OR('Tabel 5F B'!G122<5,'Tabel 5 B'!G122<0.5),\"-\",IFERROR('Tabel 5 B'!G122/'Tabel 5F B'!G122*100,\"-\"))","v":"-"},{"$f":"IF(OR('Tabel 5F B'!H122<5,'Tabel 5 B'!H122<0.5),\"-\",IFERROR('Tabel 5 B'!H122/'Tabel 5F B'!H122*100,\"-\"))","v":"-"},null,{"$f":"IF(OR('Tabel 5F B'!J122<5,'Tabel 5 B'!J122<0.5),\"-\",IFERROR('Tabel 5 B'!J122/'Tabel 5F B'!J122*100,\"-\"))","v":"-"}]
["Agronom",null,{"$f":"IF(OR('Tabel 5F B'!C123<5,'Tabel 5 B'!C123<0.5),\"-\",IFERROR('Tabel 5 B'!C123/'Tabel 5F B'!C123*100,\"-\"))","v":"-"},{"$f":"IF(OR('Tabel 5F B'!D123<5,'Tabel 5 B'!D123<0.5),\"-\",IFERROR('Tabel 5 B'!D123/'Tabel 5F B'!D123*100,\"-\"))","v":"-"},{"$f":"IF(OR('Tabel 5F B'!E123<5,'Tabel 5 B'!E123<0.5),\"-\",IFERROR('Tabel 5 B'!E123/'Tabel 5F B'!E123*100,\"-\"))","v":"-"},{"$f":"IF(OR('Tabel 5F B'!F123<5,'Tabel 5 B'!F123<0.5),\"-\",IFERROR('Tabel 5 B'!F123/'Tabel 5F B'!F123*100,\"-\"))","v":"-"},{"$f":"IF(OR('Tabel 5F B'!G123<5,'Tabel 5 B'!G123<0.5),\"-\",IFERROR('Tabel 5 B'!G123/'Tabel 5F B'!G123*100,\"-\"))","v":"-"},{"$f":"IF(OR('Tabel 5F B'!H123<5,'Tabel 5 B'!H123<0.5),\"-\",IFERROR('Tabel 5 B'!H123/'Tabel 5F B'!H123*100,\"-\"))","v":"-"},null,{"$f":"IF(OR('Tabel 5F B'!J123<5,'Tabel 5 B'!J123<0.5),\"-\",IFERROR('Tabel 5 B'!J123/'Tabel 5F B'!J123*100,\"-\"))","v":"-"}]
["Landsk. Arkt.",null,{"$f":"IF(OR('Tabel 5F B'!C124<5,'Tabel 5 B'!C124<0.5),\"-\",IFERROR('Tabel 5 B'!C124/'Tabel 5F B'!C124*100,\"-\"))","v":"-"},{"$f":"IF(OR('Tabel 5F B'!D124<5,'Tabel 5 B'!D124<0.5),\"-\",IFERROR('Tabel 5 B'!D124/'Tabel 5F B'!D124*100,\"-\"))","v":"-"},{"$f":"IF(OR('Tabel 5F B'!E124<5,'Tabel 5 B'!E124<0.5),\"-\",IFERROR('Tabel 5 B'!E124/'Tabel 5F B'!E124*100,\"-\"))","v":"-"},{"$f":"IF(OR('Tabel 5F B'!F124<5,'Tabel 5 B'!F124<0.5),\"-\",IFERROR('Tabel 5 B'!F124/'Tabel 5F B'!F124*100,\"-\"))","v":"-"},{"$f":"IF(OR('Tabel 5F B'!G124<5,'Tabel 5 B'!G124<0.5),\"-\",IFERROR('Tabel 5 B'!G124/'Tabel 5F B'!G124*100,\"-\"))","v":"-"},{"$f":"IF(OR('Tabel 5F B'!H124<5,'Tabel 5 B'!H124<0.5),\"-\",IFERROR('Tabel 5 B'!H124/'Tabel 5F B'!H124*100,\"-\"))","v":"-"},null,{"$f":"IF(OR('Tabel 5F B'!J124<5,'Tabel 5 B'!J124<0.5),\"-\",IFERROR('Tabel 5 B'!J124/'Tabel 5F B'!J124*100,\"-\"))","v":"-"}]
["Hortonom",null,{"$f":"IF(OR('Tabel 5F B'!C125<5,'Tabel 5 B'!C125<0.5),\"-\",IFERROR('Tabel 5 B'!C125/'Tabel 5F B'!C125*100,\"-\"))","v":"-"},{"$f":"IF(OR('Tabel 5F B'!D125<5,'Tabel 5 B'!D125<0.5),\"-\",IFERROR('Tabel 5 B'!D125/'Tabel 5F B'!D125*100,\"-\"))","v":"-"},{"$f":"IF(OR('Tabel 5F B'!E125<5,'Tabel 5 B'!E125<0.5),\"-\",IFERROR('Tabel 5 B'!E125/'Tabel 5F B'!E125*100,\"-\"))","v":"-"},{"$f":"IF(OR('Tabel 5F B'!F125<5,'Tabel 5 B'!F125<0.5),\"-\",IFERROR('Tabel 5 B'!F125/'Tabel 5F B'!F125*100,\"-\"))","v":"-"},{"$f":"IF(OR('Tabel 5F B'!G125<5,'Tabel 5 B'!G125<0.5),\"-\",IFERROR('Tabel 5 B'!G125/'Tabel 5F B'!G125*100,\"-\"))","v":"-"},{"$f":"IF(OR('Tabel 5F B'!H125<5,'Tabel 5 B'!H125<0.5),\"-\",IFERROR('Tabel 5 B'!H125/'Tabel 5F B'!H125*100,\"-\"))","v":"-"},null,{"$f":"IF(OR('Tabel 5F B'!J125<5,'Tabel 5 B'!J125<0.5),\"-\",IFERROR('Tabel 5 B'!J125/'Tabel 5F B'!J125*100,\"-\"))","v":"-"}]
["Forstkand.",null,{"$f":"IF(OR('Tabel 5F B'!C126<5,'Tabel 5 B'!C126<0.5),\"-\",IFERROR('Tabel 5 B'!C126/'Tabel 5F B'!C126*100,\"-\"))","v":"-"},{"$f":"IF(OR('Tabel 5F B'!D126<5,'Tabel 5 B'!D126<0.5),\"-\",IFERROR('Tabel 5 B'!D126/'Tabel 5F B'!D126*100,\"-\"))","v":"-"},{"$f":"IF(OR('Tabel 5F B'!E126<5,'Tabel 5 B'!E126<0.5),\"-\",IFERROR('Tabel 5 B'!E126/'Tabel 5F B'!E126*100,\"-\"))","v":"-"},{"$f":"IF(OR('Tabel 5F B'!F126<5,'Tabel 5 B'!F126<0.5),\"-\",IFERROR('Tabel 5 B'!F126/'Tabel 5F B'!F126*100,\"-\"))","v":"-"},{"$f":"IF(OR('Tabel 5F B'!G126<5,'Tabel 5 B'!G126<0.5),\"-\",IFERROR('Tabel 5 B'!G126/'Tabel 5F B'!G126*100,\"-\"))","v":"-"},{"$f":"IF(OR('Tabel 5F B'!H126<5,'Tabel 5 B'!H126<0.5),\"-\",IFERROR('Tabel 5 B'!H126/'Tabel 5F B'!H126*100,\"-\"))","v":"-"},null,{"$f":"IF(OR('Tabel 5F B'!J126<5,'Tabel 5 B'!J126<0.5),\"-\",IFERROR('Tabel 5 B'!J126/'Tabel 5F B'!J126*100,\"-\"))","v":"-"}]
["Jordbrugsakad.",null,{"$f":"IF(OR('Tabel 5F B'!C127<5,'Tabel 5 B'!C127<0.5),\"-\",IFERROR('Tabel 5 B'!C127/'Tabel 5F B'!C127*100,\"-\"))","v":"-"},{"$f":"IF(OR('Tabel 5F B'!D127<5,'Tabel 5 B'!D127<0.5),\"-\",IFERROR('Tabel 5 B'!D127/'Tabel 5F B'!D127*100,\"-\"))","v":"-"},{"$f":"IF(OR('Tabel 5F B'!E127<5,'Tabel 5 B'!E127<0.5),\"-\",IFERROR('Tabel 5 B'!E127/'Tabel 5F B'!E127*100,\"-\"))","v":"-"},{"$f":"IF(OR('Tabel 5F B'!F127<5,'Tabel 5 B'!F127<0.5),\"-\",IFERROR('Tabel 5 B'!F127/'Tabel 5F B'!F127*100,\"-\"))","v":"-"},{"$f":"IF(OR('Tabel 5F B'!G127<5,'Tabel 5 B'!G127<0.5),\"-\",IFERROR('Tabel 5 B'!G127/'Tabel 5F B'!G127*100,\"-\"))","v":"-"},{"$f":"IF(OR('Tabel 5F B'!H127<5,'Tabel 5 B'!H127<0.5),\"-\",IFERROR('Tabel 5 B'!H127/'Tabel 5F B'!H127*100,\"-\"))","v":"-"},null,{"$f":"IF(OR('Tabel 5F B'!J127<5,'Tabel 5 B'!J127<0.5),\"-\",IFERROR('Tabel 5 B'!J127/'Tabel 5F B'!J127*100,\"-\"))","v":"-"}]
["Mejeriing.",null,{"$f":"IF(OR('Tabel 5F B'!C128<5,'Tabel 5 B'!C128<0.5),\"-\",IFERROR('Tabel 5 B'!C128/'Tabel 5F B'!C128*100,\"-\"))","v":"-"},{"$f":"IF(OR('Tabel 5F B'!D128<5,'Tabel 5 B'!D128<0.5),\"-\",IFERROR('Tabel 5 B'!D128/'Tabel 5F B'!D128*100,\"-\"))","v":"-"},{"$f":"IF(OR('Tabel 5F B'!E128<5,'Tabel 5 B'!E128<0.5),\"-\",IFERROR('Tabel 5 B'!E128/'Tabel 5F B'!E128*100,\"-\"))","v":"-"},{"$f":"IF(OR('Tabel 5F B'!F128<5,'Tabel 5 B'!F128<0.5),\"-\",IFERROR('Tabel 5 B'!F128/'Tabel 5F B'!F128*100,\"-\"))","v":"-"},{"$f":"IF(OR('Tabel 5F B'!G128<5,'Tabel 5 B'!G128<0.5),\"-\",IFERROR('Tabel 5 B'!G128/'Tabel 5F B'!G128*100,\"-\"))","v":"-"},{"$f":"IF(OR('Tabel 5F B'!H128<5,'Tabel 5 B'!H128<0.5),\"-\",IFERROR('Tabel 5 B'!H128/'Tabel 5F B'!H128*100,\"-\"))","v":"-"},null,{"$f":"IF(OR('Tabel 5F B'!J128<5,'Tabel 5 B'!J128<0.5),\"-\",IFERROR('Tabel 5 B'!J128/'Tabel 5F B'!J128*100,\"-\"))","v":"-"}]
["Levn.m.kand.",null,{"$f":"IF(OR('Tabel 5F B'!C129<5,'Tabel 5 B'!C129<0.5),\"-\",IFERROR('Tabel 5 B'!C129/'Tabel 5F B'!C129*100,\"-\"))","v":"-"},{"$f":"IF(OR('Tabel 5F B'!D129<5,'Tabel 5 B'!D129<0.5),\"-\",IFERROR('Tabel 5 B'!D129/'Tabel 5F B'!D129*100,\"-\"))","v":"-"},{"$f":"IF(OR('Tabel 5F B'!E129<5,'Tabel 5 B'!E129<0.5),\"-\",IFERROR('Tabel 5 B'!E129/'Tabel 5F B'!E129*100,\"-\"))","v":"-"},{"$f":"IF(OR('Tabel 5F B'!F129<5,'Tabel 5 B'!F129<0.5),\"-\",IFERROR('Tabel 5 B'!F129/'Tabel 5F B'!F129*100,\"-\"))","v":"-"},{"$f":"IF(OR('Tabel 5F B'!G129<5,'Tabel 5 B'!G129<0.5),\"-\",IFERROR('Tabel 5 B'!G129/'Tabel 5F B'!G129*100,\"-\"))","v":"-"},{"$f":"IF(OR('Tabel 5F B'!H129<5,'Tabel 5 B'!H129<0.5),\"-\",IFERROR('Tabel 5 B'!H129/'Tabel 5F B'!H129*100,\"-\"))","v":"-"},null,{"$f":"IF(OR('Tabel 5F B'!J129<5,'Tabel 5 B'!J129<0.5),\"-\",IFERROR('Tabel 5 B'!J129/'Tabel 5F B'!J129*100,\"-\"))","v":"-"}]
["Dyrlæge",null,{"$f":"IF(OR('Tabel 5F B'!C130<5,'Tabel 5 B'!C130<0.5),\"-\",IFERROR('Tabel 5 B'!C130/'Tabel 5F B'!C130*100,\"-\"))","v":"-"},{"$f":"IF(OR('Tabel 5F B'!D130<5,'Tabel 5 B'!D130<0.5),\"-\",IFERROR('Tabel 5 B'!D130/'Tabel 5F B'!D130*100,\"-\"))","v":"-"},{"$f":"IF(OR('Tabel 5F B'!E130<5,'Tabel 5 B'!E130<0.5),\"-\",IFERROR('Tabel 5 B'!E130/'Tabel 5F B'!E130*100,\"-\"))","v":"-"},{"$f":"IF(OR('Tabel 5F B'!F130<5,'Tabel 5 B'!F130<0.5),\"-\",IFERROR('Tabel 5 B'!F130/'Tabel 5F B'!F130*100,\"-\"))","v":"-"},{"$f":"IF(OR('Tabel 5F B'!G130<5,'Tabel 5 B'!G130<0.5),\"-\",IFERROR('Tabel 5 B'!G130/'Tabel 5F B'!G130*100,\"-\"))","v":"-"},{"$f":"IF(OR('Tabel 5F B'!H130<5,'Tabel 5 B'!H130<0.5),\"-\",IFERROR('Tabel 5 B'!H130/'Tabel 5F B'!H130*100,\"-\"))","v":"-"},null,{"$f":"IF(OR('Tabel 5F B'!J130<5,'Tabel 5 B'!J130<0.5),\"-\",IFERROR('Tabel 5 B'!J130/'Tabel 5F B'!J130*100,\"-\"))","v":"-"}]
["Farmaceut",null,{"$f":"IF(OR('Tabel 5F B'!C131<5,'Tabel 5 B'!C131<0.5),\"-\",IFERROR('Tabel 5 B'!C131/'Tabel 5F B'!C131*100,\"-\"))","v":"-"},{"$f":"IF(OR('Tabel 5F B'!D131<5,'Tabel 5 B'!D131<0.5),\"-\",IFERROR('Tabel 5 B'!D131/'Tabel 5F B'!D131*100,\"-\"))","v":"-"},{"$f":"IF(OR('Tabel 5F B'!E131<5,'Tabel 5 B'!E131<0.5),\"-\",IFERROR('Tabel 5 B'!E131/'Tabel 5F B'!E131*100,\"-\"))","v":"-"},{"$f":"IF(OR('Tabel 5F B'!F131<5,'Tabel 5 B'!F131<0.5),\"-\",IFERROR('Tabel 5 B'!F131/'Tabel 5F B'!F131*100,\"-\"))","v":"-"},{"$f":"IF(OR('Tabel 5F B'!G131<5,'Tabel 5 B'!G131<0.5),\"-\",IFERROR('Tabel 5 B'!G131/'Tabel 5F B'!G131*100,\"-\"))","v":"-"},{"$f":"IF(OR('Tabel 5F B'!H131<5,'Tabel 5 B'!H131<0.5),\"-\",IFERROR('Tabel 5 B'!H131/'Tabel 5F B'!H131*100,\"-\"))","v":"-"},null,{"$f":"IF(OR('Tabel 5F B'!J131<5,'Tabel 5 B'!J131<0.5),\"-\",IFERROR('Tabel 5 B'!J131/'Tabel 5F B'!J131*100,\"-\"))","v":"-"}]
["Læge",null,{"$f":"IF(OR('Tabel 5F B'!C132<5,'Tabel 5 B'!C132<0.5),\"-\",IFERROR('Tabel 5 B'!C132/'Tabel 5F B'!C132*100,\"-\"))","v":"-"},{"$f":"IF(OR('Tabel 5F B'!D132<5,'Tabel 5 B'!D132<0.5),\"-\",IFERROR('Tabel 5 B'!D132/'Tabel 5F B'!D132*100,\"-\"))","v":"-"},{"$f":"IF(OR('Tabel 5F B'!E132<5,'Tabel 5 B'!E132<0.5),\"-\",IFERROR('Tabel 5 B'!E132/'Tabel 5F B'!E132*100,\"-\"))","v":"-"},{"$f":"IF(OR('Tabel 5F B'!F132<5,'Tabel 5 B'!F132<0.5),\"-\",IFERROR('Tabel 5 B'!F132/'Tabel 5F B'!F132*100,\"-\"))","v":"-"},{"$f":"IF(OR('Tabel 5F B'!G132<5,'Tabel 5 B'!G132<0.5),\"-\",IFERROR('Tabel 5 B'!G132/'Tabel 5F B'!G132*100,\"-\"))","v":"-"},{"$f":"IF(OR('Tabel 5F B'!H132<5,'Tabel 5 B'!H132<0.5),\"-\",IFERROR('Tabel 5 B'!H132/'Tabel 5F B'!H132*100,\"-\"))","v":"-"},null,{"$f":"IF(OR('Tabel 5F B'!J132<5,'Tabel 5 B'!J132<0.5),\"-\",IFERROR('Tabel 5 B'!J132/'Tabel 5F B'!J132*100,\"-\"))","v":"-"}]
["Tandlæge",null,{"$f":"IF(OR('Tabel 5F B'!C133<5,'Tabel 5 B'!C133<0.5),\"-\",IFERROR('Tabel 5 B'!C133/'Tabel 5F B'!C133*100,\"-\"))","v":"-"},{"$f":"IF(OR('Tabel 5F B'!D133<5,'Tabel 5 B'!D133<0.5),\"-\",IFERROR('Tabel 5 B'!D133/'Tabel 5F B'!D133*100,\"-\"))","v":"-"},{"$f":"IF(OR('Tabel 5F B'!E133<5,'Tabel 5 B'!E133<0.5),\"-\",IFERROR('Tabel 5 B'!E133/'Tabel 5F B'!E133*100,\"-\"))","v":"-"},{"$f":"IF(OR('Tabel 5F B'!F133<5,'Tabel 5 B'!F133<0.5),\"-\",IFERROR('Tabel 5 B'!F133/'Tabel 5F B'!F133*100,\"-\"))","v":"-"},{"$f":"IF(OR('Tabel 5F B'!G133<5,'Tabel 5 B'!G133<0.5),\"-\",IFERROR('Tabel 5 B'!G133/'Tabel 5F B'!G133*100,\"-\"))","v":"-"},{"$f":"IF(OR('Tabel 5F B'!H133<5,'Tabel 5 B'!H133<0.5),\"-\",IFERROR('Tabel 5 B'!H133/'Tabel 5F B'!H133*100,\"-\"))","v":"-"},null,{"$f":"IF(OR('Tabel 5F B'!J133<5,'Tabel 5 B'!J133<0.5),\"-\",IFERROR('Tabel 5 B'!J133/'Tabel 5F B'!J133*100,\"-\"))","v":"-"}]
["Arkitekt",null,{"$f":"IF(OR('Tabel 5F B'!C134<5,'Tabel 5 B'!C134<0.5),\"-\",IFERROR('Tabel 5 B'!C134/'Tabel 5F B'!C134*100,\"-\"))","v":"-"},{"$f":"IF(OR('Tabel 5F B'!D134<5,'Tabel 5 B'!D134<0.5),\"-\",IFERROR('Tabel 5 B'!D134/'Tabel 5F B'!D134*100,\"-\"))","v":"-"},{"$f":"IF(OR('Tabel 5F B'!E134<5,'Tabel 5 B'!E134<0.5),\"-\",IFERROR('Tabel 5 B'!E134/'Tabel 5F B'!E134*100,\"-\"))","v":"-"},{"$f":"IF(OR('Tabel 5F B'!F134<5,'Tabel 5 B'!F134<0.5),\"-\",IFERROR('Tabel 5 B'!F134/'Tabel 5F B'!F134*100,\"-\"))","v":"-"},{"$f":"IF(OR('Tabel 5F B'!G134<5,'Tabel 5 B'!G134<0.5),\"-\",IFERROR('Tabel 5 B'!G134/'Tabel 5F B'!G134*100,\"-\"))","v":"-"},{"$f":"IF(OR('Tabel 5F B'!H134<5,'Tabel 5 B'!H134<0.5),\"-\",IFERROR('Tabel 5 B'!H134/'Tabel 5F B'!H134*100,\"-\"))","v":"-"},null,{"$f":"IF(OR('Tabel 5F B'!J134<5,'Tabel 5 B'!J134<0.5),\"-\",IFERROR('Tabel 5 B'!J134/'Tabel 5F B'!J134*100,\"-\"))","v":"-"}]
["Landinspek.",null,{"$f":"IF(OR('Tabel 5F B'!C135<5,'Tabel 5 B'!C135<0.5),\"-\",IFERROR('Tabel 5 B'!C135/'Tabel 5F B'!C135*100,\"-\"))","v":"-"},{"$f":"IF(OR('Tabel 5F B'!D135<5,'Tabel 5 B'!D135<0.5),\"-\",IFERROR('Tabel 5 B'!D135/'Tabel 5F B'!D135*100,\"-\"))","v":"-"},{"$f":"IF(OR('Tabel 5F B'!E135<5,'Tabel 5 B'!E135<0.5),\"-\",IFERROR('Tabel 5 B'!E135/'Tabel 5F B'!E135*100,\"-\"))","v":"-"},{"$f":"IF(OR('Tabel 5F B'!F135<5,'Tabel 5 B'!F135<0.5),\"-\",IFERROR('Tabel 5 B'!F135/'Tabel 5F B'!F135*100,\"-\"))","v":"-"},{"$f":"IF(OR('Tabel 5F B'!G135<5,'Tabel 5 B'!G135<0.5),\"-\",IFERROR('Tabel 5 B'!G135/'Tabel 5F B'!G135*100,\"-\"))","v":"-"},{"$f":"IF(OR('Tabel 5F B'!H135<5,'Tabel 5 B'!H135<0.5),\"-\",IFERROR('Tabel 5 B'!H135/'Tabel 5F B'!H135*100,\"-\"))","v":"-"},null,{"$f":"IF(OR('Tabel 5F B'!J135<5,'Tabel 5 B'!J135<0.5),\"-\",IFERROR('Tabel 5 B'!J135/'Tabel 5F B'!J135*100,\"-\"))","v":"-"}]
["Bibliotekar",null,{"$f":"IF(OR('Tabel 5F B'!C136<5,'Tabel 5 B'!C136<0.5),\"-\",IFERROR('Tabel 5 B'!C136/'Tabel 5F B'!C136*100,\"-\"))","v":"-"},{"$f":"IF(OR('Tabel 5F B'!D136<5,'Tabel 5 B'!D136<0.5),\"-\",IFERROR('Tabel 5 B'!D136/'Tabel 5F B'!D136*100,\"-\"))","v":"-"},{"$f":"IF(OR('Tabel 5F B'!E136<5,'Tabel 5 B'!E136<0.5),\"-\",IFERROR('Tabel 5 B'!E136/'Tabel 5F B'!E136*100,\"-\"))","v":"-"},{"$f":"IF(OR('Tabel 5F B'!F136<5,'Tabel 5 B'!F136<0.5),\"-\",IFERROR('Tabel 5 B'!F136/'Tabel 5F B'!F136*100,\"-\"))","v":"-"},{"$f":"IF(OR('Tabel 5F B'!G136<5,'Tabel 5 B'!G136<0.5),\"-\",IFERROR('Tabel 5 B'!G136/'Tabel 5F B'!G136*100,\"-\"))","v":"-"},{"$f":"IF(OR('Tabel 5F B'!H136<5,'Tabel 5 B'!H136<0.5),\"-\",IFERROR('Tabel 5 B'!H136/'Tabel 5F B'!H136*100,\"-\"))","v":"-"},null,{"$f":"IF(OR('Tabel 5F B'!J136<5,'Tabel 5 B'!J136<0.5),\"-\",IFERROR('Tabel 5 B'!J136/'Tabel 5F B'!J136*100,\"-\"))","v":"-"}]
["Musikudd.",null,{"$f":"IF(OR('Tabel 5F B'!C137<5,'Tabel 5 B'!C137<0.5),\"-\",IFERROR('Tabel 5 B'!C137/'Tabel 5F B'!C137*100,\"-\"))","v":"-"},{"$f":"IF(OR('Tabel 5F B'!D137<5,'Tabel 5 B'!D137<0.5),\"-\",IFERROR('Tabel 5 B'!D137/'Tabel 5F B'!D137*100,\"-\"))","v":"-"},{"$f":"IF(OR('Tabel 5F B'!E137<5,'Tabel 5 B'!E137<0.5),\"-\",IFERROR('Tabel 5 B'!E137/'Tabel 5F B'!E137*100,\"-\"))","v":"-"},{"$f":"IF(OR('Tabel 5F B'!F137<5,'Tabel 5 B'!F137<0.5),\"-\",IFERROR('Tabel 5 B'!F137/'Tabel 5F B'!F137*100,\"-\"))","v":"-"},{"$f":"IF(OR('Tabel 5F B'!G137<5,'Tabel 5 B'!G137<0.5),\"-\",IFERROR('Tabel 5 B'!G137/'Tabel 5F B'!G137*100,\"-\"))","v":"-"},{"$f":"IF(OR('Tabel 5F B'!H137<5,'Tabel 5 B'!H137<0.5),\"-\",IFERROR('Tabel 5 B'!H137/'Tabel 5F B'!H137*100,\"-\"))","v":"-"},null,{"$f":"IF(OR('Tabel 5F B'!J137<5,'Tabel 5 B'!J137<0.5),\"-\",IFERROR('Tabel 5 B'!J137/'Tabel 5F B'!J137*100,\"-\"))","v":"-"}]
["Teolog",null,{"$f":"IF(OR('Tabel 5F B'!C138<5,'Tabel 5 B'!C138<0.5),\"-\",IFERROR('Tabel 5 B'!C138/'Tabel 5F B'!C138*100,\"-\"))","v":"-"},{"$f":"IF(OR('Tabel 5F B'!D138<5,'Tabel 5 B'!D138<0.5),\"-\",IFERROR('Tabel 5 B'!D138/'Tabel 5F B'!D138*100,\"-\"))","v":"-"},{"$f":"IF(OR('Tabel 5F B'!E138<5,'Tabel 5 B'!E138<0.5),\"-\",IFERROR('Tabel 5 B'!E138/'Tabel 5F B'!E138*100,\"-\"))","v":"-"},{"$f":"IF(OR('Tabel 5F B'!F138<5,'Tabel 5 B'!F138<0.5),\"-\",IFERROR('Tabel 5 B'!F138/'Tabel 5F B'!F138*100,\"-\"))","v":"-"},{"$f":"IF(OR('Tabel 5F B'!G138<5,'Tabel 5 B'!G138<0.5),\"-\",IFERROR('Tabel 5 B'!G138/'Tabel 5F B'!G138*100,\"-\"))","v":"-"},{"$f":"IF(OR('Tabel 5F B'!H138<5,'Tabel 5 B'!H138<0.5),\"-\",IFERROR('Tabel 5 B'!H138/'Tabel 5F B'!H138*100,\"-\"))","v":"-"},null,{"$f":"IF(OR('Tabel 5F B'!J138<5,'Tabel 5 B'!J138<0.5),\"-\",IFERROR('Tabel 5 B'!J138/'Tabel 5F B'!J138*100,\"-\"))","v":"-"}]
["Psykolog",null,{"$f":"IF(OR('Tabel 5F B'!C139<5,'Tabel 5 B'!C139<0.5),\"-\",IFERROR('Tabel 5 B'!C139/'Tabel 5F B'!C139*100,\"-\"))","v":"-"},{"$f":"IF(OR('Tabel 5F B'!D139<5,'Tabel 5 B'!D139<0.5),\"-\",IFERROR('Tabel 5 B'!D139/'Tabel 5F B'!D139*100,\"-\"))","v":"-"},{"$f":"IF(OR('Tabel 5F B'!E139<5,'Tabel 5 B'!E139<0.5),\"-\",IFERROR('Tabel 5 B'!E139/'Tabel 5F B'!E139*100,\"-\"))","v":"-"},{"$f":"IF(OR('Tabel 5F B'!F139<5,'Tabel 5 B'!F139<0.5),\"-\",IFERROR('Tabel 5 B'!F139/'Tabel 5F B'!F139*100,\"-\"))","v":"-"},{"$f":"IF(OR('Tabel 5F B'!G139<5,'Tabel 5 B'!G139<0.5),\"-\",IFERROR('Tabel 5 B'!G139/'Tabel 5F B'!G139*100,\"-\"))","v":"-"},{"$f":"IF(OR('Tabel 5F B'!H139<5,'Tabel 5 B'!H139<0.5),\"-\",IFERROR('Tabel 5 B'!H139/'Tabel 5F B'!H139*100,\"-\"))","v":"-"},null,{"$f":"IF(OR('Tabel 5F B'!J139<5,'Tabel 5 B'!J139<0.5),\"-\",IFERROR('Tabel 5 B'!J139/'Tabel 5F B'!J139*100,\"-\"))","v":"-"}]
["Jurist",null,{"$f":"IF(OR('Tabel 5F B'!C140<5,'Tabel 5 B'!C140<0.5),\"-\",IFERROR('Tabel 5 B'!C140/'Tabel 5F B'!C140*100,\"-\"))","v":"-"},{"$f":"IF(OR('Tabel 5F B'!D140<5,'Tabel 5 B'!D140<0.5),\"-\",IFERROR('Tabel 5 B'!D140/'Tabel 5F B'!D140*100,\"-\"))","v":"-"},{"$f":"IF(OR('Tabel 5F B'!E140<5,'Tabel 5 B'!E140<0.5),\"-\",IFERROR('Tabel 5 B'!E140/'Tabel 5F B'!E140*100,\"-\"))","v":"-"},{"$f":"IF(OR('Tabel 5F B'!F140<5,'Tabel 5 B'!F140<0.5),\"-\",IFERROR('Tabel 5 B'!F140/'Tabel 5F B'!F140*100,\"-\"))","v":"-"},{"$f":"IF(OR('Tabel 5F B'!G140<5,'Tabel 5 B'!G140<0.5),\"-\",IFERROR('Tabel 5 B'!G140/'Tabel 5F B'!G140*100,\"-\"))","v":"-"},{"$f":"IF(OR('Tabel 5F B'!H140<5,'Tabel 5 B'!H140<0.5),\"-\",IFERROR('Tabel 5 B'!H140/'Tabel 5F B'!H140*100,\"-\"))","v":"-"},null,{"$f":"IF(OR('Tabel 5F B'!J140<5,'Tabel 5 B'!J140<0.5),\"-\",IFERROR('Tabel 5 B'!J140/'Tabel 5F B'!J140*100,\"-\"))","v":"-"}]
["Økonom",null,{"$f":"IF(OR('Tabel 5F B'!C141<5,'Tabel 5 B'!C141<0.5),\"-\",IFERROR('Tabel 5 B'!C141/'Tabel 5F B'!C141*100,\"-\"))","v":"-"},{"$f":"IF(OR('Tabel 5F B'!D141<5,'Tabel 5 B'!D141<0.5),\"-\",IFERROR('Tabel 5 B'!D141/'Tabel 5F B'!D141*100,\"-\"))","v":"-"},{"$f":"IF(OR('Tabel 5F B'!E141<5,'Tabel 5 B'!E141<0.5),\"-\",IFERROR('Tabel 5 B'!E141/'Tabel 5F B'!E141*100,\"-\"))","v":"-"},{"$f":"IF(OR('Tabel 5F B'!F141<5,'Tabel 5 B'!F141<0.5),\"-\",IFERROR('Tabel 5 B'!F141/'Tabel 5F B'!F141*100,\"-\"))","v":"-"},{"$f":"IF(OR('Tabel 5F B'!G141<5,'Tabel 5 B'!G141<0.5),\"-\",IFERROR('Tabel 5 B'!G141/'Tabel 5F B'!G141*100,\"-\"))","v":"-"},{"$f":"IF(OR('Tabel 5F B'!H141<5,'Tabel 5 B'!H141<0.5),\"-\",IFERROR('Tabel 5 B'!H141/'Tabel 5F B'!H141*100,\"-\"))","v":"-"},null,{"$f":"IF(OR('Tabel 5F B'!J141<5,'Tabel 5 B'!J141<0.5),\"-\",IFERROR('Tabel 5 B'!J141/'Tabel 5F B'!J141*100,\"-\"))","v":"-"}]
["Samf. Adm.",null,{"$f":"IF(OR('Tabel 5F B'!C142<5,'Tabel 5 B'!C142<0.5),\"-\",IFERROR('Tabel 5 B'!C142/'Tabel 5F B'!C142*100,\"-\"))","v":"-"},{"$f":"IF(OR('Tabel 5F B'!D142<5,'Tabel 5 B'!D142<0.5),\"-\",IFERROR('Tabel 5 B'!D142/'Tabel 5F B'!D142*100,\"-\"))","v":"-"},{"$f":"IF(OR('Tabel 5F B'!E142<5,'Tabel 5 B'!E142<0.5),\"-\",IFERROR('Tabel 5 B'!E142/'Tabel 5F B'!E142*100,\"-\"))","v":"-"},{"$f":"IF(OR('Tabel 5F B'!F142<5,'Tabel 5 B'!F142<0.5),\"-\",IFERROR('Tabel 5 B'!F142/'Tabel 5F B'!F142*100,\"-\"))","v":"-"},{"$f":"IF(OR('Tabel 5F B'!G142<5,'Tabel 5 B'!G142<0.5),\"-\",IFERROR('Tabel 5 B'!G142/'Tabel 5F B'!G142*100,\"-\"))","v":"-"},{"$f":"IF(OR('Tabel 5F B'!H142<5,'Tabel 5 B'!H142<0.5),\"-\",IFERROR('Tabel 5 B'!H142/'Tabel 5F B'!H142*100,\"-\"))","v":"-"},null,{"$f":"IF(OR('Tabel 5F B'!J142<5,'Tabel 5 B'!J142<0.5),\"-\",IFERROR('Tabel 5 B'!J142/'Tabel 5F B'!J142*100,\"-\"))","v":"-"}]
["Cand. Merc.",null,{"$f":"IF(OR('Tabel 5F B'!C143<5,'Tabel 5 B'!C143<0.5),\"-\",IFERROR('Tabel 5 B'!C143/'Tabel 5F B'!C143*100,\"-\"))","v":"-"},{"$f":"IF(OR('Tabel 5F B'!D143<5,'Tabel 5 B'!D143<0.5),\"-\",IFERROR('Tabel 5 B'!D143/'Tabel 5F B'!D143*100,\"-\"))","v":"-"},{"$f":"IF(OR('Tabel 5F B'!E143<5,'Tabel 5 B'!E143<0.5),\"-\",IFERROR('Tabel 5 B'!E143/'Tabel 5F B'!E143*100,\"-\"))","v":"-"},{"$f":"IF(OR('Tabel 5F B'!F143<5,'Tabel 5 B'!F143<0.5),\"-\",IFERROR('Tabel 5 B'!F143/'Tabel 5F B'!F143*100,\"-\"))","v":"-"},{"$f":"IF(OR('Tabel 5F B'!G143<5,'Tabel 5 B'!G143<0.5),\"-\",IFERROR('Tabel 5 B'!G143/'Tabel 5F B'!G143*100,\"-\"))","v":"-"},{"$f":"IF(OR('Tabel 5F B'!H143<5,'Tabel 5 B'!H143<0.5),\"-\",IFERROR('Tabel 5 B'!H143/'Tabel 5F B'!H143*100,\"-\"))","v":"-"},null,{"$f":"IF(OR('Tabel 5F B'!J143<5,'Tabel 5 B'!J143<0.5),\"-\",IFERROR('Tabel 5 B'!J143/'Tabel 5F B'!J143*100,\"-\"))","v":"-"}]
["HA",null,{"$f":"IF(OR('Tabel 5F B'!C144<5,'Tabel 5 B'!C144<0.5),\"-\",IFERROR('Tabel 5 B'!C144/'Tabel 5F B'!C144*100,\"-\"))","v":"-"},{"$f":"IF(OR('Tabel 5F B'!D144<5,'Tabel 5 B'!D144<0.5),\"-\",IFERROR('Tabel 5 B'!D144/'Tabel 5F B'!D144*100,\"-\"))","v":"-"},{"$f":"IF(OR('Tabel 5F B'!E144<5,'Tabel 5 B'!E144<0.5),\"-\",IFERROR('Tabel 5 B'!E144/'Tabel 5F B'!E144*100,\"-\"))","v":"-"},{"$f":"IF(OR('Tabel 5F B'!F144<5,'Tabel 5 B'!F144<0.5),\"-\",IFERROR('Tabel 5 B'!F144/'Tabel 5F B'!F144*100,\"-\"))","v":"-"},{"$f":"IF(OR('Tabel 5F B'!G144<5,'Tabel 5 B'!G144<0.5),\"-\",IFERROR('Tabel 5 B'!G144/'Tabel 5F B'!G144*100,\"-\"))","v":"-"},{"$f":"IF(OR('Tabel 5F B'!H144<5,'Tabel 5 B'!H144<0.5),\"-\",IFERROR('Tabel 5 B'!H144/'Tabel 5F B'!H144*100,\"-\"))","v":"-"},null,{"$f":"IF(OR('Tabel 5F B'!J144<5,'Tabel 5 B'!J144<0.5),\"-\",IFERROR('Tabel 5 B'!J144/'Tabel 5F B'!J144*100,\"-\"))","v":"-"}]
["HD",null,{"$f":"IF(OR('Tabel 5F B'!C145<5,'Tabel 5 B'!C145<0.5),\"-\",IFERROR('Tabel 5 B'!C145/'Tabel 5F B'!C145*100,\"-\"))","v":"-"},{"$f":"IF(OR('Tabel 5F B'!D145<5,'Tabel 5 B'!D145<0.5),\"-\",IFERROR('Tabel 5 B'!D145/'Tabel 5F B'!D145*100,\"-\"))","v":"-"},{"$f":"IF(OR('Tabel 5F B'!E145<5,'Tabel 5 B'!E145<0.5),\"-\",IFERROR('Tabel 5 B'!E145/'Tabel 5F B'!E145*100,\"-\"))","v":"-"},{"$f":"IF(OR('Tabel 5F B'!F145<5,'Tabel 5 B'!F145<0.5),\"-\",IFERROR('Tabel 5 B'!F145/'Tabel 5F B'!F145*100,\"-\"))","v":"-"},{"$f":"IF(OR('Tabel 5F B'!G145<5,'Tabel 5 B'!G145<0.5),\"-\",IFERROR('Tabel 5 B'!G145/'Tabel 5F B'!G145*100,\"-\"))","v":"-"},{"$f":"IF(OR('Tabel 5F B'!H145<5,'Tabel 5 B'!H145<0.5),\"-\",IFERROR('Tabel 5 B'!H145/'Tabel 5F B'!H145*100,\"-\"))","v":"-"},null,{"$f":"IF(OR('Tabel 5F B'!J145<5,'Tabel 5 B'!J145<0.5),\"-\",IFERROR('Tabel 5 B'!J145/'Tabel 5F B'!J145*100,\"-\"))","v":"-"}]
["Komm. og Sprog",null,{"$f":"IF(OR('Tabel 5F B'!C146<5,'Tabel 5 B'!C146<0.5),\"-\",IFERROR('Tabel 5 B'!C146/'Tabel 5F B'!C146*100,\"-\"))","v":"-"},{"$f":"IF(OR('Tabel 5F B'!D146<5,'Tabel 5 B'!D146<0.5),\"-\",IFERROR('Tabel 5 B'!D146/'Tabel 5F B'!D146*100,\"-\"))","v":"-"},{"$f":"IF(OR('Tabel 5F B'!E146<5,'Tabel 5 B'!E146<0.5),\"-\",IFERROR('Tabel 5 B'!E146/'Tabel 5F B'!E146*100,\"-\"))","v":"-"},{"$f":"IF(OR('Tabel 5F B'!F146<5,'Tabel 5 B'!F146<0.5),\"-\",IFERROR('Tabel 5 B'!F146/'Tabel 5F B'!F146*100,\"-\"))","v":"-"},{"$f":"IF(OR('Tabel 5F B'!G146<5,'Tabel 5 B'!G146<0.5),\"-\",IFERROR('Tabel 5 B'!G146/'Tabel 5F B'!G146*100,\"-\"))","v":"-"},{"$f":"IF(OR('Tabel 5F B'!H146<5,'Tabel 5 B'!H146<0.5),\"-\",IFERROR('Tabel 5 B'!H146/'Tabel 5F B'!H146*100,\"-\"))","v":"-"},null,{"$f":"IF(OR('Tabel 5F B'!J146<5,'Tabel 5 B'!J146<0.5),\"-\",IFERROR('Tabel 5 B'!J146/'Tabel 5F B'!J146*100,\"-\"))","v":"-"}]
["Bygningskonst.",null,{"$f":"IF(OR('Tabel 5F B'!C147<5,'Tabel 5 B'!C147<0.5),\"-\",IFERROR('Tabel 5 B'!C147/'Tabel 5F B'!C147*100,\"-\"))","v":"-"},{"$f":"IF(OR('Tabel 5F B'!D147<5,'Tabel 5 B'!D147<0.5),\"-\",IFERROR('Tabel 5 B'!D147/'Tabel 5F B'!D147*100,\"-\"))","v":"-"},{"$f":"IF(OR('Tabel 5F B'!E147<5,'Tabel 5 B'!E147<0.5),\"-\",IFERROR('Tabel 5 B'!E147/'Tabel 5F B'!E147*100,\"-\"))","v":"-"},{"$f":"IF(OR('Tabel 5F B'!F147<5,'Tabel 5 B'!F147<0.5),\"-\",IFERROR('Tabel 5 B'!F147/'Tabel 5F B'!F147*100,\"-\"))","v":"-"},{"$f":"IF(OR('Tabel 5F B'!G147<5,'Tabel 5 B'!G147<0.5),\"-\",IFERROR('Tabel 5 B'!G147/'Tabel 5F B'!G147*100,\"-\"))","v":"-"},{"$f":"IF(OR('Tabel 5F B'!H147<5,'Tabel 5 B'!H147<0.5),\"-\",IFERROR('Tabel 5 B'!H147/'Tabel 5F B'!H147*100,\"-\"))","v":"-"},null,{"$f":"IF(OR('Tabel 5F B'!J147<5,'Tabel 5 B'!J147<0.5),\"-\",IFERROR('Tabel 5 B'!J147/'Tabel 5F B'!J147*100,\"-\"))","v":"-"}]
["Cand. IT.",null,{"$f":"IF(OR('Tabel 5F B'!C148<5,'Tabel 5 B'!C148<0.5),\"-\",IFERROR('Tabel 5 B'!C148/'Tabel 5F B'!C148*100,\"-\"))","v":"-"},{"$f":"IF(OR('Tabel 5F B'!D148<5,'Tabel 5 B'!D148<0.5),\"-\",IFERROR('Tabel 5 B'!D148/'Tabel 5F B'!D148*100,\"-\"))","v":"-"},{"$f":"IF(OR('Tabel 5F B'!E148<5,'Tabel 5 B'!E148<0.5),\"-\",IFERROR('Tabel 5 B'!E148/'Tabel 5F B'!E148*100,\"-\"))","v":"-"},{"$f":"IF(OR('Tabel 5F B'!F148<5,'Tabel 5 B'!F148<0.5),\"-\",IFERROR('Tabel 5 B'!F148/'Tabel 5F B'!F148*100,\"-\"))","v":"-"},{"$f":"IF(OR('Tabel 5F B'!G148<5,'Tabel 5 B'!G148<0.5),\"-\",IFERROR('Tabel 5 B'!G148/'Tabel 5F B'!G148*100,\"-\"))","v":"-"},{"$f":"IF(OR('Tabel 5F B'!H148<5,'Tabel 5 B'!H148<0.5),\"-\",IFERROR('Tabel 5 B'!H148/'Tabel 5F B'!H148*100,\"-\"))","v":"-"},null,{"$f":"IF(OR('Tabel 5F B'!J148<5,'Tabel 5 B'!J148<0.5),\"-\",IFERROR('Tabel 5 B'!J148/'Tabel 5F B'!J148*100,\"-\"))","v":"-"}]
["Bac. Samf.",null,{"$f":"IF(OR('Tabel 5F B'!C149<5,'Tabel 5 B'!C149<0.5),\"-\",IFERROR('Tabel 5 B'!C149/'Tabel 5F B'!C149*100,\"-\"))","v":"-"},{"$f":"IF(OR('Tabel 5F B'!D149<5,'Tabel 5 B'!D149<0.5),\"-\",IFERROR('Tabel 5 B'!D149/'Tabel 5F B'!D149*100,\"-\"))","v":"-"},{"$f":"IF(OR('Tabel 5F B'!E149<5,'Tabel 5 B'!E149<0.5),\"-\",IFERROR('Tabel 5 B'!E149/'Tabel 5F B'!E149*100,\"-\"))","v":"-"},{"$f":"IF(OR('Tabel 5F B'!F149<5,'Tabel 5 B'!F149<0.5),\"-\",IFERROR('Tabel 5 B'!F149/'Tabel 5F B'!F149*100,\"-\"))","v":"-"},{"$f":"IF(OR('Tabel 5F B'!G149<5,'Tabel 5 B'!G149<0.5),\"-\",IFERROR('Tabel 5 B'!G149/'Tabel 5F B'!G149*100,\"-\"))","v":"-"},{"$f":"IF(OR('Tabel 5F B'!H149<5,'Tabel 5 B'!H149<0.5),\"-\",IFERROR('Tabel 5 B'!H149/'Tabel 5F B'!H149*100,\"-\"))","v":"-"},null,{"$f":"IF(OR('Tabel 5F B'!J149<5,'Tabel 5 B'!J149<0.5),\"-\",IFERROR('Tabel 5 B'!J149/'Tabel 5F B'!J149*100,\"-\"))","v":"-"}]
["Bac. Hum.",null,{"$f":"IF(OR('Tabel 5F B'!C150<5,'Tabel 5 B'!C150<0.5),\"-\",IFERROR('Tabel 5 B'!C150/'Tabel 5F B'!C150*100,\"-\"))","v":"-"},{"$f":"IF(OR('Tabel 5F B'!D150<5,'Tabel 5 B'!D150<0.5),\"-\",IFERROR('Tabel 5 B'!D150/'Tabel 5F B'!D150*100,\"-\"))","v":"-"},{"$f":"IF(OR('Tabel 5F B'!E150<5,'Tabel 5 B'!E150<0.5),\"-\",IFERROR('Tabel 5 B'!E150/'Tabel 5F B'!E150*100,\"-\"))","v":"-"},{"$f":"IF(OR('Tabel 5F B'!F150<5,'Tabel 5 B'!F150<0.5),\"-\",IFERROR('Tabel 5 B'!F150/'Tabel 5F B'!F150*100,\"-\"))","v":"-"},{"$f":"IF(OR('Tabel 5F B'!G150<5,'Tabel 5 B'!G150<0.5),\"-\",IFERROR('Tabel 5 B'!G150/'Tabel 5F B'!G150*100,\"-\"))","v":"-"},{"$f":"IF(OR('Tabel 5F B'!H150<5,'Tabel 5 B'!H150<0.5),\"-\",IFERROR('Tabel 5 B'!H150/'Tabel 5F B'!H150*100,\"-\"))","v":"-"},null,{"$f":"IF(OR('Tabel 5F B'!J150<5,'Tabel 5 B'!J150<0.5),\"-\",IFERROR('Tabel 5 B'!J150/'Tabel 5F B'!J150*100,\"-\"))","v":"-"}]
["Bac. Nat.",null,{"$f":"IF(OR('Tabel 5F B'!C151<5,'Tabel 5 B'!C151<0.5),\"-\",IFERROR('Tabel 5 B'!C151/'Tabel 5F B'!C151*100,\"-\"))","v":"-"},{"$f":"IF(OR('Tabel 5F B'!D151<5,'Tabel 5 B'!D151<0.5),\"-\",IFERROR('Tabel 5 B'!D151/'Tabel 5F B'!D151*100,\"-\"))","v":"-"},{"$f":"IF(OR('Tabel 5F B'!E151<5,'Tabel 5 B'!E151<0.5),\"-\",IFERROR('Tabel 5 B'!E151/'Tabel 5F B'!E151*100,\"-\"))","v":"-"},{"$f":"IF(OR('Tabel 5F B'!F151<5,'Tabel 5 B'!F151<0.5),\"-\",IFERROR('Tabel 5 B'!F151/'Tabel 5F B'!F151*100,\"-\"))","v":"-"},{"$f":"IF(OR('Tabel 5F B'!G151<5,'Tabel 5 B'!G151<0.5),\"-\",IFERROR('Tabel 5 B'!G151/'Tabel 5F B'!G151*100,\"-\"))","v":"-"},{"$f":"IF(OR('Tabel 5F B'!H151<5,'Tabel 5 B'!H151<0.5),\"-\",IFERROR('Tabel 5 B'!H151/'Tabel 5F B'!H151*100,\"-\"))","v":"-"},null,{"$f":"IF(OR('Tabel 5F B'!J151<5,'Tabel 5 B'!J151<0.5),\"-\",IFERROR('Tabel 5 B'!J151/'Tabel 5F B'!J151*100,\"-\"))","v":"-"}]
["Andre",null,{"$f":"IF(OR('Tabel 5F B'!C152<5,'Tabel 5 B'!C152<0.5),\"-\",IFERROR('Tabel 5 B'!C152/'Tabel 5F B'!C152*100,\"-\"))","v":"-"},{"$f":"IF(OR('Tabel 5F B'!D152<5,'Tabel 5 B'!D152<0.5),\"-\",IFERROR('Tabel 5 B'!D152/'Tabel 5F B'!D152*100,\"-\"))","v":"-"},{"$f":"IF(OR('Tabel 5F B'!E152<5,'Tabel 5 B'!E152<0.5),\"-\",IFERROR('Tabel 5 B'!E152/'Tabel 5F B'!E152*100,\"-\"))","v":"-"},{"$f":"IF(OR('Tabel 5F B'!F152<5,'Tabel 5 B'!F152<0.5),\"-\",IFERROR('Tabel 5 B'!F152/'Tabel 5F B'!F152*100,\"-\"))","v":"-"},{"$f":"IF(OR('Tabel 5F B'!G152<5,'Tabel 5 B'!G152<0.5),\"-\",IFERROR('Tabel 5 B'!G152/'Tabel 5F B'!G152*100,\"-\"))","v":"-"},{"$f":"IF(OR('Tabel 5F B'!H152<5,'Tabel 5 B'!H152<0.5),\"-\",IFERROR('Tabel 5 B'!H152/'Tabel 5F B'!H152*100,\"-\"))","v":"-"},null,{"$f":"IF(OR('Tabel 5F B'!J152<5,'Tabel 5 B'!J152<0.5),\"-\",IFERROR('Tabel 5 B'!J152/'Tabel 5F B'!J152*100,\"-\"))","v":"-"}]
[]
["Total",null,{"$f":"IF(OR('Tabel 5F B'!C154<5,'Tabel 5 B'!C154<0.5),\"-\",IFERROR('Tabel 5 B'!C154/'Tabel 5F B'!C154*100,\"-\"))","v":"-"},{"$f":"IF(OR('Tabel 5F B'!D154<5,'Tabel 5 B'!D154<0.5),\"-\",IFERROR('Tabel 5 B'!D154/'Tabel 5F B'!D154*100,\"-\"))","v":"-"},{"$f":"IF(OR('Tabel 5F B'!E154<5,'Tabel 5 B'!E154<0.5),\"-\",IFERROR('Tabel 5 B'!E154/'Tabel 5F B'!E154*100,\"-\"))","v":"-"},{"$f":"IF(OR('Tabel 5F B'!F154<5,'Tabel 5 B'!F154<0.5),\"-\",IFERROR('Tabel 5 B'!F154/'Tabel 5F B'!F154*100,\"-\"))","v":"-"},{"$f":"IF(OR('Tabel 5F B'!G154<5,'Tabel 5 B'!G154<0.5),\"-\",IFERROR('Tabel 5 B'!G154/'Tabel 5F B'!G154*100,\"-\"))","v":"-"},{"$f":"IF(OR('Tabel 5F B'!H154<5,'Tabel 5 B'!H154<0.5),\"-\",IFERROR('Tabel 5 B'!H154/'Tabel 5F B'!H154*100,\"-\"))","v":"-"},null,{"$f":"IF(OR('Tabel 5F B'!J154<5,'Tabel 5 B'!J154<0.5),\"-\",IFERROR('Tabel 5 B'!J154/'Tabel 5F B'!J154*100,\"-\"))","v":"-"}]
[]
["Ingeniører i alt",null,{"$f":"IF(OR('Tabel 5F B'!C156<5,'Tabel 5 B'!C156<0.5),\"-\",IFERROR('Tabel 5 B'!C156/'Tabel 5F B'!C156*100,\"-\"))","v":"-"},{"$f":"IF(OR('Tabel 5F B'!D156<5,'Tabel 5 B'!D156<0.5),\"-\",IFERROR('Tabel 5 B'!D156/'Tabel 5F B'!D156*100,\"-\"))","v":"-"},{"$f":"IF(OR('Tabel 5F B'!E156<5,'Tabel 5 B'!E156<0.5),\"-\",IFERROR('Tabel 5 B'!E156/'Tabel 5F B'!E156*100,\"-\"))","v":"-"},{"$f":"IF(OR('Tabel 5F B'!F156<5,'Tabel 5 B'!F156<0.5),\"-\",IFERROR('Tabel 5 B'!F156/'Tabel 5F B'!F156*100,\"-\"))","v":"-"},{"$f":"IF(OR('Tabel 5F B'!G156<5,'Tabel 5 B'!G156<0.5),\"-\",IFERROR('Tabel 5 B'!G156/'Tabel 5F B'!G156*100,\"-\"))","v":"-"},{"$f":"IF(OR('Tabel 5F B'!H156<5,'Tabel 5 B'!H156<0.5),\"-\",IFERROR('Tabel 5 B'!H156/'Tabel 5F B'!H156*100,\"-\"))","v":"-"},null,{"$f":"IF(OR('Tabel 5F B'!J156<5,'Tabel 5 B'!J156<0.5),\"-\",IFERROR('Tabel 5 B'!J156/'Tabel 5F B'!J156*100,\"-\"))","v":"-"}]
["Magistre i alt",null,{"$f":"IF(OR('Tabel 5F B'!C157<5,'Tabel 5 B'!C157<0.5),\"-\",IFERROR('Tabel 5 B'!C157/'Tabel 5F B'!C157*100,\"-\"))","v":"-"},{"$f":"IF(OR('Tabel 5F B'!D157<5,'Tabel 5 B'!D157<0.5),\"-\",IFERROR('Tabel 5 B'!D157/'Tabel 5F B'!D157*100,\"-\"))","v":"-"},{"$f":"IF(OR('Tabel 5F B'!E157<5,'Tabel 5 B'!E157<0.5),\"-\",IFERROR('Tabel 5 B'!E157/'Tabel 5F B'!E157*100,\"-\"))","v":"-"},{"$f":"IF(OR('Tabel 5F B'!F157<5,'Tabel 5 B'!F157<0.5),\"-\",IFERROR('Tabel 5 B'!F157/'Tabel 5F B'!F157*100,\"-\"))","v":"-"},{"$f":"IF(OR('Tabel 5F B'!G157<5,'Tabel 5 B'!G157<0.5),\"-\",IFERROR('Tabel 5 B'!G157/'Tabel 5F B'!G157*100,\"-\"))","v":"-"},{"$f":"IF(OR('Tabel 5F B'!H157<5,'Tabel 5 B'!H157<0.5),\"-\",IFERROR('Tabel 5 B'!H157/'Tabel 5F B'!H157*100,\"-\"))","v":"-"},null,{"$f":"IF(OR('Tabel 5F B'!J157<5,'Tabel 5 B'!J157<0.5),\"-\",IFERROR('Tabel 5 B'!J157/'Tabel 5F B'!J157*100,\"-\"))","v":"-"}]
["DJØF'ere i alt",null,{"$f":"IF(OR('Tabel 5F B'!C158<5,'Tabel 5 B'!C158<0.5),\"-\",IFERROR('Tabel 5 B'!C158/'Tabel 5F B'!C158*100,\"-\"))","v":"-"},{"$f":"IF(OR('Tabel 5F B'!D158<5,'Tabel 5 B'!D158<0.5),\"-\",IFERROR('Tabel 5 B'!D158/'Tabel 5F B'!D158*100,\"-\"))","v":"-"},{"$f":"IF(OR('Tabel 5F B'!E158<5,'Tabel 5 B'!E158<0.5),\"-\",IFERROR('Tabel 5 B'!E158/'Tabel 5F B'!E158*100,\"-\"))","v":"-"},{"$f":"IF(OR('Tabel 5F B'!F158<5,'Tabel 5 B'!F158<0.5),\"-\",IFERROR('Tabel 5 B'!F158/'Tabel 5F B'!F158*100,\"-\"))","v":"-"},{"$f":"IF(OR('Tabel 5F B'!G158<5,'Tabel 5 B'!G158<0.5),\"-\",IFERROR('Tabel 5 B'!G158/'Tabel 5F B'!G158*100,\"-\"))","v":"-"},{"$f":"IF(OR('Tabel 5F B'!H158<5,'Tabel 5 B'!H158<0.5),\"-\",IFERROR('Tabel 5 B'!H158/'Tabel 5F B'!H158*100,\"-\"))","v":"-"},null,{"$f":"IF(OR('Tabel 5F B'!J158<5,'Tabel 5 B'!J158<0.5),\"-\",IFERROR('Tabel 5 B'!J158/'Tabel 5F B'!J158*100,\"-\"))","v":"-"}]

{"sheet":"Tabel 5(Br) P B","index":13,"n_rows":158,"n_cols":10,"rows_kept":158,"cut":false,"hidden":false,"merged":[]}
["Tabel 5. Gns. antal ledige - kandidatalder"]
[]
["Bornholm"]
[]
[null,null,"Under 1 år"," 1 - 2 år","2 - 4 år","5 - 9 år","10 - 14 år","Over 15 år",null,"Uoplyst"]
[]
["Civ. ing.",null,{"$f":"IF(OR('Tabel 5F B'!C7<5,'Tabel 5Br B'!C7<0.5),\"-\",IFERROR('Tabel 5Br B'!C7/'Tabel 5F B'!C7*100,\"-\"))","v":"-"},{"$f":"IF(OR('Tabel 5F B'!D7<5,'Tabel 5Br B'!D7<0.5),\"-\",IFERROR('Tabel 5Br B'!D7/'Tabel 5F B'!D7*100,\"-\"))","v":"-"},{"$f":"IF(OR('Tabel 5F B'!E7<5,'Tabel 5Br B'!E7<0.5),\"-\",IFERROR('Tabel 5Br B'!E7/'Tabel 5F B'!E7*100,\"-\"))","v":"-"},{"$f":"IF(OR('Tabel 5F B'!F7<5,'Tabel 5Br B'!F7<0.5),\"-\",IFERROR('Tabel 5Br B'!F7/'Tabel 5F B'!F7*100,\"-\"))","v":23.744776398677701},{"$f":"IF(OR('Tabel 5F B'!G7<5,'Tabel 5Br B'!G7<0.5),\"-\",IFERROR('Tabel 5Br B'!G7/'Tabel 5F B'!G7*100,\"-\"))","v":"-"},{"$f":"IF(OR('Tabel 5F B'!H7<5,'Tabel 5Br B'!H7<0.5),\"-\",IFERROR('Tabel 5Br B'!H7/'Tabel 5F B'!H7*100,\"-\"))","v":"-"},null,{"$f":"IF(OR('Tabel 5F B'!J7<5,'Tabel 5Br B'!J7<0.5),\"-\",IFERROR('Tabel 5Br B'!J7/'Tabel 5F B'!J7*100,\"-\"))","v":"-"}]
["Diplom ing.",null,{"$f":"IF(OR('Tabel 5F B'!C8<5,'Tabel 5Br B'!C8<0.5),\"-\",IFERROR('Tabel 5Br B'!C8/'Tabel 5F B'!C8*100,\"-\"))","v":"-"},{"$f":"IF(OR('Tabel 5F B'!D8<5,'Tabel 5Br B'!D8<0.5),\"-\",IFERROR('Tabel 5Br B'!D8/'Tabel 5F B'!D8*100,\"-\"))","v":"-"},{"$f":"IF(OR('Tabel 5F B'!E8<5,'Tabel 5Br B'!E8<0.5),\"-\",IFERROR('Tabel 5Br B'!E8/'Tabel 5F B'!E8*100,\"-\"))","v":"-"},{"$f":"IF(OR('Tabel 5F B'!F8<5,'Tabel 5Br B'!F8<0.5),\"-\",IFERROR('Tabel 5Br B'!F8/'Tabel 5F B'!F8*100,\"-\"))","v":"-"},{"$f":"IF(OR('Tabel 5F B'!G8<5,'Tabel 5Br B'!G8<0.5),\"-\",IFERROR('Tabel 5Br B'!G8/'Tabel 5F B'!G8*100,\"-\"))","v":18.181251169462996},{"$f":"IF(OR('Tabel 5F B'!H8<5,'Tabel 5Br B'!H8<0.5),\"-\",IFERROR('Tabel 5Br B'!H8/'Tabel 5F B'!H8*100,\"-\"))","v":7.3348718268571211},null,{"$f":"IF(OR('Tabel 5F B'!J8<5,'Tabel 5Br B'!J8<0.5),\"-\",IFERROR('Tabel 5Br B'!J8/'Tabel 5F B'!J8*100,\"-\"))","v":"-"}]
["Cand. Scient. Tek",null,{"$f":"IF(OR('Tabel 5F B'!C9<5,'Tabel 5Br B'!C9<0.5),\"-\",IFERROR('Tabel 5Br B'!C9/'Tabel 5F B'!C9*100,\"-\"))","v":"-"},{"$f":"IF(OR('Tabel 5F B'!D9<5,'Tabel 5Br B'!D9<0.5),\"-\",IFERROR('Tabel 5Br B'!D9/'Tabel 5F B'!D9*100,\"-\"))","v":"-"},{"$f":"IF(OR('Tabel 5F B'!E9<5,'Tabel 5Br B'!E9<0.5),\"-\",IFERROR('Tabel 5Br B'!E9/'Tabel 5F B'!E9*100,\"-\"))","v":23.153634517695959},{"$f":"IF(OR('Tabel 5F B'!F9<5,'Tabel 5Br B'!F9<0.5),\"-\",IFERROR('Tabel 5Br B'!F9/'Tabel 5F B'!F9*100,\"-\"))","v":"-"},{"$f":"IF(OR('Tabel 5F B'!G9<5,'Tabel 5Br B'!G9<0.5),\"-\",IFERROR('Tabel 5Br B'!G9/'Tabel 5F B'!G9*100,\"-\"))","v":"-"},{"$f":"IF(OR('Tabel 5F B'!H9<5,'Tabel 5Br B'!H9<0.5),\"-\",IFERROR('Tabel 5Br B'!H9/'Tabel 5F B'!H9*100,\"-\"))","v":"-"},null,{"$f":"IF(OR('Tabel 5F B'!J9<5,'Tabel 5Br B'!J9<0.5),\"-\",IFERROR('Tabel 5Br B'!J9/'Tabel 5F B'!J9*100,\"-\"))","v":"-"}]
["MA. Hum.",null,{"$f":"IF(OR('Tabel 5F B'!C10<5,'Tabel 5Br B'!C10<0.5),\"-\",IFERROR('Tabel 5Br B'!C10/'Tabel 5F B'!C10*100,\"-\"))","v":"-"},{"$f":"IF(OR('Tabel 5F B'!D10<5,'Tabel 5Br B'!D10<0.5),\"-\",IFERROR('Tabel 5Br B'!D10/'Tabel 5F B'!D10*100,\"-\"))","v":"-"},{"$f":"IF(OR('Tabel 5F B'!E10<5,'Tabel 5Br B'!E10<0.5),\"-\",IFERROR('Tabel 5Br B'!E10/'Tabel 5F B'!E10*100,\"-\"))","v":7.9835339612049694},{"$f":"IF(OR('Tabel 5F B'!F10<5,'Tabel 5Br B'!F10<0.5),\"-\",IFERROR('Tabel 5Br B'!F10/'Tabel 5F B'!F10*100,\"-\"))","v":8.7540036909169139},{"$f":"IF(OR('Tabel 5F B'!G10<5,'Tabel 5Br B'!G10<0.5),\"-\",IFERROR('Tabel 5Br B'!G10/'Tabel 5F B'!G10*100,\"-\"))","v":12.318343416702977},{"$f":"IF(OR('Tabel 5F B'!H10<5,'Tabel 5Br B'!H10<0.5),\"-\",IFERROR('Tabel 5Br B'!H10/'Tabel 5F B'!H10*100,\"-\"))","v":6.6654192394851943},null,{"$f":"IF(OR('Tabel 5F B'!J10<5,'Tabel 5Br B'!J10<0.5),\"-\",IFERROR('Tabel 5Br B'!J10/'Tabel 5F B'!J10*100,\"-\"))","v":42.817938002869127}]
["MA. Nat.",null,{"$f":"IF(OR('Tabel 5F B'!C11<5,'Tabel 5Br B'!C11<0.5),\"-\",IFERROR('Tabel 5Br B'!C11/'Tabel 5F B'!C11*100,\"-\"))","v":"-"},{"$f":"IF(OR('Tabel 5F B'!D11<5,'Tabel 5Br B'!D11<0.5),\"-\",IFERROR('Tabel 5Br B'!D11/'Tabel 5F B'!D11*100,\"-\"))","v":"-"},{"$f":"IF(OR('Tabel 5F B'!E11<5,'Tabel 5Br B'!E11<0.5),\"-\",IFERROR('Tabel 5Br B'!E11/'Tabel 5F B'!E11*100,\"-\"))","v":"-"},{"$f":"IF(OR('Tabel 5F B'!F11<5,'Tabel 5Br B'!F11<0.5),\"-\",IFERROR('Tabel 5Br B'!F11/'Tabel 5F B'!F11*100,\"-\"))","v":"-"},{"$f":"IF(OR('Tabel 5F B'!G11<5,'Tabel 5Br B'!G11<0.5),\"-\",IFERROR('Tabel 5Br B'!G11/'Tabel 5F B'!G11*100,\"-\"))","v":"-"},{"$f":"IF(OR('Tabel 5F B'!H11<5,'Tabel 5Br B'!H11<0.5),\"-\",IFERROR('Tabel 5Br B'!H11/'Tabel 5F B'!H11*100,\"-\"))","v":2.5520281086924905},null,{"$f":"IF(OR('Tabel 5F B'!J11<5,'Tabel 5Br B'!J11<0.5),\"-\",IFERROR('Tabel 5Br B'!J11/'Tabel 5F B'!J11*100,\"-\"))","v":"-"}]
["MA. Ph.d.",null,{"$f":"IF(OR('Tabel 5F B'!C12<5,'Tabel 5Br B'!C12<0.5),\"-\",IFERROR('Tabel 5Br B'!C12/'Tabel 5F B'!C12*100,\"-\"))","v":"-"},{"$f":"IF(OR('Tabel 5F B'!D12<5,'Tabel 5Br B'!D12<0.5),\"-\",IFERROR('Tabel 5Br B'!D12/'Tabel 5F B'!D12*100,\"-\"))","v":"-"},{"$f":"IF(OR('Tabel 5F B'!E12<5,'Tabel 5Br B'!E12<0.5),\"-\",IFERROR('Tabel 5Br B'!E12/'Tabel 5F B'!E12*100,\"-\"))","v":"-"},{"$f":"IF(OR('Tabel 5F B'!F12<5,'Tabel 5Br B'!F12<0.5),\"-\",IFERROR('Tabel 5Br B'!F12/'Tabel 5F B'!F12*100,\"-\"))","v":"-"},{"$f":"IF(OR('Tabel 5F B'!G12<5,'Tabel 5Br B'!G12<0.5),\"-\",IFERROR('Tabel 5Br B'!G12/'Tabel 5F B'!G12*100,\"-\"))","v":"-"},{"$f":"IF(OR('Tabel 5F B'!H12<5,'Tabel 5Br B'!H12<0.5),\"-\",IFERROR('Tabel 5Br B'!H12/'Tabel 5F B'!H12*100,\"-\"))","v":"-"},null,{"$f":"IF(OR('Tabel 5F B'!J12<5,'Tabel 5Br B'!J12<0.5),\"-\",IFERROR('Tabel 5Br B'!J12/'Tabel 5F B'!J12*100,\"-\"))","v":"-"}]
["MA. Samf.",null,{"$f":"IF(OR('Tabel 5F B'!C13<5,'Tabel 5Br B'!C13<0.5),\"-\",IFERROR('Tabel 5Br B'!C13/'Tabel 5F B'!C13*100,\"-\"))","v":"-"},{"$f":"IF(OR('Tabel 5F B'!D13<5,'Tabel 5Br B'!D13<0.5),\"-\",IFERROR('Tabel 5Br B'!D13/'Tabel 5F B'!D13*100,\"-\"))","v":"-"},{"$f":"IF(OR('Tabel 5F B'!E13<5,'Tabel 5Br B'!E13<0.5),\"-\",IFERROR('Tabel 5Br B'!E13/'Tabel 5F B'!E13*100,\"-\"))","v":"-"},{"$f":"IF(OR('Tabel 5F B'!F13<5,'Tabel 5Br B'!F13<0.5),\"-\",IFERROR('Tabel 5Br B'!F13/'Tabel 5F B'!F13*100,\"-\"))","v":"-"},{"$f":"IF(OR('Tabel 5F B'!G13<5,'Tabel 5Br B'!G13<0.5),\"-\",IFERROR('Tabel 5Br B'!G13/'Tabel 5F B'!G13*100,\"-\"))","v":"-"},{"$f":"IF(OR('Tabel 5F B'!H13<5,'Tabel 5Br B'!H13<0.5),\"-\",IFERROR('Tabel 5Br B'!H13/'Tabel 5F B'!H13*100,\"-\"))","v":"-"},null,{"$f":"IF(OR('Tabel 5F B'!J13<5,'Tabel 5Br B'!J13<0.5),\"-\",IFERROR('Tabel 5Br B'!J13/'Tabel 5F B'!J13*100,\"-\"))","v":"-"}]
["Øvrige Mag.",null,{"$f":"IF(OR('Tabel 5F B'!C14<5,'Tabel 5Br B'!C14<0.5),\"-\",IFERROR('Tabel 5Br B'!C14/'Tabel 5F B'!C14*100,\"-\"))","v":"-"},{"$f":"IF(OR('Tabel 5F B'!D14<5,'Tabel 5Br B'!D14<0.5),\"-\",IFERROR('Tabel 5Br B'!D14/'Tabel 5F B'!D14*100,\"-\"))","v":"-"},{"$f":"IF(OR('Tabel 5F B'!E14<5,'Tabel 5Br B'!E14<0.5),\"-\",IFERROR('Tabel 5Br B'!E14/'Tabel 5F B'!E14*100,\"-\"))","v":"-"},{"$f":"IF(OR('Tabel 5F B'!F14<5,'Tabel 5Br B'!F14<0.5),\"-\",IFERROR('Tabel 5Br B'!F14/'Tabel 5F B'!F14*100,\"-\"))","v":"-"},{"$f":"IF(OR('Tabel 5F B'!G14<5,'Tabel 5Br B'!G14<0.5),\"-\",IFERROR('Tabel 5Br B'!G14/'Tabel 5F B'!G14*100,\"-\"))","v":"-"},{"$f":"IF(OR('Tabel 5F B'!H14<5,'Tabel 5Br B'!H14<0.5),\"-\",IFERROR('Tabel 5Br B'!H14/'Tabel 5F B'!H14*100,\"-\"))","v":16.663548098713076},null,{"$f":"IF(OR('Tabel 5F B'!J14<5,'Tabel 5Br B'!J14<0.5),\"-\",IFERROR('Tabel 5Br B'!J14/'Tabel 5F B'!J14*100,\"-\"))","v":"-"}]
["Agronom",null,{"$f":"IF(OR('Tabel 5F B'!C15<5,'Tabel 5Br B'!C15<0.5),\"-\",IFERROR('Tabel 5Br B'!C15/'Tabel 5F B'!C15*100,\"-\"))","v":"-"},{"$f":"IF(OR('Tabel 5F B'!D15<5,'Tabel 5Br B'!D15<0.5),\"-\",IFERROR('Tabel 5Br B'!D15/'Tabel 5F B'!D15*100,\"-\"))","v":"-"},{"$f":"IF(OR('Tabel 5F B'!E15<5,'Tabel 5Br B'!E15<0.5),\"-\",IFERROR('Tabel 5Br B'!E15/'Tabel 5F B'!E15*100,\"-\"))","v":"-"},{"$f":"IF(OR('Tabel 5F B'!F15<5,'Tabel 5Br B'!F15<0.5),\"-\",IFERROR('Tabel 5Br B'!F15/'Tabel 5F B'!F15*100,\"-\"))","v":"-"},{"$f":"IF(OR('Tabel 5F B'!G15<5,'Tabel 5Br B'!G15<0.5),\"-\",IFERROR('Tabel 5Br B'!G15/'Tabel 5F B'!G15*100,\"-\"))","v":"-"},{"$f":"IF(OR('Tabel 5F B'!H15<5,'Tabel 5Br B'!H15<0.5),\"-\",IFERROR('Tabel 5Br B'!H15/'Tabel 5F B'!H15*100,\"-\"))","v":"-"},null,{"$f":"IF(OR('Tabel 5F B'!J15<5,'Tabel 5Br B'!J15<0.5),\"-\",IFERROR('Tabel 5Br B'!J15/'Tabel 5F B'!J15*100,\"-\"))","v":"-"}]
["Landsk. Arkt.",null,{"$f":"IF(OR('Tabel 5F B'!C16<5,'Tabel 5Br B'!C16<0.5),\"-\",IFERROR('Tabel 5Br B'!C16/'Tabel 5F B'!C16*100,\"-\"))","v":"-"},{"$f":"IF(OR('Tabel 5F B'!D16<5,'Tabel 5Br B'!D16<0.5),\"-\",IFERROR('Tabel 5Br B'!D16/'Tabel 5F B'!D16*100,\"-\"))","v":"-"},{"$f":"IF(OR('Tabel 5F B'!E16<5,'Tabel 5Br B'!E16<0.5),\"-\",IFERROR('Tabel 5Br B'!E16/'Tabel 5F B'!E16*100,\"-\"))","v":"-"},{"$f":"IF(OR('Tabel 5F B'!F16<5,'Tabel 5Br B'!F16<0.5),\"-\",IFERROR('Tabel 5Br B'!F16/'Tabel 5F B'!F16*100,\"-\"))","v":"-"},{"$f":"IF(OR('Tabel 5F B'!G16<5,'Tabel 5Br B'!G16<0.5),\"-\",IFERROR('Tabel 5Br B'!G16/'Tabel 5F B'!G16*100,\"-\"))","v":"-"},{"$f":"IF(OR('Tabel 5F B'!H16<5,'Tabel 5Br B'!H16<0.5),\"-\",IFERROR('Tabel 5Br B'!H16/'Tabel 5F B'!H16*100,\"-\"))","v":"-"},null,{"$f":"IF(OR('Tabel 5F B'!J16<5,'Tabel 5Br B'!J16<0.5),\"-\",IFERROR('Tabel 5Br B'!J16/'Tabel 5F B'!J16*100,\"-\"))","v":"-"}]
["Hortonom",null,{"$f":"IF(OR('Tabel 5F B'!C17<5,'Tabel 5Br B'!C17<0.5),\"-\",IFERROR('Tabel 5Br B'!C17/'Tabel 5F B'!C17*100,\"-\"))","v":"-"},{"$f":"IF(OR('Tabel 5F B'!D17<5,'Tabel 5Br B'!D17<0.5),\"-\",IFERROR('Tabel 5Br B'!D17/'Tabel 5F B'!D17*100,\"-\"))","v":"-"},{"$f":"IF(OR('Tabel 5F B'!E17<5,'Tabel 5Br B'!E17<0.5),\"-\",IFERROR('Tabel 5Br B'!E17/'Tabel 5F B'!E17*100,\"-\"))","v":"-"},{"$f":"IF(OR('Tabel 5F B'!F17<5,'Tabel 5Br B'!F17<0.5),\"-\",IFERROR('Tabel 5Br B'!F17/'Tabel 5F B'!F17*100,\"-\"))","v":"-"},{"$f":"IF(OR('Tabel 5F B'!G17<5,'Tabel 5Br B'!G17<0.5),\"-\",IFERROR('Tabel 5Br B'!G17/'Tabel 5F B'!G17*100,\"-\"))","v":"-"},{"$f":"IF(OR('Tabel 5F B'!H17<5,'Tabel 5Br B'!H17<0.5),\"-\",IFERROR('Tabel 5Br B'!H17/'Tabel 5F B'!H17*100,\"-\"))","v":"-"},null,{"$f":"IF(OR('Tabel 5F B'!J17<5,'Tabel 5Br B'!J17<0.5),\"-\",IFERROR('Tabel 5Br B'!J17/'Tabel 5F B'!J17*100,\"-\"))","v":"-"}]
["Forstkand.",null,{"$f":"IF(OR('Tabel 5F B'!C18<5,'Tabel 5Br B'!C18<0.5),\"-\",IFERROR('Tabel 5Br B'!C18/'Tabel 5F B'!C18*100,\"-\"))","v":"-"},{"$f":"IF(OR('Tabel 5F B'!D18<5,'Tabel 5Br B'!D18<0.5),\"-\",IFERROR('Tabel 5Br B'!D18/'Tabel 5F B'!D18*100,\"-\"))","v":"-"},{"$f":"IF(OR('Tabel 5F B'!E18<5,'Tabel 5Br B'!E18<0.5),\"-\",IFERROR('Tabel 5Br B'!E18/'Tabel 5F B'!E18*100,\"-\"))","v":"-"},{"$f":"IF(OR('Tabel 5F B'!F18<5,'Tabel 5Br B'!F18<0.5),\"-\",IFERROR('Tabel 5Br B'!F18/'Tabel 5F B'!F18*100,\"-\"))","v":"-"},{"$f":"IF(OR('Tabel 5F B'!G18<5,'Tabel 5Br B'!G18<0.5),\"-\",IFERROR('Tabel 5Br B'!G18/'Tabel 5F B'!G18*100,\"-\"))","v":"-"},{"$f":"IF(OR('Tabel 5F B'!H18<5,'Tabel 5Br B'!H18<0.5),\"-\",IFERROR('Tabel 5Br B'!H18/'Tabel 5F B'!H18*100,\"-\"))","v":"-"},null,{"$f":"IF(OR('Tabel 5F B'!J18<5,'Tabel 5Br B'!J18<0.5),\"-\",IFERROR('Tabel 5Br B'!J18/'Tabel 5F B'!J18*100,\"-\"))","v":"-"}]
["Jordbrugsakad.",null,{"$f":"IF(OR('Tabel 5F B'!C19<5,'Tabel 5Br B'!C19<0.5),\"-\",IFERROR('Tabel 5Br B'!C19/'Tabel 5F B'!C19*100,\"-\"))","v":"-"},{"$f":"IF(OR('Tabel 5F B'!D19<5,'Tabel 5Br B'!D19<0.5),\"-\",IFERROR('Tabel 5Br B'!D19/'Tabel 5F B'!D19*100,\"-\"))","v":"-"},{"$f":"IF(OR('Tabel 5F B'!E19<5,'Tabel 5Br B'!E19<0.5),\"-\",IFERROR('Tabel 5Br B'!E19/'Tabel 5F B'!E19*100,\"-\"))","v":"-"},{"$f":"IF(OR('Tabel 5F B'!F19<5,'Tabel 5Br B'!F19<0.5),\"-\",IFERROR('Tabel 5Br B'!F19/'Tabel 5F B'!F19*100,\"-\"))","v":"-"},{"$f":"IF(OR('Tabel 5F B'!G19<5,'Tabel 5Br B'!G19<0.5),\"-\",IFERROR('Tabel 5Br B'!G19/'Tabel 5F B'!G19*100,\"-\"))","v":"-"},{"$f":"IF(OR('Tabel 5F B'!H19<5,'Tabel 5Br B'!H19<0.5),\"-\",IFERROR('Tabel 5Br B'!H19/'Tabel 5F B'!H19*100,\"-\"))","v":"-"},null,{"$f":"IF(OR('Tabel 5F B'!J19<5,'Tabel 5Br B'!J19<0.5),\"-\",IFERROR('Tabel 5Br B'!J19/'Tabel 5F B'!J19*100,\"-\"))","v":"-"}]
["Mejeriing.",null,{"$f":"IF(OR('Tabel 5F B'!C20<5,'Tabel 5Br B'!C20<0.5),\"-\",IFERROR('Tabel 5Br B'!C20/'Tabel 5F B'!C20*100,\"-\"))","v":"-"},{"$f":"IF(OR('Tabel 5F B'!D20<5,'Tabel 5Br B'!D20<0.5),\"-\",IFERROR('Tabel 5Br B'!D20/'Tabel 5F B'!D20*100,\"-\"))","v":"-"},{"$f":"IF(OR('Tabel 5F B'!E20<5,'Tabel 5Br B'!E20<0.5),\"-\",IFERROR('Tabel 5Br B'!E20/'Tabel 5F B'!E20*100,\"-\"))","v":"-"},{"$f":"IF(OR('Tabel 5F B'!F20<5,'Tabel 5Br B'!F20<0.5),\"-\",IFERROR('Tabel 5Br B'!F20/'Tabel 5F B'!F20*100,\"-\"))","v":"-"},{"$f":"IF(OR('Tabel 5F B'!G20<5,'Tabel 5Br B'!G20<0.5),\"-\",IFERROR('Tabel 5Br B'!G20/'Tabel 5F B'!G20*100,\"-\"))","v":"-"},{"$f":"IF(OR('Tabel 5F B'!H20<5,'Tabel 5Br B'!H20<0.5),\"-\",IFERROR('Tabel 5Br B'!H20/'Tabel 5F B'!H20*100,\"-\"))","v":"-"},null,{"$f":"IF(OR('Tabel 5F B'!J20<5,'Tabel 5Br B'!J20<0.5),\"-\",IFERROR('Tabel 5Br B'!J20/'Tabel 5F B'!J20*100,\"-\"))","v":"-"}]
["Levn.m.kand.",null,{"$f":"IF(OR('Tabel 5F B'!C21<5,'Tabel 5Br B'!C21<0.5),\"-\",IFERROR('Tabel 5Br B'!C21/'Tabel 5F B'!C21*100,\"-\"))","v":"-"},{"$f":"IF(OR('Tabel 5F B'!D21<5,'Tabel 5Br B'!D21<0.5),\"-\",IFERROR('Tabel 5Br B'!D21/'Tabel 5F B'!D21*100,\"-\"))","v":"-"},{"$f":"IF(OR('Tabel 5F B'!E21<5,'Tabel 5Br B'!E21<0.5),\"-\",IFERROR('Tabel 5Br B'!E21/'Tabel 5F B'!E21*100,\"-\"))","v":"-"},{"$f":"IF(OR('Tabel 5F B'!F21<5,'Tabel 5Br B'!F21<0.5),\"-\",IFERROR('Tabel 5Br B'!F21/'Tabel 5F B'!F21*100,\"-\"))","v":"-"},{"$f":"IF(OR('Tabel 5F B'!G21<5,'Tabel 5Br B'!G21<0.5),\"-\",IFERROR('Tabel 5Br B'!G21/'Tabel 5F B'!G21*100,\"-\"))","v":"-"},{"$f":"IF(OR('Tabel 5F B'!H21<5,'Tabel 5Br B'!H21<0.5),\"-\",IFERROR('Tabel 5Br B'!H21/'Tabel 5F B'!H21*100,\"-\"))","v":"-"},null,{"$f":"IF(OR('Tabel 5F B'!J21<5,'Tabel 5Br B'!J21<0.5),\"-\",IFERROR('Tabel 5Br B'!J21/'Tabel 5F B'!J21*100,\"-\"))","v":"-"}]
["Dyrlæge",null,{"$f":"IF(OR('Tabel 5F B'!C22<5,'Tabel 5Br B'!C22<0.5),\"-\",IFERROR('Tabel 5Br B'!C22/'Tabel 5F B'!C22*100,\"-\"))","v":"-"},{"$f":"IF(OR('Tabel 5F B'!D22<5,'Tabel 5Br B'!D22<0.5),\"-\",IFERROR('Tabel 5Br B'!D22/'Tabel 5F B'!D22*100,\"-\"))","v":"-"},{"$f":"IF(OR('Tabel 5F B'!E22<5,'Tabel 5Br B'!E22<0.5),\"-\",IFERROR('Tabel 5Br B'!E22/'Tabel 5F B'!E22*100,\"-\"))","v":"-"},{"$f":"IF(OR('Tabel 5F B'!F22<5,'Tabel 5Br B'!F22<0.5),\"-\",IFERROR('Tabel 5Br B'!F22/'Tabel 5F B'!F22*100,\"-\"))","v":"-"},{"$f":"IF(OR('Tabel 5F B'!G22<5,'Tabel 5Br B'!G22<0.5),\"-\",IFERROR('Tabel 5Br B'!G22/'Tabel 5F B'!G22*100,\"-\"))","v":"-"},{"$f":"IF(OR('Tabel 5F B'!H22<5,'Tabel 5Br B'!H22<0.5),\"-\",IFERROR('Tabel 5Br B'!H22/'Tabel 5F B'!H22*100,\"-\"))","v":"-"},null,{"$f":"IF(OR('Tabel 5F B'!J22<5,'Tabel 5Br B'!J22<0.5),\"-\",IFERROR('Tabel 5Br B'!J22/'Tabel 5F B'!J22*100,\"-\"))","v":"-"}]
["Farmaceut",null,{"$f":"IF(OR('Tabel 5F B'!C23<5,'Tabel 5Br B'!C23<0.5),\"-\",IFERROR('Tabel 5Br B'!C23/'Tabel 5F B'!C23*100,\"-\"))","v":"-"},{"$f":"IF(OR('Tabel 5F B'!D23<5,'Tabel 5Br B'!D23<0.5),\"-\",IFERROR('Tabel 5Br B'!D23/'Tabel 5F B'!D23*100,\"-\"))","v":"-"},{"$f":"IF(OR('Tabel 5F B'!E23<5,'Tabel 5Br B'!E23<0.5),\"-\",IFERROR('Tabel 5Br B'!E23/'Tabel 5F B'!E23*100,\"-\"))","v":"-"},{"$f":"IF(OR('Tabel 5F B'!F23<5,'Tabel 5Br B'!F23<0.5),\"-\",IFERROR('Tabel 5Br B'!F23/'Tabel 5F B'!F23*100,\"-\"))","v":"-"},{"$f":"IF(OR('Tabel 5F B'!G23<5,'Tabel 5Br B'!G23<0.5),\"-\",IFERROR('Tabel 5Br B'!G23/'Tabel 5F B'!G23*100,\"-\"))","v":"-"},{"$f":"IF(OR('Tabel 5F B'!H23<5,'Tabel 5Br B'!H23<0.5),\"-\",IFERROR('Tabel 5Br B'!H23/'Tabel 5F B'!H23*100,\"-\"))","v":"-"},null,{"$f":"IF(OR('Tabel 5F B'!J23<5,'Tabel 5Br B'!J23<0.5),\"-\",IFERROR('Tabel 5Br B'!J23/'Tabel 5F B'!J23*100,\"-\"))","v":"-"}]
["Læge",null,{"$f":"IF(OR('Tabel 5F B'!C24<5,'Tabel 5Br B'!C24<0.5),\"-\",IFERROR('Tabel 5Br B'!C24/'Tabel 5F B'!C24*100,\"-\"))","v":"-"},{"$f":"IF(OR('Tabel 5F B'!D24<5,'Tabel 5Br B'!D24<0.5),\"-\",IFERROR('Tabel 5Br B'!D24/'Tabel 5F B'!D24*100,\"-\"))","v":"-"},{"$f":"IF(OR('Tabel 5F B'!E24<5,'Tabel 5Br B'!E24<0.5),\"-\",IFERROR('Tabel 5Br B'!E24/'Tabel 5F B'!E24*100,\"-\"))","v":"-"},{"$f":"IF(OR('Tabel 5F B'!F24<5,'Tabel 5Br B'!F24<0.5),\"-\",IFERROR('Tabel 5Br B'!F24/'Tabel 5F B'!F24*100,\"-\"))","v":"-"},{"$f":"IF(OR('Tabel 5F B'!G24<5,'Tabel 5Br B'!G24<0.5),\"-\",IFERROR('Tabel 5Br B'!G24/'Tabel 5F B'!G24*100,\"-\"))","v":"-"},{"$f":"IF(OR('Tabel 5F B'!H24<5,'Tabel 5Br B'!H24<0.5),\"-\",IFERROR('Tabel 5Br B'!H24/'Tabel 5F B'!H24*100,\"-\"))","v":"-"},null,{"$f":"IF(OR('Tabel 5F B'!J24<5,'Tabel 5Br B'!J24<0.5),\"-\",IFERROR('Tabel 5Br B'!J24/'Tabel 5F B'!J24*100,\"-\"))","v":"-"}]
["Tandlæge",null,{"$f":"IF(OR('Tabel 5F B'!C25<5,'Tabel 5Br B'!C25<0.5),\"-\",IFERROR('Tabel 5Br B'!C25/'Tabel 5F B'!C25*100,\"-\"))","v":"-"},{"$f":"IF(OR('Tabel 5F B'!D25<5,'Tabel 5Br B'!D25<0.5),\"-\",IFERROR('Tabel 5Br B'!D25/'Tabel 5F B'!D25*100,\"-\"))","v":"-"},{"$f":"IF(OR('Tabel 5F B'!E25<5,'Tabel 5Br B'!E25<0.5),\"-\",IFERROR('Tabel 5Br B'!E25/'Tabel 5F B'!E25*100,\"-\"))","v":"-"},{"$f":"IF(OR('Tabel 5F B'!F25<5,'Tabel 5Br B'!F25<0.5),\"-\",IFERROR('Tabel 5Br B'!F25/'Tabel 5F B'!F25*100,\"-\"))","v":"-"},{"$f":"IF(OR('Tabel 5F B'!G25<5,'Tabel 5Br B'!G25<0.5),\"-\",IFERROR('Tabel 5Br B'!G25/'Tabel 5F B'!G25*100,\"-\"))","v":"-"},{"$f":"IF(OR('Tabel 5F B'!H25<5,'Tabel 5Br B'!H25<0.5),\"-\",IFERROR('Tabel 5Br B'!H25/'Tabel 5F B'!H25*100,\"-\"))","v":"-"},null,{"$f":"IF(OR('Tabel 5F B'!J25<5,'Tabel 5Br B'!J25<0.5),\"-\",IFERROR('Tabel 5Br B'!J25/'Tabel 5F B'!J25*100,\"-\"))","v":"-"}]
["Arkitekt",null,{"$f":"IF(OR('Tabel 5F B'!C26<5,'Tabel 5Br B'!C26<0.5),\"-\",IFERROR('Tabel 5Br B'!C26/'Tabel 5F B'!C26*100,\"-\"))","v":"-"},{"$f":"IF(OR('Tabel 5F B'!D26<5,'Tabel 5Br B'!D26<0.5),\"-\",IFERROR('Tabel 5Br B'!D26/'Tabel 5F B'!D26*100,\"-\"))","v":"-"},{"$f":"IF(OR('Tabel 5F B'!E26<5,'Tabel 5Br B'!E26<0.5),\"-\",IFERROR('Tabel 5Br B'!E26/'Tabel 5F B'!E26*100,\"-\"))","v":"-"},{"$f":"IF(OR('Tabel 5F B'!F26<5,'Tabel 5Br B'!F26<0.5),\"-\",IFERROR('Tabel 5Br B'!F26/'Tabel 5F B'!F26*100,\"-\"))","v":"-"},{"$f":"IF(OR('Tabel 5F B'!G26<5,'Tabel 5Br B'!G26<0.5),\"-\",IFERROR('Tabel 5Br B'!G26/'Tabel 5F B'!G26*100,\"-\"))","v":"-"},{"$f":"IF(OR('Tabel 5F B'!H26<5,'Tabel 5Br B'!H26<0.5),\"-\",IFERROR('Tabel 5Br B'!H26/'Tabel 5F B'!H26*100,\"-\"))","v":"-"},null,{"$f":"IF(OR('Tabel 5F B'!J26<5,'Tabel 5Br B'!J26<0.5),\"-\",IFERROR('Tabel 5Br B'!J26/'Tabel 5F B'!J26*100,\"-\"))","v":"-"}]
["Landinspek.",null,{"$f":"IF(OR('Tabel 5F B'!C27<5,'Tabel 5Br B'!C27<0.5),\"-\",IFERROR('Tabel 5Br B'!C27/'Tabel 5F B'!C27*100,\"-\"))","v":"-"},{"$f":"IF(OR('Tabel 5F B'!D27<5,'Tabel 5Br B'!D27<0.5),\"-\",IFERROR('Tabel 5Br B'!D27/'Tabel 5F B'!D27*100,\"-\"))","v":"-"},{"$f":"IF(OR('Tabel 5F B'!E27<5,'Tabel 5Br B'!E27<0.5),\"-\",IFERROR('Tabel 5Br B'!E27/'Tabel 5F B'!E27*100,\"-\"))","v":"-"},{"$f":"IF(OR('Tabel 5F B'!F27<5,'Tabel 5Br B'!F27<0.5),\"-\",IFERROR('Tabel 5Br B'!F27/'Tabel 5F B'!F27*100,\"-\"))","v":"-"},{"$f":"IF(OR('Tabel 5F B'!G27<5,'Tabel 5Br B'!G27<0.5),\"-\",IFERROR('Tabel 5Br B'!G27/'Tabel 5F B'!G27*100,\"-\"))","v":"-"},{"$f":"IF(OR('Tabel 5F B'!H27<5,'Tabel 5Br B'!H27<0.5),\"-\",IFERROR('Tabel 5Br B'!H27/'Tabel 5F B'!H27*100,\"-\"))","v":"-"},null,{"$f":"IF(OR('Tabel 5F B'!J27<5,'Tabel 5Br B'!J27<0.5),\"-\",IFERROR('Tabel 5Br B'!J27/'Tabel 5F B'!J27*100,\"-\"))","v":"-"}]
["Bibliotekar",null,{"$f":"IF(OR('Tabel 5F B'!C28<5,'Tabel 5Br B'!C28<0.5),\"-\",IFERROR('Tabel 5Br B'!C28/'Tabel 5F B'!C28*100,\"-\"))","v":"-"},{"$f":"IF(OR('Tabel 5F B'!D28<5,'Tabel 5Br B'!D28<0.5),\"-\",IFERROR('Tabel 5Br B'!D28/'Tabel 5F B'!D28*100,\"-\"))","v":"-"},{"$f":"IF(OR('Tabel 5F B'!E28<5,'Tabel 5Br B'!E28<0.5),\"-\",IFERROR('Tabel 5Br B'!E28/'Tabel 5F B'!E28*100,\"-\"))","v":"-"},{"$f":"IF(OR('Tabel 5F B'!F28<5,'Tabel 5Br B'!F28<0.5),\"-\",IFERROR('Tabel 5Br B'!F28/'Tabel 5F B'!F28*100,\"-\"))","v":"-"},{"$f":"IF(OR('Tabel 5F B'!G28<5,'Tabel 5Br B'!G28<0.5),\"-\",IFERROR('Tabel 5Br B'!G28/'Tabel 5F B'!G28*100,\"-\"))","v":"-"},{"$f":"IF(OR('Tabel 5F B'!H28<5,'Tabel 5Br B'!H28<0.5),\"-\",IFERROR('Tabel 5Br B'!H28/'Tabel 5F B'!H28*100,\"-\"))","v":14.283041227468335},null,{"$f":"IF(OR('Tabel 5F B'!J28<5,'Tabel 5Br B'!J28<0.5),\"-\",IFERROR('Tabel 5Br B'!J28/'Tabel 5F B'!J28*100,\"-\"))","v":"-"}]
["Musikudd.",null,{"$f":"IF(OR('Tabel 5F B'!C29<5,'Tabel 5Br B'!C29<0.5),\"-\",IFERROR('Tabel 5Br B'!C29/'Tabel 5F B'!C29*100,\"-\"))","v":"-"},{"$f":"IF(OR('Tabel 5F B'!D29<5,'Tabel 5Br B'!D29<0.5),\"-\",IFERROR('Tabel 5Br B'!D29/'Tabel 5F B'!D29*100,\"-\"))","v":"-"},{"$f":"IF(OR('Tabel 5F B'!E29<5,'Tabel 5Br B'!E29<0.5),\"-\",IFERROR('Tabel 5Br B'!E29/'Tabel 5F B'!E29*100,\"-\"))","v":"-"},{"$f":"IF(OR('Tabel 5F B'!F29<5,'Tabel 5Br B'!F29<0.5),\"-\",IFERROR('Tabel 5Br B'!F29/'Tabel 5F B'!F29*100,\"-\"))","v":"-"},{"$f":"IF(OR('Tabel 5F B'!G29<5,'Tabel 5Br B'!G29<0.5),\"-\",IFERROR('Tabel 5Br B'!G29/'Tabel 5F B'!G29*100,\"-\"))","v":"-"},{"$f":"IF(OR('Tabel 5F B'!H29<5,'Tabel 5Br B'!H29<0.5),\"-\",IFERROR('Tabel 5Br B'!H29/'Tabel 5F B'!H29*100,\"-\"))","v":"-"},null,{"$f":"IF(OR('Tabel 5F B'!J29<5,'Tabel 5Br B'!J29<0.5),\"-\",IFERROR('Tabel 5Br B'!J29/'Tabel 5F B'!J29*100,\"-\"))","v":"-"}]
["Teolog",null,{"$f":"IF(OR('Tabel 5F B'!C30<5,'Tabel 5Br B'!C30<0.5),\"-\",IFERROR('Tabel 5Br B'!C30/'Tabel 5F B'!C30*100,\"-\"))","v":"-"},{"$f":"IF(OR('Tabel 5F B'!D30<5,'Tabel 5Br B'!D30<0.5),\"-\",IFERROR('Tabel 5Br B'!D30/'Tabel 5F B'!D30*100,\"-\"))","v":"-"},{"$f":"IF(OR('Tabel 5F B'!E30<5,'Tabel 5Br B'!E30<0.5),\"-\",IFERROR('Tabel 5Br B'!E30/'Tabel 5F B'!E30*100,\"-\"))","v":"-"},{"$f":"IF(OR('Tabel 5F B'!F30<5,'Tabel 5Br B'!F30<0.5),\"-\",IFERROR('Tabel 5Br B'!F30/'Tabel 5F B'!F30*100,\"-\"))","v":"-"},{"$f":"IF(OR('Tabel 5F B'!G30<5,'Tabel 5Br B'!G30<0.5),\"-\",IFERROR('Tabel 5Br B'!G30/'Tabel 5F B'!G30*100,\"-\"))","v":"-"},{"$f":"IF(OR('Tabel 5F B'!H30<5,'Tabel 5Br B'!H30<0.5),\"-\",IFERROR('Tabel 5Br B'!H30/'Tabel 5F B'!H30*100,\"-\"))","v":"-"},null,{"$f":"IF(OR('Tabel 5F B'!J30<5,'Tabel 5Br B'!J30<0.5),\"-\",IFERROR('Tabel 5Br B'!J30/'Tabel 5F B'!J30*100,\"-\"))","v":"-"}]
["Psykolog",null,{"$f":"IF(OR('Tabel 5F B'!C31<5,'Tabel 5Br B'!C31<0.5),\"-\",IFERROR('Tabel 5Br B'!C31/'Tabel 5F B'!C31*100,\"-\"))","v":"-"},{"$f":"IF(OR('Tabel 5F B'!D31<5,'Tabel 5Br B'!D31<0.5),\"-\",IFERROR('Tabel 5Br B'!D31/'Tabel 5F B'!D31*100,\"-\"))","v":"-"},{"$f":"IF(OR('Tabel 5F B'!E31<5,'Tabel 5Br B'!E31<0.5),\"-\",IFERROR('Tabel 5Br B'!E31/'Tabel 5F B'!E31*100,\"-\"))","v":"-"},{"$f":"IF(OR('Tabel 5F B'!F31<5,'Tabel 5Br B'!F31<0.5),\"-\",IFERROR('Tabel 5Br B'!F31/'Tabel 5F B'!F31*100,\"-\"))","v":"-"},{"$f":"IF(OR('Tabel 5F B'!G31<5,'Tabel 5Br B'!G31<0.5),\"-\",IFERROR('Tabel 5Br B'!G31/'Tabel 5F B'!G31*100,\"-\"))","v":"-"},{"$f":"IF(OR('Tabel 5F B'!H31<5,'Tabel 5Br B'!H31<0.5),\"-\",IFERROR('Tabel 5Br B'!H31/'Tabel 5F B'!H31*100,\"-\"))","v":"-"},null,{"$f":"IF(OR('Tabel 5F B'!J31<5,'Tabel 5Br B'!J31<0.5),\"-\",IFERROR('Tabel 5Br B'!J31/'Tabel 5F B'!J31*100,\"-\"))","v":"-"}]
["Jurist",null,{"$f":"IF(OR('Tabel 5F B'!C32<5,'Tabel 5Br B'!C32<0.5),\"-\",IFERROR('Tabel 5Br B'!C32/'Tabel 5F B'!C32*100,\"-\"))","v":"-"},{"$f":"IF(OR('Tabel 5F B'!D32<5,'Tabel 5Br B'!D32<0.5),\"-\",IFERROR('Tabel 5Br B'!D32/'Tabel 5F B'!D32*100,\"-\"))","v":"-"},{"$f":"IF(OR('Tabel 5F B'!E32<5,'Tabel 5Br B'!E32<0.5),\"-\",IFERROR('Tabel 5Br B'!E32/'Tabel 5F B'!E32*100,\"-\"))","v":"-"},{"$f":"IF(OR('Tabel 5F B'!F32<5,'Tabel 5Br B'!F32<0.5),\"-\",IFERROR('Tabel 5Br B'!F32/'Tabel 5F B'!F32*100,\"-\"))","v":"-"},{"$f":"IF(OR('Tabel 5F B'!G32<5,'Tabel 5Br B'!G32<0.5),\"-\",IFERROR('Tabel 5Br B'!G32/'Tabel 5F B'!G32*100,\"-\"))","v":"-"},{"$f":"IF(OR('Tabel 5F B'!H32<5,'Tabel 5Br B'!H32<0.5),\"-\",IFERROR('Tabel 5Br B'!H32/'Tabel 5F B'!H32*100,\"-\"))","v":"-"},null,{"$f":"IF(OR('Tabel 5F B'!J32<5,'Tabel 5Br B'!J32<0.5),\"-\",IFERROR('Tabel 5Br B'!J32/'Tabel 5F B'!J32*100,\"-\"))","v":"-"}]
["Økonom",null,{"$f":"IF(OR('Tabel 5F B'!C33<5,'Tabel 5Br B'!C33<0.5),\"-\",IFERROR('Tabel 5Br B'!C33/'Tabel 5F B'!C33*100,\"-\"))","v":"-"},{"$f":"IF(OR('Tabel 5F B'!D33<5,'Tabel 5Br B'!D33<0.5),\"-\",IFERROR('Tabel 5Br B'!D33/'Tabel 5F B'!D33*100,\"-\"))","v":"-"},{"$f":"IF(OR('Tabel 5F B'!E33<5,'Tabel 5Br B'!E33<0.5),\"-\",IFERROR('Tabel 5Br B'!E33/'Tabel 5F B'!E33*100,\"-\"))","v":"-"},{"$f":"IF(OR('Tabel 5F B'!F33<5,'Tabel 5Br B'!F33<0.5),\"-\",IFERROR('Tabel 5Br B'!F33/'Tabel 5F B'!F33*100,\"-\"))","v":"-"},{"$f":"IF(OR('Tabel 5F B'!G33<5,'Tabel 5Br B'!G33<0.5),\"-\",IFERROR('Tabel 5Br B'!G33/'Tabel 5F B'!G33*100,\"-\"))","v":"-"},{"$f":"IF(OR('Tabel 5F B'!H33<5,'Tabel 5Br B'!H33<0.5),\"-\",IFERROR('Tabel 5Br B'!H33/'Tabel 5F B'!H33*100,\"-\"))","v":"-"},null,{"$f":"IF(OR('Tabel 5F B'!J33<5,'Tabel 5Br B'!J33<0.5),\"-\",IFERROR('Tabel 5Br B'!J33/'Tabel 5F B'!J33*100,\"-\"))","v":"-"}]
["Samf. Adm.",null,{"$f":"IF(OR('Tabel 5F B'!C34<5,'Tabel 5Br B'!C34<0.5),\"-\",IFERROR('Tabel 5Br B'!C34/'Tabel 5F B'!C34*100,\"-\"))","v":"-"},{"$f":"IF(OR('Tabel 5F B'!D34<5,'Tabel 5Br B'!D34<0.5),\"-\",IFERROR('Tabel 5Br B'!D34/'Tabel 5F B'!D34*100,\"-\"))","v":"-"},{"$f":"IF(OR('Tabel 5F B'!E34<5,'Tabel 5Br B'!E34<0.5),\"-\",IFERROR('Tabel 5Br B'!E34/'Tabel 5F B'!E34*100,\"-\"))","v":"-"},{"$f":"IF(OR('Tabel 5F B'!F34<5,'Tabel 5Br B'!F34<0.5),\"-\",IFERROR('Tabel 5Br B'!F34/'Tabel 5F B'!F34*100,\"-\"))","v":"-"},{"$f":"IF(OR('Tabel 5F B'!G34<5,'Tabel 5Br B'!G34<0.5),\"-\",IFERROR('Tabel 5Br B'!G34/'Tabel 5F B'!G34*100,\"-\"))","v":"-"},{"$f":"IF(OR('Tabel 5F B'!H34<5,'Tabel 5Br B'!H34<0.5),\"-\",IFERROR('Tabel 5Br B'!H34/'Tabel 5F B'!H34*100,\"-\"))","v":5.2621730838041749},null,{"$f":"IF(OR('Tabel 5F B'!J34<5,'Tabel 5Br B'!J34<0.5),\"-\",IFERROR('Tabel 5Br B'!J34/'Tabel 5F B'!J34*100,\"-\"))","v":22.218064131617389}]
["Cand. Merc.",null,{"$f":"IF(OR('Tabel 5F B'!C35<5,'Tabel 5Br B'!C35<0.5),\"-\",IFERROR('Tabel 5Br B'!C35/'Tabel 5F B'!C35*100,\"-\"))","v":"-"},{"$f":"IF(OR('Tabel 5F B'!D35<5,'Tabel 5Br B'!D35<0.5),\"-\",IFERROR('Tabel 5Br B'!D35/'Tabel 5F B'!D35*100,\"-\"))","v":"-"},{"$f":"IF(OR('Tabel 5F B'!E35<5,'Tabel 5Br B'!E35<0.5),\"-\",IFERROR('Tabel 5Br B'!E35/'Tabel 5F B'!E35*100,\"-\"))","v":"-"},{"$f":"IF(OR('Tabel 5F B'!F35<5,'Tabel 5Br B'!F35<0.5),\"-\",IFERROR('Tabel 5Br B'!F35/'Tabel 5F B'!F35*100,\"-\"))","v":"-"},{"$f":"IF(OR('Tabel 5F B'!G35<5,'Tabel 5Br B'!G35<0.5),\"-\",IFERROR('Tabel 5Br B'!G35/'Tabel 5F B'!G35*100,\"-\"))","v":"-"},{"$f":"IF(OR('Tabel 5F B'!H35<5,'Tabel 5Br B'!H35<0.5),\"-\",IFERROR('Tabel 5Br B'!H35/'Tabel 5F B'!H35*100,\"-\"))","v":13.330838478970483},null,{"$f":"IF(OR('Tabel 5F B'!J35<5,'Tabel 5Br B'!J35<0.5),\"-\",IFERROR('Tabel 5Br B'!J35/'Tabel 5F B'!J35*100,\"-\"))","v":21.972538781620138}]
["HA",null,{"$f":"IF(OR('Tabel 5F B'!C36<5,'Tabel 5Br B'!C36<0.5),\"-\",IFERROR('Tabel 5Br B'!C36/'Tabel 5F B'!C36*100,\"-\"))","v":"-"},{"$f":"IF(OR('Tabel 5F B'!D36<5,'Tabel 5Br B'!D36<0.5),\"-\",IFERROR('Tabel 5Br B'!D36/'Tabel 5F B'!D36*100,\"-\"))","v":"-"},{"$f":"IF(OR('Tabel 5F B'!E36<5,'Tabel 5Br B'!E36<0.5),\"-\",IFERROR('Tabel 5Br B'!E36/'Tabel 5F B'!E36*100,\"-\"))","v":"-"},{"$f":"IF(OR('Tabel 5F B'!F36<5,'Tabel 5Br B'!F36<0.5),\"-\",IFERROR('Tabel 5Br B'!F36/'Tabel 5F B'!F36*100,\"-\"))","v":"-"},{"$f":"IF(OR('Tabel 5F B'!G36<5,'Tabel 5Br B'!G36<0.5),\"-\",IFERROR('Tabel 5Br B'!G36/'Tabel 5F B'!G36*100,\"-\"))","v":"-"},{"$f":"IF(OR('Tabel 5F B'!H36<5,'Tabel 5Br B'!H36<0.5),\"-\",IFERROR('Tabel 5Br B'!H36/'Tabel 5F B'!H36*100,\"-\"))","v":"-"},null,{"$f":"IF(OR('Tabel 5F B'!J36<5,'Tabel 5Br B'!J36<0.5),\"-\",IFERROR('Tabel 5Br B'!J36/'Tabel 5F B'!J36*100,\"-\"))","v":"-"}]
["HD",null,{"$f":"IF(OR('Tabel 5F B'!C37<5,'Tabel 5Br B'!C37<0.5),\"-\",IFERROR('Tabel 5Br B'!C37/'Tabel 5F B'!C37*100,\"-\"))","v":"-"},{"$f":"IF(OR('Tabel 5F B'!D37<5,'Tabel 5Br B'!D37<0.5),\"-\",IFERROR('Tabel 5Br B'!D37/'Tabel 5F B'!D37*100,\"-\"))","v":"-"},{"$f":"IF(OR('Tabel 5F B'!E37<5,'Tabel 5Br B'!E37<0.5),\"-\",IFERROR('Tabel 5Br B'!E37/'Tabel 5F B'!E37*100,\"-\"))","v":"-"},{"$f":"IF(OR('Tabel 5F B'!F37<5,'Tabel 5Br B'!F37<0.5),\"-\",IFERROR('Tabel 5Br B'!F37/'Tabel 5F B'!F37*100,\"-\"))","v":"-"},{"$f":"IF(OR('Tabel 5F B'!G37<5,'Tabel 5Br B'!G37<0.5),\"-\",IFERROR('Tabel 5Br B'!G37/'Tabel 5F B'!G37*100,\"-\"))","v":"-"},{"$f":"IF(OR('Tabel 5F B'!H37<5,'Tabel 5Br B'!H37<0.5),\"-\",IFERROR('Tabel 5Br B'!H37/'Tabel 5F B'!H37*100,\"-\"))","v":"-"},null,{"$f":"IF(OR('Tabel 5F B'!J37<5,'Tabel 5Br B'!J37<0.5),\"-\",IFERROR('Tabel 5Br B'!J37/'Tabel 5F B'!J37*100,\"-\"))","v":"-"}]
["Komm. og Sprog",null,{"$f":"IF(OR('Tabel 5F B'!C38<5,'Tabel 5Br B'!C38<0.5),\"-\",IFERROR('Tabel 5Br B'!C38/'Tabel 5F B'!C38*100,\"-\"))","v":"-"},{"$f":"IF(OR('Tabel 5F B'!D38<5,'Tabel 5Br B'!D38<0.5),\"-\",IFERROR('Tabel 5Br B'!D38/'Tabel 5F B'!D38*100,\"-\"))","v":"-"},{"$f":"IF(OR('Tabel 5F B'!E38<5,'Tabel 5Br B'!E38<0.5),\"-\",IFERROR('Tabel 5Br B'!E38/'Tabel 5F B'!E38*100,\"-\"))","v":"-"},{"$f":"IF(OR('Tabel 5F B'!F38<5,'Tabel 5Br B'!F38<0.5),\"-\",IFERROR('Tabel 5Br B'!F38/'Tabel 5F B'!F38*100,\"-\"))","v":"-"},{"$f":"IF(OR('Tabel 5F B'!G38<5,'Tabel 5Br B'!G38<0.5),\"-\",IFERROR('Tabel 5Br B'!G38/'Tabel 5F B'!G38*100,\"-\"))","v":"-"},{"$f":"IF(OR('Tabel 5F B'!H38<5,'Tabel 5Br B'!H38<0.5),\"-\",IFERROR('Tabel 5Br B'!H38/'Tabel 5F B'!H38*100,\"-\"))","v":34.480966340256636},null,{"$f":"IF(OR('Tabel 5F B'!J38<5,'Tabel 5Br B'!J38<0.5),\"-\",IFERROR('Tabel 5Br B'!J38/'Tabel 5F B'!J38*100,\"-\"))","v":"-"}]
["Bygningskonst.",null,{"$f":"IF(OR('Tabel 5F B'!C39<5,'Tabel 5Br B'!C39<0.5),\"-\",IFERROR('Tabel 5Br B'!C39/'Tabel 5F B'!C39*100,\"-\"))","v":"-"},{"$f":"IF(OR('Tabel 5F B'!D39<5,'Tabel 5Br B'!D39<0.5),\"-\",IFERROR('Tabel 5Br B'!D39/'Tabel 5F B'!D39*100,\"-\"))","v":"-"},{"$f":"IF(OR('Tabel 5F B'!E39<5,'Tabel 5Br B'!E39<0.5),\"-\",IFERROR('Tabel 5Br B'!E39/'Tabel 5F B'!E39*100,\"-\"))","v":"-"},{"$f":"IF(OR('Tabel 5F B'!F39<5,'Tabel 5Br B'!F39<0.5),\"-\",IFERROR('Tabel 5Br B'!F39/'Tabel 5F B'!F39*100,\"-\"))","v":"-"},{"$f":"IF(OR('Tabel 5F B'!G39<5,'Tabel 5Br B'!G39<0.5),\"-\",IFERROR('Tabel 5Br B'!G39/'Tabel 5F B'!G39*100,\"-\"))","v":"-"},{"$f":"IF(OR('Tabel 5F B'!H39<5,'Tabel 5Br B'!H39<0.5),\"-\",IFERROR('Tabel 5Br B'!H39/'Tabel 5F B'!H39*100,\"-\"))","v":"-"},null,{"$f":"IF(OR('Tabel 5F B'!J39<5,'Tabel 5Br B'!J39<0.5),\"-\",IFERROR('Tabel 5Br B'!J39/'Tabel 5F B'!J39*100,\"-\"))","v":"-"}]
["Cand. IT.",null,{"$f":"IF(OR('Tabel 5F B'!C40<5,'Tabel 5Br B'!C40<0.5),\"-\",IFERROR('Tabel 5Br B'!C40/'Tabel 5F B'!C40*100,\"-\"))","v":"-"},{"$f":"IF(OR('Tabel 5F B'!D40<5,'Tabel 5Br B'!D40<0.5),\"-\",IFERROR('Tabel 5Br B'!D40/'Tabel 5F B'!D40*100,\"-\"))","v":"-"},{"$f":"IF(OR('Tabel 5F B'!E40<5,'Tabel 5Br B'!E40<0.5),\"-\",IFERROR('Tabel 5Br B'!E40/'Tabel 5F B'!E40*100,\"-\"))","v":"-"},{"$f":"IF(OR('Tabel 5F B'!F40<5,'Tabel 5Br B'!F40<0.5),\"-\",IFERROR('Tabel 5Br B'!F40/'Tabel 5F B'!F40*100,\"-\"))","v":"-"},{"$f":"IF(OR('Tabel 5F B'!G40<5,'Tabel 5Br B'!G40<0.5),\"-\",IFERROR('Tabel 5Br B'!G40/'Tabel 5F B'!G40*100,\"-\"))","v":"-"},{"$f":"IF(OR('Tabel 5F B'!H40<5,'Tabel 5Br B'!H40<0.5),\"-\",IFERROR('Tabel 5Br B'!H40/'Tabel 5F B'!H40*100,\"-\"))","v":"-"},null,{"$f":"IF(OR('Tabel 5F B'!J40<5,'Tabel 5Br B'!J40<0.5),\"-\",IFERROR('Tabel 5Br B'!J40/'Tabel 5F B'!J40*100,\"-\"))","v":"-"}]
["Bac. Samf.",null,{"$f":"IF(OR('Tabel 5F B'!C41<5,'Tabel 5Br B'!C41<0.5),\"-\",IFERROR('Tabel 5Br B'!C41/'Tabel 5F B'!C41*100,\"-\"))","v":"-"},{"$f":"IF(OR('Tabel 5F B'!D41<5,'Tabel 5Br B'!D41<0.5),\"-\",IFERROR('Tabel 5Br B'!D41/'Tabel 5F B'!D41*100,\"-\"))","v":"-"},{"$f":"IF(OR('Tabel 5F B'!E41<5,'Tabel 5Br B'!E41<0.5),\"-\",IFERROR('Tabel 5Br B'!E41/'Tabel 5F B'!E41*100,\"-\"))","v":"-"},{"$f":"IF(OR('Tabel 5F B'!F41<5,'Tabel 5Br B'!F41<0.5),\"-\",IFERROR('Tabel 5Br B'!F41/'Tabel 5F B'!F41*100,\"-\"))","v":"-"},{"$f":"IF(OR('Tabel 5F B'!G41<5,'Tabel 5Br B'!G41<0.5),\"-\",IFERROR('Tabel 5Br B'!G41/'Tabel 5F B'!G41*100,\"-\"))","v":"-"},{"$f":"IF(OR('Tabel 5F B'!H41<5,'Tabel 5Br B'!H41<0.5),\"-\",IFERROR('Tabel 5Br B'!H41/'Tabel 5F B'!H41*100,\"-\"))","v":"-"},null,{"$f":"IF(OR('Tabel 5F B'!J41<5,'Tabel 5Br B'!J41<0.5),\"-\",IFERROR('Tabel 5Br B'!J41/'Tabel 5F B'!J41*100,\"-\"))","v":"-"}]
["Bac. Hum.",null,{"$f":"IF(OR('Tabel 5F B'!C42<5,'Tabel 5Br B'!C42<0.5),\"-\",IFERROR('Tabel 5Br B'!C42/'Tabel 5F B'!C42*100,\"-\"))","v":"-"},{"$f":"IF(OR('Tabel 5F B'!D42<5,'Tabel 5Br B'!D42<0.5),\"-\",IFERROR('Tabel 5Br B'!D42/'Tabel 5F B'!D42*100,\"-\"))","v":"-"},{"$f":"IF(OR('Tabel 5F B'!E42<5,'Tabel 5Br B'!E42<0.5),\"-\",IFERROR('Tabel 5Br B'!E42/'Tabel 5F B'!E42*100,\"-\"))","v":"-"},{"$f":"IF(OR('Tabel 5F B'!F42<5,'Tabel 5Br B'!F42<0.5),\"-\",IFERROR('Tabel 5Br B'!F42/'Tabel 5F B'!F42*100,\"-\"))","v":"-"},{"$f":"IF(OR('Tabel 5F B'!G42<5,'Tabel 5Br B'!G42<0.5),\"-\",IFERROR('Tabel 5Br B'!G42/'Tabel 5F B'!G42*100,\"-\"))","v":"-"},{"$f":"IF(OR('Tabel 5F B'!H42<5,'Tabel 5Br B'!H42<0.5),\"-\",IFERROR('Tabel 5Br B'!H42/'Tabel 5F B'!H42*100,\"-\"))","v":19.996257718455652},null,{"$f":"IF(OR('Tabel 5F B'!J42<5,'Tabel 5Br B'!J42<0.5),\"-\",IFERROR('Tabel 5Br B'!J42/'Tabel 5F B'!J42*100,\"-\"))","v":"-"}]
["Bac. Nat.",null,{"$f":"IF(OR('Tabel 5F B'!C43<5,'Tabel 5Br B'!C43<0.5),\"-\",IFERROR('Tabel 5Br B'!C43/'Tabel 5F B'!C43*100,\"-\"))","v":"-"},{"$f":"IF(OR('Tabel 5F B'!D43<5,'Tabel 5Br B'!D43<0.5),\"-\",IFERROR('Tabel 5Br B'!D43/'Tabel 5F B'!D43*100,\"-\"))","v":"-"},{"$f":"IF(OR('Tabel 5F B'!E43<5,'Tabel 5Br B'!E43<0.5),\"-\",IFERROR('Tabel 5Br B'!E43/'Tabel 5F B'!E43*100,\"-\"))","v":"-"},{"$f":"IF(OR('Tabel 5F B'!F43<5,'Tabel 5Br B'!F43<0.5),\"-\",IFERROR('Tabel 5Br B'!F43/'Tabel 5F B'!F43*100,\"-\"))","v":"-"},{"$f":"IF(OR('Tabel 5F B'!G43<5,'Tabel 5Br B'!G43<0.5),\"-\",IFERROR('Tabel 5Br B'!G43/'Tabel 5F B'!G43*100,\"-\"))","v":"-"},{"$f":"IF(OR('Tabel 5F B'!H43<5,'Tabel 5Br B'!H43<0.5),\"-\",IFERROR('Tabel 5Br B'!H43/'Tabel 5F B'!H43*100,\"-\"))","v":"-"},null,{"$f":"IF(OR('Tabel 5F B'!J43<5,'Tabel 5Br B'!J43<0.5),\"-\",IFERROR('Tabel 5Br B'!J43/'Tabel 5F B'!J43*100,\"-\"))","v":"-"}]
["Andre",null,{"$f":"IF(OR('Tabel 5F B'!C44<5,'Tabel 5Br B'!C44<0.5),\"-\",IFERROR('Tabel 5Br B'!C44/'Tabel 5F B'!C44*100,\"-\"))","v":24.995322148069654},{"$f":"IF(OR('Tabel 5F B'!D44<5,'Tabel 5Br B'!D44<0.5),\"-\",IFERROR('Tabel 5Br B'!D44/'Tabel 5F B'!D44*100,\"-\"))","v":"-"},{"$f":"IF(OR('Tabel 5F B'!E44<5,'Tabel 5Br B'!E44<0.5),\"-\",IFERROR('Tabel 5Br B'!E44/'Tabel 5F B'!E44*100,\"-\"))","v":"-"},{"$f":"IF(OR('Tabel 5F B'!F44<5,'Tabel 5Br B'!F44<0.5),\"-\",IFERROR('Tabel 5Br B'!F44/'Tabel 5F B'!F44*100,\"-\"))","v":20.852824383043135},{"$f":"IF(OR('Tabel 5F B'!G44<5,'Tabel 5Br B'!G44<0.5),\"-\",IFERROR('Tabel 5Br B'!G44/'Tabel 5F B'!G44*100,\"-\"))","v":11.109032065808657},{"$f":"IF(OR('Tabel 5F B'!H44<5,'Tabel 5Br B'!H44<0.5),\"-\",IFERROR('Tabel 5Br B'!H44/'Tabel 5F B'!H44*100,\"-\"))","v":4.5910212148228604},null,{"$f":"IF(OR('Tabel 5F B'!J44<5,'Tabel 5Br B'!J44<0.5),\"-\",IFERROR('Tabel 5Br B'!J44/'Tabel 5F B'!J44*100,\"-\"))","v":6.9032620220794456}]
[]
["Total",null,{"$f":"IF(OR('Tabel 5F B'!C46<5,'Tabel 5Br B'!C46<0.5),\"-\",IFERROR('Tabel 5Br B'!C46/'Tabel 5F B'!C46*100,\"-\"))","v":18.328269372989681},{"$f":"IF(OR('Tabel 5F B'!D46<5,'Tabel 5Br B'!D46<0.5),\"-\",IFERROR('Tabel 5Br B'!D46/'Tabel 5F B'!D46*100,\"-\"))","v":8.8472827822918063},{"$f":"IF(OR('Tabel 5F B'!E46<5,'Tabel 5Br B'!E46<0.5),\"-\",IFERROR('Tabel 5Br B'!E46/'Tabel 5F B'!E46*100,\"-\"))","v":6.872843990039744},{"$f":"IF(OR('Tabel 5F B'!F46<5,'Tabel 5Br B'!F46<0.5),\"-\",IFERROR('Tabel 5Br B'!F46/'Tabel 5F B'!F46*100,\"-\"))","v":7.758997068546118},{"$f":"IF(OR('Tabel 5F B'!G46<5,'Tabel 5Br B'!G46<0.5),\"-\",IFERROR('Tabel 5Br B'!G46/'Tabel 5F B'!G46*100,\"-\"))","v":6.9316304784303524},{"$f":"IF(OR('Tabel 5F B'!H46<5,'Tabel 5Br B'!H46<0.5),\"-\",IFERROR('Tabel 5Br B'!H46/'Tabel 5F B'!H46*100,\"-\"))","v":5.2120462977615603},null,{"$f":"IF(OR('Tabel 5F B'!J46<5,'Tabel 5Br B'!J46<0.5),\"-\",IFERROR('Tabel 5Br B'!J46/'Tabel 5F B'!J46*100,\"-\"))","v":11.460573094308785}]
[]
["Ingeniører i alt",null,{"$f":"IF(OR('Tabel 5F B'!C48<5,'Tabel 5Br B'!C48<0.5),\"-\",IFERROR('Tabel 5Br B'!C48/'Tabel 5F B'!C48*100,\"-\"))","v":"-"},{"$f":"IF(OR('Tabel 5F B'!D48<5,'Tabel 5Br B'!D48<0.5),\"-\",IFERROR('Tabel 5Br B'!D48/'Tabel 5F B'!D48*100,\"-\"))","v":"-"},{"$f":"IF(OR('Tabel 5F B'!E48<5,'Tabel 5Br B'!E48<0.5),\"-\",IFERROR('Tabel 5Br B'!E48/'Tabel 5F B'!E48*100,\"-\"))","v":"-"},{"$f":"IF(OR('Tabel 5F B'!F48<5,'Tabel 5Br B'!F48<0.5),\"-\",IFERROR('Tabel 5Br B'!F48/'Tabel 5F B'!F48*100,\"-\"))","v":13.191542443709833},{"$f":"IF(OR('Tabel 5F B'!G48<5,'Tabel 5Br B'!G48<0.5),\"-\",IFERROR('Tabel 5Br B'!G48/'Tabel 5F B'!G48*100,\"-\"))","v":10.908750701677796},{"$f":"IF(OR('Tabel 5F B'!H48<5,'Tabel 5Br B'!H48<0.5),\"-\",IFERROR('Tabel 5Br B'!H48/'Tabel 5F B'!H48*100,\"-\"))","v":5.3344522377142694},null,{"$f":"IF(OR('Tabel 5F B'!J48<5,'Tabel 5Br B'!J48<0.5),\"-\",IFERROR('Tabel 5Br B'!J48/'Tabel 5F B'!J48*100,\"-\"))","v":"-"}]
["Magistre i alt",null,{"$f":"IF(OR('Tabel 5F B'!C49<5,'Tabel 5Br B'!C49<0.5),\"-\",IFERROR('Tabel 5Br B'!C49/'Tabel 5F B'!C49*100,\"-\"))","v":"-"},{"$f":"IF(OR('Tabel 5F B'!D49<5,'Tabel 5Br B'!D49<0.5),\"-\",IFERROR('Tabel 5Br B'!D49/'Tabel 5F B'!D49*100,\"-\"))","v":27.942368864217453},{"$f":"IF(OR('Tabel 5F B'!E49<5,'Tabel 5Br B'!E49<0.5),\"-\",IFERROR('Tabel 5Br B'!E49/'Tabel 5F B'!E49*100,\"-\"))","v":10.843706284359895},{"$f":"IF(OR('Tabel 5F B'!F49<5,'Tabel 5Br B'!F49<0.5),\"-\",IFERROR('Tabel 5Br B'!F49/'Tabel 5F B'!F49*100,\"-\"))","v":13.558991102590049},{"$f":"IF(OR('Tabel 5F B'!G49<5,'Tabel 5Br B'!G49<0.5),\"-\",IFERROR('Tabel 5Br B'!G49/'Tabel 5F B'!G49*100,\"-\"))","v":12.373518080497382},{"$f":"IF(OR('Tabel 5F B'!H49<5,'Tabel 5Br B'!H49<0.5),\"-\",IFERROR('Tabel 5Br B'!H49/'Tabel 5F B'!H49*100,\"-\"))","v":5.1228975654379356},null,{"$f":"IF(OR('Tabel 5F B'!J49<5,'Tabel 5Br B'!J49<0.5),\"-\",IFERROR('Tabel 5Br B'!J49/'Tabel 5F B'!J49*100,\"-\"))","v":40.229526601384677}]
["DJØF'ere i alt",null,{"$f":"IF(OR('Tabel 5F B'!C50<5,'Tabel 5Br B'!C50<0.5),\"-\",IFERROR('Tabel 5Br B'!C50/'Tabel 5F B'!C50*100,\"-\"))","v":"-"},{"$f":"IF(OR('Tabel 5F B'!D50<5,'Tabel 5Br B'!D50<0.5),\"-\",IFERROR('Tabel 5Br B'!D50/'Tabel 5F B'!D50*100,\"-\"))","v":"-"},{"$f":"IF(OR('Tabel 5F B'!E50<5,'Tabel 5Br B'!E50<0.5),\"-\",IFERROR('Tabel 5Br B'!E50/'Tabel 5F B'!E50*100,\"-\"))","v":"-"},{"$f":"IF(OR('Tabel 5F B'!F50<5,'Tabel 5Br B'!F50<0.5),\"-\",IFERROR('Tabel 5Br B'!F50/'Tabel 5F B'!F50*100,\"-\"))","v":"-"},{"$f":"IF(OR('Tabel 5F B'!G50<5,'Tabel 5Br B'!G50<0.5),\"-\",IFERROR('Tabel 5Br B'!G50/'Tabel 5F B'!G50*100,\"-\"))","v":"-"},{"$f":"IF(OR('Tabel 5F B'!H50<5,'Tabel 5Br B'!H50<0.5),\"-\",IFERROR('Tabel 5Br B'!H50/'Tabel 5F B'!H50*100,\"-\"))","v":5.2984980772239449},null,{"$f":"IF(OR('Tabel 5F B'!J50<5,'Tabel 5Br B'!J50<0.5),\"-\",IFERROR('Tabel 5Br B'!J50/'Tabel 5F B'!J50*100,\"-\"))","v":16.080470393449886}]
[]
[]
[]
[]
[]
[]
["Bornholm"]
[]
[null,null,"Under 1 år"," 1 - 2 år","2 - 4 år","5 - 9 år","10 - 14 år","Over 15 år",null,"Uoplyst"]
[]
["Civ. ing.",null,{"$f":"IF(OR('Tabel 5F B'!C61<5,'Tabel 5Br B'!C61<0.5),\"-\",IFERROR('Tabel 5Br B'!C61/'Tabel 5F B'!C61*100,\"-\"))","v":"-"},{"$f":"IF(OR('Tabel 5F B'!D61<5,'Tabel 5Br B'!D61<0.5),\"-\",IFERROR('Tabel 5Br B'!D61/'Tabel 5F B'!D61*100,\"-\"))","v":"-"},{"$f":"IF(OR('Tabel 5F B'!E61<5,'Tabel 5Br B'!E61<0.5),\"-\",IFERROR('Tabel 5Br B'!E61/'Tabel 5F B'!E61*100,\"-\"))","v":"-"},{"$f":"IF(OR('Tabel 5F B'!F61<5,'Tabel 5Br B'!F61<0.5),\"-\",IFERROR('Tabel 5Br B'!F61/'Tabel 5F B'!F61*100,\"-\"))","v":23.744776398677729},{"$f":"IF(OR('Tabel 5F B'!G61<5,'Tabel 5Br B'!G61<0.5),\"-\",IFERROR('Tabel 5Br B'!G61/'Tabel 5F B'!G61*100,\"-\"))","v":"-"},{"$f":"IF(OR('Tabel 5F B'!H61<5,'Tabel 5Br B'!H61<0.5),\"-\",IFERROR('Tabel 5Br B'!H61/'Tabel 5F B'!H61*100,\"-\"))","v":"-"},null,{"$f":"IF(OR('Tabel 5F B'!J61<5,'Tabel 5Br B'!J61<0.5),\"-\",IFERROR('Tabel 5Br B'!J61/'Tabel 5F B'!J61*100,\"-\"))","v":"-"}]
["Diplom ing.",null,{"$f":"IF(OR('Tabel 5F B'!C62<5,'Tabel 5Br B'!C62<0.5),\"-\",IFERROR('Tabel 5Br B'!C62/'Tabel 5F B'!C62*100,\"-\"))","v":"-"},{"$f":"IF(OR('Tabel 5F B'!D62<5,'Tabel 5Br B'!D62<0.5),\"-\",IFERROR('Tabel 5Br B'!D62/'Tabel 5F B'!D62*100,\"-\"))","v":"-"},{"$f":"IF(OR('Tabel 5F B'!E62<5,'Tabel 5Br B'!E62<0.5),\"-\",IFERROR('Tabel 5Br B'!E62/'Tabel 5F B'!E62*100,\"-\"))","v":"-"},{"$f":"IF(OR('Tabel 5F B'!F62<5,'Tabel 5Br B'!F62<0.5),\"-\",IFERROR('Tabel 5Br B'!F62/'Tabel 5F B'!F62*100,\"-\"))","v":"-"},{"$f":"IF(OR('Tabel 5F B'!G62<5,'Tabel 5Br B'!G62<0.5),\"-\",IFERROR('Tabel 5Br B'!G62/'Tabel 5F B'!G62*100,\"-\"))","v":18.181251169462978},{"$f":"IF(OR('Tabel 5F B'!H62<5,'Tabel 5Br B'!H62<0.5),\"-\",IFERROR('Tabel 5Br B'!H62/'Tabel 5F B'!H62*100,\"-\"))","v":7.3348718268571078},null,{"$f":"IF(OR('Tabel 5F B'!J62<5,'Tabel 5Br B'!J62<0.5),\"-\",IFERROR('Tabel 5Br B'!J62/'Tabel 5F B'!J62*100,\"-\"))","v":"-"}]
["Cand. Scient. Tek",null,{"$f":"IF(OR('Tabel 5F B'!C63<5,'Tabel 5Br B'!C63<0.5),\"-\",IFERROR('Tabel 5Br B'!C63/'Tabel 5F B'!C63*100,\"-\"))","v":"-"},{"$f":"IF(OR('Tabel 5F B'!D63<5,'Tabel 5Br B'!D63<0.5),\"-\",IFERROR('Tabel 5Br B'!D63/'Tabel 5F B'!D63*100,\"-\"))","v":"-"},{"$f":"IF(OR('Tabel 5F B'!E63<5,'Tabel 5Br B'!E63<0.5),\"-\",IFERROR('Tabel 5Br B'!E63/'Tabel 5F B'!E63*100,\"-\"))","v":23.15363451769614},{"$f":"IF(OR('Tabel 5F B'!F63<5,'Tabel 5Br B'!F63<0.5),\"-\",IFERROR('Tabel 5Br B'!F63/'Tabel 5F B'!F63*100,\"-\"))","v":"-"},{"$f":"IF(OR('Tabel 5F B'!G63<5,'Tabel 5Br B'!G63<0.5),\"-\",IFERROR('Tabel 5Br B'!G63/'Tabel 5F B'!G63*100,\"-\"))","v":"-"},{"$f":"IF(OR('Tabel 5F B'!H63<5,'Tabel 5Br B'!H63<0.5),\"-\",IFERROR('Tabel 5Br B'!H63/'Tabel 5F B'!H63*100,\"-\"))","v":"-"},null,{"$f":"IF(OR('Tabel 5F B'!J63<5,'Tabel 5Br B'!J63<0.5),\"-\",IFERROR('Tabel 5Br B'!J63/'Tabel 5F B'!J63*100,\"-\"))","v":"-"}]
["MA. Hum.",null,{"$f":"IF(OR('Tabel 5F B'!C64<5,'Tabel 5Br B'!C64<0.5),\"-\",IFERROR('Tabel 5Br B'!C64/'Tabel 5F B'!C64*100,\"-\"))","v":"-"},{"$f":"IF(OR('Tabel 5F B'!D64<5,'Tabel 5Br B'!D64<0.5),\"-\",IFERROR('Tabel 5Br B'!D64/'Tabel 5F B'!D64*100,\"-\"))","v":"-"},{"$f":"IF(OR('Tabel 5F B'!E64<5,'Tabel 5Br B'!E64<0.5),\"-\",IFERROR('Tabel 5Br B'!E64/'Tabel 5F B'!E64*100,\"-\"))","v":7.9835339612050138},{"$f":"IF(OR('Tabel 5F B'!F64<5,'Tabel 5Br B'!F64<0.5),\"-\",IFERROR('Tabel 5Br B'!F64/'Tabel 5F B'!F64*100,\"-\"))","v":8.7540036909168943},{"$f":"IF(OR('Tabel 5F B'!G64<5,'Tabel 5Br B'!G64<0.5),\"-\",IFERROR('Tabel 5Br B'!G64/'Tabel 5F B'!G64*100,\"-\"))","v":12.318343416703049},{"$f":"IF(OR('Tabel 5F B'!H64<5,'Tabel 5Br B'!H64<0.5),\"-\",IFERROR('Tabel 5Br B'!H64/'Tabel 5F B'!H64*100,\"-\"))","v":6.6654192394852281},null,{"$f":"IF(OR('Tabel 5F B'!J64<5,'Tabel 5Br B'!J64<0.5),\"-\",IFERROR('Tabel 5Br B'!J64/'Tabel 5F B'!J64*100,\"-\"))","v":42.817938002869084}]
["MA. Nat.",null,{"$f":"IF(OR('Tabel 5F B'!C65<5,'Tabel 5Br B'!C65<0.5),\"-\",IFERROR('Tabel 5Br B'!C65/'Tabel 5F B'!C65*100,\"-\"))","v":"-"},{"$f":"IF(OR('Tabel 5F B'!D65<5,'Tabel 5Br B'!D65<0.5),\"-\",IFERROR('Tabel 5Br B'!D65/'Tabel 5F B'!D65*100,\"-\"))","v":"-"},{"$f":"IF(OR('Tabel 5F B'!E65<5,'Tabel 5Br B'!E65<0.5),\"-\",IFERROR('Tabel 5Br B'!E65/'Tabel 5F B'!E65*100,\"-\"))","v":"-"},{"$f":"IF(OR('Tabel 5F B'!F65<5,'Tabel 5Br B'!F65<0.5),\"-\",IFERROR('Tabel 5Br B'!F65/'Tabel 5F B'!F65*100,\"-\"))","v":"-"},{"$f":"IF(OR('Tabel 5F B'!G65<5,'Tabel 5Br B'!G65<0.5),\"-\",IFERROR('Tabel 5Br B'!G65/'Tabel 5F B'!G65*100,\"-\"))","v":"-"},{"$f":"IF(OR('Tabel 5F B'!H65<5,'Tabel 5Br B'!H65<0.5),\"-\",IFERROR('Tabel 5Br B'!H65/'Tabel 5F B'!H65*100,\"-\"))","v":2.5520281086924883},null,{"$f":"IF(OR('Tabel 5F B'!J65<5,'Tabel 5Br B'!J65<0.5),\"-\",IFERROR('Tabel 5Br B'!J65/'Tabel 5F B'!J65*100,\"-\"))","v":"-"}]
["MA. Ph.d.",null,{"$f":"IF(OR('Tabel 5F B'!C66<5,'Tabel 5Br B'!C66<0.5),\"-\",IFERROR('Tabel 5Br B'!C66/'Tabel 5F B'!C66*100,\"-\"))","v":"-"},{"$f":"IF(OR('Tabel 5F B'!D66<5,'Tabel 5Br B'!D66<0.5),\"-\",IFERROR('Tabel 5Br B'!D66/'Tabel 5F B'!D66*100,\"-\"))","v":"-"},{"$f":"IF(OR('Tabel 5F B'!E66<5,'Tabel 5Br B'!E66<0.5),\"-\",IFERROR('Tabel 5Br B'!E66/'Tabel 5F B'!E66*100,\"-\"))","v":"-"},{"$f":"IF(OR('Tabel 5F B'!F66<5,'Tabel 5Br B'!F66<0.5),\"-\",IFERROR('Tabel 5Br B'!F66/'Tabel 5F B'!F66*100,\"-\"))","v":"-"},{"$f":"IF(OR('Tabel 5F B'!G66<5,'Tabel 5Br B'!G66<0.5),\"-\",IFERROR('Tabel 5Br B'!G66/'Tabel 5F B'!G66*100,\"-\"))","v":"-"},{"$f":"IF(OR('Tabel 5F B'!H66<5,'Tabel 5Br B'!H66<0.5),\"-\",IFERROR('Tabel 5Br B'!H66/'Tabel 5F B'!H66*100,\"-\"))","v":"-"},null,{"$f":"IF(OR('Tabel 5F B'!J66<5,'Tabel 5Br B'!J66<0.5),\"-\",IFERROR('Tabel 5Br B'!J66/'Tabel 5F B'!J66*100,\"-\"))","v":"-"}]
["MA. Samf.",null,{"$f":"IF(OR('Tabel 5F B'!C67<5,'Tabel 5Br B'!C67<0.5),\"-\",IFERROR('Tabel 5Br B'!C67/'Tabel 5F B'!C67*100,\"-\"))","v":"-"},{"$f":"IF(OR('Tabel 5F B'!D67<5,'Tabel 5Br B'!D67<0.5),\"-\",IFERROR('Tabel 5Br B'!D67/'Tabel 5F B'!D67*100,\"-\"))","v":"-"},{"$f":"IF(OR('Tabel 5F B'!E67<5,'Tabel 5Br B'!E67<0.5),\"-\",IFERROR('Tabel 5Br B'!E67/'Tabel 5F B'!E67*100,\"-\"))","v":"-"},{"$f":"IF(OR('Tabel 5F B'!F67<5,'Tabel 5Br B'!F67<0.5),\"-\",IFERROR('Tabel 5Br B'!F67/'Tabel 5F B'!F67*100,\"-\"))","v":"-"},{"$f":"IF(OR('Tabel 5F B'!G67<5,'Tabel 5Br B'!G67<0.5),\"-\",IFERROR('Tabel 5Br B'!G67/'Tabel 5F B'!G67*100,\"-\"))","v":"-"},{"$f":"IF(OR('Tabel 5F B'!H67<5,'Tabel 5Br B'!H67<0.5),\"-\",IFERROR('Tabel 5Br B'!H67/'Tabel 5F B'!H67*100,\"-\"))","v":"-"},null,{"$f":"IF(OR('Tabel 5F B'!J67<5,'Tabel 5Br B'!J67<0.5),\"-\",IFERROR('Tabel 5Br B'!J67/'Tabel 5F B'!J67*100,\"-\"))","v":"-"}]
["Øvrige Mag.",null,{"$f":"IF(OR('Tabel 5F B'!C68<5,'Tabel 5Br B'!C68<0.5),\"-\",IFERROR('Tabel 5Br B'!C68/'Tabel 5F B'!C68*100,\"-\"))","v":"-"},{"$f":"IF(OR('Tabel 5F B'!D68<5,'Tabel 5Br B'!D68<0.5),\"-\",IFERROR('Tabel 5Br B'!D68/'Tabel 5F B'!D68*100,\"-\"))","v":"-"},{"$f":"IF(OR('Tabel 5F B'!E68<5,'Tabel 5Br B'!E68<0.5),\"-\",IFERROR('Tabel 5Br B'!E68/'Tabel 5F B'!E68*100,\"-\"))","v":"-"},{"$f":"IF(OR('Tabel 5F B'!F68<5,'Tabel 5Br B'!F68<0.5),\"-\",IFERROR('Tabel 5Br B'!F68/'Tabel 5F B'!F68*100,\"-\"))","v":"-"},{"$f":"IF(OR('Tabel 5F B'!G68<5,'Tabel 5Br B'!G68<0.5),\"-\",IFERROR('Tabel 5Br B'!G68/'Tabel 5F B'!G68*100,\"-\"))","v":"-"},{"$f":"IF(OR('Tabel 5F B'!H68<5,'Tabel 5Br B'!H68<0.5),\"-\",IFERROR('Tabel 5Br B'!H68/'Tabel 5F B'!H68*100,\"-\"))","v":16.663548098713072},null,{"$f":"IF(OR('Tabel 5F B'!J68<5,'Tabel 5Br B'!J68<0.5),\"-\",IFERROR('Tabel 5Br B'!J68/'Tabel 5F B'!J68*100,\"-\"))","v":"-"}]
["Agronom",null,{"$f":"IF(OR('Tabel 5F B'!C69<5,'Tabel 5Br B'!C69<0.5),\"-\",IFERROR('Tabel 5Br B'!C69/'Tabel 5F B'!C69*100,\"-\"))","v":"-"},{"$f":"IF(OR('Tabel 5F B'!D69<5,'Tabel 5Br B'!D69<0.5),\"-\",IFERROR('Tabel 5Br B'!D69/'Tabel 5F B'!D69*100,\"-\"))","v":"-"},{"$f":"IF(OR('Tabel 5F B'!E69<5,'Tabel 5Br B'!E69<0.5),\"-\",IFERROR('Tabel 5Br B'!E69/'Tabel 5F B'!E69*100,\"-\"))","v":"-"},{"$f":"IF(OR('Tabel 5F B'!F69<5,'Tabel 5Br B'!F69<0.5),\"-\",IFERROR('Tabel 5Br B'!F69/'Tabel 5F B'!F69*100,\"-\"))","v":"-"},{"$f":"IF(OR('Tabel 5F B'!G69<5,'Tabel 5Br B'!G69<0.5),\"-\",IFERROR('Tabel 5Br B'!G69/'Tabel 5F B'!G69*100,\"-\"))","v":"-"},{"$f":"IF(OR('Tabel 5F B'!H69<5,'Tabel 5Br B'!H69<0.5),\"-\",IFERROR('Tabel 5Br B'!H69/'Tabel 5F B'!H69*100,\"-\"))","v":"-"},null,{"$f":"IF(OR('Tabel 5F B'!J69<5,'Tabel 5Br B'!J69<0.5),\"-\",IFERROR('Tabel 5Br B'!J69/'Tabel 5F B'!J69*100,\"-\"))","v":"-"}]
["Landsk. Arkt.",null,{"$f":"IF(OR('Tabel 5F B'!C70<5,'Tabel 5Br B'!C70<0.5),\"-\",IFERROR('Tabel 5Br B'!C70/'Tabel 5F B'!C70*100,\"-\"))","v":"-"},{"$f":"IF(OR('Tabel 5F B'!D70<5,'Tabel 5Br B'!D70<0.5),\"-\",IFERROR('Tabel 5Br B'!D70/'Tabel 5F B'!D70*100,\"-\"))","v":"-"},{"$f":"IF(OR('Tabel 5F B'!E70<5,'Tabel 5Br B'!E70<0.5),\"-\",IFERROR('Tabel 5Br B'!E70/'Tabel 5F B'!E70*100,\"-\"))","v":"-"},{"$f":"IF(OR('Tabel 5F B'!F70<5,'Tabel 5Br B'!F70<0.5),\"-\",IFERROR('Tabel 5Br B'!F70/'Tabel 5F B'!F70*100,\"-\"))","v":"-"},{"$f":"IF(OR('Tabel 5F B'!G70<5,'Tabel 5Br B'!G70<0.5),\"-\",IFERROR('Tabel 5Br B'!G70/'Tabel 5F B'!G70*100,\"-\"))","v":"-"},{"$f":"IF(OR('Tabel 5F B'!H70<5,'Tabel 5Br B'!H70<0.5),\"-\",IFERROR('Tabel 5Br B'!H70/'Tabel 5F B'!H70*100,\"-\"))","v":"-"},null,{"$f":"IF(OR('Tabel 5F B'!J70<5,'Tabel 5Br B'!J70<0.5),\"-\",IFERROR('Tabel 5Br B'!J70/'Tabel 5F B'!J70*100,\"-\"))","v":"-"}]
["Hortonom",null,{"$f":"IF(OR('Tabel 5F B'!C71<5,'Tabel 5Br B'!C71<0.5),\"-\",IFERROR('Tabel 5Br B'!C71/'Tabel 5F B'!C71*100,\"-\"))","v":"-"},{"$f":"IF(OR('Tabel 5F B'!D71<5,'Tabel 5Br B'!D71<0.5),\"-\",IFERROR('Tabel 5Br B'!D71/'Tabel 5F B'!D71*100,\"-\"))","v":"-"},{"$f":"IF(OR('Tabel 5F B'!E71<5,'Tabel 5Br B'!E71<0.5),\"-\",IFERROR('Tabel 5Br B'!E71/'Tabel 5F B'!E71*100,\"-\"))","v":"-"},{"$f":"IF(OR('Tabel 5F B'!F71<5,'Tabel 5Br B'!F71<0.5),\"-\",IFERROR('Tabel 5Br B'!F71/'Tabel 5F B'!F71*100,\"-\"))","v":"-"},{"$f":"IF(OR('Tabel 5F B'!G71<5,'Tabel 5Br B'!G71<0.5),\"-\",IFERROR('Tabel 5Br B'!G71/'Tabel 5F B'!G71*100,\"-\"))","v":"-"},{"$f":"IF(OR('Tabel 5F B'!H71<5,'Tabel 5Br B'!H71<0.5),\"-\",IFERROR('Tabel 5Br B'!H71/'Tabel 5F B'!H71*100,\"-\"))","v":"-"},null,{"$f":"IF(OR('Tabel 5F B'!J71<5,'Tabel 5Br B'!J71<0.5),\"-\",IFERROR('Tabel 5Br B'!J71/'Tabel 5F B'!J71*100,\"-\"))","v":"-"}]
["Forstkand.",null,{"$f":"IF(OR('Tabel 5F B'!C72<5,'Tabel 5Br B'!C72<0.5),\"-\",IFERROR('Tabel 5Br B'!C72/'Tabel 5F B'!C72*100,\"-\"))","v":"-"},{"$f":"IF(OR('Tabel 5F B'!D72<5,'Tabel 5Br B'!D72<0.5),\"-\",IFERROR('Tabel 5Br B'!D72/'Tabel 5F B'!D72*100,\"-\"))","v":"-"},{"$f":"IF(OR('Tabel 5F B'!E72<5,'Tabel 5Br B'!E72<0.5),\"-\",IFERROR('Tabel 5Br B'!E72/'Tabel 5F B'!E72*100,\"-\"))","v":"-"},{"$f":"IF(OR('Tabel 5F B'!F72<5,'Tabel 5Br B'!F72<0.5),\"-\",IFERROR('Tabel 5Br B'!F72/'Tabel 5F B'!F72*100,\"-\"))","v":"-"},{"$f":"IF(OR('Tabel 5F B'!G72<5,'Tabel 5Br B'!G72<0.5),\"-\",IFERROR('Tabel 5Br B'!G72/'Tabel 5F B'!G72*100,\"-\"))","v":"-"},{"$f":"IF(OR('Tabel 5F B'!H72<5,'Tabel 5Br B'!H72<0.5),\"-\",IFERROR('Tabel 5Br B'!H72/'Tabel 5F B'!H72*100,\"-\"))","v":"-"},null,{"$f":"IF(OR('Tabel 5F B'!J72<5,'Tabel 5Br B'!J72<0.5),\"-\",IFERROR('Tabel 5Br B'!J72/'Tabel 5F B'!J72*100,\"-\"))","v":"-"}]
["Jordbrugsakad.",null,{"$f":"IF(OR('Tabel 5F B'!C73<5,'Tabel 5Br B'!C73<0.5),\"-\",IFERROR('Tabel 5Br B'!C73/'Tabel 5F B'!C73*100,\"-\"))","v":"-"},{"$f":"IF(OR('Tabel 5F B'!D73<5,'Tabel 5Br B'!D73<0.5),\"-\",IFERROR('Tabel 5Br B'!D73/'Tabel 5F B'!D73*100,\"-\"))","v":"-"},{"$f":"IF(OR('Tabel 5F B'!E73<5,'Tabel 5Br B'!E73<0.5),\"-\",IFERROR('Tabel 5Br B'!E73/'Tabel 5F B'!E73*100,\"-\"))","v":"-"},{"$f":"IF(OR('Tabel 5F B'!F73<5,'Tabel 5Br B'!F73<0.5),\"-\",IFERROR('Tabel 5Br B'!F73/'Tabel 5F B'!F73*100,\"-\"))","v":"-"},{"$f":"IF(OR('Tabel 5F B'!G73<5,'Tabel 5Br B'!G73<0.5),\"-\",IFERROR('Tabel 5Br B'!G73/'Tabel 5F B'!G73*100,\"-\"))","v":"-"},{"$f":"IF(OR('Tabel 5F B'!H73<5,'Tabel 5Br B'!H73<0.5),\"-\",IFERROR('Tabel 5Br B'!H73/'Tabel 5F B'!H73*100,\"-\"))","v":"-"},null,{"$f":"IF(OR('Tabel 5F B'!J73<5,'Tabel 5Br B'!J73<0.5),\"-\",IFERROR('Tabel 5Br B'!J73/'Tabel 5F B'!J73*100,\"-\"))","v":"-"}]
["Mejeriing.",null,{"$f":"IF(OR('Tabel 5F B'!C74<5,'Tabel 5Br B'!C74<0.5),\"-\",IFERROR('Tabel 5Br B'!C74/'Tabel 5F B'!C74*100,\"-\"))","v":"-"},{"$f":"IF(OR('Tabel 5F B'!D74<5,'Tabel 5Br B'!D74<0.5),\"-\",IFERROR('Tabel 5Br B'!D74/'Tabel 5F B'!D74*100,\"-\"))","v":"-"},{"$f":"IF(OR('Tabel 5F B'!E74<5,'Tabel 5Br B'!E74<0.5),\"-\",IFERROR('Tabel 5Br B'!E74/'Tabel 5F B'!E74*100,\"-\"))","v":"-"},{"$f":"IF(OR('Tabel 5F B'!F74<5,'Tabel 5Br B'!F74<0.5),\"-\",IFERROR('Tabel 5Br B'!F74/'Tabel 5F B'!F74*100,\"-\"))","v":"-"},{"$f":"IF(OR('Tabel 5F B'!G74<5,'Tabel 5Br B'!G74<0.5),\"-\",IFERROR('Tabel 5Br B'!G74/'Tabel 5F B'!G74*100,\"-\"))","v":"-"},{"$f":"IF(OR('Tabel 5F B'!H74<5,'Tabel 5Br B'!H74<0.5),\"-\",IFERROR('Tabel 5Br B'!H74/'Tabel 5F B'!H74*100,\"-\"))","v":"-"},null,{"$f":"IF(OR('Tabel 5F B'!J74<5,'Tabel 5Br B'!J74<0.5),\"-\",IFERROR('Tabel 5Br B'!J74/'Tabel 5F B'!J74*100,\"-\"))","v":"-"}]
["Levn.m.kand.",null,{"$f":"IF(OR('Tabel 5F B'!C75<5,'Tabel 5Br B'!C75<0.5),\"-\",IFERROR('Tabel 5Br B'!C75/'Tabel 5F B'!C75*100,\"-\"))","v":"-"},{"$f":"IF(OR('Tabel 5F B'!D75<5,'Tabel 5Br B'!D75<0.5),\"-\",IFERROR('Tabel 5Br B'!D75/'Tabel 5F B'!D75*100,\"-\"))","v":"-"},{"$f":"IF(OR('Tabel 5F B'!E75<5,'Tabel 5Br B'!E75<0.5),\"-\",IFERROR('Tabel 5Br B'!E75/'Tabel 5F B'!E75*100,\"-\"))","v":"-"},{"$f":"IF(OR('Tabel 5F B'!F75<5,'Tabel 5Br B'!F75<0.5),\"-\",IFERROR('Tabel 5Br B'!F75/'Tabel 5F B'!F75*100,\"-\"))","v":"-"},{"$f":"IF(OR('Tabel 5F B'!G75<5,'Tabel 5Br B'!G75<0.5),\"-\",IFERROR('Tabel 5Br B'!G75/'Tabel 5F B'!G75*100,\"-\"))","v":"-"},{"$f":"IF(OR('Tabel 5F B'!H75<5,'Tabel 5Br B'!H75<0.5),\"-\",IFERROR('Tabel 5Br B'!H75/'Tabel 5F B'!H75*100,\"-\"))","v":"-"},null,{"$f":"IF(OR('Tabel 5F B'!J75<5,'Tabel 5Br B'!J75<0.5),\"-\",IFERROR('Tabel 5Br B'!J75/'Tabel 5F B'!J75*100,\"-\"))","v":"-"}]
["Dyrlæge",null,{"$f":"IF(OR('Tabel 5F B'!C76<5,'Tabel 5Br B'!C76<0.5),\"-\",IFERROR('Tabel 5Br B'!C76/'Tabel 5F B'!C76*100,\"-\"))","v":"-"},{"$f":"IF(OR('Tabel 5F B'!D76<5,'Tabel 5Br B'!D76<0.5),\"-\",IFERROR('Tabel 5Br B'!D76/'Tabel 5F B'!D76*100,\"-\"))","v":"-"},{"$f":"IF(OR('Tabel 5F B'!E76<5,'Tabel 5Br B'!E76<0.5),\"-\",IFERROR('Tabel 5Br B'!E76/'Tabel 5F B'!E76*100,\"-\"))","v":"-"},{"$f":"IF(OR('Tabel 5F B'!F76<5,'Tabel 5Br B'!F76<0.5),\"-\",IFERROR('Tabel 5Br B'!F76/'Tabel 5F B'!F76*100,\"-\"))","v":"-"},{"$f":"IF(OR('Tabel 5F B'!G76<5,'Tabel 5Br B'!G76<0.5),\"-\",IFERROR('Tabel 5Br B'!G76/'Tabel 5F B'!G76*100,\"-\"))","v":"-"},{"$f":"IF(OR('Tabel 5F B'!H76<5,'Tabel 5Br B'!H76<0.5),\"-\",IFERROR('Tabel 5Br B'!H76/'Tabel 5F B'!H76*100,\"-\"))","v":"-"},null,{"$f":"IF(OR('Tabel 5F B'!J76<5,'Tabel 5Br B'!J76<0.5),\"-\",IFERROR('Tabel 5Br B'!J76/'Tabel 5F B'!J76*100,\"-\"))","v":"-"}]
["Farmaceut",null,{"$f":"IF(OR('Tabel 5F B'!C77<5,'Tabel 5Br B'!C77<0.5),\"-\",IFERROR('Tabel 5Br B'!C77/'Tabel 5F B'!C77*100,\"-\"))","v":"-"},{"$f":"IF(OR('Tabel 5F B'!D77<5,'Tabel 5Br B'!D77<0.5),\"-\",IFERROR('Tabel 5Br B'!D77/'Tabel 5F B'!D77*100,\"-\"))","v":"-"},{"$f":"IF(OR('Tabel 5F B'!E77<5,'Tabel 5Br B'!E77<0.5),\"-\",IFERROR('Tabel 5Br B'!E77/'Tabel 5F B'!E77*100,\"-\"))","v":"-"},{"$f":"IF(OR('Tabel 5F B'!F77<5,'Tabel 5Br B'!F77<0.5),\"-\",IFERROR('Tabel 5Br B'!F77/'Tabel 5F B'!F77*100,\"-\"))","v":"-"},{"$f":"IF(OR('Tabel 5F B'!G77<5,'Tabel 5Br B'!G77<0.5),\"-\",IFERROR('Tabel 5Br B'!G77/'Tabel 5F B'!G77*100,\"-\"))","v":"-"},{"$f":"IF(OR('Tabel 5F B'!H77<5,'Tabel 5Br B'!H77<0.5),\"-\",IFERROR('Tabel 5Br B'!H77/'Tabel 5F B'!H77*100,\"-\"))","v":"-"},null,{"$f":"IF(OR('Tabel 5F B'!J77<5,'Tabel 5Br B'!J77<0.5),\"-\",IFERROR('Tabel 5Br B'!J77/'Tabel 5F B'!J77*100,\"-\"))","v":"-"}]
["Læge",null,{"$f":"IF(OR('Tabel 5F B'!C78<5,'Tabel 5Br B'!C78<0.5),\"-\",IFERROR('Tabel 5Br B'!C78/'Tabel 5F B'!C78*100,\"-\"))","v":"-"},{"$f":"IF(OR('Tabel 5F B'!D78<5,'Tabel 5Br B'!D78<0.5),\"-\",IFERROR('Tabel 5Br B'!D78/'Tabel 5F B'!D78*100,\"-\"))","v":"-"},{"$f":"IF(OR('Tabel 5F B'!E78<5,'Tabel 5Br B'!E78<0.5),\"-\",IFERROR('Tabel 5Br B'!E78/'Tabel 5F B'!E78*100,\"-\"))","v":"-"},{"$f":"IF(OR('Tabel 5F B'!F78<5,'Tabel 5Br B'!F78<0.5),\"-\",IFERROR('Tabel 5Br B'!F78/'Tabel 5F B'!F78*100,\"-\"))","v":"-"},{"$f":"IF(OR('Tabel 5F B'!G78<5,'Tabel 5Br B'!G78<0.5),\"-\",IFERROR('Tabel 5Br B'!G78/'Tabel 5F B'!G78*100,\"-\"))","v":"-"},{"$f":"IF(OR('Tabel 5F B'!H78<5,'Tabel 5Br B'!H78<0.5),\"-\",IFERROR('Tabel 5Br B'!H78/'Tabel 5F B'!H78*100,\"-\"))","v":"-"},null,{"$f":"IF(OR('Tabel 5F B'!J78<5,'Tabel 5Br B'!J78<0.5),\"-\",IFERROR('Tabel 5Br B'!J78/'Tabel 5F B'!J78*100,\"-\"))","v":"-"}]
["Tandlæge",null,{"$f":"IF(OR('Tabel 5F B'!C79<5,'Tabel 5Br B'!C79<0.5),\"-\",IFERROR('Tabel 5Br B'!C79/'Tabel 5F B'!C79*100,\"-\"))","v":"-"},{"$f":"IF(OR('Tabel 5F B'!D79<5,'Tabel 5Br B'!D79<0.5),\"-\",IFERROR('Tabel 5Br B'!D79/'Tabel 5F B'!D79*100,\"-\"))","v":"-"},{"$f":"IF(OR('Tabel 5F B'!E79<5,'Tabel 5Br B'!E79<0.5),\"-\",IFERROR('Tabel 5Br B'!E79/'Tabel 5F B'!E79*100,\"-\"))","v":"-"},{"$f":"IF(OR('Tabel 5F B'!F79<5,'Tabel 5Br B'!F79<0.5),\"-\",IFERROR('Tabel 5Br B'!F79/'Tabel 5F B'!F79*100,\"-\"))","v":"-"},{"$f":"IF(OR('Tabel 5F B'!G79<5,'Tabel 5Br B'!G79<0.5),\"-\",IFERROR('Tabel 5Br B'!G79/'Tabel 5F B'!G79*100,\"-\"))","v":"-"},{"$f":"IF(OR('Tabel 5F B'!H79<5,'Tabel 5Br B'!H79<0.5),\"-\",IFERROR('Tabel 5Br B'!H79/'Tabel 5F B'!H79*100,\"-\"))","v":"-"},null,{"$f":"IF(OR('Tabel 5F B'!J79<5,'Tabel 5Br B'!J79<0.5),\"-\",IFERROR('Tabel 5Br B'!J79/'Tabel 5F B'!J79*100,\"-\"))","v":"-"}]
["Arkitekt",null,{"$f":"IF(OR('Tabel 5F B'!C80<5,'Tabel 5Br B'!C80<0.5),\"-\",IFERROR('Tabel 5Br B'!C80/'Tabel 5F B'!C80*100,\"-\"))","v":"-"},{"$f":"IF(OR('Tabel 5F B'!D80<5,'Tabel 5Br B'!D80<0.5),\"-\",IFERROR('Tabel 5Br B'!D80/'Tabel 5F B'!D80*100,\"-\"))","v":"-"},{"$f":"IF(OR('Tabel 5F B'!E80<5,'Tabel 5Br B'!E80<0.5),\"-\",IFERROR('Tabel 5Br B'!E80/'Tabel 5F B'!E80*100,\"-\"))","v":"-"},{"$f":"IF(OR('Tabel 5F B'!F80<5,'Tabel 5Br B'!F80<0.5),\"-\",IFERROR('Tabel 5Br B'!F80/'Tabel 5F B'!F80*100,\"-\"))","v":"-"},{"$f":"IF(OR('Tabel 5F B'!G80<5,'Tabel 5Br B'!G80<0.5),\"-\",IFERROR('Tabel 5Br B'!G80/'Tabel 5F B'!G80*100,\"-\"))","v":"-"},{"$f":"IF(OR('Tabel 5F B'!H80<5,'Tabel 5Br B'!H80<0.5),\"-\",IFERROR('Tabel 5Br B'!H80/'Tabel 5F B'!H80*100,\"-\"))","v":"-"},null,{"$f":"IF(OR('Tabel 5F B'!J80<5,'Tabel 5Br B'!J80<0.5),\"-\",IFERROR('Tabel 5Br B'!J80/'Tabel 5F B'!J80*100,\"-\"))","v":"-"}]
["Landinspek.",null,{"$f":"IF(OR('Tabel 5F B'!C81<5,'Tabel 5Br B'!C81<0.5),\"-\",IFERROR('Tabel 5Br B'!C81/'Tabel 5F B'!C81*100,\"-\"))","v":"-"},{"$f":"IF(OR('Tabel 5F B'!D81<5,'Tabel 5Br B'!D81<0.5),\"-\",IFERROR('Tabel 5Br B'!D81/'Tabel 5F B'!D81*100,\"-\"))","v":"-"},{"$f":"IF(OR('Tabel 5F B'!E81<5,'Tabel 5Br B'!E81<0.5),\"-\",IFERROR('Tabel 5Br B'!E81/'Tabel 5F B'!E81*100,\"-\"))","v":"-"},{"$f":"IF(OR('Tabel 5F B'!F81<5,'Tabel 5Br B'!F81<0.5),\"-\",IFERROR('Tabel 5Br B'!F81/'Tabel 5F B'!F81*100,\"-\"))","v":"-"},{"$f":"IF(OR('Tabel 5F B'!G81<5,'Tabel 5Br B'!G81<0.5),\"-\",IFERROR('Tabel 5Br B'!G81/'Tabel 5F B'!G81*100,\"-\"))","v":"-"},{"$f":"IF(OR('Tabel 5F B'!H81<5,'Tabel 5Br B'!H81<0.5),\"-\",IFERROR('Tabel 5Br B'!H81/'Tabel 5F B'!H81*100,\"-\"))","v":"-"},null,{"$f":"IF(OR('Tabel 5F B'!J81<5,'Tabel 5Br B'!J81<0.5),\"-\",IFERROR('Tabel 5Br B'!J81/'Tabel 5F B'!J81*100,\"-\"))","v":"-"}]
["Bibliotekar",null,{"$f":"IF(OR('Tabel 5F B'!C82<5,'Tabel 5Br B'!C82<0.5),\"-\",IFERROR('Tabel 5Br B'!C82/'Tabel 5F B'!C82*100,\"-\"))","v":"-"},{"$f":"IF(OR('Tabel 5F B'!D82<5,'Tabel 5Br B'!D82<0.5),\"-\",IFERROR('Tabel 5Br B'!D82/'Tabel 5F B'!D82*100,\"-\"))","v":"-"},{"$f":"IF(OR('Tabel 5F B'!E82<5,'Tabel 5Br B'!E82<0.5),\"-\",IFERROR('Tabel 5Br B'!E82/'Tabel 5F B'!E82*100,\"-\"))","v":"-"},{"$f":"IF(OR('Tabel 5F B'!F82<5,'Tabel 5Br B'!F82<0.5),\"-\",IFERROR('Tabel 5Br B'!F82/'Tabel 5F B'!F82*100,\"-\"))","v":"-"},{"$f":"IF(OR('Tabel 5F B'!G82<5,'Tabel 5Br B'!G82<0.5),\"-\",IFERROR('Tabel 5Br B'!G82/'Tabel 5F B'!G82*100,\"-\"))","v":"-"},{"$f":"IF(OR('Tabel 5F B'!H82<5,'Tabel 5Br B'!H82<0.5),\"-\",IFERROR('Tabel 5Br B'!H82/'Tabel 5F B'!H82*100,\"-\"))","v":14.283041227468345},null,{"$f":"IF(OR('Tabel 5F B'!J82<5,'Tabel 5Br B'!J82<0.5),\"-\",IFERROR('Tabel 5Br B'!J82/'Tabel 5F B'!J82*100,\"-\"))","v":"-"}]
["Musikudd.",null,{"$f":"IF(OR('Tabel 5F B'!C83<5,'Tabel 5Br B'!C83<0.5),\"-\",IFERROR('Tabel 5Br B'!C83/'Tabel 5F B'!C83*100,\"-\"))","v":"-"},{"$f":"IF(OR('Tabel 5F B'!D83<5,'Tabel 5Br B'!D83<0.5),\"-\",IFERROR('Tabel 5Br B'!D83/'Tabel 5F B'!D83*100,\"-\"))","v":"-"},{"$f":"IF(OR('Tabel 5F B'!E83<5,'Tabel 5Br B'!E83<0.5),\"-\",IFERROR('Tabel 5Br B'!E83/'Tabel 5F B'!E83*100,\"-\"))","v":"-"},{"$f":"IF(OR('Tabel 5F B'!F83<5,'Tabel 5Br B'!F83<0.5),\"-\",IFERROR('Tabel 5Br B'!F83/'Tabel 5F B'!F83*100,\"-\"))","v":"-"},{"$f":"IF(OR('Tabel 5F B'!G83<5,'Tabel 5Br B'!G83<0.5),\"-\",IFERROR('Tabel 5Br B'!G83/'Tabel 5F B'!G83*100,\"-\"))","v":"-"},{"$f":"IF(OR('Tabel 5F B'!H83<5,'Tabel 5Br B'!H83<0.5),\"-\",IFERROR('Tabel 5Br B'!H83/'Tabel 5F B'!H83*100,\"-\"))","v":"-"},null,{"$f":"IF(OR('Tabel 5F B'!J83<5,'Tabel 5Br B'!J83<0.5),\"-\",IFERROR('Tabel 5Br B'!J83/'Tabel 5F B'!J83*100,\"-\"))","v":"-"}]
["Teolog",null,{"$f":"IF(OR('Tabel 5F B'!C84<5,'Tabel 5Br B'!C84<0.5),\"-\",IFERROR('Tabel 5Br B'!C84/'Tabel 5F B'!C84*100,\"-\"))","v":"-"},{"$f":"IF(OR('Tabel 5F B'!D84<5,'Tabel 5Br B'!D84<0.5),\"-\",IFERROR('Tabel 5Br B'!D84/'Tabel 5F B'!D84*100,\"-\"))","v":"-"},{"$f":"IF(OR('Tabel 5F B'!E84<5,'Tabel 5Br B'!E84<0.5),\"-\",IFERROR('Tabel 5Br B'!E84/'Tabel 5F B'!E84*100,\"-\"))","v":"-"},{"$f":"IF(OR('Tabel 5F B'!F84<5,'Tabel 5Br B'!F84<0.5),\"-\",IFERROR('Tabel 5Br B'!F84/'Tabel 5F B'!F84*100,\"-\"))","v":"-"},{"$f":"IF(OR('Tabel 5F B'!G84<5,'Tabel 5Br B'!G84<0.5),\"-\",IFERROR('Tabel 5Br B'!G84/'Tabel 5F B'!G84*100,\"-\"))","v":"-"},{"$f":"IF(OR('Tabel 5F B'!H84<5,'Tabel 5Br B'!H84<0.5),\"-\",IFERROR('Tabel 5Br B'!H84/'Tabel 5F B'!H84*100,\"-\"))","v":"-"},null,{"$f":"IF(OR('Tabel 5F B'!J84<5,'Tabel 5Br B'!J84<0.5),\"-\",IFERROR('Tabel 5Br B'!J84/'Tabel 5F B'!J84*100,\"-\"))","v":"-"}]
["Psykolog",null,{"$f":"IF(OR('Tabel 5F B'!C85<5,'Tabel 5Br B'!C85<0.5),\"-\",IFERROR('Tabel 5Br B'!C85/'Tabel 5F B'!C85*100,\"-\"))","v":"-"},{"$f":"IF(OR('Tabel 5F B'!D85<5,'Tabel 5Br B'!D85<0.5),\"-\",IFERROR('Tabel 5Br B'!D85/'Tabel 5F B'!D85*100,\"-\"))","v":"-"},{"$f":"IF(OR('Tabel 5F B'!E85<5,'Tabel 5Br B'!E85<0.5),\"-\",IFERROR('Tabel 5Br B'!E85/'Tabel 5F B'!E85*100,\"-\"))","v":"-"},{"$f":"IF(OR('Tabel 5F B'!F85<5,'Tabel 5Br B'!F85<0.5),\"-\",IFERROR('Tabel 5Br B'!F85/'Tabel 5F B'!F85*100,\"-\"))","v":"-"},{"$f":"IF(OR('Tabel 5F B'!G85<5,'Tabel 5Br B'!G85<0.5),\"-\",IFERROR('Tabel 5Br B'!G85/'Tabel 5F B'!G85*100,\"-\"))","v":"-"},{"$f":"IF(OR('Tabel 5F B'!H85<5,'Tabel 5Br B'!H85<0.5),\"-\",IFERROR('Tabel 5Br B'!H85/'Tabel 5F B'!H85*100,\"-\"))","v":"-"},null,{"$f":"IF(OR('Tabel 5F B'!J85<5,'Tabel 5Br B'!J85<0.5),\"-\",IFERROR('Tabel 5Br B'!J85/'Tabel 5F B'!J85*100,\"-\"))","v":"-"}]
["Jurist",null,{"$f":"IF(OR('Tabel 5F B'!C86<5,'Tabel 5Br B'!C86<0.5),\"-\",IFERROR('Tabel 5Br B'!C86/'Tabel 5F B'!C86*100,\"-\"))","v":"-"},{"$f":"IF(OR('Tabel 5F B'!D86<5,'Tabel 5Br B'!D86<0.5),\"-\",IFERROR('Tabel 5Br B'!D86/'Tabel 5F B'!D86*100,\"-\"))","v":"-"},{"$f":"IF(OR('Tabel 5F B'!E86<5,'Tabel 5Br B'!E86<0.5),\"-\",IFERROR('Tabel 5Br B'!E86/'Tabel 5F B'!E86*100,\"-\"))","v":"-"},{"$f":"IF(OR('Tabel 5F B'!F86<5,'Tabel 5Br B'!F86<0.5),\"-\",IFERROR('Tabel 5Br B'!F86/'Tabel 5F B'!F86*100,\"-\"))","v":"-"},{"$f":"IF(OR('Tabel 5F B'!G86<5,'Tabel 5Br B'!G86<0.5),\"-\",IFERROR('Tabel 5Br B'!G86/'Tabel 5F B'!G86*100,\"-\"))","v":"-"},{"$f":"IF(OR('Tabel 5F B'!H86<5,'Tabel 5Br B'!H86<0.5),\"-\",IFERROR('Tabel 5Br B'!H86/'Tabel 5F B'!H86*100,\"-\"))","v":"-"},null,{"$f":"IF(OR('Tabel 5F B'!J86<5,'Tabel 5Br B'!J86<0.5),\"-\",IFERROR('Tabel 5Br B'!J86/'Tabel 5F B'!J86*100,\"-\"))","v":"-"}]
["Økonom",null,{"$f":"IF(OR('Tabel 5F B'!C87<5,'Tabel 5Br B'!C87<0.5),\"-\",IFERROR('Tabel 5Br B'!C87/'Tabel 5F B'!C87*100,\"-\"))","v":"-"},{"$f":"IF(OR('Tabel 5F B'!D87<5,'Tabel 5Br B'!D87<0.5),\"-\",IFERROR('Tabel 5Br B'!D87/'Tabel 5F B'!D87*100,\"-\"))","v":"-"},{"$f":"IF(OR('Tabel 5F B'!E87<5,'Tabel 5Br B'!E87<0.5),\"-\",IFERROR('Tabel 5Br B'!E87/'Tabel 5F B'!E87*100,\"-\"))","v":"-"},{"$f":"IF(OR('Tabel 5F B'!F87<5,'Tabel 5Br B'!F87<0.5),\"-\",IFERROR('Tabel 5Br B'!F87/'Tabel 5F B'!F87*100,\"-\"))","v":"-"},{"$f":"IF(OR('Tabel 5F B'!G87<5,'Tabel 5Br B'!G87<0.5),\"-\",IFERROR('Tabel 5Br B'!G87/'Tabel 5F B'!G87*100,\"-\"))","v":"-"},{"$f":"IF(OR('Tabel 5F B'!H87<5,'Tabel 5Br B'!H87<0.5),\"-\",IFERROR('Tabel 5Br B'!H87/'Tabel 5F B'!H87*100,\"-\"))","v":"-"},null,{"$f":"IF(OR('Tabel 5F B'!J87<5,'Tabel 5Br B'!J87<0.5),\"-\",IFERROR('Tabel 5Br B'!J87/'Tabel 5F B'!J87*100,\"-\"))","v":"-"}]
["Samf. Adm.",null,{"$f":"IF(OR('Tabel 5F B'!C88<5,'Tabel 5Br B'!C88<0.5),\"-\",IFERROR('Tabel 5Br B'!C88/'Tabel 5F B'!C88*100,\"-\"))","v":"-"},{"$f":"IF(OR('Tabel 5F B'!D88<5,'Tabel 5Br B'!D88<0.5),\"-\",IFERROR('Tabel 5Br B'!D88/'Tabel 5F B'!D88*100,\"-\"))","v":"-"},{"$f":"IF(OR('Tabel 5F B'!E88<5,'Tabel 5Br B'!E88<0.5),\"-\",IFERROR('Tabel 5Br B'!E88/'Tabel 5F B'!E88*100,\"-\"))","v":"-"},{"$f":"IF(OR('Tabel 5F B'!F88<5,'Tabel 5Br B'!F88<0.5),\"-\",IFERROR('Tabel 5Br B'!F88/'Tabel 5F B'!F88*100,\"-\"))","v":"-"},{"$f":"IF(OR('Tabel 5F B'!G88<5,'Tabel 5Br B'!G88<0.5),\"-\",IFERROR('Tabel 5Br B'!G88/'Tabel 5F B'!G88*100,\"-\"))","v":"-"},{"$f":"IF(OR('Tabel 5F B'!H88<5,'Tabel 5Br B'!H88<0.5),\"-\",IFERROR('Tabel 5Br B'!H88/'Tabel 5F B'!H88*100,\"-\"))","v":5.2621730838041278},null,{"$f":"IF(OR('Tabel 5F B'!J88<5,'Tabel 5Br B'!J88<0.5),\"-\",IFERROR('Tabel 5Br B'!J88/'Tabel 5F B'!J88*100,\"-\"))","v":22.218064131617428}]
["Cand. Merc.",null,{"$f":"IF(OR('Tabel 5F B'!C89<5,'Tabel 5Br B'!C89<0.5),\"-\",IFERROR('Tabel 5Br B'!C89/'Tabel 5F B'!C89*100,\"-\"))","v":"-"},{"$f":"IF(OR('Tabel 5F B'!D89<5,'Tabel 5Br B'!D89<0.5),\"-\",IFERROR('Tabel 5Br B'!D89/'Tabel 5F B'!D89*100,\"-\"))","v":"-"},{"$f":"IF(OR('Tabel 5F B'!E89<5,'Tabel 5Br B'!E89<0.5),\"-\",IFERROR('Tabel 5Br B'!E89/'Tabel 5F B'!E89*100,\"-\"))","v":"-"},{"$f":"IF(OR('Tabel 5F B'!F89<5,'Tabel 5Br B'!F89<0.5),\"-\",IFERROR('Tabel 5Br B'!F89/'Tabel 5F B'!F89*100,\"-\"))","v":"-"},{"$f":"IF(OR('Tabel 5F B'!G89<5,'Tabel 5Br B'!G89<0.5),\"-\",IFERROR('Tabel 5Br B'!G89/'Tabel 5F B'!G89*100,\"-\"))","v":"-"},{"$f":"IF(OR('Tabel 5F B'!H89<5,'Tabel 5Br B'!H89<0.5),\"-\",IFERROR('Tabel 5Br B'!H89/'Tabel 5F B'!H89*100,\"-\"))","v":13.330838478970458},null,{"$f":"IF(OR('Tabel 5F B'!J89<5,'Tabel 5Br B'!J89<0.5),\"-\",IFERROR('Tabel 5Br B'!J89/'Tabel 5F B'!J89*100,\"-\"))","v":21.972538781620049}]
["HA",null,{"$f":"IF(OR('Tabel 5F B'!C90<5,'Tabel 5Br B'!C90<0.5),\"-\",IFERROR('Tabel 5Br B'!C90/'Tabel 5F B'!C90*100,\"-\"))","v":"-"},{"$f":"IF(OR('Tabel 5F B'!D90<5,'Tabel 5Br B'!D90<0.5),\"-\",IFERROR('Tabel 5Br B'!D90/'Tabel 5F B'!D90*100,\"-\"))","v":"-"},{"$f":"IF(OR('Tabel 5F B'!E90<5,'Tabel 5Br B'!E90<0.5),\"-\",IFERROR('Tabel 5Br B'!E90/'Tabel 5F B'!E90*100,\"-\"))","v":"-"},{"$f":"IF(OR('Tabel 5F B'!F90<5,'Tabel 5Br B'!F90<0.5),\"-\",IFERROR('Tabel 5Br B'!F90/'Tabel 5F B'!F90*100,\"-\"))","v":"-"},{"$f":"IF(OR('Tabel 5F B'!G90<5,'Tabel 5Br B'!G90<0.5),\"-\",IFERROR('Tabel 5Br B'!G90/'Tabel 5F B'!G90*100,\"-\"))","v":"-"},{"$f":"IF(OR('Tabel 5F B'!H90<5,'Tabel 5Br B'!H90<0.5),\"-\",IFERROR('Tabel 5Br B'!H90/'Tabel 5F B'!H90*100,\"-\"))","v":"-"},null,{"$f":"IF(OR('Tabel 5F B'!J90<5,'Tabel 5Br B'!J90<0.5),\"-\",IFERROR('Tabel 5Br B'!J90/'Tabel 5F B'!J90*100,\"-\"))","v":"-"}]
["HD",null,{"$f":"IF(OR('Tabel 5F B'!C91<5,'Tabel 5Br B'!C91<0.5),\"-\",IFERROR('Tabel 5Br B'!C91/'Tabel 5F B'!C91*100,\"-\"))","v":"-"},{"$f":"IF(OR('Tabel 5F B'!D91<5,'Tabel 5Br B'!D91<0.5),\"-\",IFERROR('Tabel 5Br B'!D91/'Tabel 5F B'!D91*100,\"-\"))","v":"-"},{"$f":"IF(OR('Tabel 5F B'!E91<5,'Tabel 5Br B'!E91<0.5),\"-\",IFERROR('Tabel 5Br B'!E91/'Tabel 5F B'!E91*100,\"-\"))","v":"-"},{"$f":"IF(OR('Tabel 5F B'!F91<5,'Tabel 5Br B'!F91<0.5),\"-\",IFERROR('Tabel 5Br B'!F91/'Tabel 5F B'!F91*100,\"-\"))","v":"-"},{"$f":"IF(OR('Tabel 5F B'!G91<5,'Tabel 5Br B'!G91<0.5),\"-\",IFERROR('Tabel 5Br B'!G91/'Tabel 5F B'!G91*100,\"-\"))","v":"-"},{"$f":"IF(OR('Tabel 5F B'!H91<5,'Tabel 5Br B'!H91<0.5),\"-\",IFERROR('Tabel 5Br B'!H91/'Tabel 5F B'!H91*100,\"-\"))","v":"-"},null,{"$f":"IF(OR('Tabel 5F B'!J91<5,'Tabel 5Br B'!J91<0.5),\"-\",IFERROR('Tabel 5Br B'!J91/'Tabel 5F B'!J91*100,\"-\"))","v":"-"}]
["Komm. og Sprog",null,{"$f":"IF(OR('Tabel 5F B'!C92<5,'Tabel 5Br B'!C92<0.5),\"-\",IFERROR('Tabel 5Br B'!C92/'Tabel 5F B'!C92*100,\"-\"))","v":"-"},{"$f":"IF(OR('Tabel 5F B'!D92<5,'Tabel 5Br B'!D92<0.5),\"-\",IFERROR('Tabel 5Br B'!D92/'Tabel 5F B'!D92*100,\"-\"))","v":"-"},{"$f":"IF(OR('Tabel 5F B'!E92<5,'Tabel 5Br B'!E92<0.5),\"-\",IFERROR('Tabel 5Br B'!E92/'Tabel 5F B'!E92*100,\"-\"))","v":"-"},{"$f":"IF(OR('Tabel 5F B'!F92<5,'Tabel 5Br B'!F92<0.5),\"-\",IFERROR('Tabel 5Br B'!F92/'Tabel 5F B'!F92*100,\"-\"))","v":"-"},{"$f":"IF(OR('Tabel 5F B'!G92<5,'Tabel 5Br B'!G92<0.5),\"-\",IFERROR('Tabel 5Br B'!G92/'Tabel 5F B'!G92*100,\"-\"))","v":"-"},{"$f":"IF(OR('Tabel 5F B'!H92<5,'Tabel 5Br B'!H92<0.5),\"-\",IFERROR('Tabel 5Br B'!H92/'Tabel 5F B'!H92*100,\"-\"))","v":34.48096634025655},null,{"$f":"IF(OR('Tabel 5F B'!J92<5,'Tabel 5Br B'!J92<0.5),\"-\",IFERROR('Tabel 5Br B'!J92/'Tabel 5F B'!J92*100,\"-\"))","v":"-"}]
["Bygningskonst.",null,{"$f":"IF(OR('Tabel 5F B'!C93<5,'Tabel 5Br B'!C93<0.5),\"-\",IFERROR('Tabel 5Br B'!C93/'Tabel 5F B'!C93*100,\"-\"))","v":"-"},{"$f":"IF(OR('Tabel 5F B'!D93<5,'Tabel 5Br B'!D93<0.5),\"-\",IFERROR('Tabel 5Br B'!D93/'Tabel 5F B'!D93*100,\"-\"))","v":"-"},{"$f":"IF(OR('Tabel 5F B'!E93<5,'Tabel 5Br B'!E93<0.5),\"-\",IFERROR('Tabel 5Br B'!E93/'Tabel 5F B'!E93*100,\"-\"))","v":"-"},{"$f":"IF(OR('Tabel 5F B'!F93<5,'Tabel 5Br B'!F93<0.5),\"-\",IFERROR('Tabel 5Br B'!F93/'Tabel 5F B'!F93*100,\"-\"))","v":"-"},{"$f":"IF(OR('Tabel 5F B'!G93<5,'Tabel 5Br B'!G93<0.5),\"-\",IFERROR('Tabel 5Br B'!G93/'Tabel 5F B'!G93*100,\"-\"))","v":"-"},{"$f":"IF(OR('Tabel 5F B'!H93<5,'Tabel 5Br B'!H93<0.5),\"-\",IFERROR('Tabel 5Br B'!H93/'Tabel 5F B'!H93*100,\"-\"))","v":"-"},null,{"$f":"IF(OR('Tabel 5F B'!J93<5,'Tabel 5Br B'!J93<0.5),\"-\",IFERROR('Tabel 5Br B'!J93/'Tabel 5F B'!J93*100,\"-\"))","v":"-"}]
["Cand. IT.",null,{"$f":"IF(OR('Tabel 5F B'!C94<5,'Tabel 5Br B'!C94<0.5),\"-\",IFERROR('Tabel 5Br B'!C94/'Tabel 5F B'!C94*100,\"-\"))","v":"-"},{"$f":"IF(OR('Tabel 5F B'!D94<5,'Tabel 5Br B'!D94<0.5),\"-\",IFERROR('Tabel 5Br B'!D94/'Tabel 5F B'!D94*100,\"-\"))","v":"-"},{"$f":"IF(OR('Tabel 5F B'!E94<5,'Tabel 5Br B'!E94<0.5),\"-\",IFERROR('Tabel 5Br B'!E94/'Tabel 5F B'!E94*100,\"-\"))","v":"-"},{"$f":"IF(OR('Tabel 5F B'!F94<5,'Tabel 5Br B'!F94<0.5),\"-\",IFERROR('Tabel 5Br B'!F94/'Tabel 5F B'!F94*100,\"-\"))","v":"-"},{"$f":"IF(OR('Tabel 5F B'!G94<5,'Tabel 5Br B'!G94<0.5),\"-\",IFERROR('Tabel 5Br B'!G94/'Tabel 5F B'!G94*100,\"-\"))","v":"-"},{"$f":"IF(OR('Tabel 5F B'!H94<5,'Tabel 5Br B'!H94<0.5),\"-\",IFERROR('Tabel 5Br B'!H94/'Tabel 5F B'!H94*100,\"-\"))","v":"-"},null,{"$f":"IF(OR('Tabel 5F B'!J94<5,'Tabel 5Br B'!J94<0.5),\"-\",IFERROR('Tabel 5Br B'!J94/'Tabel 5F B'!J94*100,\"-\"))","v":"-"}]
["Bac. Samf.",null,{"$f":"IF(OR('Tabel 5F B'!C95<5,'Tabel 5Br B'!C95<0.5),\"-\",IFERROR('Tabel 5Br B'!C95/'Tabel 5F B'!C95*100,\"-\"))","v":"-"},{"$f":"IF(OR('Tabel 5F B'!D95<5,'Tabel 5Br B'!D95<0.5),\"-\",IFERROR('Tabel 5Br B'!D95/'Tabel 5F B'!D95*100,\"-\"))","v":"-"},{"$f":"IF(OR('Tabel 5F B'!E95<5,'Tabel 5Br B'!E95<0.5),\"-\",IFERROR('Tabel 5Br B'!E95/'Tabel 5F B'!E95*100,\"-\"))","v":"-"},{"$f":"IF(OR('Tabel 5F B'!F95<5,'Tabel 5Br B'!F95<0.5),\"-\",IFERROR('Tabel 5Br B'!F95/'Tabel 5F B'!F95*100,\"-\"))","v":"-"},{"$f":"IF(OR('Tabel 5F B'!G95<5,'Tabel 5Br B'!G95<0.5),\"-\",IFERROR('Tabel 5Br B'!G95/'Tabel 5F B'!G95*100,\"-\"))","v":"-"},{"$f":"IF(OR('Tabel 5F B'!H95<5,'Tabel 5Br B'!H95<0.5),\"-\",IFERROR('Tabel 5Br B'!H95/'Tabel 5F B'!H95*100,\"-\"))","v":"-"},null,{"$f":"IF(OR('Tabel 5F B'!J95<5,'Tabel 5Br B'!J95<0.5),\"-\",IFERROR('Tabel 5Br B'!J95/'Tabel 5F B'!J95*100,\"-\"))","v":"-"}]
["Bac. Hum.",null,{"$f":"IF(OR('Tabel 5F B'!C96<5,'Tabel 5Br B'!C96<0.5),\"-\",IFERROR('Tabel 5Br B'!C96/'Tabel 5F B'!C96*100,\"-\"))","v":"-"},{"$f":"IF(OR('Tabel 5F B'!D96<5,'Tabel 5Br B'!D96<0.5),\"-\",IFERROR('Tabel 5Br B'!D96/'Tabel 5F B'!D96*100,\"-\"))","v":"-"},{"$f":"IF(OR('Tabel 5F B'!E96<5,'Tabel 5Br B'!E96<0.5),\"-\",IFERROR('Tabel 5Br B'!E96/'Tabel 5F B'!E96*100,\"-\"))","v":"-"},{"$f":"IF(OR('Tabel 5F B'!F96<5,'Tabel 5Br B'!F96<0.5),\"-\",IFERROR('Tabel 5Br B'!F96/'Tabel 5F B'!F96*100,\"-\"))","v":"-"},{"$f":"IF(OR('Tabel 5F B'!G96<5,'Tabel 5Br B'!G96<0.5),\"-\",IFERROR('Tabel 5Br B'!G96/'Tabel 5F B'!G96*100,\"-\"))","v":"-"},{"$f":"IF(OR('Tabel 5F B'!H96<5,'Tabel 5Br B'!H96<0.5),\"-\",IFERROR('Tabel 5Br B'!H96/'Tabel 5F B'!H96*100,\"-\"))","v":19.996257718455684},null,{"$f":"IF(OR('Tabel 5F B'!J96<5,'Tabel 5Br B'!J96<0.5),\"-\",IFERROR('Tabel 5Br B'!J96/'Tabel 5F B'!J96*100,\"-\"))","v":"-"}]
["Bac. Nat.",null,{"$f":"IF(OR('Tabel 5F B'!C97<5,'Tabel 5Br B'!C97<0.5),\"-\",IFERROR('Tabel 5Br B'!C97/'Tabel 5F B'!C97*100,\"-\"))","v":"-"},{"$f":"IF(OR('Tabel 5F B'!D97<5,'Tabel 5Br B'!D97<0.5),\"-\",IFERROR('Tabel 5Br B'!D97/'Tabel 5F B'!D97*100,\"-\"))","v":"-"},{"$f":"IF(OR('Tabel 5F B'!E97<5,'Tabel 5Br B'!E97<0.5),\"-\",IFERROR('Tabel 5Br B'!E97/'Tabel 5F B'!E97*100,\"-\"))","v":"-"},{"$f":"IF(OR('Tabel 5F B'!F97<5,'Tabel 5Br B'!F97<0.5),\"-\",IFERROR('Tabel 5Br B'!F97/'Tabel 5F B'!F97*100,\"-\"))","v":"-"},{"$f":"IF(OR('Tabel 5F B'!G97<5,'Tabel 5Br B'!G97<0.5),\"-\",IFERROR('Tabel 5Br B'!G97/'Tabel 5F B'!G97*100,\"-\"))","v":"-"},{"$f":"IF(OR('Tabel 5F B'!H97<5,'Tabel 5Br B'!H97<0.5),\"-\",IFERROR('Tabel 5Br B'!H97/'Tabel 5F B'!H97*100,\"-\"))","v":"-"},null,{"$f":"IF(OR('Tabel 5F B'!J97<5,'Tabel 5Br B'!J97<0.5),\"-\",IFERROR('Tabel 5Br B'!J97/'Tabel 5F B'!J97*100,\"-\"))","v":"-"}]
["Andre",null,{"$f":"IF(OR('Tabel 5F B'!C98<5,'Tabel 5Br B'!C98<0.5),\"-\",IFERROR('Tabel 5Br B'!C98/'Tabel 5F B'!C98*100,\"-\"))","v":24.995322148069608},{"$f":"IF(OR('Tabel 5F B'!D98<5,'Tabel 5Br B'!D98<0.5),\"-\",IFERROR('Tabel 5Br B'!D98/'Tabel 5F B'!D98*100,\"-\"))","v":"-"},{"$f":"IF(OR('Tabel 5F B'!E98<5,'Tabel 5Br B'!E98<0.5),\"-\",IFERROR('Tabel 5Br B'!E98/'Tabel 5F B'!E98*100,\"-\"))","v":"-"},{"$f":"IF(OR('Tabel 5F B'!F98<5,'Tabel 5Br B'!F98<0.5),\"-\",IFERROR('Tabel 5Br B'!F98/'Tabel 5F B'!F98*100,\"-\"))","v":20.852824383043309},{"$f":"IF(OR('Tabel 5F B'!G98<5,'Tabel 5Br B'!G98<0.5),\"-\",IFERROR('Tabel 5Br B'!G98/'Tabel 5F B'!G98*100,\"-\"))","v":11.109032065808714},{"$f":"IF(OR('Tabel 5F B'!H98<5,'Tabel 5Br B'!H98<0.5),\"-\",IFERROR('Tabel 5Br B'!H98/'Tabel 5F B'!H98*100,\"-\"))","v":4.5910212148228595},null,{"$f":"IF(OR('Tabel 5F B'!J98<5,'Tabel 5Br B'!J98<0.5),\"-\",IFERROR('Tabel 5Br B'!J98/'Tabel 5F B'!J98*100,\"-\"))","v":6.9032620220794625}]
[]
["Total",null,{"$f":"IF(OR('Tabel 5F B'!C100<5,'Tabel 5Br B'!C100<0.5),\"-\",IFERROR('Tabel 5Br B'!C100/'Tabel 5F B'!C100*100,\"-\"))","v":18.328269372989638},{"$f":"IF(OR('Tabel 5F B'!D100<5,'Tabel 5Br B'!D100<0.5),\"-\",IFERROR('Tabel 5Br B'!D100/'Tabel 5F B'!D100*100,\"-\"))","v":8.8472827822918259},{"$f":"IF(OR('Tabel 5F B'!E100<5,'Tabel 5Br B'!E100<0.5),\"-\",IFERROR('Tabel 5Br B'!E100/'Tabel 5F B'!E100*100,\"-\"))","v":6.8728439900397733},{"$f":"IF(OR('Tabel 5F B'!F100<5,'Tabel 5Br B'!F100<0.5),\"-\",IFERROR('Tabel 5Br B'!F100/'Tabel 5F B'!F100*100,\"-\"))","v":7.7589970685461251},{"$f":"IF(OR('Tabel 5F B'!G100<5,'Tabel 5Br B'!G100<0.5),\"-\",IFERROR('Tabel 5Br B'!G100/'Tabel 5F B'!G100*100,\"-\"))","v":6.9316304784303711},{"$f":"IF(OR('Tabel 5F B'!H100<5,'Tabel 5Br B'!H100<0.5),\"-\",IFERROR('Tabel 5Br B'!H100/'Tabel 5F B'!H100*100,\"-\"))","v":5.2264442157111732},null,{"$f":"IF(OR('Tabel 5F B'!J100<5,'Tabel 5Br B'!J100<0.5),\"-\",IFERROR('Tabel 5Br B'!J100/'Tabel 5F B'!J100*100,\"-\"))","v":11.46057309430878}]
[]
["Ingeniører i alt",null,{"$f":"IF(OR('Tabel 5F B'!C102<5,'Tabel 5Br B'!C102<0.5),\"-\",IFERROR('Tabel 5Br B'!C102/'Tabel 5F B'!C102*100,\"-\"))","v":"-"},{"$f":"IF(OR('Tabel 5F B'!D102<5,'Tabel 5Br B'!D102<0.5),\"-\",IFERROR('Tabel 5Br B'!D102/'Tabel 5F B'!D102*100,\"-\"))","v":"-"},{"$f":"IF(OR('Tabel 5F B'!E102<5,'Tabel 5Br B'!E102<0.5),\"-\",IFERROR('Tabel 5Br B'!E102/'Tabel 5F B'!E102*100,\"-\"))","v":"-"},{"$f":"IF(OR('Tabel 5F B'!F102<5,'Tabel 5Br B'!F102<0.5),\"-\",IFERROR('Tabel 5Br B'!F102/'Tabel 5F B'!F102*100,\"-\"))","v":13.191542443709848},{"$f":"IF(OR('Tabel 5F B'!G102<5,'Tabel 5Br B'!G102<0.5),\"-\",IFERROR('Tabel 5Br B'!G102/'Tabel 5F B'!G102*100,\"-\"))","v":10.908750701677787},{"$f":"IF(OR('Tabel 5F B'!H102<5,'Tabel 5Br B'!H102<0.5),\"-\",IFERROR('Tabel 5Br B'!H102/'Tabel 5F B'!H102*100,\"-\"))","v":5.3344522377142596},null,{"$f":"IF(OR('Tabel 5F B'!J102<5,'Tabel 5Br B'!J102<0.5),\"-\",IFERROR('Tabel 5Br B'!J102/'Tabel 5F B'!J102*100,\"-\"))","v":"-"}]
["Magistre i alt",null,{"$f":"IF(OR('Tabel 5F B'!C103<5,'Tabel 5Br B'!C103<0.5),\"-\",IFERROR('Tabel 5Br B'!C103/'Tabel 5F B'!C103*100,\"-\"))","v":"-"},{"$f":"IF(OR('Tabel 5F B'!D103<5,'Tabel 5Br B'!D103<0.5),\"-\",IFERROR('Tabel 5Br B'!D103/'Tabel 5F B'!D103*100,\"-\"))","v":27.942368864217549},{"$f":"IF(OR('Tabel 5F B'!E103<5,'Tabel 5Br B'!E103<0.5),\"-\",IFERROR('Tabel 5Br B'!E103/'Tabel 5F B'!E103*100,\"-\"))","v":10.843706284359936},{"$f":"IF(OR('Tabel 5F B'!F103<5,'Tabel 5Br B'!F103<0.5),\"-\",IFERROR('Tabel 5Br B'!F103/'Tabel 5F B'!F103*100,\"-\"))","v":13.558991102590037},{"$f":"IF(OR('Tabel 5F B'!G103<5,'Tabel 5Br B'!G103<0.5),\"-\",IFERROR('Tabel 5Br B'!G103/'Tabel 5F B'!G103*100,\"-\"))","v":12.373518080497435},{"$f":"IF(OR('Tabel 5F B'!H103<5,'Tabel 5Br B'!H103<0.5),\"-\",IFERROR('Tabel 5Br B'!H103/'Tabel 5F B'!H103*100,\"-\"))","v":5.1228975654379507},null,{"$f":"IF(OR('Tabel 5F B'!J103<5,'Tabel 5Br B'!J103<0.5),\"-\",IFERROR('Tabel 5Br B'!J103/'Tabel 5F B'!J103*100,\"-\"))","v":40.229526601384649}]
["DJØF'ere i alt",null,{"$f":"IF(OR('Tabel 5F B'!C104<5,'Tabel 5Br B'!C104<0.5),\"-\",IFERROR('Tabel 5Br B'!C104/'Tabel 5F B'!C104*100,\"-\"))","v":"-"},{"$f":"IF(OR('Tabel 5F B'!D104<5,'Tabel 5Br B'!D104<0.5),\"-\",IFERROR('Tabel 5Br B'!D104/'Tabel 5F B'!D104*100,\"-\"))","v":"-"},{"$f":"IF(OR('Tabel 5F B'!E104<5,'Tabel 5Br B'!E104<0.5),\"-\",IFERROR('Tabel 5Br B'!E104/'Tabel 5F B'!E104*100,\"-\"))","v":"-"},{"$f":"IF(OR('Tabel 5F B'!F104<5,'Tabel 5Br B'!F104<0.5),\"-\",IFERROR('Tabel 5Br B'!F104/'Tabel 5F B'!F104*100,\"-\"))","v":"-"},{"$f":"IF(OR('Tabel 5F B'!G104<5,'Tabel 5Br B'!G104<0.5),\"-\",IFERROR('Tabel 5Br B'!G104/'Tabel 5F B'!G104*100,\"-\"))","v":"-"},{"$f":"IF(OR('Tabel 5F B'!H104<5,'Tabel 5Br B'!H104<0.5),\"-\",IFERROR('Tabel 5Br B'!H104/'Tabel 5F B'!H104*100,\"-\"))","v":5.2984980772239219},null,{"$f":"IF(OR('Tabel 5F B'!J104<5,'Tabel 5Br B'!J104<0.5),\"-\",IFERROR('Tabel 5Br B'!J104/'Tabel 5F B'!J104*100,\"-\"))","v":16.080470393449875}]
[]
[]
[]
[]
[]
[]
["Christiansø"]
[]
[null,null,"Under 1 år"," 1 - 2 år","2 - 4 år","5 - 9 år","10 - 14 år","Over 15 år",null,"Uoplyst"]
[]
["Civ. ing.",null,{"$f":"IF(OR('Tabel 5F B'!C115<5,'Tabel 5Br B'!C115<0.5),\"-\",IFERROR('Tabel 5Br B'!C115/'Tabel 5F B'!C115*100,\"-\"))","v":"-"},{"$f":"IF(OR('Tabel 5F B'!D115<5,'Tabel 5Br B'!D115<0.5),\"-\",IFERROR('Tabel 5Br B'!D115/'Tabel 5F B'!D115*100,\"-\"))","v":"-"},{"$f":"IF(OR('Tabel 5F B'!E115<5,'Tabel 5Br B'!E115<0.5),\"-\",IFERROR('Tabel 5Br B'!E115/'Tabel 5F B'!E115*100,\"-\"))","v":"-"},{"$f":"IF(OR('Tabel 5F B'!F115<5,'Tabel 5Br B'!F115<0.5),\"-\",IFERROR('Tabel 5Br B'!F115/'Tabel 5F B'!F115*100,\"-\"))","v":"-"},{"$f":"IF(OR('Tabel 5F B'!G115<5,'Tabel 5Br B'!G115<0.5),\"-\",IFERROR('Tabel 5Br B'!G115/'Tabel 5F B'!G115*100,\"-\"))","v":"-"},{"$f":"IF(OR('Tabel 5F B'!H115<5,'Tabel 5Br B'!H115<0.5),\"-\",IFERROR('Tabel 5Br B'!H115/'Tabel 5F B'!H115*100,\"-\"))","v":"-"},null,{"$f":"IF(OR('Tabel 5F B'!J115<5,'Tabel 5Br B'!J115<0.5),\"-\",IFERROR('Tabel 5Br B'!J115/'Tabel 5F B'!J115*100,\"-\"))","v":"-"}]
["Diplom ing.",null,{"$f":"IF(OR('Tabel 5F B'!C116<5,'Tabel 5Br B'!C116<0.5),\"-\",IFERROR('Tabel 5Br B'!C116/'Tabel 5F B'!C116*100,\"-\"))","v":"-"},{"$f":"IF(OR('Tabel 5F B'!D116<5,'Tabel 5Br B'!D116<0.5),\"-\",IFERROR('Tabel 5Br B'!D116/'Tabel 5F B'!D116*100,\"-\"))","v":"-"},{"$f":"IF(OR('Tabel 5F B'!E116<5,'Tabel 5Br B'!E116<0.5),\"-\",IFERROR('Tabel 5Br B'!E116/'Tabel 5F B'!E116*100,\"-\"))","v":"-"},{"$f":"IF(OR('Tabel 5F B'!F116<5,'Tabel 5Br B'!F116<0.5),\"-\",IFERROR('Tabel 5Br B'!F116/'Tabel 5F B'!F116*100,\"-\"))","v":"-"},{"$f":"IF(OR('Tabel 5F B'!G116<5,'Tabel 5Br B'!G116<0.5),\"-\",IFERROR('Tabel 5Br B'!G116/'Tabel 5F B'!G116*100,\"-\"))","v":"-"},{"$f":"IF(OR('Tabel 5F B'!H116<5,'Tabel 5Br B'!H116<0.5),\"-\",IFERROR('Tabel 5Br B'!H116/'Tabel 5F B'!H116*100,\"-\"))","v":"-"},null,{"$f":"IF(OR('Tabel 5F B'!J116<5,'Tabel 5Br B'!J116<0.5),\"-\",IFERROR('Tabel 5Br B'!J116/'Tabel 5F B'!J116*100,\"-\"))","v":"-"}]
["Cand. Scient. Tek",null,{"$f":"IF(OR('Tabel 5F B'!C117<5,'Tabel 5Br B'!C117<0.5),\"-\",IFERROR('Tabel 5Br B'!C117/'Tabel 5F B'!C117*100,\"-\"))","v":"-"},{"$f":"IF(OR('Tabel 5F B'!D117<5,'Tabel 5Br B'!D117<0.5),\"-\",IFERROR('Tabel 5Br B'!D117/'Tabel 5F B'!D117*100,\"-\"))","v":"-"},{"$f":"IF(OR('Tabel 5F B'!E117<5,'Tabel 5Br B'!E117<0.5),\"-\",IFERROR('Tabel 5Br B'!E117/'Tabel 5F B'!E117*100,\"-\"))","v":"-"},{"$f":"IF(OR('Tabel 5F B'!F117<5,'Tabel 5Br B'!F117<0.5),\"-\",IFERROR('Tabel 5Br B'!F117/'Tabel 5F B'!F117*100,\"-\"))","v":"-"},{"$f":"IF(OR('Tabel 5F B'!G117<5,'Tabel 5Br B'!G117<0.5),\"-\",IFERROR('Tabel 5Br B'!G117/'Tabel 5F B'!G117*100,\"-\"))","v":"-"},{"$f":"IF(OR('Tabel 5F B'!H117<5,'Tabel 5Br B'!H117<0.5),\"-\",IFERROR('Tabel 5Br B'!H117/'Tabel 5F B'!H117*100,\"-\"))","v":"-"},null,{"$f":"IF(OR('Tabel 5F B'!J117<5,'Tabel 5Br B'!J117<0.5),\"-\",IFERROR('Tabel 5Br B'!J117/'Tabel 5F B'!J117*100,\"-\"))","v":"-"}]
["MA. Hum.",null,{"$f":"IF(OR('Tabel 5F B'!C118<5,'Tabel 5Br B'!C118<0.5),\"-\",IFERROR('Tabel 5Br B'!C118/'Tabel 5F B'!C118*100,\"-\"))","v":"-"},{"$f":"IF(OR('Tabel 5F B'!D118<5,'Tabel 5Br B'!D118<0.5),\"-\",IFERROR('Tabel 5Br B'!D118/'Tabel 5F B'!D118*100,\"-\"))","v":"-"},{"$f":"IF(OR('Tabel 5F B'!E118<5,'Tabel 5Br B'!E118<0.5),\"-\",IFERROR('Tabel 5Br B'!E118/'Tabel 5F B'!E118*100,\"-\"))","v":"-"},{"$f":"IF(OR('Tabel 5F B'!F118<5,'Tabel 5Br B'!F118<0.5),\"-\",IFERROR('Tabel 5Br B'!F118/'Tabel 5F B'!F118*100,\"-\"))","v":"-"},{"$f":"IF(OR('Tabel 5F B'!G118<5,'Tabel 5Br B'!G118<0.5),\"-\",IFERROR('Tabel 5Br B'!G118/'Tabel 5F B'!G118*100,\"-\"))","v":"-"},{"$f":"IF(OR('Tabel 5F B'!H118<5,'Tabel 5Br B'!H118<0.5),\"-\",IFERROR('Tabel 5Br B'!H118/'Tabel 5F B'!H118*100,\"-\"))","v":"-"},null,{"$f":"IF(OR('Tabel 5F B'!J118<5,'Tabel 5Br B'!J118<0.5),\"-\",IFERROR('Tabel 5Br B'!J118/'Tabel 5F B'!J118*100,\"-\"))","v":"-"}]
["MA. Nat.",null,{"$f":"IF(OR('Tabel 5F B'!C119<5,'Tabel 5Br B'!C119<0.5),\"-\",IFERROR('Tabel 5Br B'!C119/'Tabel 5F B'!C119*100,\"-\"))","v":"-"},{"$f":"IF(OR('Tabel 5F B'!D119<5,'Tabel 5Br B'!D119<0.5),\"-\",IFERROR('Tabel 5Br B'!D119/'Tabel 5F B'!D119*100,\"-\"))","v":"-"},{"$f":"IF(OR('Tabel 5F B'!E119<5,'Tabel 5Br B'!E119<0.5),\"-\",IFERROR('Tabel 5Br B'!E119/'Tabel 5F B'!E119*100,\"-\"))","v":"-"},{"$f":"IF(OR('Tabel 5F B'!F119<5,'Tabel 5Br B'!F119<0.5),\"-\",IFERROR('Tabel 5Br B'!F119/'Tabel 5F B'!F119*100,\"-\"))","v":"-"},{"$f":"IF(OR('Tabel 5F B'!G119<5,'Tabel 5Br B'!G119<0.5),\"-\",IFERROR('Tabel 5Br B'!G119/'Tabel 5F B'!G119*100,\"-\"))","v":"-"},{"$f":"IF(OR('Tabel 5F B'!H119<5,'Tabel 5Br B'!H119<0.5),\"-\",IFERROR('Tabel 5Br B'!H119/'Tabel 5F B'!H119*100,\"-\"))","v":"-"},null,{"$f":"IF(OR('Tabel 5F B'!J119<5,'Tabel 5Br B'!J119<0.5),\"-\",IFERROR('Tabel 5Br B'!J119/'Tabel 5F B'!J119*100,\"-\"))","v":"-"}]
["MA. Ph.d.",null,{"$f":"IF(OR('Tabel 5F B'!C120<5,'Tabel 5Br B'!C120<0.5),\"-\",IFERROR('Tabel 5Br B'!C120/'Tabel 5F B'!C120*100,\"-\"))","v":"-"},{"$f":"IF(OR('Tabel 5F B'!D120<5,'Tabel 5Br B'!D120<0.5),\"-\",IFERROR('Tabel 5Br B'!D120/'Tabel 5F B'!D120*100,\"-\"))","v":"-"},{"$f":"IF(OR('Tabel 5F B'!E120<5,'Tabel 5Br B'!E120<0.5),\"-\",IFERROR('Tabel 5Br B'!E120/'Tabel 5F B'!E120*100,\"-\"))","v":"-"},{"$f":"IF(OR('Tabel 5F B'!F120<5,'Tabel 5Br B'!F120<0.5),\"-\",IFERROR('Tabel 5Br B'!F120/'Tabel 5F B'!F120*100,\"-\"))","v":"-"},{"$f":"IF(OR('Tabel 5F B'!G120<5,'Tabel 5Br B'!G120<0.5),\"-\",IFERROR('Tabel 5Br B'!G120/'Tabel 5F B'!G120*100,\"-\"))","v":"-"},{"$f":"IF(OR('Tabel 5F B'!H120<5,'Tabel 5Br B'!H120<0.5),\"-\",IFERROR('Tabel 5Br B'!H120/'Tabel 5F B'!H120*100,\"-\"))","v":"-"},null,{"$f":"IF(OR('Tabel 5F B'!J120<5,'Tabel 5Br B'!J120<0.5),\"-\",IFERROR('Tabel 5Br B'!J120/'Tabel 5F B'!J120*100,\"-\"))","v":"-"}]
["MA. Samf.",null,{"$f":"IF(OR('Tabel 5F B'!C121<5,'Tabel 5Br B'!C121<0.5),\"-\",IFERROR('Tabel 5Br B'!C121/'Tabel 5F B'!C121*100,\"-\"))","v":"-"},{"$f":"IF(OR('Tabel 5F B'!D121<5,'Tabel 5Br B'!D121<0.5),\"-\",IFERROR('Tabel 5Br B'!D121/'Tabel 5F B'!D121*100,\"-\"))","v":"-"},{"$f":"IF(OR('Tabel 5F B'!E121<5,'Tabel 5Br B'!E121<0.5),\"-\",IFERROR('Tabel 5Br B'!E121/'Tabel 5F B'!E121*100,\"-\"))","v":"-"},{"$f":"IF(OR('Tabel 5F B'!F121<5,'Tabel 5Br B'!F121<0.5),\"-\",IFERROR('Tabel 5Br B'!F121/'Tabel 5F B'!F121*100,\"-\"))","v":"-"},{"$f":"IF(OR('Tabel 5F B'!G121<5,'Tabel 5Br B'!G121<0.5),\"-\",IFERROR('Tabel 5Br B'!G121/'Tabel 5F B'!G121*100,\"-\"))","v":"-"},{"$f":"IF(OR('Tabel 5F B'!H121<5,'Tabel 5Br B'!H121<0.5),\"-\",IFERROR('Tabel 5Br B'!H121/'Tabel 5F B'!H121*100,\"-\"))","v":"-"},null,{"$f":"IF(OR('Tabel 5F B'!J121<5,'Tabel 5Br B'!J121<0.5),\"-\",IFERROR('Tabel 5Br B'!J121/'Tabel 5F B'!J121*100,\"-\"))","v":"-"}]
["Øvrige Mag.",null,{"$f":"IF(OR('Tabel 5F B'!C122<5,'Tabel 5Br B'!C122<0.5),\"-\",IFERROR('Tabel 5Br B'!C122/'Tabel 5F B'!C122*100,\"-\"))","v":"-"},{"$f":"IF(OR('Tabel 5F B'!D122<5,'Tabel 5Br B'!D122<0.5),\"-\",IFERROR('Tabel 5Br B'!D122/'Tabel 5F B'!D122*100,\"-\"))","v":"-"},{"$f":"IF(OR('Tabel 5F B'!E122<5,'Tabel 5Br B'!E122<0.5),\"-\",IFERROR('Tabel 5Br B'!E122/'Tabel 5F B'!E122*100,\"-\"))","v":"-"},{"$f":"IF(OR('Tabel 5F B'!F122<5,'Tabel 5Br B'!F122<0.5),\"-\",IFERROR('Tabel 5Br B'!F122/'Tabel 5F B'!F122*100,\"-\"))","v":"-"},{"$f":"IF(OR('Tabel 5F B'!G122<5,'Tabel 5Br B'!G122<0.5),\"-\",IFERROR('Tabel 5Br B'!G122/'Tabel 5F B'!G122*100,\"-\"))","v":"-"},{"$f":"IF(OR('Tabel 5F B'!H122<5,'Tabel 5Br B'!H122<0.5),\"-\",IFERROR('Tabel 5Br B'!H122/'Tabel 5F B'!H122*100,\"-\"))","v":"-"},null,{"$f":"IF(OR('Tabel 5F B'!J122<5,'Tabel 5Br B'!J122<0.5),\"-\",IFERROR('Tabel 5Br B'!J122/'Tabel 5F B'!J122*100,\"-\"))","v":"-"}]
["Agronom",null,{"$f":"IF(OR('Tabel 5F B'!C123<5,'Tabel 5Br B'!C123<0.5),\"-\",IFERROR('Tabel 5Br B'!C123/'Tabel 5F B'!C123*100,\"-\"))","v":"-"},{"$f":"IF(OR('Tabel 5F B'!D123<5,'Tabel 5Br B'!D123<0.5),\"-\",IFERROR('Tabel 5Br B'!D123/'Tabel 5F B'!D123*100,\"-\"))","v":"-"},{"$f":"IF(OR('Tabel 5F B'!E123<5,'Tabel 5Br B'!E123<0.5),\"-\",IFERROR('Tabel 5Br B'!E123/'Tabel 5F B'!E123*100,\"-\"))","v":"-"},{"$f":"IF(OR('Tabel 5F B'!F123<5,'Tabel 5Br B'!F123<0.5),\"-\",IFERROR('Tabel 5Br B'!F123/'Tabel 5F B'!F123*100,\"-\"))","v":"-"},{"$f":"IF(OR('Tabel 5F B'!G123<5,'Tabel 5Br B'!G123<0.5),\"-\",IFERROR('Tabel 5Br B'!G123/'Tabel 5F B'!G123*100,\"-\"))","v":"-"},{"$f":"IF(OR('Tabel 5F B'!H123<5,'Tabel 5Br B'!H123<0.5),\"-\",IFERROR('Tabel 5Br B'!H123/'Tabel 5F B'!H123*100,\"-\"))","v":"-"},null,{"$f":"IF(OR('Tabel 5F B'!J123<5,'Tabel 5Br B'!J123<0.5),\"-\",IFERROR('Tabel 5Br B'!J123/'Tabel 5F B'!J123*100,\"-\"))","v":"-"}]
["Landsk. Arkt.",null,{"$f":"IF(OR('Tabel 5F B'!C124<5,'Tabel 5Br B'!C124<0.5),\"-\",IFERROR('Tabel 5Br B'!C124/'Tabel 5F B'!C124*100,\"-\"))","v":"-"},{"$f":"IF(OR('Tabel 5F B'!D124<5,'Tabel 5Br B'!D124<0.5),\"-\",IFERROR('Tabel 5Br B'!D124/'Tabel 5F B'!D124*100,\"-\"))","v":"-"},{"$f":"IF(OR('Tabel 5F B'!E124<5,'Tabel 5Br B'!E124<0.5),\"-\",IFERROR('Tabel 5Br B'!E124/'Tabel 5F B'!E124*100,\"-\"))","v":"-"},{"$f":"IF(OR('Tabel 5F B'!F124<5,'Tabel 5Br B'!F124<0.5),\"-\",IFERROR('Tabel 5Br B'!F124/'Tabel 5F B'!F124*100,\"-\"))","v":"-"},{"$f":"IF(OR('Tabel 5F B'!G124<5,'Tabel 5Br B'!G124<0.5),\"-\",IFERROR('Tabel 5Br B'!G124/'Tabel 5F B'!G124*100,\"-\"))","v":"-"},{"$f":"IF(OR('Tabel 5F B'!H124<5,'Tabel 5Br B'!H124<0.5),\"-\",IFERROR('Tabel 5Br B'!H124/'Tabel 5F B'!H124*100,\"-\"))","v":"-"},null,{"$f":"IF(OR('Tabel 5F B'!J124<5,'Tabel 5Br B'!J124<0.5),\"-\",IFERROR('Tabel 5Br B'!J124/'Tabel 5F B'!J124*100,\"-\"))","v":"-"}]
["Hortonom",null,{"$f":"IF(OR('Tabel 5F B'!C125<5,'Tabel 5Br B'!C125<0.5),\"-\",IFERROR('Tabel 5Br B'!C125/'Tabel 5F B'!C125*100,\"-\"))","v":"-"},{"$f":"IF(OR('Tabel 5F B'!D125<5,'Tabel 5Br B'!D125<0.5),\"-\",IFERROR('Tabel 5Br B'!D125/'Tabel 5F B'!D125*100,\"-\"))","v":"-"},{"$f":"IF(OR('Tabel 5F B'!E125<5,'Tabel 5Br B'!E125<0.5),\"-\",IFERROR('Tabel 5Br B'!E125/'Tabel 5F B'!E125*100,\"-\"))","v":"-"},{"$f":"IF(OR('Tabel 5F B'!F125<5,'Tabel 5Br B'!F125<0.5),\"-\",IFERROR('Tabel 5Br B'!F125/'Tabel 5F B'!F125*100,\"-\"))","v":"-"},{"$f":"IF(OR('Tabel 5F B'!G125<5,'Tabel 5Br B'!G125<0.5),\"-\",IFERROR('Tabel 5Br B'!G125/'Tabel 5F B'!G125*100,\"-\"))","v":"-"},{"$f":"IF(OR('Tabel 5F B'!H125<5,'Tabel 5Br B'!H125<0.5),\"-\",IFERROR('Tabel 5Br B'!H125/'Tabel 5F B'!H125*100,\"-\"))","v":"-"},null,{"$f":"IF(OR('Tabel 5F B'!J125<5,'Tabel 5Br B'!J125<0.5),\"-\",IFERROR('Tabel 5Br B'!J125/'Tabel 5F B'!J125*100,\"-\"))","v":"-"}]
["Forstkand.",null,{"$f":"IF(OR('Tabel 5F B'!C126<5,'Tabel 5Br B'!C126<0.5),\"-\",IFERROR('Tabel 5Br B'!C126/'Tabel 5F B'!C126*100,\"-\"))","v":"-"},{"$f":"IF(OR('Tabel 5F B'!D126<5,'Tabel 5Br B'!D126<0.5),\"-\",IFERROR('Tabel 5Br B'!D126/'Tabel 5F B'!D126*100,\"-\"))","v":"-"},{"$f":"IF(OR('Tabel 5F B'!E126<5,'Tabel 5Br B'!E126<0.5),\"-\",IFERROR('Tabel 5Br B'!E126/'Tabel 5F B'!E126*100,\"-\"))","v":"-"},{"$f":"IF(OR('Tabel 5F B'!F126<5,'Tabel 5Br B'!F126<0.5),\"-\",IFERROR('Tabel 5Br B'!F126/'Tabel 5F B'!F126*100,\"-\"))","v":"-"},{"$f":"IF(OR('Tabel 5F B'!G126<5,'Tabel 5Br B'!G126<0.5),\"-\",IFERROR('Tabel 5Br B'!G126/'Tabel 5F B'!G126*100,\"-\"))","v":"-"},{"$f":"IF(OR('Tabel 5F B'!H126<5,'Tabel 5Br B'!H126<0.5),\"-\",IFERROR('Tabel 5Br B'!H126/'Tabel 5F B'!H126*100,\"-\"))","v":"-"},null,{"$f":"IF(OR('Tabel 5F B'!J126<5,'Tabel 5Br B'!J126<0.5),\"-\",IFERROR('Tabel 5Br B'!J126/'Tabel 5F B'!J126*100,\"-\"))","v":"-"}]
["Jordbrugsakad.",null,{"$f":"IF(OR('Tabel 5F B'!C127<5,'Tabel 5Br B'!C127<0.5),\"-\",IFERROR('Tabel 5Br B'!C127/'Tabel 5F B'!C127*100,\"-\"))","v":"-"},{"$f":"IF(OR('Tabel 5F B'!D127<5,'Tabel 5Br B'!D127<0.5),\"-\",IFERROR('Tabel 5Br B'!D127/'Tabel 5F B'!D127*100,\"-\"))","v":"-"},{"$f":"IF(OR('Tabel 5F B'!E127<5,'Tabel 5Br B'!E127<0.5),\"-\",IFERROR('Tabel 5Br B'!E127/'Tabel 5F B'!E127*100,\"-\"))","v":"-"},{"$f":"IF(OR('Tabel 5F B'!F127<5,'Tabel 5Br B'!F127<0.5),\"-\",IFERROR('Tabel 5Br B'!F127/'Tabel 5F B'!F127*100,\"-\"))","v":"-"},{"$f":"IF(OR('Tabel 5F B'!G127<5,'Tabel 5Br B'!G127<0.5),\"-\",IFERROR('Tabel 5Br B'!G127/'Tabel 5F B'!G127*100,\"-\"))","v":"-"},{"$f":"IF(OR('Tabel 5F B'!H127<5,'Tabel 5Br B'!H127<0.5),\"-\",IFERROR('Tabel 5Br B'!H127/'Tabel 5F B'!H127*100,\"-\"))","v":"-"},null,{"$f":"IF(OR('Tabel 5F B'!J127<5,'Tabel 5Br B'!J127<0.5),\"-\",IFERROR('Tabel 5Br B'!J127/'Tabel 5F B'!J127*100,\"-\"))","v":"-"}]
["Mejeriing.",null,{"$f":"IF(OR('Tabel 5F B'!C128<5,'Tabel 5Br B'!C128<0.5),\"-\",IFERROR('Tabel 5Br B'!C128/'Tabel 5F B'!C128*100,\"-\"))","v":"-"},{"$f":"IF(OR('Tabel 5F B'!D128<5,'Tabel 5Br B'!D128<0.5),\"-\",IFERROR('Tabel 5Br B'!D128/'Tabel 5F B'!D128*100,\"-\"))","v":"-"},{"$f":"IF(OR('Tabel 5F B'!E128<5,'Tabel 5Br B'!E128<0.5),\"-\",IFERROR('Tabel 5Br B'!E128/'Tabel 5F B'!E128*100,\"-\"))","v":"-"},{"$f":"IF(OR('Tabel 5F B'!F128<5,'Tabel 5Br B'!F128<0.5),\"-\",IFERROR('Tabel 5Br B'!F128/'Tabel 5F B'!F128*100,\"-\"))","v":"-"},{"$f":"IF(OR('Tabel 5F B'!G128<5,'Tabel 5Br B'!G128<0.5),\"-\",IFERROR('Tabel 5Br B'!G128/'Tabel 5F B'!G128*100,\"-\"))","v":"-"},{"$f":"IF(OR('Tabel 5F B'!H128<5,'Tabel 5Br B'!H128<0.5),\"-\",IFERROR('Tabel 5Br B'!H128/'Tabel 5F B'!H128*100,\"-\"))","v":"-"},null,{"$f":"IF(OR('Tabel 5F B'!J128<5,'Tabel 5Br B'!J128<0.5),\"-\",IFERROR('Tabel 5Br B'!J128/'Tabel 5F B'!J128*100,\"-\"))","v":"-"}]
["Levn.m.kand.",null,{"$f":"IF(OR('Tabel 5F B'!C129<5,'Tabel 5Br B'!C129<0.5),\"-\",IFERROR('Tabel 5Br B'!C129/'Tabel 5F B'!C129*100,\"-\"))","v":"-"},{"$f":"IF(OR('Tabel 5F B'!D129<5,'Tabel 5Br B'!D129<0.5),\"-\",IFERROR('Tabel 5Br B'!D129/'Tabel 5F B'!D129*100,\"-\"))","v":"-"},{"$f":"IF(OR('Tabel 5F B'!E129<5,'Tabel 5Br B'!E129<0.5),\"-\",IFERROR('Tabel 5Br B'!E129/'Tabel 5F B'!E129*100,\"-\"))","v":"-"},{"$f":"IF(OR('Tabel 5F B'!F129<5,'Tabel 5Br B'!F129<0.5),\"-\",IFERROR('Tabel 5Br B'!F129/'Tabel 5F B'!F129*100,\"-\"))","v":"-"},{"$f":"IF(OR('Tabel 5F B'!G129<5,'Tabel 5Br B'!G129<0.5),\"-\",IFERROR('Tabel 5Br B'!G129/'Tabel 5F B'!G129*100,\"-\"))","v":"-"},{"$f":"IF(OR('Tabel 5F B'!H129<5,'Tabel 5Br B'!H129<0.5),\"-\",IFERROR('Tabel 5Br B'!H129/'Tabel 5F B'!H129*100,\"-\"))","v":"-"},null,{"$f":"IF(OR('Tabel 5F B'!J129<5,'Tabel 5Br B'!J129<0.5),\"-\",IFERROR('Tabel 5Br B'!J129/'Tabel 5F B'!J129*100,\"-\"))","v":"-"}]
["Dyrlæge",null,{"$f":"IF(OR('Tabel 5F B'!C130<5,'Tabel 5Br B'!C130<0.5),\"-\",IFERROR('Tabel 5Br B'!C130/'Tabel 5F B'!C130*100,\"-\"))","v":"-"},{"$f":"IF(OR('Tabel 5F B'!D130<5,'Tabel 5Br B'!D130<0.5),\"-\",IFERROR('Tabel 5Br B'!D130/'Tabel 5F B'!D130*100,\"-\"))","v":"-"},{"$f":"IF(OR('Tabel 5F B'!E130<5,'Tabel 5Br B'!E130<0.5),\"-\",IFERROR('Tabel 5Br B'!E130/'Tabel 5F B'!E130*100,\"-\"))","v":"-"},{"$f":"IF(OR('Tabel 5F B'!F130<5,'Tabel 5Br B'!F130<0.5),\"-\",IFERROR('Tabel 5Br B'!F130/'Tabel 5F B'!F130*100,\"-\"))","v":"-"},{"$f":"IF(OR('Tabel 5F B'!G130<5,'Tabel 5Br B'!G130<0.5),\"-\",IFERROR('Tabel 5Br B'!G130/'Tabel 5F B'!G130*100,\"-\"))","v":"-"},{"$f":"IF(OR('Tabel 5F B'!H130<5,'Tabel 5Br B'!H130<0.5),\"-\",IFERROR('Tabel 5Br B'!H130/'Tabel 5F B'!H130*100,\"-\"))","v":"-"},null,{"$f":"IF(OR('Tabel 5F B'!J130<5,'Tabel 5Br B'!J130<0.5),\"-\",IFERROR('Tabel 5Br B'!J130/'Tabel 5F B'!J130*100,\"-\"))","v":"-"}]
["Farmaceut",null,{"$f":"IF(OR('Tabel 5F B'!C131<5,'Tabel 5Br B'!C131<0.5),\"-\",IFERROR('Tabel 5Br B'!C131/'Tabel 5F B'!C131*100,\"-\"))","v":"-"},{"$f":"IF(OR('Tabel 5F B'!D131<5,'Tabel 5Br B'!D131<0.5),\"-\",IFERROR('Tabel 5Br B'!D131/'Tabel 5F B'!D131*100,\"-\"))","v":"-"},{"$f":"IF(OR('Tabel 5F B'!E131<5,'Tabel 5Br B'!E131<0.5),\"-\",IFERROR('Tabel 5Br B'!E131/'Tabel 5F B'!E131*100,\"-\"))","v":"-"},{"$f":"IF(OR('Tabel 5F B'!F131<5,'Tabel 5Br B'!F131<0.5),\"-\",IFERROR('Tabel 5Br B'!F131/'Tabel 5F B'!F131*100,\"-\"))","v":"-"},{"$f":"IF(OR('Tabel 5F B'!G131<5,'Tabel 5Br B'!G131<0.5),\"-\",IFERROR('Tabel 5Br B'!G131/'Tabel 5F B'!G131*100,\"-\"))","v":"-"},{"$f":"IF(OR('Tabel 5F B'!H131<5,'Tabel 5Br B'!H131<0.5),\"-\",IFERROR('Tabel 5Br B'!H131/'Tabel 5F B'!H131*100,\"-\"))","v":"-"},null,{"$f":"IF(OR('Tabel 5F B'!J131<5,'Tabel 5Br B'!J131<0.5),\"-\",IFERROR('Tabel 5Br B'!J131/'Tabel 5F B'!J131*100,\"-\"))","v":"-"}]
["Læge",null,{"$f":"IF(OR('Tabel 5F B'!C132<5,'Tabel 5Br B'!C132<0.5),\"-\",IFERROR('Tabel 5Br B'!C132/'Tabel 5F B'!C132*100,\"-\"))","v":"-"},{"$f":"IF(OR('Tabel 5F B'!D132<5,'Tabel 5Br B'!D132<0.5),\"-\",IFERROR('Tabel 5Br B'!D132/'Tabel 5F B'!D132*100,\"-\"))","v":"-"},{"$f":"IF(OR('Tabel 5F B'!E132<5,'Tabel 5Br B'!E132<0.5),\"-\",IFERROR('Tabel 5Br B'!E132/'Tabel 5F B'!E132*100,\"-\"))","v":"-"},{"$f":"IF(OR('Tabel 5F B'!F132<5,'Tabel 5Br B'!F132<0.5),\"-\",IFERROR('Tabel 5Br B'!F132/'Tabel 5F B'!F132*100,\"-\"))","v":"-"},{"$f":"IF(OR('Tabel 5F B'!G132<5,'Tabel 5Br B'!G132<0.5),\"-\",IFERROR('Tabel 5Br B'!G132/'Tabel 5F B'!G132*100,\"-\"))","v":"-"},{"$f":"IF(OR('Tabel 5F B'!H132<5,'Tabel 5Br B'!H132<0.5),\"-\",IFERROR('Tabel 5Br B'!H132/'Tabel 5F B'!H132*100,\"-\"))","v":"-"},null,{"$f":"IF(OR('Tabel 5F B'!J132<5,'Tabel 5Br B'!J132<0.5),\"-\",IFERROR('Tabel 5Br B'!J132/'Tabel 5F B'!J132*100,\"-\"))","v":"-"}]
["Tandlæge",null,{"$f":"IF(OR('Tabel 5F B'!C133<5,'Tabel 5Br B'!C133<0.5),\"-\",IFERROR('Tabel 5Br B'!C133/'Tabel 5F B'!C133*100,\"-\"))","v":"-"},{"$f":"IF(OR('Tabel 5F B'!D133<5,'Tabel 5Br B'!D133<0.5),\"-\",IFERROR('Tabel 5Br B'!D133/'Tabel 5F B'!D133*100,\"-\"))","v":"-"},{"$f":"IF(OR('Tabel 5F B'!E133<5,'Tabel 5Br B'!E133<0.5),\"-\",IFERROR('Tabel 5Br B'!E133/'Tabel 5F B'!E133*100,\"-\"))","v":"-"},{"$f":"IF(OR('Tabel 5F B'!F133<5,'Tabel 5Br B'!F133<0.5),\"-\",IFERROR('Tabel 5Br B'!F133/'Tabel 5F B'!F133*100,\"-\"))","v":"-"},{"$f":"IF(OR('Tabel 5F B'!G133<5,'Tabel 5Br B'!G133<0.5),\"-\",IFERROR('Tabel 5Br B'!G133/'Tabel 5F B'!G133*100,\"-\"))","v":"-"},{"$f":"IF(OR('Tabel 5F B'!H133<5,'Tabel 5Br B'!H133<0.5),\"-\",IFERROR('Tabel 5Br B'!H133/'Tabel 5F B'!H133*100,\"-\"))","v":"-"},null,{"$f":"IF(OR('Tabel 5F B'!J133<5,'Tabel 5Br B'!J133<0.5),\"-\",IFERROR('Tabel 5Br B'!J133/'Tabel 5F B'!J133*100,\"-\"))","v":"-"}]
["Arkitekt",null,{"$f":"IF(OR('Tabel 5F B'!C134<5,'Tabel 5Br B'!C134<0.5),\"-\",IFERROR('Tabel 5Br B'!C134/'Tabel 5F B'!C134*100,\"-\"))","v":"-"},{"$f":"IF(OR('Tabel 5F B'!D134<5,'Tabel 5Br B'!D134<0.5),\"-\",IFERROR('Tabel 5Br B'!D134/'Tabel 5F B'!D134*100,\"-\"))","v":"-"},{"$f":"IF(OR('Tabel 5F B'!E134<5,'Tabel 5Br B'!E134<0.5),\"-\",IFERROR('Tabel 5Br B'!E134/'Tabel 5F B'!E134*100,\"-\"))","v":"-"},{"$f":"IF(OR('Tabel 5F B'!F134<5,'Tabel 5Br B'!F134<0.5),\"-\",IFERROR('Tabel 5Br B'!F134/'Tabel 5F B'!F134*100,\"-\"))","v":"-"},{"$f":"IF(OR('Tabel 5F B'!G134<5,'Tabel 5Br B'!G134<0.5),\"-\",IFERROR('Tabel 5Br B'!G134/'Tabel 5F B'!G134*100,\"-\"))","v":"-"},{"$f":"IF(OR('Tabel 5F B'!H134<5,'Tabel 5Br B'!H134<0.5),\"-\",IFERROR('Tabel 5Br B'!H134/'Tabel 5F B'!H134*100,\"-\"))","v":"-"},null,{"$f":"IF(OR('Tabel 5F B'!J134<5,'Tabel 5Br B'!J134<0.5),\"-\",IFERROR('Tabel 5Br B'!J134/'Tabel 5F B'!J134*100,\"-\"))","v":"-"}]
["Landinspek.",null,{"$f":"IF(OR('Tabel 5F B'!C135<5,'Tabel 5Br B'!C135<0.5),\"-\",IFERROR('Tabel 5Br B'!C135/'Tabel 5F B'!C135*100,\"-\"))","v":"-"},{"$f":"IF(OR('Tabel 5F B'!D135<5,'Tabel 5Br B'!D135<0.5),\"-\",IFERROR('Tabel 5Br B'!D135/'Tabel 5F B'!D135*100,\"-\"))","v":"-"},{"$f":"IF(OR('Tabel 5F B'!E135<5,'Tabel 5Br B'!E135<0.5),\"-\",IFERROR('Tabel 5Br B'!E135/'Tabel 5F B'!E135*100,\"-\"))","v":"-"},{"$f":"IF(OR('Tabel 5F B'!F135<5,'Tabel 5Br B'!F135<0.5),\"-\",IFERROR('Tabel 5Br B'!F135/'Tabel 5F B'!F135*100,\"-\"))","v":"-"},{"$f":"IF(OR('Tabel 5F B'!G135<5,'Tabel 5Br B'!G135<0.5),\"-\",IFERROR('Tabel 5Br B'!G135/'Tabel 5F B'!G135*100,\"-\"))","v":"-"},{"$f":"IF(OR('Tabel 5F B'!H135<5,'Tabel 5Br B'!H135<0.5),\"-\",IFERROR('Tabel 5Br B'!H135/'Tabel 5F B'!H135*100,\"-\"))","v":"-"},null,{"$f":"IF(OR('Tabel 5F B'!J135<5,'Tabel 5Br B'!J135<0.5),\"-\",IFERROR('Tabel 5Br B'!J135/'Tabel 5F B'!J135*100,\"-\"))","v":"-"}]
["Bibliotekar",null,{"$f":"IF(OR('Tabel 5F B'!C136<5,'Tabel 5Br B'!C136<0.5),\"-\",IFERROR('Tabel 5Br B'!C136/'Tabel 5F B'!C136*100,\"-\"))","v":"-"},{"$f":"IF(OR('Tabel 5F B'!D136<5,'Tabel 5Br B'!D136<0.5),\"-\",IFERROR('Tabel 5Br B'!D136/'Tabel 5F B'!D136*100,\"-\"))","v":"-"},{"$f":"IF(OR('Tabel 5F B'!E136<5,'Tabel 5Br B'!E136<0.5),\"-\",IFERROR('Tabel 5Br B'!E136/'Tabel 5F B'!E136*100,\"-\"))","v":"-"},{"$f":"IF(OR('Tabel 5F B'!F136<5,'Tabel 5Br B'!F136<0.5),\"-\",IFERROR('Tabel 5Br B'!F136/'Tabel 5F B'!F136*100,\"-\"))","v":"-"},{"$f":"IF(OR('Tabel 5F B'!G136<5,'Tabel 5Br B'!G136<0.5),\"-\",IFERROR('Tabel 5Br B'!G136/'Tabel 5F B'!G136*100,\"-\"))","v":"-"},{"$f":"IF(OR('Tabel 5F B'!H136<5,'Tabel 5Br B'!H136<0.5),\"-\",IFERROR('Tabel 5Br B'!H136/'Tabel 5F B'!H136*100,\"-\"))","v":"-"},null,{"$f":"IF(OR('Tabel 5F B'!J136<5,'Tabel 5Br B'!J136<0.5),\"-\",IFERROR('Tabel 5Br B'!J136/'Tabel 5F B'!J136*100,\"-\"))","v":"-"}]
["Musikudd.",null,{"$f":"IF(OR('Tabel 5F B'!C137<5,'Tabel 5Br B'!C137<0.5),\"-\",IFERROR('Tabel 5Br B'!C137/'Tabel 5F B'!C137*100,\"-\"))","v":"-"},{"$f":"IF(OR('Tabel 5F B'!D137<5,'Tabel 5Br B'!D137<0.5),\"-\",IFERROR('Tabel 5Br B'!D137/'Tabel 5F B'!D137*100,\"-\"))","v":"-"},{"$f":"IF(OR('Tabel 5F B'!E137<5,'Tabel 5Br B'!E137<0.5),\"-\",IFERROR('Tabel 5Br B'!E137/'Tabel 5F B'!E137*100,\"-\"))","v":"-"},{"$f":"IF(OR('Tabel 5F B'!F137<5,'Tabel 5Br B'!F137<0.5),\"-\",IFERROR('Tabel 5Br B'!F137/'Tabel 5F B'!F137*100,\"-\"))","v":"-"},{"$f":"IF(OR('Tabel 5F B'!G137<5,'Tabel 5Br B'!G137<0.5),\"-\",IFERROR('Tabel 5Br B'!G137/'Tabel 5F B'!G137*100,\"-\"))","v":"-"},{"$f":"IF(OR('Tabel 5F B'!H137<5,'Tabel 5Br B'!H137<0.5),\"-\",IFERROR('Tabel 5Br B'!H137/'Tabel 5F B'!H137*100,\"-\"))","v":"-"},null,{"$f":"IF(OR('Tabel 5F B'!J137<5,'Tabel 5Br B'!J137<0.5),\"-\",IFERROR('Tabel 5Br B'!J137/'Tabel 5F B'!J137*100,\"-\"))","v":"-"}]
["Teolog",null,{"$f":"IF(OR('Tabel 5F B'!C138<5,'Tabel 5Br B'!C138<0.5),\"-\",IFERROR('Tabel 5Br B'!C138/'Tabel 5F B'!C138*100,\"-\"))","v":"-"},{"$f":"IF(OR('Tabel 5F B'!D138<5,'Tabel 5Br B'!D138<0.5),\"-\",IFERROR('Tabel 5Br B'!D138/'Tabel 5F B'!D138*100,\"-\"))","v":"-"},{"$f":"IF(OR('Tabel 5F B'!E138<5,'Tabel 5Br B'!E138<0.5),\"-\",IFERROR('Tabel 5Br B'!E138/'Tabel 5F B'!E138*100,\"-\"))","v":"-"},{"$f":"IF(OR('Tabel 5F B'!F138<5,'Tabel 5Br B'!F138<0.5),\"-\",IFERROR('Tabel 5Br B'!F138/'Tabel 5F B'!F138*100,\"-\"))","v":"-"},{"$f":"IF(OR('Tabel 5F B'!G138<5,'Tabel 5Br B'!G138<0.5),\"-\",IFERROR('Tabel 5Br B'!G138/'Tabel 5F B'!G138*100,\"-\"))","v":"-"},{"$f":"IF(OR('Tabel 5F B'!H138<5,'Tabel 5Br B'!H138<0.5),\"-\",IFERROR('Tabel 5Br B'!H138/'Tabel 5F B'!H138*100,\"-\"))","v":"-"},null,{"$f":"IF(OR('Tabel 5F B'!J138<5,'Tabel 5Br B'!J138<0.5),\"-\",IFERROR('Tabel 5Br B'!J138/'Tabel 5F B'!J138*100,\"-\"))","v":"-"}]
["Psykolog",null,{"$f":"IF(OR('Tabel 5F B'!C139<5,'Tabel 5Br B'!C139<0.5),\"-\",IFERROR('Tabel 5Br B'!C139/'Tabel 5F B'!C139*100,\"-\"))","v":"-"},{"$f":"IF(OR('Tabel 5F B'!D139<5,'Tabel 5Br B'!D139<0.5),\"-\",IFERROR('Tabel 5Br B'!D139/'Tabel 5F B'!D139*100,\"-\"))","v":"-"},{"$f":"IF(OR('Tabel 5F B'!E139<5,'Tabel 5Br B'!E139<0.5),\"-\",IFERROR('Tabel 5Br B'!E139/'Tabel 5F B'!E139*100,\"-\"))","v":"-"},{"$f":"IF(OR('Tabel 5F B'!F139<5,'Tabel 5Br B'!F139<0.5),\"-\",IFERROR('Tabel 5Br B'!F139/'Tabel 5F B'!F139*100,\"-\"))","v":"-"},{"$f":"IF(OR('Tabel 5F B'!G139<5,'Tabel 5Br B'!G139<0.5),\"-\",IFERROR('Tabel 5Br B'!G139/'Tabel 5F B'!G139*100,\"-\"))","v":"-"},{"$f":"IF(OR('Tabel 5F B'!H139<5,'Tabel 5Br B'!H139<0.5),\"-\",IFERROR('Tabel 5Br B'!H139/'Tabel 5F B'!H139*100,\"-\"))","v":"-"},null,{"$f":"IF(OR('Tabel 5F B'!J139<5,'Tabel 5Br B'!J139<0.5),\"-\",IFERROR('Tabel 5Br B'!J139/'Tabel 5F B'!J139*100,\"-\"))","v":"-"}]
["Jurist",null,{"$f":"IF(OR('Tabel 5F B'!C140<5,'Tabel 5Br B'!C140<0.5),\"-\",IFERROR('Tabel 5Br B'!C140/'Tabel 5F B'!C140*100,\"-\"))","v":"-"},{"$f":"IF(OR('Tabel 5F B'!D140<5,'Tabel 5Br B'!D140<0.5),\"-\",IFERROR('Tabel 5Br B'!D140/'Tabel 5F B'!D140*100,\"-\"))","v":"-"},{"$f":"IF(OR('Tabel 5F B'!E140<5,'Tabel 5Br B'!E140<0.5),\"-\",IFERROR('Tabel 5Br B'!E140/'Tabel 5F B'!E140*100,\"-\"))","v":"-"},{"$f":"IF(OR('Tabel 5F B'!F140<5,'Tabel 5Br B'!F140<0.5),\"-\",IFERROR('Tabel 5Br B'!F140/'Tabel 5F B'!F140*100,\"-\"))","v":"-"},{"$f":"IF(OR('Tabel 5F B'!G140<5,'Tabel 5Br B'!G140<0.5),\"-\",IFERROR('Tabel 5Br B'!G140/'Tabel 5F B'!G140*100,\"-\"))","v":"-"},{"$f":"IF(OR('Tabel 5F B'!H140<5,'Tabel 5Br B'!H140<0.5),\"-\",IFERROR('Tabel 5Br B'!H140/'Tabel 5F B'!H140*100,\"-\"))","v":"-"},null,{"$f":"IF(OR('Tabel 5F B'!J140<5,'Tabel 5Br B'!J140<0.5),\"-\",IFERROR('Tabel 5Br B'!J140/'Tabel 5F B'!J140*100,\"-\"))","v":"-"}]
["Økonom",null,{"$f":"IF(OR('Tabel 5F B'!C141<5,'Tabel 5Br B'!C141<0.5),\"-\",IFERROR('Tabel 5Br B'!C141/'Tabel 5F B'!C141*100,\"-\"))","v":"-"},{"$f":"IF(OR('Tabel 5F B'!D141<5,'Tabel 5Br B'!D141<0.5),\"-\",IFERROR('Tabel 5Br B'!D141/'Tabel 5F B'!D141*100,\"-\"))","v":"-"},{"$f":"IF(OR('Tabel 5F B'!E141<5,'Tabel 5Br B'!E141<0.5),\"-\",IFERROR('Tabel 5Br B'!E141/'Tabel 5F B'!E141*100,\"-\"))","v":"-"},{"$f":"IF(OR('Tabel 5F B'!F141<5,'Tabel 5Br B'!F141<0.5),\"-\",IFERROR('Tabel 5Br B'!F141/'Tabel 5F B'!F141*100,\"-\"))","v":"-"},{"$f":"IF(OR('Tabel 5F B'!G141<5,'Tabel 5Br B'!G141<0.5),\"-\",IFERROR('Tabel 5Br B'!G141/'Tabel 5F B'!G141*100,\"-\"))","v":"-"},{"$f":"IF(OR('Tabel 5F B'!H141<5,'Tabel 5Br B'!H141<0.5),\"-\",IFERROR('Tabel 5Br B'!H141/'Tabel 5F B'!H141*100,\"-\"))","v":"-"},null,{"$f":"IF(OR('Tabel 5F B'!J141<5,'Tabel 5Br B'!J141<0.5),\"-\",IFERROR('Tabel 5Br B'!J141/'Tabel 5F B'!J141*100,\"-\"))","v":"-"}]
["Samf. Adm.",null,{"$f":"IF(OR('Tabel 5F B'!C142<5,'Tabel 5Br B'!C142<0.5),\"-\",IFERROR('Tabel 5Br B'!C142/'Tabel 5F B'!C142*100,\"-\"))","v":"-"},{"$f":"IF(OR('Tabel 5F B'!D142<5,'Tabel 5Br B'!D142<0.5),\"-\",IFERROR('Tabel 5Br B'!D142/'Tabel 5F B'!D142*100,\"-\"))","v":"-"},{"$f":"IF(OR('Tabel 5F B'!E142<5,'Tabel 5Br B'!E142<0.5),\"-\",IFERROR('Tabel 5Br B'!E142/'Tabel 5F B'!E142*100,\"-\"))","v":"-"},{"$f":"IF(OR('Tabel 5F B'!F142<5,'Tabel 5Br B'!F142<0.5),\"-\",IFERROR('Tabel 5Br B'!F142/'Tabel 5F B'!F142*100,\"-\"))","v":"-"},{"$f":"IF(OR('Tabel 5F B'!G142<5,'Tabel 5Br B'!G142<0.5),\"-\",IFERROR('Tabel 5Br B'!G142/'Tabel 5F B'!G142*100,\"-\"))","v":"-"},{"$f":"IF(OR('Tabel 5F B'!H142<5,'Tabel 5Br B'!H142<0.5),\"-\",IFERROR('Tabel 5Br B'!H142/'Tabel 5F B'!H142*100,\"-\"))","v":"-"},null,{"$f":"IF(OR('Tabel 5F B'!J142<5,'Tabel 5Br B'!J142<0.5),\"-\",IFERROR('Tabel 5Br B'!J142/'Tabel 5F B'!J142*100,\"-\"))","v":"-"}]
["Cand. Merc.",null,{"$f":"IF(OR('Tabel 5F B'!C143<5,'Tabel 5Br B'!C143<0.5),\"-\",IFERROR('Tabel 5Br B'!C143/'Tabel 5F B'!C143*100,\"-\"))","v":"-"},{"$f":"IF(OR('Tabel 5F B'!D143<5,'Tabel 5Br B'!D143<0.5),\"-\",IFERROR('Tabel 5Br B'!D143/'Tabel 5F B'!D143*100,\"-\"))","v":"-"},{"$f":"IF(OR('Tabel 5F B'!E143<5,'Tabel 5Br B'!E143<0.5),\"-\",IFERROR('Tabel 5Br B'!E143/'Tabel 5F B'!E143*100,\"-\"))","v":"-"},{"$f":"IF(OR('Tabel 5F B'!F143<5,'Tabel 5Br B'!F143<0.5),\"-\",IFERROR('Tabel 5Br B'!F143/'Tabel 5F B'!F143*100,\"-\"))","v":"-"},{"$f":"IF(OR('Tabel 5F B'!G143<5,'Tabel 5Br B'!G143<0.5),\"-\",IFERROR('Tabel 5Br B'!G143/'Tabel 5F B'!G143*100,\"-\"))","v":"-"},{"$f":"IF(OR('Tabel 5F B'!H143<5,'Tabel 5Br B'!H143<0.5),\"-\",IFERROR('Tabel 5Br B'!H143/'Tabel 5F B'!H143*100,\"-\"))","v":"-"},null,{"$f":"IF(OR('Tabel 5F B'!J143<5,'Tabel 5Br B'!J143<0.5),\"-\",IFERROR('Tabel 5Br B'!J143/'Tabel 5F B'!J143*100,\"-\"))","v":"-"}]
["HA",null,{"$f":"IF(OR('Tabel 5F B'!C144<5,'Tabel 5Br B'!C144<0.5),\"-\",IFERROR('Tabel 5Br B'!C144/'Tabel 5F B'!C144*100,\"-\"))","v":"-"},{"$f":"IF(OR('Tabel 5F B'!D144<5,'Tabel 5Br B'!D144<0.5),\"-\",IFERROR('Tabel 5Br B'!D144/'Tabel 5F B'!D144*100,\"-\"))","v":"-"},{"$f":"IF(OR('Tabel 5F B'!E144<5,'Tabel 5Br B'!E144<0.5),\"-\",IFERROR('Tabel 5Br B'!E144/'Tabel 5F B'!E144*100,\"-\"))","v":"-"},{"$f":"IF(OR('Tabel 5F B'!F144<5,'Tabel 5Br B'!F144<0.5),\"-\",IFERROR('Tabel 5Br B'!F144/'Tabel 5F B'!F144*100,\"-\"))","v":"-"},{"$f":"IF(OR('Tabel 5F B'!G144<5,'Tabel 5Br B'!G144<0.5),\"-\",IFERROR('Tabel 5Br B'!G144/'Tabel 5F B'!G144*100,\"-\"))","v":"-"},{"$f":"IF(OR('Tabel 5F B'!H144<5,'Tabel 5Br B'!H144<0.5),\"-\",IFERROR('Tabel 5Br B'!H144/'Tabel 5F B'!H144*100,\"-\"))","v":"-"},null,{"$f":"IF(OR('Tabel 5F B'!J144<5,'Tabel 5Br B'!J144<0.5),\"-\",IFERROR('Tabel 5Br B'!J144/'Tabel 5F B'!J144*100,\"-\"))","v":"-"}]
["HD",null,{"$f":"IF(OR('Tabel 5F B'!C145<5,'Tabel 5Br B'!C145<0.5),\"-\",IFERROR('Tabel 5Br B'!C145/'Tabel 5F B'!C145*100,\"-\"))","v":"-"},{"$f":"IF(OR('Tabel 5F B'!D145<5,'Tabel 5Br B'!D145<0.5),\"-\",IFERROR('Tabel 5Br B'!D145/'Tabel 5F B'!D145*100,\"-\"))","v":"-"},{"$f":"IF(OR('Tabel 5F B'!E145<5,'Tabel 5Br B'!E145<0.5),\"-\",IFERROR('Tabel 5Br B'!E145/'Tabel 5F B'!E145*100,\"-\"))","v":"-"},{"$f":"IF(OR('Tabel 5F B'!F145<5,'Tabel 5Br B'!F145<0.5),\"-\",IFERROR('Tabel 5Br B'!F145/'Tabel 5F B'!F145*100,\"-\"))","v":"-"},{"$f":"IF(OR('Tabel 5F B'!G145<5,'Tabel 5Br B'!G145<0.5),\"-\",IFERROR('Tabel 5Br B'!G145/'Tabel 5F B'!G145*100,\"-\"))","v":"-"},{"$f":"IF(OR('Tabel 5F B'!H145<5,'Tabel 5Br B'!H145<0.5),\"-\",IFERROR('Tabel 5Br B'!H145/'Tabel 5F B'!H145*100,\"-\"))","v":"-"},null,{"$f":"IF(OR('Tabel 5F B'!J145<5,'Tabel 5Br B'!J145<0.5),\"-\",IFERROR('Tabel 5Br B'!J145/'Tabel 5F B'!J145*100,\"-\"))","v":"-"}]
["Komm. og Sprog",null,{"$f":"IF(OR('Tabel 5F B'!C146<5,'Tabel 5Br B'!C146<0.5),\"-\",IFERROR('Tabel 5Br B'!C146/'Tabel 5F B'!C146*100,\"-\"))","v":"-"},{"$f":"IF(OR('Tabel 5F B'!D146<5,'Tabel 5Br B'!D146<0.5),\"-\",IFERROR('Tabel 5Br B'!D146/'Tabel 5F B'!D146*100,\"-\"))","v":"-"},{"$f":"IF(OR('Tabel 5F B'!E146<5,'Tabel 5Br B'!E146<0.5),\"-\",IFERROR('Tabel 5Br B'!E146/'Tabel 5F B'!E146*100,\"-\"))","v":"-"},{"$f":"IF(OR('Tabel 5F B'!F146<5,'Tabel 5Br B'!F146<0.5),\"-\",IFERROR('Tabel 5Br B'!F146/'Tabel 5F B'!F146*100,\"-\"))","v":"-"},{"$f":"IF(OR('Tabel 5F B'!G146<5,'Tabel 5Br B'!G146<0.5),\"-\",IFERROR('Tabel 5Br B'!G146/'Tabel 5F B'!G146*100,\"-\"))","v":"-"},{"$f":"IF(OR('Tabel 5F B'!H146<5,'Tabel 5Br B'!H146<0.5),\"-\",IFERROR('Tabel 5Br B'!H146/'Tabel 5F B'!H146*100,\"-\"))","v":"-"},null,{"$f":"IF(OR('Tabel 5F B'!J146<5,'Tabel 5Br B'!J146<0.5),\"-\",IFERROR('Tabel 5Br B'!J146/'Tabel 5F B'!J146*100,\"-\"))","v":"-"}]
["Bygningskonst.",null,{"$f":"IF(OR('Tabel 5F B'!C147<5,'Tabel 5Br B'!C147<0.5),\"-\",IFERROR('Tabel 5Br B'!C147/'Tabel 5F B'!C147*100,\"-\"))","v":"-"},{"$f":"IF(OR('Tabel 5F B'!D147<5,'Tabel 5Br B'!D147<0.5),\"-\",IFERROR('Tabel 5Br B'!D147/'Tabel 5F B'!D147*100,\"-\"))","v":"-"},{"$f":"IF(OR('Tabel 5F B'!E147<5,'Tabel 5Br B'!E147<0.5),\"-\",IFERROR('Tabel 5Br B'!E147/'Tabel 5F B'!E147*100,\"-\"))","v":"-"},{"$f":"IF(OR('Tabel 5F B'!F147<5,'Tabel 5Br B'!F147<0.5),\"-\",IFERROR('Tabel 5Br B'!F147/'Tabel 5F B'!F147*100,\"-\"))","v":"-"},{"$f":"IF(OR('Tabel 5F B'!G147<5,'Tabel 5Br B'!G147<0.5),\"-\",IFERROR('Tabel 5Br B'!G147/'Tabel 5F B'!G147*100,\"-\"))","v":"-"},{"$f":"IF(OR('Tabel 5F B'!H147<5,'Tabel 5Br B'!H147<0.5),\"-\",IFERROR('Tabel 5Br B'!H147/'Tabel 5F B'!H147*100,\"-\"))","v":"-"},null,{"$f":"IF(OR('Tabel 5F B'!J147<5,'Tabel 5Br B'!J147<0.5),\"-\",IFERROR('Tabel 5Br B'!J147/'Tabel 5F B'!J147*100,\"-\"))","v":"-"}]
["Cand. IT.",null,{"$f":"IF(OR('Tabel 5F B'!C148<5,'Tabel 5Br B'!C148<0.5),\"-\",IFERROR('Tabel 5Br B'!C148/'Tabel 5F B'!C148*100,\"-\"))","v":"-"},{"$f":"IF(OR('Tabel 5F B'!D148<5,'Tabel 5Br B'!D148<0.5),\"-\",IFERROR('Tabel 5Br B'!D148/'Tabel 5F B'!D148*100,\"-\"))","v":"-"},{"$f":"IF(OR('Tabel 5F B'!E148<5,'Tabel 5Br B'!E148<0.5),\"-\",IFERROR('Tabel 5Br B'!E148/'Tabel 5F B'!E148*100,\"-\"))","v":"-"},{"$f":"IF(OR('Tabel 5F B'!F148<5,'Tabel 5Br B'!F148<0.5),\"-\",IFERROR('Tabel 5Br B'!F148/'Tabel 5F B'!F148*100,\"-\"))","v":"-"},{"$f":"IF(OR('Tabel 5F B'!G148<5,'Tabel 5Br B'!G148<0.5),\"-\",IFERROR('Tabel 5Br B'!G148/'Tabel 5F B'!G148*100,\"-\"))","v":"-"},{"$f":"IF(OR('Tabel 5F B'!H148<5,'Tabel 5Br B'!H148<0.5),\"-\",IFERROR('Tabel 5Br B'!H148/'Tabel 5F B'!H148*100,\"-\"))","v":"-"},null,{"$f":"IF(OR('Tabel 5F B'!J148<5,'Tabel 5Br B'!J148<0.5),\"-\",IFERROR('Tabel 5Br B'!J148/'Tabel 5F B'!J148*100,\"-\"))","v":"-"}]
["Bac. Samf.",null,{"$f":"IF(OR('Tabel 5F B'!C149<5,'Tabel 5Br B'!C149<0.5),\"-\",IFERROR('Tabel 5Br B'!C149/'Tabel 5F B'!C149*100,\"-\"))","v":"-"},{"$f":"IF(OR('Tabel 5F B'!D149<5,'Tabel 5Br B'!D149<0.5),\"-\",IFERROR('Tabel 5Br B'!D149/'Tabel 5F B'!D149*100,\"-\"))","v":"-"},{"$f":"IF(OR('Tabel 5F B'!E149<5,'Tabel 5Br B'!E149<0.5),\"-\",IFERROR('Tabel 5Br B'!E149/'Tabel 5F B'!E149*100,\"-\"))","v":"-"},{"$f":"IF(OR('Tabel 5F B'!F149<5,'Tabel 5Br B'!F149<0.5),\"-\",IFERROR('Tabel 5Br B'!F149/'Tabel 5F B'!F149*100,\"-\"))","v":"-"},{"$f":"IF(OR('Tabel 5F B'!G149<5,'Tabel 5Br B'!G149<0.5),\"-\",IFERROR('Tabel 5Br B'!G149/'Tabel 5F B'!G149*100,\"-\"))","v":"-"},{"$f":"IF(OR('Tabel 5F B'!H149<5,'Tabel 5Br B'!H149<0.5),\"-\",IFERROR('Tabel 5Br B'!H149/'Tabel 5F B'!H149*100,\"-\"))","v":"-"},null,{"$f":"IF(OR('Tabel 5F B'!J149<5,'Tabel 5Br B'!J149<0.5),\"-\",IFERROR('Tabel 5Br B'!J149/'Tabel 5F B'!J149*100,\"-\"))","v":"-"}]
["Bac. Hum.",null,{"$f":"IF(OR('Tabel 5F B'!C150<5,'Tabel 5Br B'!C150<0.5),\"-\",IFERROR('Tabel 5Br B'!C150/'Tabel 5F B'!C150*100,\"-\"))","v":"-"},{"$f":"IF(OR('Tabel 5F B'!D150<5,'Tabel 5Br B'!D150<0.5),\"-\",IFERROR('Tabel 5Br B'!D150/'Tabel 5F B'!D150*100,\"-\"))","v":"-"},{"$f":"IF(OR('Tabel 5F B'!E150<5,'Tabel 5Br B'!E150<0.5),\"-\",IFERROR('Tabel 5Br B'!E150/'Tabel 5F B'!E150*100,\"-\"))","v":"-"},{"$f":"IF(OR('Tabel 5F B'!F150<5,'Tabel 5Br B'!F150<0.5),\"-\",IFERROR('Tabel 5Br B'!F150/'Tabel 5F B'!F150*100,\"-\"))","v":"-"},{"$f":"IF(OR('Tabel 5F B'!G150<5,'Tabel 5Br B'!G150<0.5),\"-\",IFERROR('Tabel 5Br B'!G150/'Tabel 5F B'!G150*100,\"-\"))","v":"-"},{"$f":"IF(OR('Tabel 5F B'!H150<5,'Tabel 5Br B'!H150<0.5),\"-\",IFERROR('Tabel 5Br B'!H150/'Tabel 5F B'!H150*100,\"-\"))","v":"-"},null,{"$f":"IF(OR('Tabel 5F B'!J150<5,'Tabel 5Br B'!J150<0.5),\"-\",IFERROR('Tabel 5Br B'!J150/'Tabel 5F B'!J150*100,\"-\"))","v":"-"}]
["Bac. Nat.",null,{"$f":"IF(OR('Tabel 5F B'!C151<5,'Tabel 5Br B'!C151<0.5),\"-\",IFERROR('Tabel 5Br B'!C151/'Tabel 5F B'!C151*100,\"-\"))","v":"-"},{"$f":"IF(OR('Tabel 5F B'!D151<5,'Tabel 5Br B'!D151<0.5),\"-\",IFERROR('Tabel 5Br B'!D151/'Tabel 5F B'!D151*100,\"-\"))","v":"-"},{"$f":"IF(OR('Tabel 5F B'!E151<5,'Tabel 5Br B'!E151<0.5),\"-\",IFERROR('Tabel 5Br B'!E151/'Tabel 5F B'!E151*100,\"-\"))","v":"-"},{"$f":"IF(OR('Tabel 5F B'!F151<5,'Tabel 5Br B'!F151<0.5),\"-\",IFERROR('Tabel 5Br B'!F151/'Tabel 5F B'!F151*100,\"-\"))","v":"-"},{"$f":"IF(OR('Tabel 5F B'!G151<5,'Tabel 5Br B'!G151<0.5),\"-\",IFERROR('Tabel 5Br B'!G151/'Tabel 5F B'!G151*100,\"-\"))","v":"-"},{"$f":"IF(OR('Tabel 5F B'!H151<5,'Tabel 5Br B'!H151<0.5),\"-\",IFERROR('Tabel 5Br B'!H151/'Tabel 5F B'!H151*100,\"-\"))","v":"-"},null,{"$f":"IF(OR('Tabel 5F B'!J151<5,'Tabel 5Br B'!J151<0.5),\"-\",IFERROR('Tabel 5Br B'!J151/'Tabel 5F B'!J151*100,\"-\"))","v":"-"}]
["Andre",null,{"$f":"IF(OR('Tabel 5F B'!C152<5,'Tabel 5Br B'!C152<0.5),\"-\",IFERROR('Tabel 5Br B'!C152/'Tabel 5F B'!C152*100,\"-\"))","v":"-"},{"$f":"IF(OR('Tabel 5F B'!D152<5,'Tabel 5Br B'!D152<0.5),\"-\",IFERROR('Tabel 5Br B'!D152/'Tabel 5F B'!D152*100,\"-\"))","v":"-"},{"$f":"IF(OR('Tabel 5F B'!E152<5,'Tabel 5Br B'!E152<0.5),\"-\",IFERROR('Tabel 5Br B'!E152/'Tabel 5F B'!E152*100,\"-\"))","v":"-"},{"$f":"IF(OR('Tabel 5F B'!F152<5,'Tabel 5Br B'!F152<0.5),\"-\",IFERROR('Tabel 5Br B'!F152/'Tabel 5F B'!F152*100,\"-\"))","v":"-"},{"$f":"IF(OR('Tabel 5F B'!G152<5,'Tabel 5Br B'!G152<0.5),\"-\",IFERROR('Tabel 5Br B'!G152/'Tabel 5F B'!G152*100,\"-\"))","v":"-"},{"$f":"IF(OR('Tabel 5F B'!H152<5,'Tabel 5Br B'!H152<0.5),\"-\",IFERROR('Tabel 5Br B'!H152/'Tabel 5F B'!H152*100,\"-\"))","v":"-"},null,{"$f":"IF(OR('Tabel 5F B'!J152<5,'Tabel 5Br B'!J152<0.5),\"-\",IFERROR('Tabel 5Br B'!J152/'Tabel 5F B'!J152*100,\"-\"))","v":"-"}]
[]
["Total",null,{"$f":"IF(OR('Tabel 5F B'!C154<5,'Tabel 5Br B'!C154<0.5),\"-\",IFERROR('Tabel 5Br B'!C154/'Tabel 5F B'!C154*100,\"-\"))","v":"-"},{"$f":"IF(OR('Tabel 5F B'!D154<5,'Tabel 5Br B'!D154<0.5),\"-\",IFERROR('Tabel 5Br B'!D154/'Tabel 5F B'!D154*100,\"-\"))","v":"-"},{"$f":"IF(OR('Tabel 5F B'!E154<5,'Tabel 5Br B'!E154<0.5),\"-\",IFERROR('Tabel 5Br B'!E154/'Tabel 5F B'!E154*100,\"-\"))","v":"-"},{"$f":"IF(OR('Tabel 5F B'!F154<5,'Tabel 5Br B'!F154<0.5),\"-\",IFERROR('Tabel 5Br B'!F154/'Tabel 5F B'!F154*100,\"-\"))","v":"-"},{"$f":"IF(OR('Tabel 5F B'!G154<5,'Tabel 5Br B'!G154<0.5),\"-\",IFERROR('Tabel 5Br B'!G154/'Tabel 5F B'!G154*100,\"-\"))","v":"-"},{"$f":"IF(OR('Tabel 5F B'!H154<5,'Tabel 5Br B'!H154<0.5),\"-\",IFERROR('Tabel 5Br B'!H154/'Tabel 5F B'!H154*100,\"-\"))","v":"-"},null,{"$f":"IF(OR('Tabel 5F B'!J154<5,'Tabel 5Br B'!J154<0.5),\"-\",IFERROR('Tabel 5Br B'!J154/'Tabel 5F B'!J154*100,\"-\"))","v":"-"}]
[]
["Ingeniører i alt",null,{"$f":"IF(OR('Tabel 5F B'!C156<5,'Tabel 5Br B'!C156<0.5),\"-\",IFERROR('Tabel 5Br B'!C156/'Tabel 5F B'!C156*100,\"-\"))","v":"-"},{"$f":"IF(OR('Tabel 5F B'!D156<5,'Tabel 5Br B'!D156<0.5),\"-\",IFERROR('Tabel 5Br B'!D156/'Tabel 5F B'!D156*100,\"-\"))","v":"-"},{"$f":"IF(OR('Tabel 5F B'!E156<5,'Tabel 5Br B'!E156<0.5),\"-\",IFERROR('Tabel 5Br B'!E156/'Tabel 5F B'!E156*100,\"-\"))","v":"-"},{"$f":"IF(OR('Tabel 5F B'!F156<5,'Tabel 5Br B'!F156<0.5),\"-\",IFERROR('Tabel 5Br B'!F156/'Tabel 5F B'!F156*100,\"-\"))","v":"-"},{"$f":"IF(OR('Tabel 5F B'!G156<5,'Tabel 5Br B'!G156<0.5),\"-\",IFERROR('Tabel 5Br B'!G156/'Tabel 5F B'!G156*100,\"-\"))","v":"-"},{"$f":"IF(OR('Tabel 5F B'!H156<5,'Tabel 5Br B'!H156<0.5),\"-\",IFERROR('Tabel 5Br B'!H156/'Tabel 5F B'!H156*100,\"-\"))","v":"-"},null,{"$f":"IF(OR('Tabel 5F B'!J156<5,'Tabel 5Br B'!J156<0.5),\"-\",IFERROR('Tabel 5Br B'!J156/'Tabel 5F B'!J156*100,\"-\"))","v":"-"}]
["Magistre i alt",null,{"$f":"IF(OR('Tabel 5F B'!C157<5,'Tabel 5Br B'!C157<0.5),\"-\",IFERROR('Tabel 5Br B'!C157/'Tabel 5F B'!C157*100,\"-\"))","v":"-"},{"$f":"IF(OR('Tabel 5F B'!D157<5,'Tabel 5Br B'!D157<0.5),\"-\",IFERROR('Tabel 5Br B'!D157/'Tabel 5F B'!D157*100,\"-\"))","v":"-"},{"$f":"IF(OR('Tabel 5F B'!E157<5,'Tabel 5Br B'!E157<0.5),\"-\",IFERROR('Tabel 5Br B'!E157/'Tabel 5F B'!E157*100,\"-\"))","v":"-"},{"$f":"IF(OR('Tabel 5F B'!F157<5,'Tabel 5Br B'!F157<0.5),\"-\",IFERROR('Tabel 5Br B'!F157/'Tabel 5F B'!F157*100,\"-\"))","v":"-"},{"$f":"IF(OR('Tabel 5F B'!G157<5,'Tabel 5Br B'!G157<0.5),\"-\",IFERROR('Tabel 5Br B'!G157/'Tabel 5F B'!G157*100,\"-\"))","v":"-"},{"$f":"IF(OR('Tabel 5F B'!H157<5,'Tabel 5Br B'!H157<0.5),\"-\",IFERROR('Tabel 5Br B'!H157/'Tabel 5F B'!H157*100,\"-\"))","v":"-"},null,{"$f":"IF(OR('Tabel 5F B'!J157<5,'Tabel 5Br B'!J157<0.5),\"-\",IFERROR('Tabel 5Br B'!J157/'Tabel 5F B'!J157*100,\"-\"))","v":"-"}]
["DJØF'ere i alt",null,{"$f":"IF(OR('Tabel 5F B'!C158<5,'Tabel 5Br B'!C158<0.5),\"-\",IFERROR('Tabel 5Br B'!C158/'Tabel 5F B'!C158*100,\"-\"))","v":"-"},{"$f":"IF(OR('Tabel 5F B'!D158<5,'Tabel 5Br B'!D158<0.5),\"-\",IFERROR('Tabel 5Br B'!D158/'Tabel 5F B'!D158*100,\"-\"))","v":"-"},{"$f":"IF(OR('Tabel 5F B'!E158<5,'Tabel 5Br B'!E158<0.5),\"-\",IFERROR('Tabel 5Br B'!E158/'Tabel 5F B'!E158*100,\"-\"))","v":"-"},{"$f":"IF(OR('Tabel 5F B'!F158<5,'Tabel 5Br B'!F158<0.5),\"-\",IFERROR('Tabel 5Br B'!F158/'Tabel 5F B'!F158*100,\"-\"))","v":"-"},{"$f":"IF(OR('Tabel 5F B'!G158<5,'Tabel 5Br B'!G158<0.5),\"-\",IFERROR('Tabel 5Br B'!G158/'Tabel 5F B'!G158*100,\"-\"))","v":"-"},{"$f":"IF(OR('Tabel 5F B'!H158<5,'Tabel 5Br B'!H158<0.5),\"-\",IFERROR('Tabel 5Br B'!H158/'Tabel 5F B'!H158*100,\"-\"))","v":"-"},null,{"$f":"IF(OR('Tabel 5F B'!J158<5,'Tabel 5Br B'!J158<0.5),\"-\",IFERROR('Tabel 5Br B'!J158/'Tabel 5F B'!J158*100,\"-\"))","v":"-"}]